{"text_format":"1","workbook":"xlsx","n_sheets":30,"sheets":["Startseite","Anleitung","Futterberechnung","Ausdruck","Futterberechnung (2)","Ausdruck (2)","Futterberechnung (3)","Ausdruck (3)","Futterberechnung (4)","Ausdruck (4)","Ausdruck Vergleich (3)"," Ausdruck Vergleich","Futtermittel","Preiswürdigkeit FUMI","Ergänzungsfutter","Mineralfutter","Orientierungswerte","Höchstgehalte","Futterkurve Mast","Futterkurve Sauen","Futterkurve Ferkel","Futterkurve Jungsauen","Futterkurve Eber","Vit. & Spurenel.","XP u. ME-Rechner Min.fu.","Ausdruck NIRS-Analysen","Ausdruck NIRS-Analysen (2)","Ausdruck NIRS-Analysen (3)","Ausdruck NIRS-Analysen (4)","D"],"not_rendered":{"charts":1,"images":5,"macros":1,"external_links":0,"defined_names":99,"comments":18,"pivot_tables":0},"unopened":[],"bounds":{"document_bytes":16777216,"sheet_cells":100000,"rows_first":2000,"rows_last":500,"rows_between":2000,"halvings":0,"cell_chars":16384,"cell_head_chars":4096},"cells_cut":0,"cells_raw":0,"read":"whole","date_system":"1900"}

{"sheet":"Startseite","index":0,"n_rows":10,"n_cols":11,"rows_kept":10,"cut":false,"hidden":false,"merged":[]}
[]
[]
[null,null,null,null,null,null,null,"Futterberechnungsprogramm für Schweine in Anlehnung an die "]
[null,null,null,null,null,null,null,"GfE- und DLG-Versorgungsempfehlungen von 2006, 2008, 2010 und 2014"]
[null,null,null,null,null,null,null,"Ferkel und Mast nach Rechenmeister LWK NRW 2010, 2014 und 2016"]
[]
[null,null,null,null,null,"Ansprechpartner: ",null,null,null,"Johannes Hilgers"]
[null,null,null,null,null,null,null,null,null,"Tel.: ","02838 7761283"]
[null,null,null,null,null,null,null,null,null,"Mobil:","0172 9164592"]
[null,null,null,null,null,null,null,null,null,"E-Mail:","johanneshilgers@t-online.de"]

{"sheet":"Anleitung","index":1,"n_rows":7,"n_cols":11,"rows_kept":7,"cut":false,"hidden":false,"merged":[]}
[]
[]
[]
[]
[]
[]
[null,null,null,null,null,null,null,null,null,null,"2018 Version 1"]

{"sheet":"Futterberechnung","index":2,"n_rows":67,"n_cols":30,"rows_kept":67,"cut":false,"hidden":false,"merged":[[11,2,11,3],[5,25,5,28],[2,25,3,28],[5,7,5,17],[7,9,7,20],[4,7,4,17],[4,25,4,27],[3,1,3,3],[6,15,6,21],[11,8,11,11],[11,14,11,27],[11,12,11,13],[6,7,6,14],[6,25,6,28],[7,25,7,28],[37,1,38,1],[29,2,29,3],[22,2,22,3],[30,2,30,3],[34,1,34,4],[27,2,27,3],[28,2,28,3],[32,2,32,3],[31,2,31,4],[12,2,12,3],[13,2,13,3],[14,2,14,3],[19,2,19,3],[18,2,18,3],[15,2,15,3],[16,2,16,3],[17,2,17,3],[53,2,53,3],[51,2,51,3],[52,2,52,3],[21,2,21,3],[26,2,26,3],[50,2,50,3],[33,2,33,3],[49,2,49,3],[45,2,45,3],[46,2,46,3],[47,2,47,3],[48,2,48,3],[66,2,66,3],[64,2,64,4],[54,2,54,3],[55,2,55,3],[59,2,59,3],[60,2,60,3],[65,2,65,3],[61,2,61,3],[62,2,62,3],[63,2,63,3],[44,21,44,24],[38,8,38,9],[44,25,44,26],[20,2,20,3],[44,16,44,20],[39,2,39,3],[40,2,40,3],[44,2,44,3],[44,6,44,15],[38,25,38,28],[38,5,38,6],[31,11,31,12],[37,23,37,24],[38,11,38,17],[38,19,38,20],[44,28,44,29]]}
[]
[]
[null,null,null,null,null,null,null,null,null,null,null,null,null,null,null,null,null,null,null,null,null,null,null,null,null,"2018 Version 1"]
[null,"Rheinischer Erzeugerring für Mastschweine e.V."]
[null,null,null,null,"Betrieb:",null,null,"Mustermann",null,null,null,null,null,null,null,null,null,null,null,null,null,null,null,"Datum:",null,"2018-08-01"]
[null,null,null,null,"Berater:",null,null,"……………………………………………………….",null,null,null,null,null,null,null,null,null,null,null,null,null,null,null,"Tel.Nr.:",null,"……………………………"]
[null,null,null,null,"Futtermischung für:",null,null,{"$f":"C33&\" \"","v":"Vormast 28 - 40 Kg LM für 850 g TZ* "},null,null,null,null,null,null,null,"Getreide = Richtpreise Ernte 2017/18",null,null,null,null,null,null,null,"Tel.Nr.:",null,"……………………………"]
[null,null,null,null,"Mischergröße in t:",null,null,1,null,{"$f":"IF(OR(B10=\"m\",B10=\"w\",'Futterkurve Mast'!T6=\"HP\"),Orientierungswerte!D35,\"\")","v":""},null,null,null,null,null,null,null,null,null,null,null,null,null,"gültig bis:",null,"……………………………"]
[]
[null,null,"Geschlecht"]
[null,null,null,null,"Netto-Preis ","Anteil in FM","Anteil bei 88% TM","in Mi-scher","TM","Roh-pro-tein XP","pcv XP","Roh-faser XF","ME EFF","ME MFF","Lys","pcv Lys","M&C","pcv M+C","Thr","pcv Thr","Trp","pcv Trp","Ca","P","v. P","v. P m. Phy","Mg","Na","€/dt"]
[null,"FM-Nr.","Futtermittel + % RP in der FM",null,"€/dt","%","%","kg","Anteil in g/kg",null,null,null,"MJ/kg",null,"Anteile in g je kg",null,null,null,null,null,null,null,null,null,null,null,null,null,"Anteil"]
[null,{"$f":"IF($C13=\"\",\" \",VLOOKUP($C13,Futtermittel!$A$8:$CG$171,2,FALSE))","v":49},"eigener Weizen 10% RP Ø 2018",null,17.420000000000002,0.53849999999999998,{"$f":"IF(F13=\"\",\"\",I13/I$30)","v":0.53469968276606772},{"$f":"IF(F13=\"\",\" \",$H$8*F13*1000)","v":538.5},{"$f":"IF($C13=\"\",\" \",VLOOKUP($C13,Futtermittel!$A$8:$CG$171,8,FALSE)*$F13)","v":473.88},{"$f":"IF($C13=\"\",\" \",VLOOKUP($C13,Futtermittel!$A$8:$CG$171,9,FALSE)*$F13)","v":53.333040000000004},{"$f":"IF($C13=\"\",\" \",VLOOKUP($C13,Futtermittel!$A$8:$CG$171,10,FALSE)*$F13)","v":47.999736000000006},{"$f":"IF($C13=\"\",\" \",VLOOKUP($C13,Futtermittel!$A$8:$CG$171,11,FALSE)*$F13)","v":14.200245000000001},{"$f":"IF($C13=\"\",\" \",VLOOKUP($C13,Futtermittel!$A$8:$CG$171,12,FALSE)*$F13)","v":7.3382708939999999},{"$f":"IF($C13=\"\",\" \",VLOOKUP(C13,Futtermittel!$A$8:$CG$171,13,FALSE)*$F13)","v":7.3774672319999999},{"$f":"IF($C13=\"\",\" \",VLOOKUP($C13,Futtermittel!$A$8:$CG$171,14,FALSE)*$F13)","v":1.7128608000000001},{"$f":"IF($C13=\"\",\" \",VLOOKUP($C13,Futtermittel!$A$8:$CG$171,15,FALSE)*$F13)","v":1.507317504},{"$f":"IF($C13=\"\",\" \",VLOOKUP($C13,Futtermittel!$A$8:$CG$171,16,FALSE)*$F13)","v":1.9769412},{"$f":"IF($C13=\"\",\" \",VLOOKUP($C13,Futtermittel!$A$8:$CG$171,17,FALSE)*$F13)","v":1.7858368840000001},{"$f":"IF($C13=\"\",\" \",VLOOKUP($C13,Futtermittel!$A$8:$CG$171,18,FALSE)*$F13)","v":1.3897607999999999},{"$f":"IF($C13=\"\",\" \",VLOOKUP($C13,Futtermittel!$A$8:$CG$171,19,FALSE)*$F13)","v":1.25078472},{"$f":"IF($C13=\"\",\" \",VLOOKUP($C13,Futtermittel!$A$8:$CG$171,20,FALSE)*$F13)","v":0.74873040000000002},{"$f":"IF($C13=\"\",\" \",VLOOKUP($C13,Futtermittel!$A$8:$CG$171,21,FALSE)*$F13)","v":0.6588827519999999},{"$f":"IF($C13=\"\",\" \",VLOOKUP($C13,Futtermittel!$A$8:$CG$171,22,FALSE)*$F13)","v":0.37694999999999995},{"$f":"IF($C13=\"\",\" \",VLOOKUP($C13,Futtermittel!$A$8:$CG$171,23,FALSE)*$F13)","v":1.7770499999999998},{"$f":"IF($C13=\"\",\" \",VLOOKUP($C13,Futtermittel!$A$8:$CG$171,24,FALSE)*$F13)","v":1.0662299999999998},{"$f":"IF($C13=\"\",\" \",VLOOKUP($C13,Futtermittel!$A$8:$CG$171,25,FALSE)*$F13)","v":1.1550825},{"$f":"IF($C13=\"\",\" \",VLOOKUP($C13,Futtermittel!$A$8:$CG$171,26,FALSE)*$F13)","v":0.59235000000000004},{"$f":"IF($C13=\"\",\" \",VLOOKUP($C13,Futtermittel!$A$8:$CG$171,27,FALSE)*$F13)","v":0.1077},{"$f":"IF(E13*F13=0,\" \",E13*F13)","v":9.3806700000000003}]
[null,{"$f":"IF($C14=\"\",\" \",VLOOKUP($C14,Futtermittel!$A$8:$CG$171,2,FALSE))","v":11},"eigene Gerste 10% RP Ø 2018",null,16.39,0.25,{"$f":"IF(F14=\"\",\"\",I14/I$30)","v":0.24823569302045856},{"$f":"IF(F14=\"\",\" \",$H$8*F14*1000)","v":250},{"$f":"IF($C14=\"\",\" \",VLOOKUP($C14,Futtermittel!$A$8:$CG$171,8,FALSE)*$F14)","v":220},{"$f":"IF($C14=\"\",\" \",VLOOKUP($C14,Futtermittel!$A$8:$CG$171,9,FALSE)*$F14)","v":24.282499999999999},{"$f":"IF($C14=\"\",\" \",VLOOKUP($C14,Futtermittel!$A$8:$CG$171,10,FALSE)*$F14)","v":17.726224999999999},{"$f":"IF($C14=\"\",\" \",VLOOKUP($C14,Futtermittel!$A$8:$CG$171,11,FALSE)*$F14)","v":13.897500000000001},{"$f":"IF($C14=\"\",\" \",VLOOKUP($C14,Futtermittel!$A$8:$CG$171,12,FALSE)*$F14)","v":3.1281357974999997},{"$f":"IF($C14=\"\",\" \",VLOOKUP(C14,Futtermittel!$A$8:$CG$171,13,FALSE)*$F14)","v":3.1232786050000003},{"$f":"IF($C14=\"\",\" \",VLOOKUP($C14,Futtermittel!$A$8:$CG$171,14,FALSE)*$F14)","v":0.81064999999999998},{"$f":"IF($C14=\"\",\" \",VLOOKUP($C14,Futtermittel!$A$8:$CG$171,15,FALSE)*$F14)","v":0.59177449999999998},{"$f":"IF($C14=\"\",\" \",VLOOKUP($C14,Futtermittel!$A$8:$CG$171,16,FALSE)*$F14)","v":1.0034749999999999},{"$f":"IF($C14=\"\",\" \",VLOOKUP($C14,Futtermittel!$A$8:$CG$171,17,FALSE)*$F14)","v":0.84027827631578955},{"$f":"IF($C14=\"\",\" \",VLOOKUP($C14,Futtermittel!$A$8:$CG$171,18,FALSE)*$F14)","v":0.87847500000000001},{"$f":"IF($C14=\"\",\" \",VLOOKUP($C14,Futtermittel!$A$8:$CG$171,19,FALSE)*$F14)","v":0.66764100000000004},{"$f":"IF($C14=\"\",\" \",VLOOKUP($C14,Futtermittel!$A$8:$CG$171,20,FALSE)*$F14)","v":0.292825},{"$f":"IF($C14=\"\",\" \",VLOOKUP($C14,Futtermittel!$A$8:$CG$171,21,FALSE)*$F14)","v":0.22254699999999999},{"$f":"IF($C14=\"\",\" \",VLOOKUP($C14,Futtermittel!$A$8:$CG$171,22,FALSE)*$F14)","v":0.10779999999999999},{"$f":"IF($C14=\"\",\" \",VLOOKUP($C14,Futtermittel!$A$8:$CG$171,23,FALSE)*$F14)","v":0.875},{"$f":"IF($C14=\"\",\" \",VLOOKUP($C14,Futtermittel!$A$8:$CG$171,24,FALSE)*$F14)","v":0.39374999999999999},{"$f":"IF($C14=\"\",\" \",VLOOKUP($C14,Futtermittel!$A$8:$CG$171,25,FALSE)*$F14)","v":0.56874999999999998},{"$f":"IF($C14=\"\",\" \",VLOOKUP($C14,Futtermittel!$A$8:$CG$171,26,FALSE)*$F14)","v":0.27500000000000002},{"$f":"IF($C14=\"\",\" \",VLOOKUP($C14,Futtermittel!$A$8:$CG$171,27,FALSE)*$F14)","v":3.793103448275862E-2},{"$f":"IF(E14*F14=0,\" \",E14*F14)","v":4.0975000000000001}]
[null,{"$f":"IF($C15=\"\",\" \",VLOOKUP($C15,Futtermittel!$A$8:$CG$171,2,FALSE))","v":100},"Sojaschrot HP 47% RP ",null,38,0.161,{"$f":"IF(F15=\"\",\"\",I15/I$30)","v":0.16168042024046139},161,{"$f":"IF($C15=\"\",\" \",VLOOKUP($C15,Futtermittel!$A$8:$CG$171,8,FALSE)*$F15)","v":143.29},{"$f":"IF($C15=\"\",\" \",VLOOKUP($C15,Futtermittel!$A$8:$CG$171,9,FALSE)*$F15)","v":75.67},{"$f":"IF($C15=\"\",\" \",VLOOKUP($C15,Futtermittel!$A$8:$CG$171,10,FALSE)*$F15)","v":62.049399999999999},{"$f":"IF($C15=\"\",\" \",VLOOKUP($C15,Futtermittel!$A$8:$CG$171,11,FALSE)*$F15)","v":8.3719999999999999},{"$f":"IF($C15=\"\",\" \",VLOOKUP($C15,Futtermittel!$A$8:$CG$171,12,FALSE)*$F15)","v":2.2309968029999996},{"$f":"IF($C15=\"\",\" \",VLOOKUP(C15,Futtermittel!$A$8:$CG$171,13,FALSE)*$F15)","v":2.2284620190000002},{"$f":"IF($C15=\"\",\" \",VLOOKUP($C15,Futtermittel!$A$8:$CG$171,14,FALSE)*$F15)","v":4.6316553181818181},{"$f":"IF($C15=\"\",\" \",VLOOKUP($C15,Futtermittel!$A$8:$CG$171,15,FALSE)*$F15)","v":4.0295401268181816},{"$f":"IF($C15=\"\",\" \",VLOOKUP($C15,Futtermittel!$A$8:$CG$171,16,FALSE)*$F15)","v":2.1270917499999999},{"$f":"IF($C15=\"\",\" \",VLOOKUP($C15,Futtermittel!$A$8:$CG$171,17,FALSE)*$F15)","v":1.7717038053076919},{"$f":"IF($C15=\"\",\" \",VLOOKUP($C15,Futtermittel!$A$8:$CG$171,18,FALSE)*$F15)","v":3.254761363636363},{"$f":"IF($C15=\"\",\" \",VLOOKUP($C15,Futtermittel!$A$8:$CG$171,19,FALSE)*$F15)","v":2.7990947727272726},{"$f":"IF($C15=\"\",\" \",VLOOKUP($C15,Futtermittel!$A$8:$CG$171,20,FALSE)*$F15)","v":1.0009443181818183},{"$f":"IF($C15=\"\",\" \",VLOOKUP($C15,Futtermittel!$A$8:$CG$171,21,FALSE)*$F15)","v":0.86081211363636367},{"$f":"IF($C15=\"\",\" \",VLOOKUP($C15,Futtermittel!$A$8:$CG$171,22,FALSE)*$F15)","v":0.51263854172553203},{"$f":"IF($C15=\"\",\" \",VLOOKUP($C15,Futtermittel!$A$8:$CG$171,23,FALSE)*$F15)","v":1.079171927846674},{"$f":"IF($C15=\"\",\" \",VLOOKUP($C15,Futtermittel!$A$8:$CG$171,24,FALSE)*$F15)","v":0.43166877113866964},{"$f":"IF($C15=\"\",\" \",VLOOKUP($C15,Futtermittel!$A$8:$CG$171,25,FALSE)*$F15)","v":0.80937894588500547},{"$f":"IF($C15=\"\",\" \",VLOOKUP($C15,Futtermittel!$A$8:$CG$171,26,FALSE)*$F15)","v":0.45430856680851067},{"$f":"IF($C15=\"\",\" \",VLOOKUP($C15,Futtermittel!$A$8:$CG$171,27,FALSE)*$F15)","v":2.7225100000000002E-2},6.1180000000000003]
[null,{"$f":"IF($C16=\"\",\" \",VLOOKUP($C16,Futtermittel!$A$8:$CG$171,2,FALSE))","v":140},"Rapsöl / Pflanzenöl DLG 2014",null,97,1.55E-2,1.7471843584433142E-2,15.5,{"$f":"IF($C16=\"\",\" \",VLOOKUP($C16,Futtermittel!$A$8:$CG$171,8,FALSE)*$F16)","v":15.484500000000001},{"$f":"IF($C16=\"\",\" \",VLOOKUP($C16,Futtermittel!$A$8:$CG$171,9,FALSE)*$F16)","v":0},{"$f":"IF($C16=\"\",\" \",VLOOKUP($C16,Futtermittel!$A$8:$CG$171,10,FALSE)*$F16)","v":0},{"$f":"IF($C16=\"\",\" \",VLOOKUP($C16,Futtermittel!$A$8:$CG$171,11,FALSE)*$F16)","v":0},{"$f":"IF($C16=\"\",\" \",VLOOKUP($C16,Futtermittel!$A$8:$CG$171,12,FALSE)*$F16)","v":0.60335287599999998},{"$f":"IF($C16=\"\",\" \",VLOOKUP(C16,Futtermittel!$A$8:$CG$171,13,FALSE)*$F16)","v":0.50269609300000007},{"$f":"IF($C16=\"\",\" \",VLOOKUP($C16,Futtermittel!$A$8:$CG$171,14,FALSE)*$F16)","v":0},{"$f":"IF($C16=\"\",\" \",VLOOKUP($C16,Futtermittel!$A$8:$CG$171,15,FALSE)*$F16)","v":0},{"$f":"IF($C16=\"\",\" \",VLOOKUP($C16,Futtermittel!$A$8:$CG$171,16,FALSE)*$F16)","v":0},{"$f":"IF($C16=\"\",\" \",VLOOKUP($C16,Futtermittel!$A$8:$CG$171,17,FALSE)*$F16)","v":0},{"$f":"IF($C16=\"\",\" \",VLOOKUP($C16,Futtermittel!$A$8:$CG$171,18,FALSE)*$F16)","v":0},{"$f":"IF($C16=\"\",\" \",VLOOKUP($C16,Futtermittel!$A$8:$CG$171,19,FALSE)*$F16)","v":0},{"$f":"IF($C16=\"\",\" \",VLOOKUP($C16,Futtermittel!$A$8:$CG$171,20,FALSE)*$F16)","v":0},{"$f":"IF($C16=\"\",\" \",VLOOKUP($C16,Futtermittel!$A$8:$CG$171,21,FALSE)*$F16)","v":0},{"$f":"IF($C16=\"\",\" \",VLOOKUP($C16,Futtermittel!$A$8:$CG$171,22,FALSE)*$F16)","v":0},{"$f":"IF($C16=\"\",\" \",VLOOKUP($C16,Futtermittel!$A$8:$CG$171,23,FALSE)*$F16)","v":0},{"$f":"IF($C16=\"\",\" \",VLOOKUP($C16,Futtermittel!$A$8:$CG$171,24,FALSE)*$F16)","v":0},{"$f":"IF($C16=\"\",\" \",VLOOKUP($C16,Futtermittel!$A$8:$CG$171,25,FALSE)*$F16)","v":0},{"$f":"IF($C16=\"\",\" \",VLOOKUP($C16,Futtermittel!$A$8:$CG$171,26,FALSE)*$F16)","v":0},{"$f":"IF($C16=\"\",\" \",VLOOKUP($C16,Futtermittel!$A$8:$CG$171,27,FALSE)*$F16)","v":0},1.5035000000000001]
[null,{"$f":"IF($C17=\"\",\" \",VLOOKUP($C17,Futtermittel!$A$8:$CG$171,2,FALSE))","v":" "},null,null,null,null,""," ",{"$f":"IF($C17=\"\",\" \",VLOOKUP($C17,Futtermittel!$A$8:$CG$171,8,FALSE)*$F17)","v":" "},{"$f":"IF($C17=\"\",\" \",VLOOKUP($C17,Futtermittel!$A$8:$CG$171,9,FALSE)*$F17)","v":" "},{"$f":"IF($C17=\"\",\" \",VLOOKUP($C17,Futtermittel!$A$8:$CG$171,10,FALSE)*$F17)","v":" "},{"$f":"IF($C17=\"\",\" \",VLOOKUP($C17,Futtermittel!$A$8:$CG$171,11,FALSE)*$F17)","v":" "},{"$f":"IF($C17=\"\",\" \",VLOOKUP($C17,Futtermittel!$A$8:$CG$171,12,FALSE)*$F17)","v":" "},{"$f":"IF($C17=\"\",\" \",VLOOKUP(C17,Futtermittel!$A$8:$CG$171,13,FALSE)*$F17)","v":" "},{"$f":"IF($C17=\"\",\" \",VLOOKUP($C17,Futtermittel!$A$8:$CG$171,14,FALSE)*$F17)","v":" "},{"$f":"IF($C17=\"\",\" \",VLOOKUP($C17,Futtermittel!$A$8:$CG$171,15,FALSE)*$F17)","v":" "},{"$f":"IF($C17=\"\",\" \",VLOOKUP($C17,Futtermittel!$A$8:$CG$171,16,FALSE)*$F17)","v":" "},{"$f":"IF($C17=\"\",\" \",VLOOKUP($C17,Futtermittel!$A$8:$CG$171,17,FALSE)*$F17)","v":" "},{"$f":"IF($C17=\"\",\" \",VLOOKUP($C17,Futtermittel!$A$8:$CG$171,18,FALSE)*$F17)","v":" "},{"$f":"IF($C17=\"\",\" \",VLOOKUP($C17,Futtermittel!$A$8:$CG$171,19,FALSE)*$F17)","v":" "},{"$f":"IF($C17=\"\",\" \",VLOOKUP($C17,Futtermittel!$A$8:$CG$171,20,FALSE)*$F17)","v":" "},{"$f":"IF($C17=\"\",\" \",VLOOKUP($C17,Futtermittel!$A$8:$CG$171,21,FALSE)*$F17)","v":" "},{"$f":"IF($C17=\"\",\" \",VLOOKUP($C17,Futtermittel!$A$8:$CG$171,22,FALSE)*$F17)","v":" "},{"$f":"IF($C17=\"\",\" \",VLOOKUP($C17,Futtermittel!$A$8:$CG$171,23,FALSE)*$F17)","v":" "},{"$f":"IF($C17=\"\",\" \",VLOOKUP($C17,Futtermittel!$A$8:$CG$171,24,FALSE)*$F17)","v":" "},{"$f":"IF($C17=\"\",\" \",VLOOKUP($C17,Futtermittel!$A$8:$CG$171,25,FALSE)*$F17)","v":" "},{"$f":"IF($C17=\"\",\" \",VLOOKUP($C17,Futtermittel!$A$8:$CG$171,26,FALSE)*$F17)","v":" "},{"$f":"IF($C17=\"\",\" \",VLOOKUP($C17,Futtermittel!$A$8:$CG$171,27,FALSE)*$F17)","v":" "}," "]
[null,{"$f":"IF($C18=\"\",\" \",VLOOKUP($C18,Futtermittel!$A$8:$CG$171,2,FALSE))","v":" "},null,null,null,null,""," ",{"$f":"IF($C18=\"\",\" \",VLOOKUP($C18,Futtermittel!$A$8:$CG$171,8,FALSE)*$F18)","v":" "},{"$f":"IF($C18=\"\",\" \",VLOOKUP($C18,Futtermittel!$A$8:$CG$171,9,FALSE)*$F18)","v":" "},{"$f":"IF($C18=\"\",\" \",VLOOKUP($C18,Futtermittel!$A$8:$CG$171,10,FALSE)*$F18)","v":" "},{"$f":"IF($C18=\"\",\" \",VLOOKUP($C18,Futtermittel!$A$8:$CG$171,11,FALSE)*$F18)","v":" "},{"$f":"IF($C18=\"\",\" \",VLOOKUP($C18,Futtermittel!$A$8:$CG$171,12,FALSE)*$F18)","v":" "},{"$f":"IF($C18=\"\",\" \",VLOOKUP(C18,Futtermittel!$A$8:$CG$171,13,FALSE)*$F18)","v":" "},{"$f":"IF($C18=\"\",\" \",VLOOKUP($C18,Futtermittel!$A$8:$CG$171,14,FALSE)*$F18)","v":" "},{"$f":"IF($C18=\"\",\" \",VLOOKUP($C18,Futtermittel!$A$8:$CG$171,15,FALSE)*$F18)","v":" "},{"$f":"IF($C18=\"\",\" \",VLOOKUP($C18,Futtermittel!$A$8:$CG$171,16,FALSE)*$F18)","v":" "},{"$f":"IF($C18=\"\",\" \",VLOOKUP($C18,Futtermittel!$A$8:$CG$171,17,FALSE)*$F18)","v":" "},{"$f":"IF($C18=\"\",\" \",VLOOKUP($C18,Futtermittel!$A$8:$CG$171,18,FALSE)*$F18)","v":" "},{"$f":"IF($C18=\"\",\" \",VLOOKUP($C18,Futtermittel!$A$8:$CG$171,19,FALSE)*$F18)","v":" "},{"$f":"IF($C18=\"\",\" \",VLOOKUP($C18,Futtermittel!$A$8:$CG$171,20,FALSE)*$F18)","v":" "},{"$f":"IF($C18=\"\",\" \",VLOOKUP($C18,Futtermittel!$A$8:$CG$171,21,FALSE)*$F18)","v":" "},{"$f":"IF($C18=\"\",\" \",VLOOKUP($C18,Futtermittel!$A$8:$CG$171,22,FALSE)*$F18)","v":" "},{"$f":"IF($C18=\"\",\" \",VLOOKUP($C18,Futtermittel!$A$8:$CG$171,23,FALSE)*$F18)","v":" "},{"$f":"IF($C18=\"\",\" \",VLOOKUP($C18,Futtermittel!$A$8:$CG$171,24,FALSE)*$F18)","v":" "},{"$f":"IF($C18=\"\",\" \",VLOOKUP($C18,Futtermittel!$A$8:$CG$171,25,FALSE)*$F18)","v":" "},{"$f":"IF($C18=\"\",\" \",VLOOKUP($C18,Futtermittel!$A$8:$CG$171,26,FALSE)*$F18)","v":" "},{"$f":"IF($C18=\"\",\" \",VLOOKUP($C18,Futtermittel!$A$8:$CG$171,27,FALSE)*$F18)","v":" "}," "]
[null,{"$f":"IF($C19=\"\",\" \",VLOOKUP($C19,Futtermittel!$A$8:$CG$171,2,FALSE))","v":" "},null,null,null,null,""," ",{"$f":"IF($C19=\"\",\" \",VLOOKUP($C19,Futtermittel!$A$8:$CG$171,8,FALSE)*$F19)","v":" "},{"$f":"IF($C19=\"\",\" \",VLOOKUP($C19,Futtermittel!$A$8:$CG$171,9,FALSE)*$F19)","v":" "},{"$f":"IF($C19=\"\",\" \",VLOOKUP($C19,Futtermittel!$A$8:$CG$171,10,FALSE)*$F19)","v":" "},{"$f":"IF($C19=\"\",\" \",VLOOKUP($C19,Futtermittel!$A$8:$CG$171,11,FALSE)*$F19)","v":" "},{"$f":"IF($C19=\"\",\" \",VLOOKUP($C19,Futtermittel!$A$8:$CG$171,12,FALSE)*$F19)","v":" "},{"$f":"IF($C19=\"\",\" \",VLOOKUP(C19,Futtermittel!$A$8:$CG$171,13,FALSE)*$F19)","v":" "},{"$f":"IF($C19=\"\",\" \",VLOOKUP($C19,Futtermittel!$A$8:$CG$171,14,FALSE)*$F19)","v":" "},{"$f":"IF($C19=\"\",\" \",VLOOKUP($C19,Futtermittel!$A$8:$CG$171,15,FALSE)*$F19)","v":" "},{"$f":"IF($C19=\"\",\" \",VLOOKUP($C19,Futtermittel!$A$8:$CG$171,16,FALSE)*$F19)","v":" "},{"$f":"IF($C19=\"\",\" \",VLOOKUP($C19,Futtermittel!$A$8:$CG$171,17,FALSE)*$F19)","v":" "},{"$f":"IF($C19=\"\",\" \",VLOOKUP($C19,Futtermittel!$A$8:$CG$171,18,FALSE)*$F19)","v":" "},{"$f":"IF($C19=\"\",\" \",VLOOKUP($C19,Futtermittel!$A$8:$CG$171,19,FALSE)*$F19)","v":" "},{"$f":"IF($C19=\"\",\" \",VLOOKUP($C19,Futtermittel!$A$8:$CG$171,20,FALSE)*$F19)","v":" "},{"$f":"IF($C19=\"\",\" \",VLOOKUP($C19,Futtermittel!$A$8:$CG$171,21,FALSE)*$F19)","v":" "},{"$f":"IF($C19=\"\",\" \",VLOOKUP($C19,Futtermittel!$A$8:$CG$171,22,FALSE)*$F19)","v":" "},{"$f":"IF($C19=\"\",\" \",VLOOKUP($C19,Futtermittel!$A$8:$CG$171,23,FALSE)*$F19)","v":" "},{"$f":"IF($C19=\"\",\" \",VLOOKUP($C19,Futtermittel!$A$8:$CG$171,24,FALSE)*$F19)","v":" "},{"$f":"IF($C19=\"\",\" \",VLOOKUP($C19,Futtermittel!$A$8:$CG$171,25,FALSE)*$F19)","v":" "},{"$f":"IF($C19=\"\",\" \",VLOOKUP($C19,Futtermittel!$A$8:$CG$171,26,FALSE)*$F19)","v":" "},{"$f":"IF($C19=\"\",\" \",VLOOKUP($C19,Futtermittel!$A$8:$CG$171,27,FALSE)*$F19)","v":" "},{"$f":"IF(E19*F19=0,\" \",E19*F19)","v":" "}]
[null,{"$f":"IF($C20=\"\",\" \",VLOOKUP($C20,Futtermittel!$A$8:$CG$171,2,FALSE))","v":" "},null,null,null,null,""," ",{"$f":"IF($C20=\"\",\" \",VLOOKUP($C20,Futtermittel!$A$8:$CG$171,8,FALSE)*$F20)","v":" "},{"$f":"IF($C20=\"\",\" \",VLOOKUP($C20,Futtermittel!$A$8:$CG$171,9,FALSE)*$F20)","v":" "},{"$f":"IF($C20=\"\",\" \",VLOOKUP($C20,Futtermittel!$A$8:$CG$171,10,FALSE)*$F20)","v":" "},{"$f":"IF($C20=\"\",\" \",VLOOKUP($C20,Futtermittel!$A$8:$CG$171,11,FALSE)*$F20)","v":" "},{"$f":"IF($C20=\"\",\" \",VLOOKUP($C20,Futtermittel!$A$8:$CG$171,12,FALSE)*$F20)","v":" "},{"$f":"IF($C20=\"\",\" \",VLOOKUP(C20,Futtermittel!$A$8:$CG$171,13,FALSE)*$F20)","v":" "},{"$f":"IF($C20=\"\",\" \",VLOOKUP($C20,Futtermittel!$A$8:$CG$171,14,FALSE)*$F20)","v":" "},{"$f":"IF($C20=\"\",\" \",VLOOKUP($C20,Futtermittel!$A$8:$CG$171,15,FALSE)*$F20)","v":" "},{"$f":"IF($C20=\"\",\" \",VLOOKUP($C20,Futtermittel!$A$8:$CG$171,16,FALSE)*$F20)","v":" "},{"$f":"IF($C20=\"\",\" \",VLOOKUP($C20,Futtermittel!$A$8:$CG$171,17,FALSE)*$F20)","v":" "},{"$f":"IF($C20=\"\",\" \",VLOOKUP($C20,Futtermittel!$A$8:$CG$171,18,FALSE)*$F20)","v":" "},{"$f":"IF($C20=\"\",\" \",VLOOKUP($C20,Futtermittel!$A$8:$CG$171,19,FALSE)*$F20)","v":" "},{"$f":"IF($C20=\"\",\" \",VLOOKUP($C20,Futtermittel!$A$8:$CG$171,20,FALSE)*$F20)","v":" "},{"$f":"IF($C20=\"\",\" \",VLOOKUP($C20,Futtermittel!$A$8:$CG$171,21,FALSE)*$F20)","v":" "},{"$f":"IF($C20=\"\",\" \",VLOOKUP($C20,Futtermittel!$A$8:$CG$171,22,FALSE)*$F20)","v":" "},{"$f":"IF($C20=\"\",\" \",VLOOKUP($C20,Futtermittel!$A$8:$CG$171,23,FALSE)*$F20)","v":" "},{"$f":"IF($C20=\"\",\" \",VLOOKUP($C20,Futtermittel!$A$8:$CG$171,24,FALSE)*$F20)","v":" "},{"$f":"IF($C20=\"\",\" \",VLOOKUP($C20,Futtermittel!$A$8:$CG$171,25,FALSE)*$F20)","v":" "},{"$f":"IF($C20=\"\",\" \",VLOOKUP($C20,Futtermittel!$A$8:$CG$171,26,FALSE)*$F20)","v":" "},{"$f":"IF($C20=\"\",\" \",VLOOKUP($C20,Futtermittel!$A$8:$CG$171,27,FALSE)*$F20)","v":" "},{"$f":"IF(E20*F20=0,\" \",E20*F20)","v":" "}]
[null,{"$f":"IF($C21=\"\",\" \",VLOOKUP($C21,Futtermittel!$A$8:$CG$171,2,FALSE))","v":" "},null,null,null,null,""," ",{"$f":"IF($C21=\"\",\" \",VLOOKUP($C21,Futtermittel!$A$8:$CG$171,8,FALSE)*$F21)","v":" "},{"$f":"IF($C21=\"\",\" \",VLOOKUP($C21,Futtermittel!$A$8:$CG$171,9,FALSE)*$F21)","v":" "},{"$f":"IF($C21=\"\",\" \",VLOOKUP($C21,Futtermittel!$A$8:$CG$171,10,FALSE)*$F21)","v":" "},{"$f":"IF($C21=\"\",\" \",VLOOKUP($C21,Futtermittel!$A$8:$CG$171,11,FALSE)*$F21)","v":" "},{"$f":"IF($C21=\"\",\" \",VLOOKUP($C21,Futtermittel!$A$8:$CG$171,12,FALSE)*$F21)","v":" "},{"$f":"IF($C21=\"\",\" \",VLOOKUP(C21,Futtermittel!$A$8:$CG$171,13,FALSE)*$F21)","v":" "},{"$f":"IF($C21=\"\",\" \",VLOOKUP($C21,Futtermittel!$A$8:$CG$171,14,FALSE)*$F21)","v":" "},{"$f":"IF($C21=\"\",\" \",VLOOKUP($C21,Futtermittel!$A$8:$CG$171,15,FALSE)*$F21)","v":" "},{"$f":"IF($C21=\"\",\" \",VLOOKUP($C21,Futtermittel!$A$8:$CG$171,16,FALSE)*$F21)","v":" "},{"$f":"IF($C21=\"\",\" \",VLOOKUP($C21,Futtermittel!$A$8:$CG$171,17,FALSE)*$F21)","v":" "},{"$f":"IF($C21=\"\",\" \",VLOOKUP($C21,Futtermittel!$A$8:$CG$171,18,FALSE)*$F21)","v":" "},{"$f":"IF($C21=\"\",\" \",VLOOKUP($C21,Futtermittel!$A$8:$CG$171,19,FALSE)*$F21)","v":" "},{"$f":"IF($C21=\"\",\" \",VLOOKUP($C21,Futtermittel!$A$8:$CG$171,20,FALSE)*$F21)","v":" "},{"$f":"IF($C21=\"\",\" \",VLOOKUP($C21,Futtermittel!$A$8:$CG$171,21,FALSE)*$F21)","v":" "},{"$f":"IF($C21=\"\",\" \",VLOOKUP($C21,Futtermittel!$A$8:$CG$171,22,FALSE)*$F21)","v":" "},{"$f":"IF($C21=\"\",\" \",VLOOKUP($C21,Futtermittel!$A$8:$CG$171,23,FALSE)*$F21)","v":" "},{"$f":"IF($C21=\"\",\" \",VLOOKUP($C21,Futtermittel!$A$8:$CG$171,24,FALSE)*$F21)","v":" "},{"$f":"IF($C21=\"\",\" \",VLOOKUP($C21,Futtermittel!$A$8:$CG$171,25,FALSE)*$F21)","v":" "},{"$f":"IF($C21=\"\",\" \",VLOOKUP($C21,Futtermittel!$A$8:$CG$171,26,FALSE)*$F21)","v":" "},{"$f":"IF($C21=\"\",\" \",VLOOKUP($C21,Futtermittel!$A$8:$CG$171,27,FALSE)*$F21)","v":" "}," "]
[null,{"$f":"IF($C22=\"\",\" \",VLOOKUP($C22,Futtermittel!$A$8:$CG$171,2,FALSE))","v":" "},null,null,null,null,""," ",{"$f":"IF($C22=\"\",\" \",VLOOKUP($C22,Futtermittel!$A$8:$CG$171,8,FALSE)*$F22)","v":" "},{"$f":"IF($C22=\"\",\" \",VLOOKUP($C22,Futtermittel!$A$8:$CG$171,9,FALSE)*$F22)","v":" "},{"$f":"IF($C22=\"\",\" \",VLOOKUP($C22,Futtermittel!$A$8:$CG$171,10,FALSE)*$F22)","v":" "},{"$f":"IF($C22=\"\",\" \",VLOOKUP($C22,Futtermittel!$A$8:$CG$171,11,FALSE)*$F22)","v":" "},{"$f":"IF($C22=\"\",\" \",VLOOKUP($C22,Futtermittel!$A$8:$CG$171,12,FALSE)*$F22)","v":" "},{"$f":"IF($C22=\"\",\" \",VLOOKUP(C22,Futtermittel!$A$8:$CG$171,13,FALSE)*$F22)","v":" "},{"$f":"IF($C22=\"\",\" \",VLOOKUP($C22,Futtermittel!$A$8:$CG$171,14,FALSE)*$F22)","v":" "},{"$f":"IF($C22=\"\",\" \",VLOOKUP($C22,Futtermittel!$A$8:$CG$171,15,FALSE)*$F22)","v":" "},{"$f":"IF($C22=\"\",\" \",VLOOKUP($C22,Futtermittel!$A$8:$CG$171,16,FALSE)*$F22)","v":" "},{"$f":"IF($C22=\"\",\" \",VLOOKUP($C22,Futtermittel!$A$8:$CG$171,17,FALSE)*$F22)","v":" "},{"$f":"IF($C22=\"\",\" \",VLOOKUP($C22,Futtermittel!$A$8:$CG$171,18,FALSE)*$F22)","v":" "},{"$f":"IF($C22=\"\",\" \",VLOOKUP($C22,Futtermittel!$A$8:$CG$171,19,FALSE)*$F22)","v":" "},{"$f":"IF($C22=\"\",\" \",VLOOKUP($C22,Futtermittel!$A$8:$CG$171,20,FALSE)*$F22)","v":" "},{"$f":"IF($C22=\"\",\" \",VLOOKUP($C22,Futtermittel!$A$8:$CG$171,21,FALSE)*$F22)","v":" "},{"$f":"IF($C22=\"\",\" \",VLOOKUP($C22,Futtermittel!$A$8:$CG$171,22,FALSE)*$F22)","v":" "},{"$f":"IF($C22=\"\",\" \",VLOOKUP($C22,Futtermittel!$A$8:$CG$171,23,FALSE)*$F22)","v":" "},{"$f":"IF($C22=\"\",\" \",VLOOKUP($C22,Futtermittel!$A$8:$CG$171,24,FALSE)*$F22)","v":" "},{"$f":"IF($C22=\"\",\" \",VLOOKUP($C22,Futtermittel!$A$8:$CG$171,25,FALSE)*$F22)","v":" "},{"$f":"IF($C22=\"\",\" \",VLOOKUP($C22,Futtermittel!$A$8:$CG$171,26,FALSE)*$F22)","v":" "},{"$f":"IF($C22=\"\",\" \",VLOOKUP($C22,Futtermittel!$A$8:$CG$171,27,FALSE)*$F22)","v":" "}," "]
[null,{"$f":"IF($C23=\"\",\" \",VLOOKUP($C23,Futtermittel!$A$8:$CG$171,2,FALSE))","v":" "},null,null,null,null,""," ",{"$f":"IF($C23=\"\",\" \",VLOOKUP($C23,Futtermittel!$A$8:$CG$171,8,FALSE)*$F23)","v":" "},{"$f":"IF($C23=\"\",\" \",VLOOKUP($C23,Futtermittel!$A$8:$CG$171,9,FALSE)*$F23)","v":" "},{"$f":"IF($C23=\"\",\" \",VLOOKUP($C23,Futtermittel!$A$8:$CG$171,10,FALSE)*$F23)","v":" "},{"$f":"IF($C23=\"\",\" \",VLOOKUP($C23,Futtermittel!$A$8:$CG$171,11,FALSE)*$F23)","v":" "},{"$f":"IF($C23=\"\",\" \",VLOOKUP($C23,Futtermittel!$A$8:$CG$171,12,FALSE)*$F23)","v":" "},{"$f":"IF($C23=\"\",\" \",VLOOKUP(C23,Futtermittel!$A$8:$CG$171,13,FALSE)*$F23)","v":" "},{"$f":"IF($C23=\"\",\" \",VLOOKUP($C23,Futtermittel!$A$8:$CG$171,14,FALSE)*$F23)","v":" "},{"$f":"IF($C23=\"\",\" \",VLOOKUP($C23,Futtermittel!$A$8:$CG$171,15,FALSE)*$F23)","v":" "},{"$f":"IF($C23=\"\",\" \",VLOOKUP($C23,Futtermittel!$A$8:$CG$171,16,FALSE)*$F23)","v":" "},{"$f":"IF($C23=\"\",\" \",VLOOKUP($C23,Futtermittel!$A$8:$CG$171,17,FALSE)*$F23)","v":" "},{"$f":"IF($C23=\"\",\" \",VLOOKUP($C23,Futtermittel!$A$8:$CG$171,18,FALSE)*$F23)","v":" "},{"$f":"IF($C23=\"\",\" \",VLOOKUP($C23,Futtermittel!$A$8:$CG$171,19,FALSE)*$F23)","v":" "},{"$f":"IF($C23=\"\",\" \",VLOOKUP($C23,Futtermittel!$A$8:$CG$171,20,FALSE)*$F23)","v":" "},{"$f":"IF($C23=\"\",\" \",VLOOKUP($C23,Futtermittel!$A$8:$CG$171,21,FALSE)*$F23)","v":" "},{"$f":"IF($C23=\"\",\" \",VLOOKUP($C23,Futtermittel!$A$8:$CG$171,22,FALSE)*$F23)","v":" "},{"$f":"IF($C23=\"\",\" \",VLOOKUP($C23,Futtermittel!$A$8:$CG$171,23,FALSE)*$F23)","v":" "},{"$f":"IF($C23=\"\",\" \",VLOOKUP($C23,Futtermittel!$A$8:$CG$171,24,FALSE)*$F23)","v":" "},{"$f":"IF($C23=\"\",\" \",VLOOKUP($C23,Futtermittel!$A$8:$CG$171,25,FALSE)*$F23)","v":" "},{"$f":"IF($C23=\"\",\" \",VLOOKUP($C23,Futtermittel!$A$8:$CG$171,26,FALSE)*$F23)","v":" "},{"$f":"IF($C23=\"\",\" \",VLOOKUP($C23,Futtermittel!$A$8:$CG$171,27,FALSE)*$F23)","v":" "}," "]
[null,"EF-Nr.","Ergänzungsfutter ","VQ in %",null,null,{"$f":"IF(F24=\"\",\"\",I24/I$2941)","v":""},null,null,null,null,null,null,null,null,null,null,null,null,null,null,null,null,null,null,null,null,null,{"$f":"IF(E24*F24=0,\" \",E24*F24)","v":" "}]
[null,{"$f":"IF($C25=\"\",\" \",VLOOKUP($C25,Ergänzungsfutter!$A$11:$Q$35,3,FALSE))","v":" "},null,0.85,null,null,{"$f":"IF(F25=\"\",\"\",I25/I$30)","v":""}," ",{"$f":"IF($C25=\"\",\" \",VLOOKUP($C25,Ergänzungsfutter!$A$11:$BE$35,5,FALSE)*$F25)","v":" "},{"$f":"IF($C25=\"\",\" \",VLOOKUP($C25,Ergänzungsfutter!$A$11:$BE$35,6,FALSE)*$F25)","v":" "},{"$f":"IF($C25=\"\",\" \",VLOOKUP($C25,Ergänzungsfutter!$A$11:$BE$35,6,FALSE)*$F25*D25)","v":" "},{"$f":"IF($C25=\"\",\" \",VLOOKUP($C25,Ergänzungsfutter!$A$11:$BE$35,7,FALSE)*$F25)","v":" "},{"$f":"IF($C25=\"\",\" \",IF(VLOOKUP($C25,Ergänzungsfutter!$A$11:$BE$35,8,FALSE)=\" \",0,VLOOKUP($C25,Ergänzungsfutter!$A$11:$BE$35,8,FALSE)*$F25))","v":" "},{"$f":"IF($C25=\"\",\" \",IF(VLOOKUP($C25,Ergänzungsfutter!$A$11:$BE$35,8,FALSE)=\" \",0,VLOOKUP($C25,Ergänzungsfutter!$A$11:$BE$35,8,FALSE)*$F25))","v":" "},{"$f":"IF($C25=\"\",\" \",VLOOKUP($C25,Ergänzungsfutter!$A$11:$BE$35,9,FALSE)*$F25)","v":" "},{"$f":"IF($C25=\"\",\" \",VLOOKUP($C25,Ergänzungsfutter!$A$11:$BE$35,9,FALSE)*$F25*D25)","v":" "},{"$f":"IF($C25=\"\",\" \",VLOOKUP($C25,Ergänzungsfutter!$A$11:$BE$35,10,FALSE)*$F25)","v":" "},{"$f":"IF($C25=\"\",\" \",VLOOKUP($C25,Ergänzungsfutter!$A$11:$BE$35,10,FALSE)*$F25*D25)","v":" "},{"$f":"IF($C25=\"\",\" \",VLOOKUP($C25,Ergänzungsfutter!$A$11:$BE$35,11,FALSE)*$F25)","v":" "},{"$f":"IF($C25=\"\",\" \",VLOOKUP($C25,Ergänzungsfutter!$A$11:$BE$35,11,FALSE)*$F25*D25)","v":" "},{"$f":"IF($C25=\"\",\" \",VLOOKUP($C25,Ergänzungsfutter!$A$11:$BE$35,12,FALSE)*$F25)","v":" "},{"$f":"IF($C25=\"\",\" \",VLOOKUP($C25,Ergänzungsfutter!$A$11:$BE$35,12,FALSE)*$F25*D25)","v":" "},{"$f":"IF($C25=\"\",\" \",VLOOKUP($C25,Ergänzungsfutter!$A$11:$BE$35,13,FALSE)*$F25)","v":" "},{"$f":"IF($C25=\"\",\" \",VLOOKUP($C25,Ergänzungsfutter!$A$11:$BE$35,14,FALSE)*$F25)","v":" "},{"$f":"IF($C25=\"\",\" \",VLOOKUP($C25,Ergänzungsfutter!$A$11:$BE$35,15,FALSE)*$F25)","v":" "},{"$f":"IF($C25=\"\",\" \",IF(Y25>VLOOKUP($C25,Ergänzungsfutter!$A$11:$BE$35,14,FALSE)*$F25*0.65,Y25,VLOOKUP($C25,Ergänzungsfutter!$A$11:$BE$35,14,FALSE)*$F25*0.65))","v":" "},{"$f":"IF($C25=\"\",\" \",VLOOKUP($C25,Ergänzungsfutter!$A$11:$BE$35,16,FALSE)*$F25)","v":" "},{"$f":"IF($C25=\"\",\" \",VLOOKUP($C25,Ergänzungsfutter!$A$11:$BE$35,17,FALSE)*$F25)","v":" "}," "]
[null,{"$f":"IF($C26=\"\",\" \",VLOOKUP($C26,Ergänzungsfutter!$A$11:$Q$35,3,FALSE))","v":" "},null,null,null,null,{"$f":"IF(F26=\"\",\"\",I26/I$30)","v":""}," ",{"$f":"IF($C26=\"\",\" \",VLOOKUP($C26,Ergänzungsfutter!$A$11:$BE$35,5,FALSE)*$F26)","v":" "},{"$f":"IF($C26=\"\",\" \",VLOOKUP($C26,Ergänzungsfutter!$A$11:$BE$35,6,FALSE)*$F26)","v":" "},{"$f":"IF($C26=\"\",\" \",VLOOKUP($C26,Ergänzungsfutter!$A$11:$BE$35,6,FALSE)*$F26*D26)","v":" "},{"$f":"IF($C26=\"\",\" \",VLOOKUP($C26,Ergänzungsfutter!$A$11:$BE$35,7,FALSE)*$F26)","v":" "},{"$f":"IF($C26=\"\",\" \",IF(VLOOKUP($C26,Ergänzungsfutter!$A$11:$BE$35,8,FALSE)=\" \",0,VLOOKUP($C26,Ergänzungsfutter!$A$11:$BE$35,8,FALSE)*$F26))","v":" "},{"$f":"IF($C26=\"\",\" \",IF(VLOOKUP($C26,Ergänzungsfutter!$A$11:$BE$35,8,FALSE)=\" \",0,VLOOKUP($C26,Ergänzungsfutter!$A$11:$BE$35,8,FALSE)*$F26))","v":" "},{"$f":"IF($C26=\"\",\" \",VLOOKUP($C26,Ergänzungsfutter!$A$11:$BE$35,9,FALSE)*$F26)","v":" "},{"$f":"IF($C26=\"\",\" \",VLOOKUP($C26,Ergänzungsfutter!$A$11:$BE$35,9,FALSE)*$F26*D26)","v":" "},{"$f":"IF($C26=\"\",\" \",VLOOKUP($C26,Ergänzungsfutter!$A$11:$BE$35,10,FALSE)*$F26)","v":" "},{"$f":"IF($C26=\"\",\" \",VLOOKUP($C26,Ergänzungsfutter!$A$11:$BE$35,10,FALSE)*$F26*D26)","v":" "},{"$f":"IF($C26=\"\",\" \",VLOOKUP($C26,Ergänzungsfutter!$A$11:$BE$35,11,FALSE)*$F26)","v":" "},{"$f":"IF($C26=\"\",\" \",VLOOKUP($C26,Ergänzungsfutter!$A$11:$BE$35,11,FALSE)*$F26*D26)","v":" "},{"$f":"IF($C26=\"\",\" \",VLOOKUP($C26,Ergänzungsfutter!$A$11:$BE$35,12,FALSE)*$F26)","v":" "},{"$f":"IF($C26=\"\",\" \",VLOOKUP($C26,Ergänzungsfutter!$A$11:$BE$35,12,FALSE)*$F26*D26)","v":" "},{"$f":"IF($C26=\"\",\" \",VLOOKUP($C26,Ergänzungsfutter!$A$11:$BE$35,13,FALSE)*$F26)","v":" "},{"$f":"IF($C26=\"\",\" \",VLOOKUP($C26,Ergänzungsfutter!$A$11:$BE$35,14,FALSE)*$F26)","v":" "},{"$f":"IF($C26=\"\",\" \",VLOOKUP($C26,Ergänzungsfutter!$A$11:$BE$35,15,FALSE)*$F26)","v":" "},{"$f":"IF($C26=\"\",\" \",IF(Y26>VLOOKUP($C26,Ergänzungsfutter!$A$11:$BE$35,14,FALSE)*$F26*0.65,Y26,VLOOKUP($C26,Ergänzungsfutter!$A$11:$BE$35,14,FALSE)*$F26*0.65))","v":" "},{"$f":"IF($C26=\"\",\" \",VLOOKUP($C26,Ergänzungsfutter!$A$11:$BE$35,16,FALSE)*$F26)","v":" "},{"$f":"IF($C26=\"\",\" \",VLOOKUP($C26,Ergänzungsfutter!$A$11:$BE$35,17,FALSE)*$F26)","v":" "}," "]
[null,"Nr.","Mineralfutter",null,null,null,{"$f":"IF(F27=\"\",\"\",I27/I$2944)","v":""},null,null,null,null,null,null,null,null,null,null,null,null,null,null,null,null,null,null,null,null,null," "]
[2,{"$f":"IF($C28=\"\",\" \",VLOOKUP($C28,Mineralfutter!$A$11:$BE$25,3,FALSE))","v":5},"Opti. MinFu VM 850g TZ 3,5% + Phytase 17/18",null,84,3.5000000000000003E-2,{"$f":"IF(F28=\"\",\"\",I28/I$30)","v":3.7912360388579126E-2},35,{"$f":"IF($C28=\"\",\" \",VLOOKUP($C28,Mineralfutter!$A$11:$BE$25,5,FALSE)*$F28)","v":33.6},{"$f":"IF($C28=\"\",\" \",VLOOKUP($C28,Mineralfutter!$A$11:$BE$25,6,FALSE)*$F28)","v":6.9508680208680209},{"$f":"IF($C28=\"\",\" \",VLOOKUP($C28,Mineralfutter!$A$11:$BE$25,6,FALSE)*$F28)","v":6.9508680208680209},{"$f":"IF($C28=\"\",\" \",VLOOKUP($C28,Mineralfutter!$A$11:$BE$25,7,FALSE)*$F28)","v":0},{"$f":"IF($C28=\"\",\" \",IF(VLOOKUP($C28,Mineralfutter!$A$11:$BE$25,8,FALSE)=\" \",0,VLOOKUP($C28,Mineralfutter!$A$11:$BE$25,8,FALSE)*$F28))","v":0.14251383616383617},{"$f":"IF($C28=\"\",\" \",IF(VLOOKUP($C28,Mineralfutter!$A$11:$BE$25,19,FALSE)=\" \",0,VLOOKUP($C28,Mineralfutter!$A$11:$BE$25,19,FALSE)*$F28))","v":0.1494497016872017},{"$f":"IF($C28=\"\",\" \",VLOOKUP($C28,Mineralfutter!$A$11:$BE$25,9,FALSE)*$F28)","v":4.0250000000000004},{"$f":"IF($C28=\"\",\" \",VLOOKUP($C28,Mineralfutter!$A$11:$BE$25,9,FALSE)*$F28)","v":4.0250000000000004},{"$f":"IF($C28=\"\",\" \",VLOOKUP($C28,Mineralfutter!$A$11:$BE$25,10,FALSE)*$F28)","v":1.2250000000000001},{"$f":"IF($C28=\"\",\" \",VLOOKUP($C28,Mineralfutter!$A$11:$BE$25,10,FALSE)*$F28)","v":1.2250000000000001},{"$f":"IF($C28=\"\",\" \",VLOOKUP($C28,Mineralfutter!$A$11:$BE$25,11,FALSE)*$F28)","v":1.7500000000000002},{"$f":"IF($C28=\"\",\" \",VLOOKUP($C28,Mineralfutter!$A$11:$BE$25,11,FALSE)*$F28)","v":1.7500000000000002},{"$f":"IF($C28=\"\",\" \",VLOOKUP($C28,Mineralfutter!$A$11:$BE$25,12,FALSE)*$F28)","v":0},{"$f":"IF($C28=\"\",\" \",VLOOKUP($C28,Mineralfutter!$A$11:$BE$25,12,FALSE)*$F28)","v":0},{"$f":"IF($C28=\"\",\" \",VLOOKUP($C28,Mineralfutter!$A$11:$BE$25,13,FALSE)*$F28)","v":5.6000000000000005},{"$f":"IF($C28=\"\",\" \",VLOOKUP($C28,Mineralfutter!$A$11:$BE$25,14,FALSE)*$F28)","v":0.70000000000000007},{"$f":"IF($C28=\"\",\" \",VLOOKUP($C28,Mineralfutter!$A$11:$BE$25,15,FALSE)*$F28)","v":0.56000000000000005},{"$f":"IF($C28=\"\",\" \",VLOOKUP($C28,Mineralfutter!$A$11:$BE$25,15,FALSE)*$F28)","v":0.56000000000000005},{"$f":"IF($C28=\"\",\" \",VLOOKUP($C28,Mineralfutter!$A$11:$BE$25,16,FALSE)*$F28)","v":0},{"$f":"IF($C28=\"\",\" \",VLOOKUP($C28,Mineralfutter!$A$11:$BE$25,17,FALSE)*$F28)","v":1.9250000000000003},2.9400000000000004]
[null,{"$f":"IF($C29=\"\",\" \",VLOOKUP($C29,Mineralfutter!$A$11:$BE$25,3,FALSE))","v":" "},null,null,null,null,{"$f":"IF(F29=\"\",\"\",I29/I$30)","v":""}," ",{"$f":"IF($C29=\"\",\" \",VLOOKUP($C29,Mineralfutter!$A$11:$BE$25,5,FALSE)*$F29)","v":" "},{"$f":"IF($C29=\"\",\" \",VLOOKUP($C29,Mineralfutter!$A$11:$BE$25,6,FALSE)*$F29)","v":" "},{"$f":"IF($C29=\"\",\" \",VLOOKUP($C29,Mineralfutter!$A$11:$BE$25,6,FALSE)*$F29)","v":" "},{"$f":"IF($C29=\"\",\" \",VLOOKUP($C29,Mineralfutter!$A$11:$BE$25,7,FALSE)*$F29)","v":" "},{"$f":"IF($C29=\"\",\" \",IF(VLOOKUP($C29,Mineralfutter!$A$11:$BE$25,8,FALSE)=\" \",0,VLOOKUP($C29,Mineralfutter!$A$11:$BE$25,8,FALSE)*$F29))","v":" "},{"$f":"IF($C29=\"\",\" \",IF(VLOOKUP($C29,Mineralfutter!$A$11:$BE$25,19,FALSE)=\" \",0,VLOOKUP($C29,Mineralfutter!$A$11:$BE$25,19,FALSE)*$F29))","v":" "},{"$f":"IF($C29=\"\",\" \",VLOOKUP($C29,Mineralfutter!$A$11:$BE$25,9,FALSE)*$F29)","v":" "},{"$f":"IF($C29=\"\",\" \",VLOOKUP($C29,Mineralfutter!$A$11:$BE$25,9,FALSE)*$F29)","v":" "},{"$f":"IF($C29=\"\",\" \",VLOOKUP($C29,Mineralfutter!$A$11:$BE$25,10,FALSE)*$F29)","v":" "},{"$f":"IF($C29=\"\",\" \",VLOOKUP($C29,Mineralfutter!$A$11:$BE$25,10,FALSE)*$F29)","v":" "},{"$f":"IF($C29=\"\",\" \",VLOOKUP($C29,Mineralfutter!$A$11:$BE$25,11,FALSE)*$F29)","v":" "},{"$f":"IF($C29=\"\",\" \",VLOOKUP($C29,Mineralfutter!$A$11:$BE$25,11,FALSE)*$F29)","v":" "},{"$f":"IF($C29=\"\",\" \",VLOOKUP($C29,Mineralfutter!$A$11:$BE$25,12,FALSE)*$F29)","v":" "},{"$f":"IF($C29=\"\",\" \",VLOOKUP($C29,Mineralfutter!$A$11:$BE$25,12,FALSE)*$F29)","v":" "},{"$f":"IF($C29=\"\",\" \",VLOOKUP($C29,Mineralfutter!$A$11:$BE$25,13,FALSE)*$F29)","v":" "},{"$f":"IF($C29=\"\",\" \",VLOOKUP($C29,Mineralfutter!$A$11:$BE$25,14,FALSE)*$F29)","v":" "},{"$f":"IF($C29=\"\",\" \",VLOOKUP($C29,Mineralfutter!$A$11:$BE$25,15,FALSE)*$F29)","v":" "},{"$f":"IF($C29=\"\",\" \",VLOOKUP($C29,Mineralfutter!$A$11:$BE$25,15,FALSE)*$F29)","v":" "},{"$f":"IF($C29=\"\",\" \",VLOOKUP($C29,Mineralfutter!$A$11:$BE$25,16,FALSE)*$F29)","v":" "},{"$f":"IF($C29=\"\",\" \",VLOOKUP($C29,Mineralfutter!$A$11:$BE$25,17,FALSE)*$F29)","v":" "}," "]
[null,null,"Summe",null,{"$f":"AC30","v":24.039670000000001},{"$f":"IF(SUM(F13:F29,F36:F37)=0,\" \",SUM(F13:F29,F36:F37))","v":1},null,null,{"$f":"IF(F30=\" \",\" \",SUM(I13:I29,I36*$F36,I37*$F37))","v":886.25450000000001},{"$f":"IF(I30=\" \",\" \",SUM(J13:J29,J36*$F36,J37*$F37))","v":160.23640802086805},134.72622902086803,36.469745000000003,{"$f":"IF(L30=\" \",\" \",SUM(M13:M29,N36*$F36,N37*$F37))","v":13.443270206663836},{"$f":"IF(F30=\" \",\" \",IF(N37=\"\",(0.021503*J30+0.032497*I63+0.016309*J63+0.014701*M63-0.02107*L30),IF(N36=\" \",(0.021503*J30+0.032497*I63+0.016309*J63+0.014701*M63-0.02107*L30),SUM(N13:N29)+N36*F36+N37*F37)))","v":13.381404933797725},{"$f":"IF(M30=\" \",\" \",SUM(O13:O29,O36*$F36,O37*$F37))","v":11.180166118181818},10.153632130818181,6.3325079500000001,5.6228189656234822,7.2729971636363633,6.4675204927272727,2.0424997181818183,1.7422418656363634,6.5973885417255325,4.431221927846674,2.4516487711386694,3.0932114458850055,1.3216585668085108,2.0978561344827589,{"$f":"IF(SUM(AC13:AC29,AC36:AC37)=0,\" \",SUM(AC13:AC29,AC36:AC37))","v":24.039670000000001}]
[null,null,"Summe auf 88% TM umgerechnet",null,{"$f":"AC31","v":23.870016569732506},{"$f":"F30","v":1},null,null,880,{"$f":"IF($F31=\" \",\" \",ROUND($I31*J30/$I30*$F31,0))","v":159},{"$f":"IF($F31=\" \",\" \",ROUND($I31*K30/$I30*$F31,0))","v":134},{"$f":"IF($F31=\" \",\" \",ROUND($I31*L30/$I30*$F31,0))","v":36},{"$f":"IF($F31=\" \",\" \",ROUND($I31*M30/$I30*$F31,2))","v":13.35},{"$f":"IF($F31=\" \",\" \",ROUND($I31*N30/$I30*$F31,2))","v":13.29},{"$f":"IF($F31=\" \",\" \",ROUND($I31*O30/$I30*$F31,1))","v":11.1},10.1,6.3,5.6,7.2,6.4,2,1.7,6.6,4.4000000000000004,2.4,3.1,1.3,2.1,{"$f":"IF(AC30=\" \",\" \",AC30*I31/I30)","v":23.870016569732506}]
[null,"OW-Nr.","aus Tabelle Orientierungswerte in g"]
[null,{"$f":"IF($C33=\"\",\" \",VLOOKUP($C33,Orientierungswerte!A13:AZ126,2,FALSE))","v":10},"Vormast 28 - 40 Kg LM für 850 g TZ*",null,"-",{"$f":"F30","v":1},null,null,{"$f":"I31","v":880},{"$f":"IF($C33=\"\",\" \",ROUND(VLOOKUP($C$33,Orientierungswerte!$A$13:$AZ$126,5,FALSE)*$F$33,0))","v":170},{"$f":"IF($C33=\"\",\" \",ROUND(VLOOKUP($C$33,Orientierungswerte!$A$13:$AZ$126,6,FALSE)*$F$33,0))","v":151},{"$f":"IF($C33=\"\",\" \",ROUND(VLOOKUP($C33,Orientierungswerte!$A$13:$AZ$126,28,FALSE)*$F$33,0))","v":40},{"$f":"IF($C33=\"\",\" \",ROUND(VLOOKUP($C$33,Orientierungswerte!$A$13:$AZ$126,4,FALSE)*$F$33,2))","v":13.4},{"$f":"IF($C33=\"\",\" \",ROUND(VLOOKUP($C$33,Orientierungswerte!$A$13:$AZ$126,4,FALSE)*$F$33,2))","v":13.4},{"$f":"IF($C33=\"\",\" \",ROUND(VLOOKUP($C$33,Orientierungswerte!$A$13:$AZ$126,7,FALSE)*$F$33,1))","v":11.4},{"$f":"IF($C33=\"\",\" \",ROUND(VLOOKUP($C$33,Orientierungswerte!$A$13:$AZ$126,8,FALSE)*$F$33,1))","v":10.199999999999999},{"$f":"IF($C33=\"\",\" \",ROUND(VLOOKUP($C$33,Orientierungswerte!$A$13:$AZ$126,9,FALSE)*$F$33,1))","v":6.2},{"$f":"IF($C33=\"\",\" \",ROUND(VLOOKUP($C$33,Orientierungswerte!$A$13:$AZ$126,10,FALSE)*$F$33,1))","v":5.6},{"$f":"IF($C33=\"\",\" \",ROUND(VLOOKUP($C$33,Orientierungswerte!$A$13:$AZ$126,11,FALSE)*$F$33,1))","v":7.2},{"$f":"IF($C33=\"\",\" \",ROUND(VLOOKUP($C$33,Orientierungswerte!$A$13:$AZ$126,12,FALSE)*$F$33,1))","v":6.6},{"$f":"IF($C33=\"\",\" \",ROUND(VLOOKUP($C$33,Orientierungswerte!$A$13:$AZ$126,13,FALSE)*$F$33,1))","v":2.1},{"$f":"IF($C33=\"\",\" \",ROUND(VLOOKUP($C$33,Orientierungswerte!$A$13:$AZ$126,14,FALSE)*$F$33,1))","v":1.8},{"$f":"IF($C33=\"\",\" \",ROUND(VLOOKUP($C$33,Orientierungswerte!$A$13:$AZ$126,15,FALSE)*$F$33,1))","v":6.5},{"$f":"IF($C33=\"\",\" \",ROUND(VLOOKUP($C$33,Orientierungswerte!$A$13:$AZ$126,16,FALSE)*$F$33,1))","v":4.5},{"$f":"IF($C33=\"\",\" \",ROUND(VLOOKUP($C$33,Orientierungswerte!$A$13:$AZ$126,17,FALSE)*$F$33,1))","v":3},{"$f":"IF($C33=\"\",\" \",ROUND(VLOOKUP($C$33,Orientierungswerte!$A$13:$AZ$126,17,FALSE)*$F$33,1))","v":3},{"$f":"IF($C33=\"\",\" \",ROUND(VLOOKUP($C$33,Orientierungswerte!$A$13:$AZ$126,18,FALSE)*$F$33,1))","v":1},{"$f":"IF($C33=\"\",\" \",ROUND(VLOOKUP($C$33,Orientierungswerte!$A$13:$AZ$126,19,FALSE)*$F$33,1))","v":2},"-"]
[null,null,"Differenz Mischung zu Orientierungswert",null,"-",{"$f":"IF($C$33=\"\",\" \",ROUND((1-F31)*-1,4))","v":0},null,null,{"$f":"IF($C$33=\"\",\" \",ROUND(I31-I33,))","v":0},{"$f":"IF($C$33=\"\",\" \",ROUND(J31-J33,))","v":-11},{"$f":"IF($C$33=\"\",\" \",ROUND(K31-K33,0))","v":-17},{"$f":"IF($C$33=\"\",\" \",ROUND(L31-L33,0))","v":-4},{"$f":"IF($C$33=\"\",\" \",ROUND(M31-M33,2))","v":-0.05},{"$f":"IF($C$33=\"\",\" \",ROUND(N31-N33,2))","v":-0.11},{"$f":"IF($C$33=\"\",\" \",ROUND(O31-O33,1))","v":-0.3},-0.1,0.1,0,0,-0.2,-0.1,-0.1,0.1,-0.1,-0.6,0.1,0.3,0.1,"-"]
[null,"erforderliches Mineral- oder Ergänzungsfutter",null,null,null,"Anteil %",null,null,null,{"$f":"IF(F$36=0,\" \",O35*954/780+Q35*584/990+S35*731/980+U35*853/980)","v":" "},{"$f":"IF(F$36=0,\" \",IF(J35>200,J35*0.8,J35))","v":" "},null,{"$f":"IF(F$36=0,\" \",O35*21.3/780+Q35*13/990+S35*16.3/980+U35*19/980)","v":" "}]
[null,null,"opt. Mineralfutter in g/kg:",null,null,null,{"$f":"IF(F36=\"\",\"\",I36*F36/I$30)","v":""},{"$f":"IF(F36=\"\",\" \",$H$8*F36*1000)","v":" "},{"$f":"IF($F36=0,0,960)","v":0},{"$f":"IF($F36=0,0,O36*954/780+Q36*584/990+S36*731/980+U36*853/980)","v":0},{"$f":"IF(F$36=0,0,J36)","v":0},null,{"$f":"IF($F36=0,0,O36*19.56/780+Q36*11.97/990+S36*14.99/980+U36*17.49/980)","v":0},{"$f":"IF($F36=0,0,O36*20.51/780+Q36*12.56/990+S36*15.72/980+U36*18.34/980)","v":0},115,{"$f":"O36","v":115},35,{"$f":"Q36","v":35},50,{"$f":"S36","v":50},null,{"$f":"U36","v":0},160,20,{"$f":"IF(F36=0,0,X36*0.8)","v":0},{"$f":"Y36","v":0},null,55,{"$f":"IF(F36*E36=0,0,F36*E36)","v":0}]
[null,null,"opt. Ergänzungsfutter in g/kg:",0.85,null,null,{"$f":"IF(F37=\"\",\"\",I37*F37/I$30)","v":""},{"$f":"IF(F37=\"\",\" \",$H$8*F37*1000)","v":" "},{"$f":"IF($F37=0,0,890)","v":0},null,{"$f":"IF(F37=0,0,J37*D37)","v":0},null,{"$f":"N37","v":0},null,null,{"$f":"IF(O37=0,0,O37*D37)","v":0},null,{"$f":"IF(Q37=0,0,Q37*D37)","v":0},null,{"$f":"IF(S37=0,0,S37*D37)","v":0},null,{"$f":"IF(U37=0,0,U37*D37)","v":0},null,null,{"$f":"IF(F37=0,0,X37*0.75)","v":0},{"$f":"IF(F37=0,0,X37*0.75)","v":0},null,null,{"$f":"IF(F37*E37=0,0,F37*E37)","v":0}]
[null,"pcv VQ Lys",null,null,null,null,null,null,null,null,null,null,null,null,null,null,null,null,null,null,null,null,null,"Ca / vP"]
[null,null,null,null,null,"Lys / ME",null,null," pcv Lys/ ME",null,null,"pcv. Lys. / pcv. M. & C. / pcv. Thr. / pcv. Trp.",null,null,null,null,null,null,null,"Ca / P",null,null,"mit Phytase",{"$f":"IF(F30=\" \",\" \",W30/Z30)","v":2.1328605099086393},{"$f":"IF(F30=0,\" \",1)","v":1},"Lys / 100g RP"]
[null,{"$f":"IF(F30=\" \",\" \",P31/O31)","v":0.90990990990990994},"in der Mischung",null,null,{"$f":"IF(F30=\" \",\" \",O31/M31)","v":0.8314606741573034},{"$f":"IF(F30<=0,\" \",1)","v":1},null,{"$f":"IF(F30=\" \",\" \",P31/M31)","v":0.75655430711610483},{"$f":"IF(L30<=0,\" \",1)","v":1},null,{"$f":"IF(F30<=0,\" \",1)","v":1},"/",{"$f":"IF(F30=\" \",\" \",R30/P30)","v":0.55377414635272926},"/",{"$f":"IF(F30=\" \",\" \",T30/P30)","v":0.63696620178873065},"/",{"$f":"IF(F30=\" \",\" \",V30/P30)","v":0.17158804289829765},null,{"$f":"IF(F30=\" \",\" \",W30/X30)","v":1.4888418249301032},{"$f":"IF(F30=0,\" \",1)","v":1},null,"ohne",{"$f":"IF(F30=\" \",\" \",W30/Y30)","v":2.6910006928363446},{"$f":"IF(F30=0,\" \",1)","v":1},null,{"$f":"IF(L30=\" \",\" \",P31*100/J31)","v":6.3522012578616351},{"$f":"IF(L30=0,\" \",100)","v":100}]
[null,{"$f":"IF(P33=\" \",\" \",P33/O33)","v":0.89473684210526305},"Orientierungswerte",null,null,{"$f":"IF($B$33=\" \",\" \",ROUND(VLOOKUP($B$33,Orientierungswerte!$B$13:$X$114,23,TRUE),2))","v":0.85},{"$f":"IF($B$33=\" \",1,ROUND(VLOOKUP($B$33,Orientierungswerte!$B$13:$X$114,19,TRUE),2))","v":1},null,{"$f":"IF($B$33=\" \",\" \",ROUND(VLOOKUP($B$33,Orientierungswerte!$B$13:$AB$114,24,TRUE),2))","v":0.76},{"$f":"IF($B$33=\" \",1,ROUND(VLOOKUP($B$33,Orientierungswerte!$B$13:$X$114,19,TRUE),2))","v":1},null,{"$f":"IF($B$33=\" \",1,ROUND(VLOOKUP($B$33,Orientierungswerte!$B$13:$X$114,19,TRUE),2))","v":1},"/",{"$f":"IF($B$33=\" \",\" \",ROUND(VLOOKUP($B$33,Orientierungswerte!$B$13:$X$114,20,TRUE),2))","v":0.54},"/",{"$f":"IF($B$33=\" \",\" \",ROUND(VLOOKUP($B$33,Orientierungswerte!$B$13:$X$114,21,TRUE),2))","v":0.63},"/",{"$f":"IF($B$33=\" \",\" \",ROUND(VLOOKUP($B$33,Orientierungswerte!$B$13:$X$114,22,TRUE),2))","v":0.18},null,{"$f":"IF($B$33=\" \",\" \",ROUND(VLOOKUP($B$33,Orientierungswerte!$B$13:$AA$114,25,TRUE),2))","v":1.45},{"$f":"IF($B$33=\" \",1,ROUND(VLOOKUP($B$33,Orientierungswerte!$B$13:$X$114,19,TRUE),2))","v":1},null,null,{"$f":"IF($B$33=\" \",\" \",ROUND(VLOOKUP($B$33,Orientierungswerte!$B$13:$AA$114,26,TRUE),2))","v":2.1800000000000002},{"$f":"IF($B$33=\" \",1,ROUND(VLOOKUP($B$33,Orientierungswerte!$B$13:$X$114,19,TRUE),2))","v":1},null,{"$f":"IF($B$33=\" \",\" \",ROUND(P33*100/J33,2))","v":6},{"$f":"IF($B$33=\" \",1,ROUND(VLOOKUP($B$33,Orientierungswerte!$B$13:$X$114,19,TRUE)*100,0))","v":100}]
[]
[]
[null,null,null,null,"Preis","Anteil","Met","pcv Met","Roh-fett XL","Stär-ke     S","Zu-cker Z","Roh-asche XA","org. Rest","Poly-en-säure","Linol-säure","Lino-len-säure","Vit A in IE","Vit D in IE","Vit E in mg","KAB BE in mmol","SBK in meq","BfS","NDF               om","ADF               om","NfE","NE_GP","NE_S","Kali-um         K","DON","ZEA"]
[null,"FM-Nr.","Futtermittel + % RP in der FM",null,"€/dt","%","Anteil in g/kg",null,null,null,null,null,null,null,null,null,"pro kg ",null,null,null,null,"Anteil in g/kg",null,null,null,"MJ/kg",null,"g/kg","mg pro kg"]
[null,{"$f":"B13","v":49},{"$f":"IF(C13=\"\",\" \",C13)","v":"eigener Weizen 10% RP Ø 2018"},null,{"$f":"IF(E13=\"\",\" \",E13)","v":17.420000000000002},0.53849999999999998,{"$f":"IF($C13=\"\",\" \",VLOOKUP(C13,Futtermittel!$A$8:$CG$171,29,FALSE)*$F13)","v":0.6410304},{"$f":"IF($C13=\"\",\" \",VLOOKUP(C13,Futtermittel!$A$8:$CG$171,30,FALSE)*$F13)","v":0.56410675200000004},{"$f":"IF($C13=\"\",\" \",VLOOKUP(C13,Futtermittel!$A$8:$CG$171,31,FALSE)*$F13)","v":9.5099099999999996},{"$f":"IF($C13=\"\",\" \",VLOOKUP(C13,Futtermittel!$A$8:$CG$171,32,FALSE)*$F13)","v":322.34609999999998},{"$f":"IF($C13=\"\",\" \",VLOOKUP(C13,Futtermittel!$A$8:$CG$171,33,FALSE)*$F13)","v":15.077999999999999},{"$f":"IF($C13=\"\",\" \",VLOOKUP(C13,Futtermittel!$A$8:$CG$171,34,FALSE)*$F13)","v":8.9390999999999998},{"$f":"IF($C13=\"\",\" \",VLOOKUP(C13,Futtermittel!$A$8:$CG$171,36,FALSE)*$F13)","v":65.551605000000009},{"$f":"IF($C13=\"\",\" \",VLOOKUP($C13,Futtermittel!$A$8:$CG$171,37,FALSE)*$F13)","v":5.8427249999999997},{"$f":"IF($C13=\"\",\" \",VLOOKUP($C13,Futtermittel!$A$8:$CG$171,38,FALSE)*$F13)","v":5.3715374999999996},{"$f":"IF($C13=\"\",\" \",VLOOKUP($C13,Futtermittel!$A$8:$CG$171,39,FALSE)*$F13)","v":0.47118749999999998},{"$f":"IF($C13=\"\",\" \",VLOOKUP($C13,Futtermittel!$A$8:$CG$171,40,FALSE)*$F13)","v":0},{"$f":"IF($C13=\"\",\" \",VLOOKUP($C13,Futtermittel!$A$8:$CG$171,41,FALSE)*$F13)","v":0},{"$f":"IF($C13=\"\",\" \",VLOOKUP($C13,Futtermittel!$A$8:$CG$171,42,FALSE)*$F13)","v":0},{"$f":"IF($C13=\"\",\" \",VLOOKUP($C13,Futtermittel!$A$8:$CG$171,43,FALSE)*$F13)","v":-13.348337999999977},{"$f":"IF($C13=\"\",\" \",VLOOKUP($C13,Futtermittel!$A$8:$CG$171,44,FALSE)*$F13)","v":169.712583},{"$f":"IF($C13=\"\",\" \",VLOOKUP($C13,Futtermittel!$A$8:$CG$171,45,FALSE)*$F13)","v":27.296834250000021},{"$f":"IF($C13=\"\",\" \",VLOOKUP($C13,Futtermittel!$A$8:$CG$171,54,FALSE)*$F13)","v":92.585597400000012},{"$f":"IF($C13=\"\",\" \",VLOOKUP($C13,Futtermittel!$A$8:$CG$171,53,FALSE)*$F13)","v":19.880343},{"$f":"IF($C13=\"\",\" \",VLOOKUP($C13,Futtermittel!$A$8:$CG$171,46,FALSE)*$F13)","v":387.89770500000003},{"$f":"IF($C13=\"\",\" \",VLOOKUP($C13,Futtermittel!$A$8:$CG$171,56,FALSE)*$F13)","v":5.4182032962527407},{"$f":"IF($C13=\"\",\" \",VLOOKUP($C13,Futtermittel!$A$8:$CG$171,57,FALSE)*$F13)","v":5.558657294046677},{"$f":"IF($C13=\"\",\" \",VLOOKUP($C13,Futtermittel!$A$8:$CG$171,28,FALSE)*$F13)","v":2.0463},{"$f":"IF($C13=\"\",\" \",VLOOKUP($C13,Futtermittel!$A$8:$CG$171,58,FALSE)*$F13)","v":0},{"$f":"IF($C13=\"\",\" \",VLOOKUP($C13,Futtermittel!$A$8:$CG$171,59,FALSE)*$F13)","v":0}]
[null,11,"eigene Gerste 10% RP Ø 2018",null,16.39,0.25,{"$f":"IF($C14=\"\",\" \",VLOOKUP(C14,Futtermittel!$A$8:$CG$171,29,FALSE)*$F14)","v":0.31782499999999997},{"$f":"IF($C14=\"\",\" \",VLOOKUP(C14,Futtermittel!$A$8:$CG$171,30,FALSE)*$F14)","v":0.26061649999999997},{"$f":"IF($C14=\"\",\" \",VLOOKUP(C14,Futtermittel!$A$8:$CG$171,31,FALSE)*$F14)","v":5.9474999999999998},{"$f":"IF($C14=\"\",\" \",VLOOKUP(C14,Futtermittel!$A$8:$CG$171,32,FALSE)*$F14)","v":125.575},{"$f":"IF($C14=\"\",\" \",VLOOKUP(C14,Futtermittel!$A$8:$CG$171,33,FALSE)*$F14)","v":5.75},{"$f":"IF($C14=\"\",\" \",VLOOKUP(C14,Futtermittel!$A$8:$CG$171,34,FALSE)*$F14)","v":5.9},{"$f":"IF($C14=\"\",\" \",VLOOKUP(C14,Futtermittel!$A$8:$CG$171,36,FALSE)*$F14)","v":44.39749999999998},{"$f":"IF($C14=\"\",\" \",VLOOKUP($C14,Futtermittel!$A$8:$CG$171,37,FALSE)*$F14)","v":3.7627586206896551},{"$f":"IF($C14=\"\",\" \",VLOOKUP($C14,Futtermittel!$A$8:$CG$171,38,FALSE)*$F14)","v":3.4593103448275859},{"$f":"IF($C14=\"\",\" \",VLOOKUP($C14,Futtermittel!$A$8:$CG$171,39,FALSE)*$F14)","v":0.30344827586206896},{"$f":"IF($C14=\"\",\" \",VLOOKUP($C14,Futtermittel!$A$8:$CG$171,40,FALSE)*$F14)","v":0},{"$f":"IF($C14=\"\",\" \",VLOOKUP($C14,Futtermittel!$A$8:$CG$171,41,FALSE)*$F14)","v":0},{"$f":"IF($C14=\"\",\" \",VLOOKUP($C14,Futtermittel!$A$8:$CG$171,42,FALSE)*$F14)","v":0},{"$f":"IF($C14=\"\",\" \",VLOOKUP($C14,Futtermittel!$A$8:$CG$171,43,FALSE)*$F14)","v":-11.114209482758611},{"$f":"IF($C14=\"\",\" \",VLOOKUP($C14,Futtermittel!$A$8:$CG$171,44,FALSE)*$F14)","v":76.242341999999994},{"$f":"IF($C14=\"\",\" \",VLOOKUP($C14,Futtermittel!$A$8:$CG$171,45,FALSE)*$F14)","v":23.87384999999999},{"$f":"IF($C14=\"\",\" \",VLOOKUP($C14,Futtermittel!$A$8:$CG$171,54,FALSE)*$F14)","v":92.250646551724159},{"$f":"IF($C14=\"\",\" \",VLOOKUP($C14,Futtermittel!$A$8:$CG$171,53,FALSE)*$F14)","v":12.007227011494253},{"$f":"IF($C14=\"\",\" \",VLOOKUP($C14,Futtermittel!$A$8:$CG$171,46,FALSE)*$F14)","v":169.9725},{"$f":"IF($C14=\"\",\" \",VLOOKUP($C14,Futtermittel!$A$8:$CG$171,56,FALSE)*$F14)","v":1.9066646962686411},{"$f":"IF($C14=\"\",\" \",VLOOKUP($C14,Futtermittel!$A$8:$CG$171,57,FALSE)*$F14)","v":1.987500265442959},{"$f":"IF($C14=\"\",\" \",VLOOKUP($C14,Futtermittel!$A$8:$CG$171,28,FALSE)*$F14)","v":1.1000000000000001},{"$f":"IF($C14=\"\",\" \",VLOOKUP($C14,Futtermittel!$A$8:$CG$171,58,FALSE)*$F14)","v":0},{"$f":"IF($C14=\"\",\" \",VLOOKUP($C14,Futtermittel!$A$8:$CG$171,59,FALSE)*$F14)","v":0}]
[null,100,"Sojaschrot HP 47% RP ",null,38,0.161,{"$f":"IF($C15=\"\",\" \",VLOOKUP(C15,Futtermittel!$A$8:$CG$171,29,FALSE)*$F15)","v":1.0146476136363636},{"$f":"IF($C15=\"\",\" \",VLOOKUP(C15,Futtermittel!$A$8:$CG$171,30,FALSE)*$F15)","v":0.89288990000000001},{"$f":"IF($C15=\"\",\" \",VLOOKUP(C15,Futtermittel!$A$8:$CG$171,31,FALSE)*$F15)","v":3.0590000000000002},{"$f":"IF($C15=\"\",\" \",VLOOKUP(C15,Futtermittel!$A$8:$CG$171,32,FALSE)*$F15)","v":6.7620000000000005},{"$f":"IF($C15=\"\",\" \",VLOOKUP(C15,Futtermittel!$A$8:$CG$171,33,FALSE)*$F15)","v":14.651},{"$f":"IF($C15=\"\",\" \",VLOOKUP(C15,Futtermittel!$A$8:$CG$171,34,FALSE)*$F15)","v":10.787000000000001},{"$f":"IF($C15=\"\",\" \",VLOOKUP(C15,Futtermittel!$A$8:$CG$171,36,FALSE)*$F15)","v":38.64},{"$f":"IF($C15=\"\",\" \",VLOOKUP($C15,Futtermittel!$A$8:$CG$171,37,FALSE)*$F15)","v":1.6518600000000001},{"$f":"IF($C15=\"\",\" \",VLOOKUP($C15,Futtermittel!$A$8:$CG$171,38,FALSE)*$F15)","v":1.5295000000000001},{"$f":"IF($C15=\"\",\" \",VLOOKUP($C15,Futtermittel!$A$8:$CG$171,39,FALSE)*$F15)","v":0.12236000000000001},{"$f":"IF($C15=\"\",\" \",VLOOKUP($C15,Futtermittel!$A$8:$CG$171,40,FALSE)*$F15)","v":0},{"$f":"IF($C15=\"\",\" \",VLOOKUP($C15,Futtermittel!$A$8:$CG$171,41,FALSE)*$F15)","v":0},{"$f":"IF($C15=\"\",\" \",VLOOKUP($C15,Futtermittel!$A$8:$CG$171,42,FALSE)*$F15)","v":0},{"$f":"IF($C15=\"\",\" \",VLOOKUP($C15,Futtermittel!$A$8:$CG$171,43,FALSE)*$F15)","v":57.359725638429197},{"$f":"IF($C15=\"\",\" \",VLOOKUP($C15,Futtermittel!$A$8:$CG$171,44,FALSE)*$F15)","v":221.57893657724583},{"$f":"IF($C15=\"\",\" \",VLOOKUP($C15,Futtermittel!$A$8:$CG$171,45,FALSE)*$F15)","v":27.73386},{"$f":"IF($C15=\"\",\" \",VLOOKUP($C15,Futtermittel!$A$8:$CG$171,54,FALSE)*$F15)","v":20.804963636363638},{"$f":"IF($C15=\"\",\" \",VLOOKUP($C15,Futtermittel!$A$8:$CG$171,53,FALSE)*$F15)","v":14.830399999999997},{"$f":"IF($C15=\"\",\" \",VLOOKUP($C15,Futtermittel!$A$8:$CG$171,46,FALSE)*$F15)","v":45.402000000000001},{"$f":"IF($C15=\"\",\" \",VLOOKUP($C15,Futtermittel!$A$8:$CG$171,56,FALSE)*$F15)","v":1.4070051606825067},{"$f":"IF($C15=\"\",\" \",VLOOKUP($C15,Futtermittel!$A$8:$CG$171,57,FALSE)*$F15)","v":1.4613810756791132},{"$f":"IF($C15=\"\",\" \",VLOOKUP($C15,Futtermittel!$A$8:$CG$171,28,FALSE)*$F15)","v":3.3243279999999999},{"$f":"IF($C15=\"\",\" \",VLOOKUP($C15,Futtermittel!$A$8:$CG$171,58,FALSE)*$F15)","v":0},{"$f":"IF($C15=\"\",\" \",VLOOKUP($C15,Futtermittel!$A$8:$CG$171,59,FALSE)*$F15)","v":0}]
[null,140,"Rapsöl / Pflanzenöl DLG 2014",null,97,1.55E-2,{"$f":"IF($C16=\"\",\" \",VLOOKUP(C16,Futtermittel!$A$8:$CG$171,29,FALSE)*$F16)","v":0},{"$f":"IF($C16=\"\",\" \",VLOOKUP(C16,Futtermittel!$A$8:$CG$171,30,FALSE)*$F16)","v":0},{"$f":"IF($C16=\"\",\" \",VLOOKUP(C16,Futtermittel!$A$8:$CG$171,31,FALSE)*$F16)","v":15.468999999999999},{"$f":"IF($C16=\"\",\" \",VLOOKUP(C16,Futtermittel!$A$8:$CG$171,32,FALSE)*$F16)","v":0},{"$f":"IF($C16=\"\",\" \",VLOOKUP(C16,Futtermittel!$A$8:$CG$171,33,FALSE)*$F16)","v":0},{"$f":"IF($C16=\"\",\" \",VLOOKUP(C16,Futtermittel!$A$8:$CG$171,34,FALSE)*$F16)","v":0},{"$f":"IF($C16=\"\",\" \",VLOOKUP(C16,Futtermittel!$A$8:$CG$171,36,FALSE)*$F16)","v":0},{"$f":"IF($C16=\"\",\" \",VLOOKUP($C16,Futtermittel!$A$8:$CG$171,37,FALSE)*$F16)","v":4.4794999999999998},{"$f":"IF($C16=\"\",\" \",VLOOKUP($C16,Futtermittel!$A$8:$CG$171,38,FALSE)*$F16)","v":3.0937999999999999},{"$f":"IF($C16=\"\",\" \",VLOOKUP($C16,Futtermittel!$A$8:$CG$171,39,FALSE)*$F16)","v":1.3922099999999999},{"$f":"IF($C16=\"\",\" \",VLOOKUP($C16,Futtermittel!$A$8:$CG$171,40,FALSE)*$F16)","v":0},{"$f":"IF($C16=\"\",\" \",VLOOKUP($C16,Futtermittel!$A$8:$CG$171,41,FALSE)*$F16)","v":0},{"$f":"IF($C16=\"\",\" \",VLOOKUP($C16,Futtermittel!$A$8:$CG$171,42,FALSE)*$F16)","v":0},{"$f":"IF($C16=\"\",\" \",VLOOKUP($C16,Futtermittel!$A$8:$CG$171,43,FALSE)*$F16)","v":0},{"$f":"IF($C16=\"\",\" \",VLOOKUP($C16,Futtermittel!$A$8:$CG$171,44,FALSE)*$F16)","v":0},{"$f":"IF($C16=\"\",\" \",VLOOKUP($C16,Futtermittel!$A$8:$CG$171,45,FALSE)*$F16)","v":0},{"$f":"IF($C16=\"\",\" \",VLOOKUP($C16,Futtermittel!$A$8:$CG$171,54,FALSE)*$F16)","v":0},{"$f":"IF($C16=\"\",\" \",VLOOKUP($C16,Futtermittel!$A$8:$CG$171,53,FALSE)*$F16)","v":0},{"$f":"IF($C16=\"\",\" \",VLOOKUP($C16,Futtermittel!$A$8:$CG$171,46,FALSE)*$F16)","v":0},{"$f":"IF($C16=\"\",\" \",VLOOKUP($C16,Futtermittel!$A$8:$CG$171,56,FALSE)*$F16)","v":0.46983824729053925},{"$f":"IF($C16=\"\",\" \",VLOOKUP($C16,Futtermittel!$A$8:$CG$171,57,FALSE)*$F16)","v":0.47500304601243615},{"$f":"IF($C16=\"\",\" \",VLOOKUP($C16,Futtermittel!$A$8:$CG$171,28,FALSE)*$F16)","v":0},{"$f":"IF($C16=\"\",\" \",VLOOKUP($C16,Futtermittel!$A$8:$CG$171,58,FALSE)*$F16)","v":0},{"$f":"IF($C16=\"\",\" \",VLOOKUP($C16,Futtermittel!$A$8:$CG$171,59,FALSE)*$F16)","v":0}]
[null," "," ",null," "," ",{"$f":"IF($C17=\"\",\" \",VLOOKUP(C17,Futtermittel!$A$8:$CG$171,29,FALSE)*$F17)","v":" "},{"$f":"IF($C17=\"\",\" \",VLOOKUP(C17,Futtermittel!$A$8:$CG$171,30,FALSE)*$F17)","v":" "},{"$f":"IF($C17=\"\",\" \",VLOOKUP(C17,Futtermittel!$A$8:$CG$171,31,FALSE)*$F17)","v":" "},{"$f":"IF($C17=\"\",\" \",VLOOKUP(C17,Futtermittel!$A$8:$CG$171,32,FALSE)*$F17)","v":" "},{"$f":"IF($C17=\"\",\" \",VLOOKUP(C17,Futtermittel!$A$8:$CG$171,33,FALSE)*$F17)","v":" "},{"$f":"IF($C17=\"\",\" \",VLOOKUP(C17,Futtermittel!$A$8:$CG$171,34,FALSE)*$F17)","v":" "},{"$f":"IF($C17=\"\",\" \",VLOOKUP(C17,Futtermittel!$A$8:$CG$171,36,FALSE)*$F17)","v":" "},{"$f":"IF($C17=\"\",\" \",VLOOKUP($C17,Futtermittel!$A$8:$CG$171,37,FALSE)*$F17)","v":" "},{"$f":"IF($C17=\"\",\" \",VLOOKUP($C17,Futtermittel!$A$8:$CG$171,38,FALSE)*$F17)","v":" "},{"$f":"IF($C17=\"\",\" \",VLOOKUP($C17,Futtermittel!$A$8:$CG$171,39,FALSE)*$F17)","v":" "},{"$f":"IF($C17=\"\",\" \",VLOOKUP($C17,Futtermittel!$A$8:$CG$171,40,FALSE)*$F17)","v":" "},{"$f":"IF($C17=\"\",\" \",VLOOKUP($C17,Futtermittel!$A$8:$CG$171,41,FALSE)*$F17)","v":" "},{"$f":"IF($C17=\"\",\" \",VLOOKUP($C17,Futtermittel!$A$8:$CG$171,42,FALSE)*$F17)","v":" "},{"$f":"IF($C17=\"\",\" \",VLOOKUP($C17,Futtermittel!$A$8:$CG$171,43,FALSE)*$F17)","v":" "},{"$f":"IF($C17=\"\",\" \",VLOOKUP($C17,Futtermittel!$A$8:$CG$171,44,FALSE)*$F17)","v":" "},{"$f":"IF($C17=\"\",\" \",VLOOKUP($C17,Futtermittel!$A$8:$CG$171,45,FALSE)*$F17)","v":" "},{"$f":"IF($C17=\"\",\" \",VLOOKUP($C17,Futtermittel!$A$8:$CG$171,54,FALSE)*$F17)","v":" "},{"$f":"IF($C17=\"\",\" \",VLOOKUP($C17,Futtermittel!$A$8:$CG$171,53,FALSE)*$F17)","v":" "},{"$f":"IF($C17=\"\",\" \",VLOOKUP($C17,Futtermittel!$A$8:$CG$171,46,FALSE)*$F17)","v":" "},{"$f":"IF($C17=\"\",\" \",VLOOKUP($C17,Futtermittel!$A$8:$CG$171,56,FALSE)*$F17)","v":" "},{"$f":"IF($C17=\"\",\" \",VLOOKUP($C17,Futtermittel!$A$8:$CG$171,57,FALSE)*$F17)","v":" "},{"$f":"IF($C17=\"\",\" \",VLOOKUP($C17,Futtermittel!$A$8:$CG$171,28,FALSE)*$F17)","v":" "},{"$f":"IF($C17=\"\",\" \",VLOOKUP($C17,Futtermittel!$A$8:$CG$171,58,FALSE)*$F17)","v":" "},{"$f":"IF($C17=\"\",\" \",VLOOKUP($C17,Futtermittel!$A$8:$CG$171,59,FALSE)*$F17)","v":" "}]
[null," "," ",null," "," ",{"$f":"IF($C18=\"\",\" \",VLOOKUP(C18,Futtermittel!$A$8:$CG$171,29,FALSE)*$F18)","v":" "},{"$f":"IF($C18=\"\",\" \",VLOOKUP(C18,Futtermittel!$A$8:$CG$171,30,FALSE)*$F18)","v":" "},{"$f":"IF($C18=\"\",\" \",VLOOKUP(C18,Futtermittel!$A$8:$CG$171,31,FALSE)*$F18)","v":" "},{"$f":"IF($C18=\"\",\" \",VLOOKUP(C18,Futtermittel!$A$8:$CG$171,32,FALSE)*$F18)","v":" "},{"$f":"IF($C18=\"\",\" \",VLOOKUP(C18,Futtermittel!$A$8:$CG$171,33,FALSE)*$F18)","v":" "},{"$f":"IF($C18=\"\",\" \",VLOOKUP(C18,Futtermittel!$A$8:$CG$171,34,FALSE)*$F18)","v":" "},{"$f":"IF($C18=\"\",\" \",VLOOKUP(C18,Futtermittel!$A$8:$CG$171,36,FALSE)*$F18)","v":" "},{"$f":"IF($C18=\"\",\" \",VLOOKUP($C18,Futtermittel!$A$8:$CG$171,37,FALSE)*$F18)","v":" "},{"$f":"IF($C18=\"\",\" \",VLOOKUP($C18,Futtermittel!$A$8:$CG$171,38,FALSE)*$F18)","v":" "},{"$f":"IF($C18=\"\",\" \",VLOOKUP($C18,Futtermittel!$A$8:$CG$171,39,FALSE)*$F18)","v":" "},{"$f":"IF($C18=\"\",\" \",VLOOKUP($C18,Futtermittel!$A$8:$CG$171,40,FALSE)*$F18)","v":" "},{"$f":"IF($C18=\"\",\" \",VLOOKUP($C18,Futtermittel!$A$8:$CG$171,41,FALSE)*$F18)","v":" "},{"$f":"IF($C18=\"\",\" \",VLOOKUP($C18,Futtermittel!$A$8:$CG$171,42,FALSE)*$F18)","v":" "},{"$f":"IF($C18=\"\",\" \",VLOOKUP($C18,Futtermittel!$A$8:$CG$171,43,FALSE)*$F18)","v":" "},{"$f":"IF($C18=\"\",\" \",VLOOKUP($C18,Futtermittel!$A$8:$CG$171,44,FALSE)*$F18)","v":" "},{"$f":"IF($C18=\"\",\" \",VLOOKUP($C18,Futtermittel!$A$8:$CG$171,45,FALSE)*$F18)","v":" "},{"$f":"IF($C18=\"\",\" \",VLOOKUP($C18,Futtermittel!$A$8:$CG$171,54,FALSE)*$F18)","v":" "},{"$f":"IF($C18=\"\",\" \",VLOOKUP($C18,Futtermittel!$A$8:$CG$171,53,FALSE)*$F18)","v":" "},{"$f":"IF($C18=\"\",\" \",VLOOKUP($C18,Futtermittel!$A$8:$CG$171,46,FALSE)*$F18)","v":" "},{"$f":"IF($C18=\"\",\" \",VLOOKUP($C18,Futtermittel!$A$8:$CG$171,56,FALSE)*$F18)","v":" "},{"$f":"IF($C18=\"\",\" \",VLOOKUP($C18,Futtermittel!$A$8:$CG$171,57,FALSE)*$F18)","v":" "},{"$f":"IF($C18=\"\",\" \",VLOOKUP($C18,Futtermittel!$A$8:$CG$171,28,FALSE)*$F18)","v":" "},{"$f":"IF($C18=\"\",\" \",VLOOKUP($C18,Futtermittel!$A$8:$CG$171,58,FALSE)*$F18)","v":" "},{"$f":"IF($C18=\"\",\" \",VLOOKUP($C18,Futtermittel!$A$8:$CG$171,59,FALSE)*$F18)","v":" "}]
[null," "," ",null," "," ",{"$f":"IF($C19=\"\",\" \",VLOOKUP(C19,Futtermittel!$A$8:$CG$171,29,FALSE)*$F19)","v":" "},{"$f":"IF($C19=\"\",\" \",VLOOKUP(C19,Futtermittel!$A$8:$CG$171,30,FALSE)*$F19)","v":" "},{"$f":"IF($C19=\"\",\" \",VLOOKUP(C19,Futtermittel!$A$8:$CG$171,31,FALSE)*$F19)","v":" "},{"$f":"IF($C19=\"\",\" \",VLOOKUP(C19,Futtermittel!$A$8:$CG$171,32,FALSE)*$F19)","v":" "},{"$f":"IF($C19=\"\",\" \",VLOOKUP(C19,Futtermittel!$A$8:$CG$171,33,FALSE)*$F19)","v":" "},{"$f":"IF($C19=\"\",\" \",VLOOKUP(C19,Futtermittel!$A$8:$CG$171,34,FALSE)*$F19)","v":" "},{"$f":"IF($C19=\"\",\" \",VLOOKUP(C19,Futtermittel!$A$8:$CG$171,36,FALSE)*$F19)","v":" "},{"$f":"IF($C19=\"\",\" \",VLOOKUP($C19,Futtermittel!$A$8:$CG$171,37,FALSE)*$F19)","v":" "},{"$f":"IF($C19=\"\",\" \",VLOOKUP($C19,Futtermittel!$A$8:$CG$171,38,FALSE)*$F19)","v":" "},{"$f":"IF($C19=\"\",\" \",VLOOKUP($C19,Futtermittel!$A$8:$CG$171,39,FALSE)*$F19)","v":" "},{"$f":"IF($C19=\"\",\" \",VLOOKUP($C19,Futtermittel!$A$8:$CG$171,40,FALSE)*$F19)","v":" "},{"$f":"IF($C19=\"\",\" \",VLOOKUP($C19,Futtermittel!$A$8:$CG$171,41,FALSE)*$F19)","v":" "},{"$f":"IF($C19=\"\",\" \",VLOOKUP($C19,Futtermittel!$A$8:$CG$171,42,FALSE)*$F19)","v":" "},{"$f":"IF($C19=\"\",\" \",VLOOKUP($C19,Futtermittel!$A$8:$CG$171,43,FALSE)*$F19)","v":" "},{"$f":"IF($C19=\"\",\" \",VLOOKUP($C19,Futtermittel!$A$8:$CG$171,44,FALSE)*$F19)","v":" "},{"$f":"IF($C19=\"\",\" \",VLOOKUP($C19,Futtermittel!$A$8:$CG$171,45,FALSE)*$F19)","v":" "},{"$f":"IF($C19=\"\",\" \",VLOOKUP($C19,Futtermittel!$A$8:$CG$171,54,FALSE)*$F19)","v":" "},{"$f":"IF($C19=\"\",\" \",VLOOKUP($C19,Futtermittel!$A$8:$CG$171,53,FALSE)*$F19)","v":" "},{"$f":"IF($C19=\"\",\" \",VLOOKUP($C19,Futtermittel!$A$8:$CG$171,46,FALSE)*$F19)","v":" "},{"$f":"IF($C19=\"\",\" \",VLOOKUP($C19,Futtermittel!$A$8:$CG$171,56,FALSE)*$F19)","v":" "},{"$f":"IF($C19=\"\",\" \",VLOOKUP($C19,Futtermittel!$A$8:$CG$171,57,FALSE)*$F19)","v":" "},{"$f":"IF($C19=\"\",\" \",VLOOKUP($C19,Futtermittel!$A$8:$CG$171,28,FALSE)*$F19)","v":" "},{"$f":"IF($C19=\"\",\" \",VLOOKUP($C19,Futtermittel!$A$8:$CG$171,58,FALSE)*$F19)","v":" "},{"$f":"IF($C19=\"\",\" \",VLOOKUP($C19,Futtermittel!$A$8:$CG$171,59,FALSE)*$F19)","v":" "}]
[null," "," ",null," "," ",{"$f":"IF($C20=\"\",\" \",VLOOKUP(C20,Futtermittel!$A$8:$CG$171,29,FALSE)*$F20)","v":" "},{"$f":"IF($C20=\"\",\" \",VLOOKUP(C20,Futtermittel!$A$8:$CG$171,30,FALSE)*$F20)","v":" "},{"$f":"IF($C20=\"\",\" \",VLOOKUP(C20,Futtermittel!$A$8:$CG$171,31,FALSE)*$F20)","v":" "},{"$f":"IF($C20=\"\",\" \",VLOOKUP(C20,Futtermittel!$A$8:$CG$171,32,FALSE)*$F20)","v":" "},{"$f":"IF($C20=\"\",\" \",VLOOKUP(C20,Futtermittel!$A$8:$CG$171,33,FALSE)*$F20)","v":" "},{"$f":"IF($C20=\"\",\" \",VLOOKUP(C20,Futtermittel!$A$8:$CG$171,34,FALSE)*$F20)","v":" "},{"$f":"IF($C20=\"\",\" \",VLOOKUP(C20,Futtermittel!$A$8:$CG$171,36,FALSE)*$F20)","v":" "},{"$f":"IF($C20=\"\",\" \",VLOOKUP($C20,Futtermittel!$A$8:$CG$171,37,FALSE)*$F20)","v":" "},{"$f":"IF($C20=\"\",\" \",VLOOKUP($C20,Futtermittel!$A$8:$CG$171,38,FALSE)*$F20)","v":" "},{"$f":"IF($C20=\"\",\" \",VLOOKUP($C20,Futtermittel!$A$8:$CG$171,39,FALSE)*$F20)","v":" "},{"$f":"IF($C20=\"\",\" \",VLOOKUP($C20,Futtermittel!$A$8:$CG$171,40,FALSE)*$F20)","v":" "},{"$f":"IF($C20=\"\",\" \",VLOOKUP($C20,Futtermittel!$A$8:$CG$171,41,FALSE)*$F20)","v":" "},{"$f":"IF($C20=\"\",\" \",VLOOKUP($C20,Futtermittel!$A$8:$CG$171,42,FALSE)*$F20)","v":" "},{"$f":"IF($C20=\"\",\" \",VLOOKUP($C20,Futtermittel!$A$8:$CG$171,43,FALSE)*$F20)","v":" "},{"$f":"IF($C20=\"\",\" \",VLOOKUP($C20,Futtermittel!$A$8:$CG$171,44,FALSE)*$F20)","v":" "},{"$f":"IF($C20=\"\",\" \",VLOOKUP($C20,Futtermittel!$A$8:$CG$171,45,FALSE)*$F20)","v":" "},{"$f":"IF($C20=\"\",\" \",VLOOKUP($C20,Futtermittel!$A$8:$CG$171,54,FALSE)*$F20)","v":" "},{"$f":"IF($C20=\"\",\" \",VLOOKUP($C20,Futtermittel!$A$8:$CG$171,53,FALSE)*$F20)","v":" "},{"$f":"IF($C20=\"\",\" \",VLOOKUP($C20,Futtermittel!$A$8:$CG$171,46,FALSE)*$F20)","v":" "},{"$f":"IF($C20=\"\",\" \",VLOOKUP($C20,Futtermittel!$A$8:$CG$171,56,FALSE)*$F20)","v":" "},{"$f":"IF($C20=\"\",\" \",VLOOKUP($C20,Futtermittel!$A$8:$CG$171,57,FALSE)*$F20)","v":" "},{"$f":"IF($C20=\"\",\" \",VLOOKUP($C20,Futtermittel!$A$8:$CG$171,28,FALSE)*$F20)","v":" "},{"$f":"IF($C20=\"\",\" \",VLOOKUP($C20,Futtermittel!$A$8:$CG$171,58,FALSE)*$F20)","v":" "},{"$f":"IF($C20=\"\",\" \",VLOOKUP($C20,Futtermittel!$A$8:$CG$171,59,FALSE)*$F20)","v":" "}]
[null,{"$f":"B21","v":" "}," ",null,{"$f":"IF(E21=\"\",\" \",E21)","v":" "},{"$f":"IF(F21=\"\",\" \",F21)","v":" "},{"$f":"IF($C21=\"\",\" \",VLOOKUP(C21,Futtermittel!$A$8:$CG$171,29,FALSE)*$F21)","v":" "},{"$f":"IF($C21=\"\",\" \",VLOOKUP(C21,Futtermittel!$A$8:$CG$171,30,FALSE)*$F21)","v":" "},{"$f":"IF($C21=\"\",\" \",VLOOKUP(C21,Futtermittel!$A$8:$CG$171,31,FALSE)*$F21)","v":" "},{"$f":"IF($C21=\"\",\" \",VLOOKUP(C21,Futtermittel!$A$8:$CG$171,32,FALSE)*$F21)","v":" "},{"$f":"IF($C21=\"\",\" \",VLOOKUP(C21,Futtermittel!$A$8:$CG$171,33,FALSE)*$F21)","v":" "},{"$f":"IF($C21=\"\",\" \",VLOOKUP(C21,Futtermittel!$A$8:$CG$171,34,FALSE)*$F21)","v":" "},{"$f":"IF($C21=\"\",\" \",VLOOKUP(C21,Futtermittel!$A$8:$CG$171,36,FALSE)*$F21)","v":" "},{"$f":"IF($C21=\"\",\" \",VLOOKUP($C21,Futtermittel!$A$8:$CG$171,37,FALSE)*$F21)","v":" "},{"$f":"IF($C21=\"\",\" \",VLOOKUP($C21,Futtermittel!$A$8:$CG$171,38,FALSE)*$F21)","v":" "},{"$f":"IF($C21=\"\",\" \",VLOOKUP($C21,Futtermittel!$A$8:$CG$171,39,FALSE)*$F21)","v":" "},{"$f":"IF($C21=\"\",\" \",VLOOKUP($C21,Futtermittel!$A$8:$CG$171,40,FALSE)*$F21)","v":" "},{"$f":"IF($C21=\"\",\" \",VLOOKUP($C21,Futtermittel!$A$8:$CG$171,41,FALSE)*$F21)","v":" "},{"$f":"IF($C21=\"\",\" \",VLOOKUP($C21,Futtermittel!$A$8:$CG$171,42,FALSE)*$F21)","v":" "},{"$f":"IF($C21=\"\",\" \",VLOOKUP($C21,Futtermittel!$A$8:$CG$171,43,FALSE)*$F21)","v":" "},{"$f":"IF($C21=\"\",\" \",VLOOKUP($C21,Futtermittel!$A$8:$CG$171,44,FALSE)*$F21)","v":" "},{"$f":"IF($C21=\"\",\" \",VLOOKUP($C21,Futtermittel!$A$8:$CG$171,45,FALSE)*$F21)","v":" "},{"$f":"IF($C21=\"\",\" \",VLOOKUP($C21,Futtermittel!$A$8:$CG$171,54,FALSE)*$F21)","v":" "},{"$f":"IF($C21=\"\",\" \",VLOOKUP($C21,Futtermittel!$A$8:$CG$171,53,FALSE)*$F21)","v":" "},{"$f":"IF($C21=\"\",\" \",VLOOKUP($C21,Futtermittel!$A$8:$CG$171,46,FALSE)*$F21)","v":" "},{"$f":"IF($C21=\"\",\" \",VLOOKUP($C21,Futtermittel!$A$8:$CG$171,56,FALSE)*$F21)","v":" "},{"$f":"IF($C21=\"\",\" \",VLOOKUP($C21,Futtermittel!$A$8:$CG$171,57,FALSE)*$F21)","v":" "},{"$f":"IF($C21=\"\",\" \",VLOOKUP($C21,Futtermittel!$A$8:$CG$171,28,FALSE)*$F21)","v":" "},{"$f":"IF($C21=\"\",\" \",VLOOKUP($C21,Futtermittel!$A$8:$CG$171,58,FALSE)*$F21)","v":" "},{"$f":"IF($C21=\"\",\" \",VLOOKUP($C21,Futtermittel!$A$8:$CG$171,59,FALSE)*$F21)","v":" "}]
[null," "," ",null," ",{"$f":"IF(F22=\"\",\" \",F22)","v":" "},{"$f":"IF($C22=\"\",\" \",VLOOKUP(C22,Futtermittel!$A$8:$CG$171,29,FALSE)*$F22)","v":" "},{"$f":"IF($C22=\"\",\" \",VLOOKUP(C22,Futtermittel!$A$8:$CG$171,30,FALSE)*$F22)","v":" "},{"$f":"IF($C22=\"\",\" \",VLOOKUP(C22,Futtermittel!$A$8:$CG$171,31,FALSE)*$F22)","v":" "},{"$f":"IF($C22=\"\",\" \",VLOOKUP(C22,Futtermittel!$A$8:$CG$171,32,FALSE)*$F22)","v":" "},{"$f":"IF($C22=\"\",\" \",VLOOKUP(C22,Futtermittel!$A$8:$CG$171,33,FALSE)*$F22)","v":" "},{"$f":"IF($C22=\"\",\" \",VLOOKUP(C22,Futtermittel!$A$8:$CG$171,34,FALSE)*$F22)","v":" "},{"$f":"IF($C22=\"\",\" \",VLOOKUP(C22,Futtermittel!$A$8:$CG$171,36,FALSE)*$F22)","v":" "},{"$f":"IF($C22=\"\",\" \",VLOOKUP($C22,Futtermittel!$A$8:$CG$171,37,FALSE)*$F22)","v":" "},{"$f":"IF($C22=\"\",\" \",VLOOKUP($C22,Futtermittel!$A$8:$CG$171,38,FALSE)*$F22)","v":" "},{"$f":"IF($C22=\"\",\" \",VLOOKUP($C22,Futtermittel!$A$8:$CG$171,39,FALSE)*$F22)","v":" "},{"$f":"IF($C22=\"\",\" \",VLOOKUP($C22,Futtermittel!$A$8:$CG$171,40,FALSE)*$F22)","v":" "},{"$f":"IF($C22=\"\",\" \",VLOOKUP($C22,Futtermittel!$A$8:$CG$171,41,FALSE)*$F22)","v":" "},{"$f":"IF($C22=\"\",\" \",VLOOKUP($C22,Futtermittel!$A$8:$CG$171,42,FALSE)*$F22)","v":" "},{"$f":"IF($C22=\"\",\" \",VLOOKUP($C22,Futtermittel!$A$8:$CG$171,43,FALSE)*$F22)","v":" "},{"$f":"IF($C22=\"\",\" \",VLOOKUP($C22,Futtermittel!$A$8:$CG$171,44,FALSE)*$F22)","v":" "},{"$f":"IF($C22=\"\",\" \",VLOOKUP($C22,Futtermittel!$A$8:$CG$171,45,FALSE)*$F22)","v":" "},{"$f":"IF($C22=\"\",\" \",VLOOKUP($C22,Futtermittel!$A$8:$CG$171,54,FALSE)*$F22)","v":" "},{"$f":"IF($C22=\"\",\" \",VLOOKUP($C22,Futtermittel!$A$8:$CG$171,53,FALSE)*$F22)","v":" "},{"$f":"IF($C22=\"\",\" \",VLOOKUP($C22,Futtermittel!$A$8:$CG$171,46,FALSE)*$F22)","v":" "},{"$f":"IF($C22=\"\",\" \",VLOOKUP($C22,Futtermittel!$A$8:$CG$171,56,FALSE)*$F22)","v":" "},{"$f":"IF($C22=\"\",\" \",VLOOKUP($C22,Futtermittel!$A$8:$CG$171,57,FALSE)*$F22)","v":" "},{"$f":"IF($C22=\"\",\" \",VLOOKUP($C22,Futtermittel!$A$8:$CG$171,28,FALSE)*$F22)","v":" "},{"$f":"IF($C22=\"\",\" \",VLOOKUP($C22,Futtermittel!$A$8:$CG$171,58,FALSE)*$F22)","v":" "},{"$f":"IF($C22=\"\",\" \",VLOOKUP($C22,Futtermittel!$A$8:$CG$171,59,FALSE)*$F22)","v":" "}]
[null," "," ",null," ",{"$f":"IF(F23=\"\",\" \",F23)","v":" "},{"$f":"IF($C23=\"\",\" \",VLOOKUP(C23,Futtermittel!$A$8:$CG$171,29,FALSE)*$F23)","v":" "},{"$f":"IF($C23=\"\",\" \",VLOOKUP(C23,Futtermittel!$A$8:$CG$171,30,FALSE)*$F23)","v":" "},{"$f":"IF($C23=\"\",\" \",VLOOKUP(C23,Futtermittel!$A$8:$CG$171,31,FALSE)*$F23)","v":" "},{"$f":"IF($C23=\"\",\" \",VLOOKUP(C23,Futtermittel!$A$8:$CG$171,32,FALSE)*$F23)","v":" "},{"$f":"IF($C23=\"\",\" \",VLOOKUP(C23,Futtermittel!$A$8:$CG$171,33,FALSE)*$F23)","v":" "},{"$f":"IF($C23=\"\",\" \",VLOOKUP(C23,Futtermittel!$A$8:$CG$171,34,FALSE)*$F23)","v":" "},{"$f":"IF($C23=\"\",\" \",VLOOKUP(C23,Futtermittel!$A$8:$CG$171,36,FALSE)*$F23)","v":" "},{"$f":"IF($C23=\"\",\" \",VLOOKUP($C23,Futtermittel!$A$8:$CG$171,37,FALSE)*$F23)","v":" "},{"$f":"IF($C23=\"\",\" \",VLOOKUP($C23,Futtermittel!$A$8:$CG$171,38,FALSE)*$F23)","v":" "},{"$f":"IF($C23=\"\",\" \",VLOOKUP($C23,Futtermittel!$A$8:$CG$171,39,FALSE)*$F23)","v":" "},{"$f":"IF($C23=\"\",\" \",VLOOKUP($C23,Futtermittel!$A$8:$CG$171,40,FALSE)*$F23)","v":" "},{"$f":"IF($C23=\"\",\" \",VLOOKUP($C23,Futtermittel!$A$8:$CG$171,41,FALSE)*$F23)","v":" "},{"$f":"IF($C23=\"\",\" \",VLOOKUP($C23,Futtermittel!$A$8:$CG$171,42,FALSE)*$F23)","v":" "},{"$f":"IF($C23=\"\",\" \",VLOOKUP($C23,Futtermittel!$A$8:$CG$171,43,FALSE)*$F23)","v":" "},{"$f":"IF($C23=\"\",\" \",VLOOKUP($C23,Futtermittel!$A$8:$CG$171,44,FALSE)*$F23)","v":" "},{"$f":"IF($C23=\"\",\" \",VLOOKUP($C23,Futtermittel!$A$8:$CG$171,45,FALSE)*$F23)","v":" "},{"$f":"IF($C23=\"\",\" \",VLOOKUP($C23,Futtermittel!$A$8:$CG$171,54,FALSE)*$F23)","v":" "},{"$f":"IF($C23=\"\",\" \",VLOOKUP($C23,Futtermittel!$A$8:$CG$171,53,FALSE)*$F23)","v":" "},{"$f":"IF($C23=\"\",\" \",VLOOKUP($C23,Futtermittel!$A$8:$CG$171,46,FALSE)*$F23)","v":" "},{"$f":"IF($C23=\"\",\" \",VLOOKUP($C23,Futtermittel!$A$8:$CG$171,56,FALSE)*$F23)","v":" "},{"$f":"IF($C23=\"\",\" \",VLOOKUP($C23,Futtermittel!$A$8:$CG$171,57,FALSE)*$F23)","v":" "},{"$f":"IF($C23=\"\",\" \",VLOOKUP($C23,Futtermittel!$A$8:$CG$171,28,FALSE)*$F23)","v":" "},{"$f":"IF($C23=\"\",\" \",VLOOKUP($C23,Futtermittel!$A$8:$CG$171,58,FALSE)*$F23)","v":" "},{"$f":"IF($C23=\"\",\" \",VLOOKUP($C23,Futtermittel!$A$8:$CG$171,59,FALSE)*$F23)","v":" "}]
[null,"EF-Nr.","Ergänzungsfutter ","VQ in %"]
[null," ",{"$f":"IF(C25=\"\",\" \",C25)","v":" "},0.85," "," ",{"$f":"IF($C25=\"\",\" \",VLOOKUP($C25,Ergänzungsfutter!$A$11:$BE$35,20,FALSE)*$F25)","v":" "},{"$f":"IF($C25=\"\",\" \",VLOOKUP($C25,Ergänzungsfutter!$A$11:$BE$35,20,FALSE)*$F25*D25)","v":" "},{"$f":"IF($C25=\"\",\" \",VLOOKUP($C25,Ergänzungsfutter!$A$11:$BE$35,21,FALSE)*$F25)","v":" "},{"$f":"IF($C25=\"\",\" \",VLOOKUP($C25,Ergänzungsfutter!$A$11:$BE$35,22,FALSE)*$F25)","v":" "},{"$f":"IF($C25=\"\",\" \",VLOOKUP($C25,Ergänzungsfutter!$A$11:$BE$35,23,FALSE)*$F25)","v":" "},{"$f":"IF($C25=\"\",\" \",VLOOKUP($C25,Ergänzungsfutter!$A$11:$BE$35,24,FALSE)*$F25)","v":" "},{"$f":"IF($C25=\"\",\" \",VLOOKUP($C25,Ergänzungsfutter!$A$11:$BE$35,24,FALSE)*$F25)","v":" "},{"$f":"IF($C25=\"\",\" \",VLOOKUP($C25,Ergänzungsfutter!$A$11:$BE$35,27,FALSE)*$F25)","v":" "},{"$f":"IF($C25=\"\",\" \",VLOOKUP($C25,Ergänzungsfutter!$A$11:$BE$35,28,FALSE)*$F25)","v":" "},{"$f":"IF($C25=\"\",\" \",VLOOKUP($C25,Ergänzungsfutter!$A$11:$BE$35,29,FALSE)*$F25)","v":" "},{"$f":"IF($C25=\"\",\" \",VLOOKUP($C25,Ergänzungsfutter!$A$11:$BE$35,30,FALSE)*$F25)","v":" "},{"$f":"IF($C25=\"\",\" \",VLOOKUP($C25,Ergänzungsfutter!$A$11:$BE$35,31,FALSE)*$F25)","v":" "},{"$f":"IF($C25=\"\",\" \",VLOOKUP($C25,Ergänzungsfutter!$A$11:$BE$35,32,FALSE)*$F25)","v":" "},{"$f":"IF($C25=\"\",\" \",VLOOKUP($C25,Ergänzungsfutter!$A$11:$BE$35,33,FALSE)*$F25)","v":" "},{"$f":"IF($C25=\"\",\" \",VLOOKUP($C25,Ergänzungsfutter!$A$11:$BE$35,34,FALSE)*$F25)","v":" "},{"$f":"IF($C25=\"\",\" \",VLOOKUP($C25,Ergänzungsfutter!$A$11:$BE$35,35,FALSE)*$F25)","v":" "},{"$f":"IF($C25=\"\",\" \",VLOOKUP($C25,Ergänzungsfutter!$A$11:$BE$35,36,FALSE)*$F25)","v":" "},{"$f":"IF($C25=\"\",\" \",VLOOKUP($C25,Ergänzungsfutter!$A$11:$BE$35,35,FALSE)*$F25)","v":" "},{"$f":"IF($C25=\"\",\" \",VLOOKUP($C25,Ergänzungsfutter!$A$11:$BE$35,37,FALSE)*$F25)","v":" "},{"$f":"IF($C25=\"\",\" \",VLOOKUP($C25,Ergänzungsfutter!$A$11:$BE$35,38,FALSE)*$F25)","v":" "},{"$f":"IF($C25=\"\",\" \",VLOOKUP($C25,Ergänzungsfutter!$A$11:$BE$35,39,FALSE)*$F25)","v":" "},{"$f":"IF($C25=\"\",\" \",VLOOKUP($C25,Ergänzungsfutter!$A$11:$BE$35,37,FALSE)*$F25)","v":" "},{"$f":"IF($C25=\"\",\" \",VLOOKUP($C25,Ergänzungsfutter!$A$11:$BE$35,40,FALSE)*$F25)","v":" "},{"$f":"IF($C25=\"\",\" \",VLOOKUP($C25,Ergänzungsfutter!$A$11:$BE$35,41,FALSE)*$F25)","v":" "}]
[null," ",{"$f":"IF(C26=\"\",\" \",C26)","v":" "}," "," "," ",{"$f":"IF($C26=\"\",\" \",VLOOKUP($C26,Ergänzungsfutter!$A$11:$BE$35,20,FALSE)*$F26)","v":" "},{"$f":"IF($C26=\"\",\" \",VLOOKUP($C26,Ergänzungsfutter!$A$11:$BE$35,20,FALSE)*$F26*D26)","v":" "},{"$f":"IF($C26=\"\",\" \",VLOOKUP($C26,Ergänzungsfutter!$A$11:$BE$35,21,FALSE)*$F26)","v":" "},{"$f":"IF($C26=\"\",\" \",VLOOKUP($C26,Ergänzungsfutter!$A$11:$BE$35,22,FALSE)*$F26)","v":" "},{"$f":"IF($C26=\"\",\" \",VLOOKUP($C26,Ergänzungsfutter!$A$11:$BE$35,23,FALSE)*$F26)","v":" "},{"$f":"IF($C26=\"\",\" \",VLOOKUP($C26,Ergänzungsfutter!$A$11:$BE$35,24,FALSE)*$F26)","v":" "},{"$f":"IF($C26=\"\",\" \",VLOOKUP($C26,Ergänzungsfutter!$A$11:$BE$35,24,FALSE)*$F26)","v":" "},{"$f":"IF($C26=\"\",\" \",VLOOKUP($C26,Ergänzungsfutter!$A$11:$BE$35,27,FALSE)*$F26)","v":" "},{"$f":"IF($C26=\"\",\" \",VLOOKUP($C26,Ergänzungsfutter!$A$11:$BE$35,28,FALSE)*$F26)","v":" "},{"$f":"IF($C26=\"\",\" \",VLOOKUP($C26,Ergänzungsfutter!$A$11:$BE$35,29,FALSE)*$F26)","v":" "},{"$f":"IF($C26=\"\",\" \",VLOOKUP($C26,Ergänzungsfutter!$A$11:$BE$35,30,FALSE)*$F26)","v":" "},{"$f":"IF($C26=\"\",\" \",VLOOKUP($C26,Ergänzungsfutter!$A$11:$BE$35,31,FALSE)*$F26)","v":" "},{"$f":"IF($C26=\"\",\" \",VLOOKUP($C26,Ergänzungsfutter!$A$11:$BE$35,32,FALSE)*$F26)","v":" "},{"$f":"IF($C26=\"\",\" \",VLOOKUP($C26,Ergänzungsfutter!$A$11:$BE$35,33,FALSE)*$F26)","v":" "},{"$f":"IF($C26=\"\",\" \",VLOOKUP($C26,Ergänzungsfutter!$A$11:$BE$35,34,FALSE)*$F26)","v":" "},{"$f":"IF($C26=\"\",\" \",VLOOKUP($C26,Ergänzungsfutter!$A$11:$BE$35,35,FALSE)*$F26)","v":" "},{"$f":"IF($C26=\"\",\" \",VLOOKUP($C26,Ergänzungsfutter!$A$11:$BE$35,36,FALSE)*$F26)","v":" "},{"$f":"IF($C26=\"\",\" \",VLOOKUP($C26,Ergänzungsfutter!$A$11:$BE$35,35,FALSE)*$F26)","v":" "},{"$f":"IF($C26=\"\",\" \",VLOOKUP($C26,Ergänzungsfutter!$A$11:$BE$35,37,FALSE)*$F26)","v":" "},{"$f":"IF($C26=\"\",\" \",VLOOKUP($C26,Ergänzungsfutter!$A$11:$BE$35,38,FALSE)*$F26)","v":" "},{"$f":"IF($C26=\"\",\" \",VLOOKUP($C26,Ergänzungsfutter!$A$11:$BE$35,39,FALSE)*$F26)","v":" "},{"$f":"IF($C26=\"\",\" \",VLOOKUP($C26,Ergänzungsfutter!$A$11:$BE$35,37,FALSE)*$F26)","v":" "},{"$f":"IF($C26=\"\",\" \",VLOOKUP($C26,Ergänzungsfutter!$A$11:$BE$35,40,FALSE)*$F26)","v":" "},{"$f":"IF($C26=\"\",\" \",VLOOKUP($C26,Ergänzungsfutter!$A$11:$BE$35,41,FALSE)*$F26)","v":" "}]
[null,"Nr.","Mineralfutter"]
[null,{"$f":"B28","v":5},{"$f":"IF(C28=\"\",\" \",C28)","v":"Opti. MinFu VM 850g TZ 3,5% + Phytase 17/18"},null,{"$f":"IF(E28=\"\",\" \",E28)","v":84},{"$f":"IF(F28=\"\",\" \",F28)","v":3.5000000000000003E-2},{"$f":"IF($C28=\"\",\" \",VLOOKUP($C28,Mineralfutter!$A$11:$BE$25,10,FALSE)*$F28)","v":1.2250000000000001},{"$f":"IF($C28=\"\",\" \",VLOOKUP($C28,Mineralfutter!$A$11:$BE$25,10,FALSE)*$F28)","v":1.2250000000000001},{"$f":"IF($C28=\"\",\" \",VLOOKUP($C28,Mineralfutter!$A$11:$BE$25,21,FALSE)*$F28)","v":0},{"$f":"IF($C28=\"\",\" \",VLOOKUP($C28,Mineralfutter!$A$11:$BE$25,22,FALSE)*$F28)","v":0},{"$f":"IF($C28=\"\",\" \",VLOOKUP($C28,Mineralfutter!$A$11:$BE$25,23,FALSE)*$F28)","v":0},{"$f":"IF($C28=\"\",\" \",VLOOKUP($C28,Mineralfutter!$A$11:$BE$25,24,FALSE)*$F28)","v":22.750000000000004},null,{"$f":"IF($C28=\"\",\" \",VLOOKUP($C28,Mineralfutter!$A$11:$BE$25,27,FALSE)*$F28)","v":0},{"$f":"IF($C28=\"\",\" \",VLOOKUP($C28,Mineralfutter!$A$11:$BE$25,28,FALSE)*$F28)","v":0},{"$f":"IF($C28=\"\",\" \",VLOOKUP($C28,Mineralfutter!$A$11:$BE$25,29,FALSE)*$F28)","v":0},{"$f":"IF($C28=\"\",\" \",VLOOKUP($C28,Mineralfutter!$A$11:$BE$25,30,FALSE)*$F28)","v":6055.0000000000009},{"$f":"IF($C28=\"\",\" \",VLOOKUP($C28,Mineralfutter!$A$11:$BE$25,31,FALSE)*$F28)","v":1513.7500000000002},{"$f":"IF($C28=\"\",\" \",VLOOKUP($C28,Mineralfutter!$A$11:$BE$25,32,FALSE)*$F28)","v":61.250000000000007},{"$f":"IF($C28=\"\",\" \",VLOOKUP($C28,Mineralfutter!$A$11:$BE$25,33,FALSE)*$F28)","v":274.99835211267606},{"$f":"IF($C28=\"\",\" \",VLOOKUP($C28,Mineralfutter!$A$11:$BE$25,34,FALSE)*$F28)","v":130.16117005217006},null,null,null,null,{"$f":"IF($C28=\"\",\" \",VLOOKUP($C28,Mineralfutter!$A$11:$BE$25,35,FALSE)*$F28)","v":0.1111054736929737},{"$f":"IF($C28=\"\",\" \",VLOOKUP($C28,Mineralfutter!$A$11:$BE$25,36,FALSE)*$F28)","v":0.11245741341991343},{"$f":"IF($C28=\"\",\" \",VLOOKUP($C28,Mineralfutter!$A$11:$BE$25,37,FALSE)*$F28)","v":0},{"$f":"IF($C28=\"\",\" \",VLOOKUP($C28,Mineralfutter!$A$11:$BE$25,37,FALSE)*$F28)","v":0},{"$f":"IF($C28=\"\",\" \",VLOOKUP($C28,Mineralfutter!$A$11:$BE$25,38,FALSE)*$F28)","v":0}]
[null,{"$f":"B29","v":" "},{"$f":"IF(C29=\"\",\" \",C29)","v":" "},null,{"$f":"IF(E29=\"\",\" \",E29)","v":" "},{"$f":"IF(F29=\"\",\" \",F29)","v":" "},{"$f":"IF($C29=\"\",\" \",VLOOKUP($C29,Mineralfutter!$A$11:$BE$25,10,FALSE)*$F29)","v":" "},{"$f":"IF($C29=\"\",\" \",VLOOKUP($C29,Mineralfutter!$A$11:$BE$25,10,FALSE)*$F29)","v":" "},{"$f":"IF($C29=\"\",\" \",VLOOKUP($C29,Mineralfutter!$A$11:$BE$25,21,FALSE)*$F29)","v":" "},{"$f":"IF($C29=\"\",\" \",VLOOKUP($C29,Mineralfutter!$A$11:$BE$25,22,FALSE)*$F29)","v":" "},{"$f":"IF($C29=\"\",\" \",VLOOKUP($C29,Mineralfutter!$A$11:$BE$25,23,FALSE)*$F29)","v":" "},{"$f":"IF($C29=\"\",\" \",VLOOKUP($C29,Mineralfutter!$A$11:$BE$25,24,FALSE)*$F29)","v":" "},null,{"$f":"IF($C29=\"\",\" \",VLOOKUP($C29,Mineralfutter!$A$11:$BE$25,27,FALSE)*$F29)","v":" "},{"$f":"IF($C29=\"\",\" \",VLOOKUP($C29,Mineralfutter!$A$11:$BE$25,28,FALSE)*$F29)","v":" "},{"$f":"IF($C29=\"\",\" \",VLOOKUP($C29,Mineralfutter!$A$11:$BE$25,29,FALSE)*$F29)","v":" "},{"$f":"IF($C29=\"\",\" \",VLOOKUP($C29,Mineralfutter!$A$11:$BE$25,30,FALSE)*$F29)","v":" "},{"$f":"IF($C29=\"\",\" \",VLOOKUP($C29,Mineralfutter!$A$11:$BE$25,31,FALSE)*$F29)","v":" "},{"$f":"IF($C29=\"\",\" \",VLOOKUP($C29,Mineralfutter!$A$11:$BE$25,32,FALSE)*$F29)","v":" "},{"$f":"IF($C29=\"\",\" \",VLOOKUP($C29,Mineralfutter!$A$11:$BE$25,33,FALSE)*$F29)","v":" "},{"$f":"IF($C29=\"\",\" \",VLOOKUP($C29,Mineralfutter!$A$11:$BE$25,34,FALSE)*$F29)","v":" "},null,null,null,null,{"$f":"IF($C29=\"\",\" \",VLOOKUP($C29,Mineralfutter!$A$11:$BE$25,35,FALSE)*$F29)","v":" "},{"$f":"IF($C29=\"\",\" \",VLOOKUP($C29,Mineralfutter!$A$11:$BE$25,36,FALSE)*$F29)","v":" "},{"$f":"IF($C29=\"\",\" \",VLOOKUP($C29,Mineralfutter!$A$11:$BE$25,37,FALSE)*$F29)","v":" "},{"$f":"IF($C29=\"\",\" \",VLOOKUP($C29,Mineralfutter!$A$11:$BE$25,37,FALSE)*$F29)","v":" "},{"$f":"IF($C29=\"\",\" \",VLOOKUP($C29,Mineralfutter!$A$11:$BE$25,38,FALSE)*$F29)","v":" "}]
[null,null,"Summe",null,{"$f":"AC30","v":24.039670000000001},{"$f":"IF(SUM(F13:F29,F36:F37)=0,\" \",SUM(F13:F29,F36:F37))","v":1},{"$f":"IF(F30=\" \",\" \",SUM(G46:G62,Q36*$F36,Q37*$F37*0.525))","v":3.1985030136363637},{"$f":"IF(F30=\" \",\" \",SUM(H46:H62,R36*$F36,R37*$F37*0.525))","v":2.9426131520000003},{"$f":"IF(F30=\" \",\" \",SUM(I46:I62))","v":33.985410000000002},{"$f":"IF(F30=\" \",\" \",SUM(J46:J62))","v":454.68309999999997},{"$f":"IF(F30=\" \",\" \",SUM(K46:K62))","v":35.478999999999999},{"$f":"IF(F30=\" \",\" \",SUM(L46:L62,F36*650))","v":48.376100000000008},{"$f":"IF(G30=\" \",\" \",SUM(M46:M62))","v":148.58910499999999},{"$f":"IF(F30=\" \",\" \",SUM(N46:N62))","v":15.736843620689653},{"$f":"IF(F30=\" \",\" \",SUM(O46:O62))","v":13.454147844827586},{"$f":"IF(F30=\" \",\" \",SUM(P46:P62))","v":2.2892057758620687},{"$f":"IF(F30=\" \",\" \",SUM(Q46:Q62))","v":6055.0000000000009},{"$f":"IF(F30=\" \",\" \",SUM(R46:R62))","v":1513.7500000000002},{"$f":"IF(F30=\" \",\" \",SUM(S46:S62))","v":61.250000000000007},{"$f":"IF(F30=\" \",\" \",SUM(T46:T62))","v":307.89553026834665},{"$f":"IF(F30=\" \",\" \",SUM(U46:U62))","v":597.69503162941589},{"$f":"IF(F30=\" \",\" \",SUM(V46:V62))","v":78.904544250000015},{"$f":"IF(H30=\" \",\" \",SUM(W46:W62))","v":205.64120758808781},{"$f":"IF(I30=\" \",\" \",SUM(X46:X62))","v":46.717970011494252},{"$f":"IF(H30=\" \",\" \",SUM(Y46:Y62))","v":603.2722050000001},{"$f":"IF(K30=\" \",\" \",SUM(Z46:Z62))","v":9.3128168741874013},{"$f":"IF(J30=\" \",\" \",SUM(AA46:AA62))","v":9.5949990946010981},{"$f":"IF(AA30=\" \",\" \",SUM(AB46:AB62,AK36*$F36,AK37*$F37*0.525))","v":6.4706279999999996},{"$f":"IF(N30=\" \",\" \",SUM(AC46:AC62))","v":0},{"$f":"IF(M30=\" \",\" \",SUM(AD46:AD62))","v":0}]
[null,null,"Summe auf 88% TM umgerechnet",null,{"$f":"AC31","v":23.870016569732506},{"$f":"F30","v":1},{"$f":"IF($F31=\" \",\" \",ROUND($I31*G63/$I30*$F31,1))","v":3.2},{"$f":"IF($F31=\" \",\" \",ROUND($I31*H63/$I30*$F31,1))","v":2.9},{"$f":"IF($F31=\" \",\" \",ROUND($I31*I63/$I30*$F31,0))","v":34},{"$f":"IF($F31=\" \",\" \",ROUND($I31*J63/$I30*$F31,0))","v":451},{"$f":"IF($F31=\" \",\" \",ROUND($I31*K63/$I30*$F31,0))","v":35},{"$f":"IF($F31=\" \",\" \",ROUND($I31*L63/$I30*$F31,0))","v":48},{"$f":"IF($F31=\" \",\" \",ROUND($I31*M63/$I30*$F31,0))","v":148},{"$f":"IF($F31=\" \",\" \",ROUND($I31*N63/$I30*$F31,1))","v":15.6},{"$f":"IF($F31=\" \",\" \",ROUND($I31*O63/$I30*$F31,1))","v":13.4},{"$f":"IF($F31=\" \",\" \",ROUND($I31*P63/$I30*$F31,1))","v":2.2999999999999998},{"$f":"IF($F31=\" \",\" \",ROUND($I31*Q63/$I30*$F31,0))","v":6012},{"$f":"IF($F31=\" \",\" \",ROUND($I31*R63/$I30*$F31,0))","v":1503},{"$f":"IF($F31=\" \",\" \",ROUND($I31*S63/$I30*$F31,0))","v":61},{"$f":"IF($F31=\" \",\" \",ROUND($I31*T63/$I30*$F31,0))","v":306},{"$f":"IF($F31=\" \",\" \",ROUND($I31*U63/$I30*$F31,0))","v":593},{"$f":"IF($F31=\" \",\" \",ROUND($I31*V63/$I30*$F31,1))","v":78.3},204.2,46.4,{"$f":"IF($F31=\" \",\" \",ROUND($I31*Y63/$I30*$F31,1))","v":599},9.1999999999999993,9.5,{"$f":"IF($F31=\" \",\" \",ROUND($I31*AB63/$I30*$F31,1))","v":6.4},{"$f":"IF($F31=\" \",\" \",ROUND($I31*AC63/$I30*$F31,2))","v":0},{"$f":"IF($F31=\" \",\" \",ROUND($I31*AD63/$I30*$F31,2))","v":0}]
[null,"OW-Nr.","aus Tabelle Orientierungswerte in g"]
[null,{"$f":"B33","v":10},{"$f":"IF(C33=\"\",\" \",C33)","v":"Vormast 28 - 40 Kg LM für 850 g TZ*"},null,"-",{"$f":"F30","v":1},{"$f":"IF($C33=\"\",\" \",ROUND(VLOOKUP($C$33,Orientierungswerte!$A$13:$AZ$126,30,FALSE)*$F$33,1))","v":3.2},{"$f":"IF($C33=\"\",\" \",ROUND(VLOOKUP($C$33,Orientierungswerte!$A$13:$AZ$126,31,FALSE)*$F$33,1))","v":2.9},{"$f":"IF($C33=\"\",\" \",ROUND(VLOOKUP($C$33,Orientierungswerte!$A$13:$AZ$126,33,FALSE)*$F$33,0))","v":0},{"$f":"IF($C33=\"\",\" \",ROUND(VLOOKUP($C$33,Orientierungswerte!$A$13:$AZ$126,34,FALSE)*$F$33,0))","v":0},{"$f":"IF($C33=\"\",\" \",ROUND(VLOOKUP($C$33,Orientierungswerte!$A$13:$AZ$126,35,FALSE)*$F$33,0))","v":0},{"$f":"IF($C33=\"\",\" \",ROUND(VLOOKUP($C$33,Orientierungswerte!$A$13:$AZ$126,36,FALSE)*$F$33,0))","v":0},{"$f":"IF($C33=\"\",\" \",ROUND(VLOOKUP($C$33,Orientierungswerte!$A$13:$AZ$126,36,FALSE)*$F$33,0))","v":0},{"$f":"IF($C33=\"\",\" \",ROUND(VLOOKUP($C$33,Orientierungswerte!$A$13:$AZ$126,37,FALSE)*$F$33,1))","v":18},{"$f":"IF($C33=\"\",\" \",ROUND(VLOOKUP($C$33,Orientierungswerte!$A$13:$AZ$126,38,FALSE)*$F$33,1))","v":10},{"$f":"IF($C33=\"\",\" \",ROUND(VLOOKUP($C$33,Orientierungswerte!$A$13:$AZ$126,39,FALSE)*$F$33,1))","v":0},{"$f":"IF($C33=\"\",\" \",ROUND(VLOOKUP($C$33,Orientierungswerte!$A$13:$AZ$126,40,FALSE)*$F$33,0))","v":6000},{"$f":"IF($C33=\"\",\" \",ROUND(VLOOKUP($C$33,Orientierungswerte!$A$13:$AZ$126,41,FALSE)*$F$33,0))","v":1500},{"$f":"IF($C33=\"\",\" \",ROUND(VLOOKUP($C$33,Orientierungswerte!$A$13:$AZ$126,42,FALSE)*$F$33,0))","v":60},{"$f":"IF($C33=\"\",\" \",ROUND(VLOOKUP($C$33,Orientierungswerte!$A$13:$AZ$126,43,FALSE)*$F$33,1))","v":0},{"$f":"IF($C33=\"\",\" \",ROUND(VLOOKUP($C$33,Orientierungswerte!$A$13:$AZ$126,44,FALSE)*$F$33,1))","v":0},{"$f":"IF($C33=\"\",\" \",ROUND(VLOOKUP($C$33,Orientierungswerte!$A$13:$AZ$126,47,FALSE)*$F$33,1))","v":0},{"$f":"IF($C33=\"\",\" \",ROUND(VLOOKUP($C$33,Orientierungswerte!$A$13:$AZ$126,46,FALSE)*$F$33,1))","v":120},{"$f":"IF($C33=\"\",\" \",ROUND(VLOOKUP($C$33,Orientierungswerte!$A$13:$AZ$126,45,FALSE)*$F$33,1))","v":70},{"$f":"IF($C33=\"\",\" \",ROUND(VLOOKUP($C$33,Orientierungswerte!$A$13:$AZ$126,49,FALSE)*$F$33,1))","v":0},{"$f":"IF($C33=\"\",\" \",ROUND(VLOOKUP($C$33,Orientierungswerte!$A$13:$AZ$126,48,FALSE)*$F$33,1))","v":9.9},{"$f":"IF($C33=\"\",\" \",ROUND(VLOOKUP($C$33,Orientierungswerte!$A$13:$AZ$126,49,FALSE)*$F$33,1))","v":0},null,{"$f":"IF($C33=\"\",\" \",ROUND(VLOOKUP($C$33,Orientierungswerte!$A$13:$AZ$126,50,FALSE)*$F$33,2))","v":1},{"$f":"IF($C33=\"\",\" \",ROUND(VLOOKUP($C$33,Orientierungswerte!$A$13:$AZ$126,51,FALSE)*$F$33,2))","v":0.25}]
[null,null,"Differenz Mischung zu Orientierungswert",null,"-",{"$f":"IF($C$33=\"\",\" \",ROUND((1-F31)*-1,4))","v":0},{"$f":"IF($C$33=\"\",\" \",ROUND(G64-G66,1))","v":0},{"$f":"IF($C$33=\"\",\" \",ROUND(H64-H66,1))","v":0},{"$f":"IF($C$33=\"\",\" \",ROUND(I64-I66,0))","v":34},{"$f":"IF($C$33=\"\",\" \",ROUND(J64-J66,0))","v":451},{"$f":"IF($C$33=\"\",\" \",ROUND(K64-K66,0))","v":35},{"$f":"IF($C$33=\"\",\" \",ROUND(L64-L66,0))","v":48},{"$f":"IF($C$33=\"\",\" \",ROUND(M64-M66,0))","v":148},{"$f":"IF($C$33=\"\",\" \",ROUND(N64-N66,1))","v":-2.4},{"$f":"IF($C$33=\"\",\" \",ROUND(O64-O66,1))","v":3.4},{"$f":"IF($C$33=\"\",\" \",ROUND(P64-P66,1))","v":2.2999999999999998},{"$f":"IF($C$33=\"\",\" \",ROUND(Q64-Q66,0))","v":12},3,1,306,593,78,{"$f":"IF($C$33=\"\",\" \",ROUND(W64-W66,0))","v":84},{"$f":"IF($C$33=\"\",\" \",ROUND(X64-X66,0))","v":-24},{"$f":"IF($C$33=\"\",\" \",ROUND(Y64-Y66,0))","v":599},{"$f":"IF($C$33=\"\",\" \",Z64-Z66)","v":-0.70000000000000107},{"$f":"IF($C$33=\"\",\" \",AA64-AA66)","v":9.5},{"$f":"IF($C$33=\"\",\" \",ROUND(AB64-AB66,1))","v":6.4},{"$f":"IF($C$33=\"\",\" \",ROUND(AC64-AC66,2))","v":-1},{"$f":"IF($C$33=\"\",\" \",ROUND(AD64-AD66,2))","v":-0.25}]

{"sheet":"Ausdruck","index":3,"n_rows":67,"n_cols":13,"rows_kept":67,"cut":false,"hidden":false,"merged":[[9,2,9,6],[9,7,9,11],[56,1,56,2],[13,7,13,10],[11,2,11,11],[10,2,10,6],[10,7,10,12]]}
[]
[]
[]
[]
[]
[]
[]
[]
[null,null,null,null,null,null,null,null,null,null,null,"Datum:",{"$f":"Futterberechnung!$Z$5","v":"2018-08-01"}]
[null,"Betrieb:",{"$f":"Futterberechnung!H5","v":"Mustermann"}]
[null,"Futtermischung für:",{"$f":"IF(Futterberechnung!H7=\"\",\"\",Futterberechnung!H7)","v":"Vormast 28 - 40 Kg LM für 850 g TZ* "},null,null,null,null,{"$f":"IF(Futterberechnung!P7=\"\",\"\",Futterberechnung!P7)","v":"Getreide = Richtpreise Ernte 2017/18"}]
[null,null,{"$f":"Futterberechnung!J8","v":""}]
[]
[null,"Futtermittel","Preis / dt","Anteile                       in % FM","Anteile                       bei 88% TM","in Mischer",null,"Inhaltsstoffe                                                                       in 1 kg Futtermittel",null,null,null,"Soll","Differenz"]
[null,{"$f":"IF(Futterberechnung!C13=\"\",\"\",Futterberechnung!C13)","v":"eigener Weizen 10% RP Ø 2018"},{"$f":"IF(Futterberechnung!E13=\"\",\"\",Futterberechnung!E13)","v":17.420000000000002},{"$f":"IF(Futterberechnung!F13=\"\",\"\",Futterberechnung!F13)","v":0.53849999999999998},{"$f":"IF(Futterberechnung!G13=\"\",\"\",Futterberechnung!G13)","v":0.53469968276606772},{"$f":"IF(Futterberechnung!H13=\"\",\"\",Futterberechnung!H13)","v":538.5},null,null,"in","in der FM","in 88% TM","in 88% TM"]
[null,{"$f":"IF(Futterberechnung!C14=\"\",\"\",Futterberechnung!C14)","v":"eigene Gerste 10% RP Ø 2018"},{"$f":"IF(Futterberechnung!E14=\"\",\"\",Futterberechnung!E14)","v":16.39},{"$f":"IF(Futterberechnung!F14=\"\",\"\",Futterberechnung!F14)","v":0.25},{"$f":"IF(Futterberechnung!G14=\"\",\"\",Futterberechnung!G14)","v":0.24823569302045856},{"$f":"IF(Futterberechnung!H14=\"\",\"\",Futterberechnung!H14)","v":250},null,"TM","g",{"$f":"IF(Futterberechnung!I30=\"\",\"\",Futterberechnung!I30)","v":886.25450000000001},{"$f":"IF(Futterberechnung!I31=\"\",\"\",Futterberechnung!I31)","v":880}]
[null,{"$f":"IF(Futterberechnung!C15=\"\",\"\",Futterberechnung!C15)","v":"Sojaschrot HP 47% RP "},{"$f":"IF(Futterberechnung!E15=\"\",\"\",Futterberechnung!E15)","v":38},{"$f":"IF(Futterberechnung!F15=\"\",\"\",Futterberechnung!F15)","v":0.161},{"$f":"IF(Futterberechnung!G15=\"\",\"\",Futterberechnung!G15)","v":0.16168042024046139},{"$f":"IF(Futterberechnung!H15=\"\",\"\",Futterberechnung!H15)","v":161},null,"MES EFF*","MJ",{"$f":"IF(Futterberechnung!$M$30=\"\",\"\",Futterberechnung!$M$30)","v":13.443270206663836},{"$f":"IF(Futterberechnung!$M$31=\"\",\"\",Futterberechnung!$M$31)","v":13.35},{"$f":"IF(Futterberechnung!$M$33=\"\",\"\",Futterberechnung!$M$33)","v":13.4},{"$f":"IF(Futterberechnung!$M$34=\"\",\"\",Futterberechnung!$M$34)","v":-0.05}]
[null,{"$f":"IF(Futterberechnung!C16=\"\",\"\",Futterberechnung!C16)","v":"Rapsöl / Pflanzenöl DLG 2014"},{"$f":"IF(Futterberechnung!E16=\"\",\"\",Futterberechnung!E16)","v":97},{"$f":"IF(Futterberechnung!F16=\"\",\"\",Futterberechnung!F16)","v":1.55E-2},{"$f":"IF(Futterberechnung!G16=\"\",\"\",Futterberechnung!G16)","v":1.7471843584433142E-2},{"$f":"IF(Futterberechnung!H16=\"\",\"\",Futterberechnung!H16)","v":15.5},null,"MES MFF*","MJ",{"$f":"IF(Futterberechnung!$N$30=\"\",\"\",Futterberechnung!$N$30)","v":13.381404933797725},{"$f":"IF(Futterberechnung!$N$31=\"\",\"\",Futterberechnung!$N$31)","v":13.29},{"$f":"IF(Futterberechnung!$N$33=\"\",\"\",Futterberechnung!$N$33)","v":13.4},{"$f":"IF(Futterberechnung!$N$34=\"\",\"\",Futterberechnung!$N$34)","v":-0.11}]
[null,{"$f":"IF(Futterberechnung!C17=\"\",\"\",Futterberechnung!C17)","v":""},{"$f":"IF(Futterberechnung!E17=\"\",\"\",Futterberechnung!E17)","v":""},{"$f":"IF(Futterberechnung!F17=\"\",\"\",Futterberechnung!F17)","v":""},{"$f":"IF(Futterberechnung!G17=\"\",\"\",Futterberechnung!G17)","v":""},{"$f":"IF(Futterberechnung!H17=\"\",\"\",Futterberechnung!H17)","v":" "},null,"Rohprotein (XP)","g",{"$f":"IF(Futterberechnung!$J$30=\"\",\"\",Futterberechnung!$J$30)","v":160.23640802086805},{"$f":"IF(Futterberechnung!$J$31=\"\",\"\",Futterberechnung!$J$31)","v":159},{"$f":"IF(Futterberechnung!$J$33=\"\",\"\",Futterberechnung!$J$33)","v":170},{"$f":"IF(Futterberechnung!$J$34=\"\",\"\",Futterberechnung!$J$34)","v":-11}]
[null,{"$f":"IF(Futterberechnung!C18=\"\",\"\",Futterberechnung!C18)","v":""},{"$f":"IF(Futterberechnung!E18=\"\",\"\",Futterberechnung!E18)","v":""},{"$f":"IF(Futterberechnung!F18=\"\",\"\",Futterberechnung!F18)","v":""},{"$f":"IF(Futterberechnung!G18=\"\",\"\",Futterberechnung!G18)","v":""},{"$f":"IF(Futterberechnung!H18=\"\",\"\",Futterberechnung!H18)","v":" "},null,"Lys","g",{"$f":"IF(Futterberechnung!$O$30=\"\",\"\",Futterberechnung!$O$30)","v":11.180166118181818},{"$f":"IF(Futterberechnung!$O$31=\"\",\"\",Futterberechnung!$O$31)","v":11.1},{"$f":"IF(Futterberechnung!$O$33=\"\",\"\",Futterberechnung!$O$33)","v":11.4},{"$f":"IF(Futterberechnung!$O$34=\"\",\"\",Futterberechnung!$O$34)","v":-0.3}]
[null,{"$f":"IF(Futterberechnung!C19=\"\",\"\",Futterberechnung!C19)","v":""},{"$f":"IF(Futterberechnung!E19=\"\",\"\",Futterberechnung!E19)","v":""},{"$f":"IF(Futterberechnung!F19=\"\",\"\",Futterberechnung!F19)","v":""},{"$f":"IF(Futterberechnung!G19=\"\",\"\",Futterberechnung!G19)","v":""},{"$f":"IF(Futterberechnung!H19=\"\",\"\",Futterberechnung!H19)","v":" "},null,"pcv Lys","g",{"$f":"IF(Futterberechnung!$P$30=\"\",\"\",Futterberechnung!$P$30)","v":10.153632130818181},{"$f":"IF(Futterberechnung!$P$31=\"\",\"\",Futterberechnung!$P$31)","v":10.1},{"$f":"IF(Futterberechnung!$P$33=\"\",\"\",Futterberechnung!$P$33)","v":10.199999999999999},{"$f":"IF(Futterberechnung!$P$34=\"\",\"\",Futterberechnung!$P$34)","v":-0.1}]
[null,{"$f":"IF(Futterberechnung!C20=\"\",\"\",Futterberechnung!C20)","v":""},{"$f":"IF(Futterberechnung!E20=\"\",\"\",Futterberechnung!E20)","v":""},{"$f":"IF(Futterberechnung!F20=\"\",\"\",Futterberechnung!F20)","v":""},{"$f":"IF(Futterberechnung!G20=\"\",\"\",Futterberechnung!G20)","v":""},{"$f":"IF(Futterberechnung!H20=\"\",\"\",Futterberechnung!H20)","v":" "},null,"Met","g",{"$f":"IF(Futterberechnung!$G$63=\"\",\"\",Futterberechnung!$G$63)","v":3.1985030136363637},{"$f":"IF(Futterberechnung!$G$64=\"\",\"\",Futterberechnung!$G$64)","v":3.2},{"$f":"IF(Futterberechnung!$G$66=\"\",\"\",Futterberechnung!$G$66)","v":3.2},{"$f":"IF(Futterberechnung!$G67=\"\",\"\",Futterberechnung!$G$67)","v":0}]
[null,{"$f":"IF(Futterberechnung!C21=\"\",\"\",Futterberechnung!C21)","v":""},{"$f":"IF(Futterberechnung!E21=\"\",\"\",Futterberechnung!E21)","v":""},{"$f":"IF(Futterberechnung!F21=\"\",\"\",Futterberechnung!F21)","v":""},{"$f":"IF(Futterberechnung!G21=\"\",\"\",Futterberechnung!G21)","v":""},{"$f":"IF(Futterberechnung!H21=\"\",\"\",Futterberechnung!H21)","v":" "},null,"pcv Met","g",{"$f":"IF(Futterberechnung!$H$63=\"\",\"\",Futterberechnung!$H$63)","v":2.9426131520000003},{"$f":"IF(Futterberechnung!$H$64=\"\",\"\",Futterberechnung!$H$64)","v":2.9},{"$f":"IF(Futterberechnung!$H$66=\"\",\"\",Futterberechnung!$H$66)","v":2.9},{"$f":"IF(Futterberechnung!$H67=\"\",\"\",Futterberechnung!$H$67)","v":0}]
[null,{"$f":"IF(Futterberechnung!C22=\"\",\"\",Futterberechnung!C22)","v":""},{"$f":"IF(Futterberechnung!E22=\"\",\"\",Futterberechnung!E22)","v":""},{"$f":"IF(Futterberechnung!F22=\"\",\"\",Futterberechnung!F22)","v":""},{"$f":"IF(Futterberechnung!G22=\"\",\"\",Futterberechnung!G22)","v":""},{"$f":"IF(Futterberechnung!H22=\"\",\"\",Futterberechnung!H22)","v":" "},null,"Met + Cys","g",{"$f":"IF(Futterberechnung!$Q$30=\"\",\"\",Futterberechnung!$Q$30)","v":6.3325079500000001},{"$f":"IF(Futterberechnung!$Q$31=\"\",\"\",Futterberechnung!$Q$31)","v":6.3},{"$f":"IF(Futterberechnung!$Q$33=\"\",\"\",Futterberechnung!$Q$33)","v":6.2},{"$f":"IF(Futterberechnung!$Q$34=\"\",\"\",Futterberechnung!$Q$34)","v":0.1}]
[null,{"$f":"IF(Futterberechnung!C23=\"\",\"\",Futterberechnung!C23)","v":""},{"$f":"IF(Futterberechnung!E23=\"\",\"\",Futterberechnung!E23)","v":""},{"$f":"IF(Futterberechnung!F23=\"\",\"\",Futterberechnung!F23)","v":""},{"$f":"IF(Futterberechnung!G23=\"\",\"\",Futterberechnung!G23)","v":""},{"$f":"IF(Futterberechnung!H23=\"\",\"\",Futterberechnung!H23)","v":" "},null,"pcv Met + Cys","g",{"$f":"IF(Futterberechnung!$R$30=\"\",\"\",Futterberechnung!$R$30)","v":5.6228189656234822},{"$f":"IF(Futterberechnung!$R$31=\"\",\"\",Futterberechnung!$R$31)","v":5.6},{"$f":"IF(Futterberechnung!$R$33=\"\",\"\",Futterberechnung!$R$33)","v":5.6},{"$f":"IF(Futterberechnung!$R$34=\"\",\"\",Futterberechnung!$R$34)","v":0}]
[null,{"$f":"IF(Futterberechnung!C24=\"\",\"\",Futterberechnung!C24)","v":"Ergänzungsfutter "},{"$f":"IF(Futterberechnung!E24=\"\",\"\",Futterberechnung!E24)","v":""},{"$f":"IF(Futterberechnung!F24=\"\",\"\",Futterberechnung!F24)","v":""},{"$f":"IF(Futterberechnung!G24=\"\",\"\",Futterberechnung!G24)","v":""},{"$f":"IF(Futterberechnung!H24=\"\",\"\",Futterberechnung!H24)","v":""},null,"Thr","g",{"$f":"IF(Futterberechnung!$S$30=\"\",\"\",Futterberechnung!$S$30)","v":7.2729971636363633},{"$f":"IF(Futterberechnung!$S$31=\"\",\"\",Futterberechnung!$S$31)","v":7.2},{"$f":"IF(Futterberechnung!$S$33=\"\",\"\",Futterberechnung!$S$33)","v":7.2},{"$f":"IF(Futterberechnung!$S$34=\"\",\"\",Futterberechnung!$S$34)","v":0}]
[null,{"$f":"IF(Futterberechnung!C25=\"\",\"\",Futterberechnung!C25)","v":""},{"$f":"IF(Futterberechnung!E25=\"\",\"\",Futterberechnung!E25)","v":""},{"$f":"IF(Futterberechnung!F25=\"\",\"\",Futterberechnung!F25)","v":""},{"$f":"IF(Futterberechnung!G25=\"\",\"\",Futterberechnung!G25)","v":""},{"$f":"IF(Futterberechnung!H25=\"\",\"\",Futterberechnung!H25)","v":" "},null,"pcv Thr","g",{"$f":"IF(Futterberechnung!$T$30=\"\",\"\",Futterberechnung!$T$30)","v":6.4675204927272727},{"$f":"IF(Futterberechnung!$T$31=\"\",\"\",Futterberechnung!$T$31)","v":6.4},{"$f":"IF(Futterberechnung!$T$33=\"\",\"\",Futterberechnung!$T$33)","v":6.6},{"$f":"IF(Futterberechnung!$T$34=\"\",\"\",Futterberechnung!$T$34)","v":-0.2}]
[null,{"$f":"IF(Futterberechnung!C26=\"\",\"\",Futterberechnung!C26)","v":""},{"$f":"IF(Futterberechnung!E26=\"\",\"\",Futterberechnung!E26)","v":""},{"$f":"IF(Futterberechnung!F26=\"\",\"\",Futterberechnung!F26)","v":""},{"$f":"IF(Futterberechnung!G26=\"\",\"\",Futterberechnung!G26)","v":""},{"$f":"IF(Futterberechnung!H26=\"\",\"\",Futterberechnung!H26)","v":" "},null,"Trp","g",{"$f":"IF(Futterberechnung!$U$30=\"\",\"\",Futterberechnung!$U$30)","v":2.0424997181818183},{"$f":"IF(Futterberechnung!$U$31=\"\",\"\",Futterberechnung!$U$31)","v":2},{"$f":"IF(Futterberechnung!$U$33=\"\",\"\",Futterberechnung!$U$33)","v":2.1},{"$f":"IF(Futterberechnung!$U$34=\"\",\"\",Futterberechnung!$U$34)","v":-0.1}]
[null,{"$f":"IF(Futterberechnung!C27=\"\",\"\",Futterberechnung!C27)","v":"Mineralfutter"},{"$f":"IF(Futterberechnung!E27=\"\",\"\",Futterberechnung!E27)","v":""},{"$f":"IF(Futterberechnung!F27=\"\",\"\",Futterberechnung!F27)","v":""},{"$f":"IF(Futterberechnung!G27=\"\",\"\",Futterberechnung!G27)","v":""},{"$f":"IF(Futterberechnung!H27=\"\",\"\",Futterberechnung!H27)","v":""},null,"pcv Trp","g",{"$f":"IF(Futterberechnung!$V$30=\"\",\"\",Futterberechnung!$V$30)","v":1.7422418656363634},{"$f":"IF(Futterberechnung!$V$31=\"\",\"\",Futterberechnung!$V$31)","v":1.7},{"$f":"IF(Futterberechnung!$V$33=\"\",\"\",Futterberechnung!$V$33)","v":1.8},{"$f":"IF(Futterberechnung!$V$34=\"\",\"\",Futterberechnung!$V$34)","v":-0.1}]
[null,{"$f":"IF(Futterberechnung!C28=\"\",\"\",Futterberechnung!C28)","v":"Opti. MinFu VM 850g TZ 3,5% + Phytase 17/18"},{"$f":"IF(Futterberechnung!E28=\"\",\"\",Futterberechnung!E28)","v":84},{"$f":"IF(Futterberechnung!F28=\"\",\"\",Futterberechnung!F28)","v":3.5000000000000003E-2},{"$f":"IF(Futterberechnung!G28=\"\",\"\",Futterberechnung!G28)","v":3.7912360388579126E-2},{"$f":"IF(Futterberechnung!H28=\"\",\"\",Futterberechnung!H28)","v":35},null,"Rohfaser (XF)","g",{"$f":"IF(Futterberechnung!$L$30=\"\",\"\",Futterberechnung!$L$30)","v":36.469745000000003},{"$f":"IF(Futterberechnung!$L$31=\"\",\"\",Futterberechnung!$L$31)","v":36},{"$f":"IF(Futterberechnung!$L$33=\"\",\"\",Futterberechnung!$L$33)","v":40},{"$f":"IF(Futterberechnung!$L$34=\"\",\"\",Futterberechnung!$L$34)","v":-4}]
[null,{"$f":"IF(Futterberechnung!C29=\"\",\"\",Futterberechnung!C29)","v":""},{"$f":"IF(Futterberechnung!E29=\"\",\"\",Futterberechnung!E29)","v":""},{"$f":"IF(Futterberechnung!F29=\"\",\"\",Futterberechnung!F29)","v":""},{"$f":"IF(Futterberechnung!G29=\"\",\"\",Futterberechnung!G29)","v":""},{"$f":"IF(Futterberechnung!H29=\"\",\"\",Futterberechnung!H29)","v":" "},null,"NDFom","g",{"$f":"IF(Futterberechnung!$W$63=\"\",\"\",Futterberechnung!$W$63)","v":205.64120758808781},{"$f":"IF(Futterberechnung!$W$64=\"\",\"\",Futterberechnung!$W$64)","v":204.2},{"$f":"IF(Futterberechnung!$W$66=0,\"\",Futterberechnung!$W$66)","v":120},{"$f":"IF($L$31=\"\",\"\",Futterberechnung!$W$67)","v":84}]
[null,"Futterkosten / Summe / Mischergröße",{"$f":"IF(Futterberechnung!E30=\"\",\"\",Futterberechnung!E30)","v":24.039670000000001},{"$f":"IF(Futterberechnung!F30=\"\",\"\",Futterberechnung!F30)","v":1},null,{"$f":"IF(F15=\"\",\"\",SUM(F15:F31))","v":1000},null,"ADFom","g",{"$f":"IF(Futterberechnung!$X$63=\"\",\"\",Futterberechnung!$X$63)","v":46.717970011494252},{"$f":"IF(Futterberechnung!$X$64=\"\",\"\",Futterberechnung!$X$64)","v":46.4},{"$f":"IF(Futterberechnung!$X$66=0,\"\",Futterberechnung!$X$66)","v":70},{"$f":"IF($L$32=\"\",\"\",Futterberechnung!$X$67)","v":-24}]
[null,"Futterkosten auf 88% TM umgerechnet",{"$f":"IF(Futterberechnung!E31=\"\",\"\",Futterberechnung!E31)","v":23.870016569732506},null,null,{"$f":"IF(Futterberechnung!H31=\"\",\"\",Futterberechnung!H31)","v":""},null,"BfS","g",{"$f":"IF(Futterberechnung!$V$63=\"\",\"\",Futterberechnung!$V$63)","v":78.904544250000015},{"$f":"IF(Futterberechnung!$V$64=\"\",\"\",Futterberechnung!$V$64)","v":78.3},{"$f":"IF(Futterberechnung!$V$66=0,\"\",Futterberechnung!$V$66)","v":""},{"$f":"IF($L$33=\"\",\"\",Futterberechnung!$V$67)","v":""}]
[null,null,null,null,null,null,null,"Ca","g",{"$f":"IF(Futterberechnung!$W$30=\"\",\"\",Futterberechnung!$W$30)","v":6.5973885417255325},{"$f":"IF(Futterberechnung!$W$31=\"\",\"\",Futterberechnung!$W$31)","v":6.6},{"$f":"IF(Futterberechnung!$W$33=\"\",\"\",Futterberechnung!$W$33)","v":6.5},{"$f":"IF(Futterberechnung!$W$34=\"\",\"\",Futterberechnung!$W$34)","v":0.1}]
[null,null,null,null,null,null,null,"P","g",{"$f":"IF(Futterberechnung!$X$30=\"\",\"\",Futterberechnung!$X$30)","v":4.431221927846674},{"$f":"IF(Futterberechnung!$X$31=\"\",\"\",Futterberechnung!$X$31)","v":4.4000000000000004},{"$f":"IF(Futterberechnung!$X$33=\"\",\"\",Futterberechnung!$X$33)","v":4.5},{"$f":"IF(Futterberechnung!$X$34=\"\",\"\",Futterberechnung!$X$34)","v":-0.1}]
[null,null,null,null,null,null,null,"v.P","g",{"$f":"IF(Futterberechnung!$Y$30=\"\",\"\",Futterberechnung!$Y$30)","v":2.4516487711386694},{"$f":"IF(Futterberechnung!$Y$31=\"\",\"\",Futterberechnung!$Y$31)","v":2.4},{"$f":"IF(Futterberechnung!$Y$33=\"\",\"\",Futterberechnung!$Y$33)","v":3},{"$f":"IF(Futterberechnung!$Y$34=\"\",\"\",Futterberechnung!$Y$34)","v":-0.6}]
[null,null,null,null,null,null,null,"v.P + Phytase","g",{"$f":"IF(Futterberechnung!$Z$30=\"\",\"\",Futterberechnung!$Z$30)","v":3.0932114458850055},{"$f":"IF(Futterberechnung!$Z$31=\"\",\"\",Futterberechnung!$Z$31)","v":3.1},{"$f":"IF(Futterberechnung!$Z$33=\"\",\"\",Futterberechnung!$Z$33)","v":3},{"$f":"IF(Futterberechnung!$Z$34=\"\",\"\",Futterberechnung!$Z$34)","v":0.1}]
[null,null,null,null,null,null,null,"Na","g",{"$f":"IF(Futterberechnung!$AB$30=\"\",\"\",Futterberechnung!$AB$30)","v":2.0978561344827589},{"$f":"IF(Futterberechnung!$AB$31=\"\",\"\",Futterberechnung!$AB$31)","v":2.1},{"$f":"IF(Futterberechnung!$AB$33=\"\",\"\",Futterberechnung!$AB$33)","v":2},{"$f":"IF(Futterberechnung!$AB$34=\"\",\"\",Futterberechnung!$AB$34)","v":0.1}]
[null,null,null,null,null,null,null,"Mg","g",{"$f":"IF(Futterberechnung!$AA$30=\"\",\"\",Futterberechnung!$AA$30)","v":1.3216585668085108},{"$f":"IF(Futterberechnung!$AA$31=\"\",\"\",Futterberechnung!$AA$31)","v":1.3},{"$f":"IF(Futterberechnung!$AA$33=\"\",\"\",Futterberechnung!$AA$33)","v":1},{"$f":"IF(Futterberechnung!$AA$34=\"\",\"\",Futterberechnung!$AA$34)","v":0.3}]
[null,null,null,null,null,null,null,"Polyensäuren","g",{"$f":"IF(Futterberechnung!$N$63=\"\",\"\",Futterberechnung!$N$63)","v":15.736843620689653},{"$f":"IF(Futterberechnung!$N$64=\"\",\"\",Futterberechnung!$N$64)","v":15.6},{"$f":"IF(Futterberechnung!$N$66=\"\",\"\",Futterberechnung!$N$66)","v":18},{"$f":"IF(Futterberechnung!$N$67=\"\",\"\",Futterberechnung!$N$67)","v":-2.4}]
[null,null,null,null,null,null,null,"Vit. A","IE",{"$f":"IF(Futterberechnung!$Q$63=\"\",\"\",Futterberechnung!$Q$63)","v":6055.0000000000009},{"$f":"IF(Futterberechnung!$Q$64=\"\",\"\",Futterberechnung!$Q$64)","v":6012},{"$f":"IF(Futterberechnung!$Q$66=\"\",\"\",Futterberechnung!$Q$66)","v":6000},{"$f":"IF(Futterberechnung!$Q$67=\"\",\"\",Futterberechnung!$Q$67)","v":12}]
[null,null,null,null,null,null,null,"Vit. D3","IE",{"$f":"IF(Futterberechnung!$R$63=\"\",\"\",Futterberechnung!$R$63)","v":1513.7500000000002},{"$f":"IF(Futterberechnung!$R$64=\"\",\"\",Futterberechnung!$R$64)","v":1503},{"$f":"IF(Futterberechnung!$R$66=\"\",\"\",Futterberechnung!$R$66)","v":1500},{"$f":"IF(Futterberechnung!$R$67=\"\",\"\",Futterberechnung!$R$67)","v":3}]
[null,null,null,null,null,null,null,"Vit. E","mg",{"$f":"IF(Futterberechnung!$S$63=\"\",\"\",Futterberechnung!$S$63)","v":61.250000000000007},{"$f":"IF(Futterberechnung!$S$64=\"\",\"\",Futterberechnung!$S$64)","v":61},{"$f":"IF(Futterberechnung!$S$66=\"\",\"\",Futterberechnung!$S$66)","v":60},{"$f":"IF(Futterberechnung!$S$67=\"\",\"\",Futterberechnung!$S$67)","v":1}]
[]
[null,"Aminosäurenverhältnis (AS-Verältnis)","pcv M + C","pcv Thr","pcv Trp",null,null,"Ca / P   ","/1",{"$f":"IF(K45=\"\",\"\",K45)","v":1.4888418249301032},{"$f":"IF(Futterberechnung!$T$40=\"\",\"\",Futterberechnung!$T$40)","v":1.4888418249301032},{"$f":"IF(Futterberechnung!$T$41=\"\",\"\",Futterberechnung!$T$41)","v":1.45},{"$f":"IF(K45=\"\",\"\",K45-L45)","v":3.8841824930103241E-2}]
[null,"AS-Verhältnis in der Ration pcv Lysin 1 /",{"$f":"IF(Futterberechnung!N40=\"\",\"\",Futterberechnung!N40)","v":0.55377414635272926},{"$f":"IF(Futterberechnung!P40=\"\",\"\",Futterberechnung!P40)","v":0.63696620178873065},{"$f":"IF(Futterberechnung!R40=\"\",\"\",Futterberechnung!R40)","v":0.17158804289829765},null,null,"Ca / vP          ","/1",2.6910006928363446,{"$f":"IF(Futterberechnung!$X$40=\"\",\"\",Futterberechnung!$X$40)","v":2.6910006928363446},{"$f":"IF(Futterberechnung!$X$41=\"\",\"\",Futterberechnung!$X$41)","v":2.1800000000000002},0.51100069283634442]
[null,"Orientierungswert AS-Verhältnis pcv Lysin 1 /",{"$f":"IF(Futterberechnung!N41=\"\",\"\",Futterberechnung!N41)","v":0.54},{"$f":"IF(Futterberechnung!P41=\"\",\"\",Futterberechnung!P41)","v":0.63},{"$f":"IF(Futterberechnung!R41=\"\",\"\",Futterberechnung!R41)","v":0.18},null,null,"Ca / vP + Phytase","/1",2.1328605099086393,{"$f":"IF(Futterberechnung!$X$39=\"\",\"\",Futterberechnung!$X$39)","v":2.1328605099086393},{"$f":"IF(Futterberechnung!$X$41=\"\",\"\",Futterberechnung!$X$41)","v":2.1800000000000002},-4.7139490091360869E-2]
[null,"Differenz",{"$f":"IF(C46=\"\",\"\",C46-C47)","v":1.3774146352729222E-2},{"$f":"IF(D46=\"\",\"\",D46-D47)","v":6.9662017887306416E-3},{"$f":"IF(E46=\"\",\"\",E46-E47)","v":-8.4119571017023387E-3},null,null,"Lys / MES EFF*","g/MJ",0.8314606741573034,{"$f":"IF(Futterberechnung!$F$40=\"\",\"\",Futterberechnung!$F$40)","v":0.8314606741573034},{"$f":"IF(Futterberechnung!$F$41=\"\",\"\",Futterberechnung!$F$41)","v":0.85},-1.8539325842696575E-2]
[null,null,null,null,null,null,null,"pcv Lys / MES EFF*","g/MJ",0.75655430711610483,{"$f":"IF(Futterberechnung!$I$40=\"\",\"\",Futterberechnung!$I$40)","v":0.75655430711610483},{"$f":"IF(Futterberechnung!$I$41=\"\",\"\",Futterberechnung!$I$41)","v":0.76},-3.4456928838951795E-3]
[null,null,null,null,null,null,null,"Lys in 100g RP","g",6.3522012578616351,{"$f":"IF(Futterberechnung!$AA$40=\"\",\"\",Futterberechnung!$AA$40)","v":6.3522012578616351},{"$f":"IF(Futterberechnung!$AA$41=\"\",\"\",Futterberechnung!$AA$41)","v":6},0.35220125786163514]
[null,null,null,null,null,null,null,"Kosten / 10 MJ MES EFF*",null,{"$f":"IF(Futterberechnung!$M$31=\"\",\"\",$C$32/100/Futterberechnung!$M$30*10)","v":0.17882308121786858},{"$f":"IF(Futterberechnung!$M$31=\"\",\"\",$C$33/100/Futterberechnung!$M$31*10)","v":0.17880162224518731}]
[]
[null,null,null,null,null,null,null,"* EFF=Einzelfutterformel und MFF=Mischfutterformel (EFF ist genauer!)"]
[null,"KAB oder DCAB oder BE in 100% TM der Ration",{"$f":"IF(Futterberechnung!T64=\"\",\"\",Futterberechnung!T64/88*100)","v":347.72727272727269}]
[null,"Harn-pH bei Fütterung dieser Ration",{"$f":"IF(C54=\"\",\"\",6.19+0.0031*C54+3*10^-6*C54^2)","v":7.6306973140495868}]
[]
[null,"Basenüberschuß (BE)",null,"Harn pH"]
[null,"100 % TM"," in 88 %TM"]
[null,500,{"$f":"B59*0.88","v":440},8.5]
[null,400,{"$f":"B60*0.88","v":352},7.9]
[null,300,264,7.4]
[null,200,176,6.9]
[null,100,88,6.5]
[null,0,0,6.2]
[null,-100,-88,5.9]
[null,-200,-176,5.7]
[null,-400,-352,5.4]

{"sheet":"Futterberechnung (2)","index":4,"n_rows":67,"n_cols":30,"rows_kept":67,"cut":false,"hidden":false,"merged":[[66,2,66,3],[60,2,60,3],[61,2,61,3],[62,2,62,3],[63,2,63,3],[64,2,64,4],[65,2,65,3],[59,2,59,3],[45,2,45,3],[46,2,46,3],[47,2,47,3],[48,2,48,3],[49,2,49,3],[50,2,50,3],[51,2,51,3],[52,2,52,3],[53,2,53,3],[54,2,54,3],[55,2,55,3],[38,25,38,28],[39,2,39,3],[40,2,40,3],[44,2,44,3],[44,6,44,15],[44,16,44,20],[44,21,44,24],[44,25,44,26],[44,28,44,29],[32,2,32,3],[33,2,33,3],[34,1,34,4],[37,1,38,1],[37,23,37,24],[38,5,38,6],[38,8,38,9],[38,11,38,17],[38,19,38,20],[31,11,31,12],[18,2,18,3],[19,2,19,3],[20,2,20,3],[21,2,21,3],[22,2,22,3],[26,2,26,3],[27,2,27,3],[28,2,28,3],[29,2,29,3],[30,2,30,3],[31,2,31,4],[17,2,17,3],[6,7,6,14],[6,15,6,21],[6,25,6,28],[7,9,7,20],[7,25,7,28],[11,2,11,3],[11,8,11,11],[11,12,11,13],[11,14,11,27],[12,2,12,3],[13,2,13,3],[14,2,14,3],[15,2,15,3],[16,2,16,3],[2,25,3,28],[4,7,4,17],[5,7,5,17],[5,25,5,28],[4,25,4,27],[3,1,3,3]]}
[]
[]
[null,null,null,null,null,null,null,null,null,null,null,null,null,null,null,null,null,null,null,null,null,null,null,null,null,"2018 Version 1"]
[null,"Rheinischer Erzeugerring für Mastschweine e.V."]
[null,null,null,null,"Betrieb:",null,null,"Mustermann",null,null,null,null,null,null,null,null,null,null,null,null,null,null,null,"Datum:",null,"2018-08-01"]
[null,null,null,null,"Berater:",null,null,{"$f":"Futterberechnung!H6","v":"………………………………………………………."},null,null,null,null,null,null,null,null,null,null,null,null,null,null,null,"Tel.Nr.:",null,{"$f":"Futterberechnung!Z6","v":"……………………………"}]
[null,null,null,null,"Futtermischung für:",null,null,{"$f":"C33&\" \"","v":"Anfangsmast ab 40 Kg LM für 850 g TZ* "},null,null,null,null,null,null,null,"Getreide = Richtpreise Ernte 2017/18",null,null,null,null,null,null,null,"Tel.Nr.:",null,{"$f":"Futterberechnung!Z7","v":"……………………………"}]
[null,null,null,null,"Mischergröße in t:",null,null,{"$f":"Futterberechnung!H8","v":1},null,{"$f":"IF(OR(B10=\"m\",B10=\"w\",'Futterkurve Mast'!T6=\"HP\"),Orientierungswerte!D35,\"\")","v":""},null,null,null,null,null,null,null,null,null,null,null,null,null,"gültig bis:",null,{"$f":"Futterberechnung!Z8","v":"……………………………"}]
[]
[null,{"$f":"IF(Futterberechnung!B10=0,\"\",Futterberechnung!B10)","v":""},"Geschlecht"]
[null,null,null,null,"Netto-Preis ","Anteil in FM","Anteil bei 88% TM","in Mi-scher","TM","Roh-pro-tein XP","pcv XP","Roh-faser XF","ME EFF","ME MFF","Lys","pcv Lys","M&C","pcv M+C","Thr","pcv Thr","Trp","pcv Trp","Ca","P","v. P","v. P m. Phy","Mg","Na","€/dt"]
[null,"FM-Nr.","Futtermittel + % RP in der FM",null,"€/dt","%","%","kg","Anteil in g/kg",null,null,null,"MJ/kg",null,"Anteile in g je kg",null,null,null,null,null,null,null,null,null,null,null,null,null,"Anteil"]
[null,{"$f":"IF($C13=\"\",\" \",VLOOKUP($C13,Futtermittel!$A$8:$CG$171,2,FALSE))","v":49},{"$f":"IF(Futterberechnung!C13=\"\",\"\",Futterberechnung!C13)","v":"eigener Weizen 10% RP Ø 2018"},null,{"$f":"IF(Futterberechnung!E13=\"\",\"\",Futterberechnung!E13)","v":17.420000000000002},0.51,{"$f":"IF(F13=\"\",\"\",I13/I$30)","v":0.50688438902247435},{"$f":"IF(F13=\"\",\" \",$H$8*F13*1000)","v":510},{"$f":"IF($C13=\"\",\" \",VLOOKUP($C13,Futtermittel!$A$8:$CG$171,8,FALSE)*$F13)","v":448.8},{"$f":"IF($C13=\"\",\" \",VLOOKUP($C13,Futtermittel!$A$8:$CG$171,9,FALSE)*$F13)","v":50.510400000000004},{"$f":"IF($C13=\"\",\" \",VLOOKUP($C13,Futtermittel!$A$8:$CG$171,10,FALSE)*$F13)","v":45.459360000000004},{"$f":"IF($C13=\"\",\" \",VLOOKUP($C13,Futtermittel!$A$8:$CG$171,11,FALSE)*$F13)","v":13.448700000000001},{"$f":"IF($C13=\"\",\" \",VLOOKUP($C13,Futtermittel!$A$8:$CG$171,12,FALSE)*$F13)","v":6.9498944400000005},{"$f":"IF($C13=\"\",\" \",VLOOKUP(C13,Futtermittel!$A$8:$CG$171,13,FALSE)*$F13)","v":6.9870163200000004},{"$f":"IF($C13=\"\",\" \",VLOOKUP($C13,Futtermittel!$A$8:$CG$171,14,FALSE)*$F13)","v":1.6222080000000001},{"$f":"IF($C13=\"\",\" \",VLOOKUP($C13,Futtermittel!$A$8:$CG$171,15,FALSE)*$F13)","v":1.4275430400000002},{"$f":"IF($C13=\"\",\" \",VLOOKUP($C13,Futtermittel!$A$8:$CG$171,16,FALSE)*$F13)","v":1.8723120000000002},{"$f":"IF($C13=\"\",\" \",VLOOKUP($C13,Futtermittel!$A$8:$CG$171,17,FALSE)*$F13)","v":1.6913218400000001},{"$f":"IF($C13=\"\",\" \",VLOOKUP($C13,Futtermittel!$A$8:$CG$171,18,FALSE)*$F13)","v":1.316208},{"$f":"IF($C13=\"\",\" \",VLOOKUP($C13,Futtermittel!$A$8:$CG$171,19,FALSE)*$F13)","v":1.1845872},{"$f":"IF($C13=\"\",\" \",VLOOKUP($C13,Futtermittel!$A$8:$CG$171,20,FALSE)*$F13)","v":0.70910400000000007},{"$f":"IF($C13=\"\",\" \",VLOOKUP($C13,Futtermittel!$A$8:$CG$171,21,FALSE)*$F13)","v":0.62401152000000004},{"$f":"IF($C13=\"\",\" \",VLOOKUP($C13,Futtermittel!$A$8:$CG$171,22,FALSE)*$F13)","v":0.35699999999999998},{"$f":"IF($C13=\"\",\" \",VLOOKUP($C13,Futtermittel!$A$8:$CG$171,23,FALSE)*$F13)","v":1.6829999999999998},{"$f":"IF($C13=\"\",\" \",VLOOKUP($C13,Futtermittel!$A$8:$CG$171,24,FALSE)*$F13)","v":1.0097999999999998},{"$f":"IF($C13=\"\",\" \",VLOOKUP($C13,Futtermittel!$A$8:$CG$171,25,FALSE)*$F13)","v":1.09395},{"$f":"IF($C13=\"\",\" \",VLOOKUP($C13,Futtermittel!$A$8:$CG$171,26,FALSE)*$F13)","v":0.56100000000000005},{"$f":"IF($C13=\"\",\" \",VLOOKUP($C13,Futtermittel!$A$8:$CG$171,27,FALSE)*$F13)","v":0.10200000000000001},{"$f":"IFERROR(IF(E13*F13=0,\" \",E13*F13),\"\")","v":8.8842000000000017}]
[null,{"$f":"IF($C14=\"\",\" \",VLOOKUP($C14,Futtermittel!$A$8:$CG$171,2,FALSE))","v":11},{"$f":"IF(Futterberechnung!C14=\"\",\"\",Futterberechnung!C14)","v":"eigene Gerste 10% RP Ø 2018"},null,{"$f":"IF(Futterberechnung!E14=\"\",\"\",Futterberechnung!E14)","v":16.39},0.314,{"$f":"IF(F14=\"\",\"\",I14/I$30)","v":0.31208176108442537},{"$f":"IF(F14=\"\",\" \",$H$8*F14*1000)","v":314},{"$f":"IF($C14=\"\",\" \",VLOOKUP($C14,Futtermittel!$A$8:$CG$171,8,FALSE)*$F14)","v":276.32},{"$f":"IF($C14=\"\",\" \",VLOOKUP($C14,Futtermittel!$A$8:$CG$171,9,FALSE)*$F14)","v":30.498819999999998},{"$f":"IF($C14=\"\",\" \",VLOOKUP($C14,Futtermittel!$A$8:$CG$171,10,FALSE)*$F14)","v":22.264138599999999},{"$f":"IF($C14=\"\",\" \",VLOOKUP($C14,Futtermittel!$A$8:$CG$171,11,FALSE)*$F14)","v":17.455260000000003},{"$f":"IF($C14=\"\",\" \",VLOOKUP($C14,Futtermittel!$A$8:$CG$171,12,FALSE)*$F14)","v":3.9289385616599994},{"$f":"IF($C14=\"\",\" \",VLOOKUP(C14,Futtermittel!$A$8:$CG$171,13,FALSE)*$F14)","v":3.9228379278800003},{"$f":"IF($C14=\"\",\" \",VLOOKUP($C14,Futtermittel!$A$8:$CG$171,14,FALSE)*$F14)","v":1.0181764},{"$f":"IF($C14=\"\",\" \",VLOOKUP($C14,Futtermittel!$A$8:$CG$171,15,FALSE)*$F14)","v":0.74326877199999997},{"$f":"IF($C14=\"\",\" \",VLOOKUP($C14,Futtermittel!$A$8:$CG$171,16,FALSE)*$F14)","v":1.2603645999999999},{"$f":"IF($C14=\"\",\" \",VLOOKUP($C14,Futtermittel!$A$8:$CG$171,17,FALSE)*$F14)","v":1.0553895150526318},{"$f":"IF($C14=\"\",\" \",VLOOKUP($C14,Futtermittel!$A$8:$CG$171,18,FALSE)*$F14)","v":1.1033645999999999},{"$f":"IF($C14=\"\",\" \",VLOOKUP($C14,Futtermittel!$A$8:$CG$171,19,FALSE)*$F14)","v":0.83855709600000006},{"$f":"IF($C14=\"\",\" \",VLOOKUP($C14,Futtermittel!$A$8:$CG$171,20,FALSE)*$F14)","v":0.36778820000000001},{"$f":"IF($C14=\"\",\" \",VLOOKUP($C14,Futtermittel!$A$8:$CG$171,21,FALSE)*$F14)","v":0.279519032},{"$f":"IF($C14=\"\",\" \",VLOOKUP($C14,Futtermittel!$A$8:$CG$171,22,FALSE)*$F14)","v":0.13539679999999998},{"$f":"IF($C14=\"\",\" \",VLOOKUP($C14,Futtermittel!$A$8:$CG$171,23,FALSE)*$F14)","v":1.099},{"$f":"IF($C14=\"\",\" \",VLOOKUP($C14,Futtermittel!$A$8:$CG$171,24,FALSE)*$F14)","v":0.49454999999999999},{"$f":"IF($C14=\"\",\" \",VLOOKUP($C14,Futtermittel!$A$8:$CG$171,25,FALSE)*$F14)","v":0.71434999999999993},{"$f":"IF($C14=\"\",\" \",VLOOKUP($C14,Futtermittel!$A$8:$CG$171,26,FALSE)*$F14)","v":0.34540000000000004},{"$f":"IF($C14=\"\",\" \",VLOOKUP($C14,Futtermittel!$A$8:$CG$171,27,FALSE)*$F14)","v":4.7641379310344824E-2},5.1464600000000003]
[null,{"$f":"IF($C15=\"\",\" \",VLOOKUP($C15,Futtermittel!$A$8:$CG$171,2,FALSE))","v":100},{"$f":"IF(Futterberechnung!C15=\"\",\"\",Futterberechnung!C15)","v":"Sojaschrot HP 47% RP "},null,{"$f":"IF(Futterberechnung!E15=\"\",\"\",Futterberechnung!E15)","v":38},0.13,{"$f":"IF(F15=\"\",\"\",I15/I$30)","v":0.13067407266020561},130,{"$f":"IF($C15=\"\",\" \",VLOOKUP($C15,Futtermittel!$A$8:$CG$171,8,FALSE)*$F15)","v":115.7},{"$f":"IF($C15=\"\",\" \",VLOOKUP($C15,Futtermittel!$A$8:$CG$171,9,FALSE)*$F15)","v":61.1},{"$f":"IF($C15=\"\",\" \",VLOOKUP($C15,Futtermittel!$A$8:$CG$171,10,FALSE)*$F15)","v":50.101999999999997},{"$f":"IF($C15=\"\",\" \",VLOOKUP($C15,Futtermittel!$A$8:$CG$171,11,FALSE)*$F15)","v":6.76},{"$f":"IF($C15=\"\",\" \",VLOOKUP($C15,Futtermittel!$A$8:$CG$171,12,FALSE)*$F15)","v":1.8014259899999998},{"$f":"IF($C15=\"\",\" \",VLOOKUP(C15,Futtermittel!$A$8:$CG$171,13,FALSE)*$F15)","v":1.79937927},{"$f":"IF($C15=\"\",\" \",VLOOKUP($C15,Futtermittel!$A$8:$CG$171,14,FALSE)*$F15)","v":3.7398459090909086},{"$f":"IF($C15=\"\",\" \",VLOOKUP($C15,Futtermittel!$A$8:$CG$171,15,FALSE)*$F15)","v":3.2536659409090904},{"$f":"IF($C15=\"\",\" \",VLOOKUP($C15,Futtermittel!$A$8:$CG$171,16,FALSE)*$F15)","v":1.7175274999999999},{"$f":"IF($C15=\"\",\" \",VLOOKUP($C15,Futtermittel!$A$8:$CG$171,17,FALSE)*$F15)","v":1.4305682899999996},{"$f":"IF($C15=\"\",\" \",VLOOKUP($C15,Futtermittel!$A$8:$CG$171,18,FALSE)*$F15)","v":2.6280681818181812},{"$f":"IF($C15=\"\",\" \",VLOOKUP($C15,Futtermittel!$A$8:$CG$171,19,FALSE)*$F15)","v":2.260138636363636},{"$f":"IF($C15=\"\",\" \",VLOOKUP($C15,Futtermittel!$A$8:$CG$171,20,FALSE)*$F15)","v":0.80821590909090912},{"$f":"IF($C15=\"\",\" \",VLOOKUP($C15,Futtermittel!$A$8:$CG$171,21,FALSE)*$F15)","v":0.69506568181818185},{"$f":"IF($C15=\"\",\" \",VLOOKUP($C15,Futtermittel!$A$8:$CG$171,22,FALSE)*$F15)","v":0.41393174176595754},{"$f":"IF($C15=\"\",\" \",VLOOKUP($C15,Futtermittel!$A$8:$CG$171,23,FALSE)*$F15)","v":0.87138105975197289},{"$f":"IF($C15=\"\",\" \",VLOOKUP($C15,Futtermittel!$A$8:$CG$171,24,FALSE)*$F15)","v":0.34855242390078917},{"$f":"IF($C15=\"\",\" \",VLOOKUP($C15,Futtermittel!$A$8:$CG$171,25,FALSE)*$F15)","v":0.65353579481397961},{"$f":"IF($C15=\"\",\" \",VLOOKUP($C15,Futtermittel!$A$8:$CG$171,26,FALSE)*$F15)","v":0.36683300425531917},{"$f":"IF($C15=\"\",\" \",VLOOKUP($C15,Futtermittel!$A$8:$CG$171,27,FALSE)*$F15)","v":2.1982999999999999E-2},4.9400000000000004]
[null,{"$f":"IF($C16=\"\",\" \",VLOOKUP($C16,Futtermittel!$A$8:$CG$171,2,FALSE))","v":140},{"$f":"IF(Futterberechnung!C16=\"\",\"\",Futterberechnung!C16)","v":"Rapsöl / Pflanzenöl DLG 2014"},null,{"$f":"IF(Futterberechnung!E16=\"\",\"\",Futterberechnung!E16)","v":97},1.0999999999999999E-2,1.2411213348859113E-2,11,{"$f":"IF($C16=\"\",\" \",VLOOKUP($C16,Futtermittel!$A$8:$CG$171,8,FALSE)*$F16)","v":10.988999999999999},{"$f":"IF($C16=\"\",\" \",VLOOKUP($C16,Futtermittel!$A$8:$CG$171,9,FALSE)*$F16)","v":0},{"$f":"IF($C16=\"\",\" \",VLOOKUP($C16,Futtermittel!$A$8:$CG$171,10,FALSE)*$F16)","v":0},{"$f":"IF($C16=\"\",\" \",VLOOKUP($C16,Futtermittel!$A$8:$CG$171,11,FALSE)*$F16)","v":0},{"$f":"IF($C16=\"\",\" \",VLOOKUP($C16,Futtermittel!$A$8:$CG$171,12,FALSE)*$F16)","v":0.428185912},{"$f":"IF($C16=\"\",\" \",VLOOKUP(C16,Futtermittel!$A$8:$CG$171,13,FALSE)*$F16)","v":0.35675206599999998},{"$f":"IF($C16=\"\",\" \",VLOOKUP($C16,Futtermittel!$A$8:$CG$171,14,FALSE)*$F16)","v":0},{"$f":"IF($C16=\"\",\" \",VLOOKUP($C16,Futtermittel!$A$8:$CG$171,15,FALSE)*$F16)","v":0},{"$f":"IF($C16=\"\",\" \",VLOOKUP($C16,Futtermittel!$A$8:$CG$171,16,FALSE)*$F16)","v":0},{"$f":"IF($C16=\"\",\" \",VLOOKUP($C16,Futtermittel!$A$8:$CG$171,17,FALSE)*$F16)","v":0},{"$f":"IF($C16=\"\",\" \",VLOOKUP($C16,Futtermittel!$A$8:$CG$171,18,FALSE)*$F16)","v":0},{"$f":"IF($C16=\"\",\" \",VLOOKUP($C16,Futtermittel!$A$8:$CG$171,19,FALSE)*$F16)","v":0},{"$f":"IF($C16=\"\",\" \",VLOOKUP($C16,Futtermittel!$A$8:$CG$171,20,FALSE)*$F16)","v":0},{"$f":"IF($C16=\"\",\" \",VLOOKUP($C16,Futtermittel!$A$8:$CG$171,21,FALSE)*$F16)","v":0},{"$f":"IF($C16=\"\",\" \",VLOOKUP($C16,Futtermittel!$A$8:$CG$171,22,FALSE)*$F16)","v":0},{"$f":"IF($C16=\"\",\" \",VLOOKUP($C16,Futtermittel!$A$8:$CG$171,23,FALSE)*$F16)","v":0},{"$f":"IF($C16=\"\",\" \",VLOOKUP($C16,Futtermittel!$A$8:$CG$171,24,FALSE)*$F16)","v":0},{"$f":"IF($C16=\"\",\" \",VLOOKUP($C16,Futtermittel!$A$8:$CG$171,25,FALSE)*$F16)","v":0},{"$f":"IF($C16=\"\",\" \",VLOOKUP($C16,Futtermittel!$A$8:$CG$171,26,FALSE)*$F16)","v":0},{"$f":"IF($C16=\"\",\" \",VLOOKUP($C16,Futtermittel!$A$8:$CG$171,27,FALSE)*$F16)","v":0},1.0669999999999999]
[null,{"$f":"IF($C17=\"\",\" \",VLOOKUP($C17,Futtermittel!$A$8:$CG$171,2,FALSE))","v":" "},{"$f":"IF(Futterberechnung!C17=\"\",\"\",Futterberechnung!C17)","v":""},null,{"$f":"IF(Futterberechnung!E17=\"\",\"\",Futterberechnung!E17)","v":""},null,""," ",{"$f":"IF($C17=\"\",\" \",VLOOKUP($C17,Futtermittel!$A$8:$CG$171,8,FALSE)*$F17)","v":" "},{"$f":"IF($C17=\"\",\" \",VLOOKUP($C17,Futtermittel!$A$8:$CG$171,9,FALSE)*$F17)","v":" "},{"$f":"IF($C17=\"\",\" \",VLOOKUP($C17,Futtermittel!$A$8:$CG$171,10,FALSE)*$F17)","v":" "},{"$f":"IF($C17=\"\",\" \",VLOOKUP($C17,Futtermittel!$A$8:$CG$171,11,FALSE)*$F17)","v":" "},{"$f":"IF($C17=\"\",\" \",VLOOKUP($C17,Futtermittel!$A$8:$CG$171,12,FALSE)*$F17)","v":" "},{"$f":"IF($C17=\"\",\" \",VLOOKUP(C17,Futtermittel!$A$8:$CG$171,13,FALSE)*$F17)","v":" "},{"$f":"IF($C17=\"\",\" \",VLOOKUP($C17,Futtermittel!$A$8:$CG$171,14,FALSE)*$F17)","v":" "},{"$f":"IF($C17=\"\",\" \",VLOOKUP($C17,Futtermittel!$A$8:$CG$171,15,FALSE)*$F17)","v":" "},{"$f":"IF($C17=\"\",\" \",VLOOKUP($C17,Futtermittel!$A$8:$CG$171,16,FALSE)*$F17)","v":" "},{"$f":"IF($C17=\"\",\" \",VLOOKUP($C17,Futtermittel!$A$8:$CG$171,17,FALSE)*$F17)","v":" "},{"$f":"IF($C17=\"\",\" \",VLOOKUP($C17,Futtermittel!$A$8:$CG$171,18,FALSE)*$F17)","v":" "},{"$f":"IF($C17=\"\",\" \",VLOOKUP($C17,Futtermittel!$A$8:$CG$171,19,FALSE)*$F17)","v":" "},{"$f":"IF($C17=\"\",\" \",VLOOKUP($C17,Futtermittel!$A$8:$CG$171,20,FALSE)*$F17)","v":" "},{"$f":"IF($C17=\"\",\" \",VLOOKUP($C17,Futtermittel!$A$8:$CG$171,21,FALSE)*$F17)","v":" "},{"$f":"IF($C17=\"\",\" \",VLOOKUP($C17,Futtermittel!$A$8:$CG$171,22,FALSE)*$F17)","v":" "},{"$f":"IF($C17=\"\",\" \",VLOOKUP($C17,Futtermittel!$A$8:$CG$171,23,FALSE)*$F17)","v":" "},{"$f":"IF($C17=\"\",\" \",VLOOKUP($C17,Futtermittel!$A$8:$CG$171,24,FALSE)*$F17)","v":" "},{"$f":"IF($C17=\"\",\" \",VLOOKUP($C17,Futtermittel!$A$8:$CG$171,25,FALSE)*$F17)","v":" "},{"$f":"IF($C17=\"\",\" \",VLOOKUP($C17,Futtermittel!$A$8:$CG$171,26,FALSE)*$F17)","v":" "},{"$f":"IF($C17=\"\",\" \",VLOOKUP($C17,Futtermittel!$A$8:$CG$171,27,FALSE)*$F17)","v":" "},{"$f":"IFERROR(IF(E17*F17=0,\" \",E17*F17),\"\")","v":""}]
[null,{"$f":"IF($C18=\"\",\" \",VLOOKUP($C18,Futtermittel!$A$8:$CG$171,2,FALSE))","v":" "},{"$f":"IF(Futterberechnung!C18=\"\",\"\",Futterberechnung!C18)","v":""},null,{"$f":"IF(Futterberechnung!E18=\"\",\"\",Futterberechnung!E18)","v":""},null,""," ",{"$f":"IF($C18=\"\",\" \",VLOOKUP($C18,Futtermittel!$A$8:$CG$171,8,FALSE)*$F18)","v":" "},{"$f":"IF($C18=\"\",\" \",VLOOKUP($C18,Futtermittel!$A$8:$CG$171,9,FALSE)*$F18)","v":" "},{"$f":"IF($C18=\"\",\" \",VLOOKUP($C18,Futtermittel!$A$8:$CG$171,10,FALSE)*$F18)","v":" "},{"$f":"IF($C18=\"\",\" \",VLOOKUP($C18,Futtermittel!$A$8:$CG$171,11,FALSE)*$F18)","v":" "},{"$f":"IF($C18=\"\",\" \",VLOOKUP($C18,Futtermittel!$A$8:$CG$171,12,FALSE)*$F18)","v":" "},{"$f":"IF($C18=\"\",\" \",VLOOKUP(C18,Futtermittel!$A$8:$CG$171,13,FALSE)*$F18)","v":" "},{"$f":"IF($C18=\"\",\" \",VLOOKUP($C18,Futtermittel!$A$8:$CG$171,14,FALSE)*$F18)","v":" "},{"$f":"IF($C18=\"\",\" \",VLOOKUP($C18,Futtermittel!$A$8:$CG$171,15,FALSE)*$F18)","v":" "},{"$f":"IF($C18=\"\",\" \",VLOOKUP($C18,Futtermittel!$A$8:$CG$171,16,FALSE)*$F18)","v":" "},{"$f":"IF($C18=\"\",\" \",VLOOKUP($C18,Futtermittel!$A$8:$CG$171,17,FALSE)*$F18)","v":" "},{"$f":"IF($C18=\"\",\" \",VLOOKUP($C18,Futtermittel!$A$8:$CG$171,18,FALSE)*$F18)","v":" "},{"$f":"IF($C18=\"\",\" \",VLOOKUP($C18,Futtermittel!$A$8:$CG$171,19,FALSE)*$F18)","v":" "},{"$f":"IF($C18=\"\",\" \",VLOOKUP($C18,Futtermittel!$A$8:$CG$171,20,FALSE)*$F18)","v":" "},{"$f":"IF($C18=\"\",\" \",VLOOKUP($C18,Futtermittel!$A$8:$CG$171,21,FALSE)*$F18)","v":" "},{"$f":"IF($C18=\"\",\" \",VLOOKUP($C18,Futtermittel!$A$8:$CG$171,22,FALSE)*$F18)","v":" "},{"$f":"IF($C18=\"\",\" \",VLOOKUP($C18,Futtermittel!$A$8:$CG$171,23,FALSE)*$F18)","v":" "},{"$f":"IF($C18=\"\",\" \",VLOOKUP($C18,Futtermittel!$A$8:$CG$171,24,FALSE)*$F18)","v":" "},{"$f":"IF($C18=\"\",\" \",VLOOKUP($C18,Futtermittel!$A$8:$CG$171,25,FALSE)*$F18)","v":" "},{"$f":"IF($C18=\"\",\" \",VLOOKUP($C18,Futtermittel!$A$8:$CG$171,26,FALSE)*$F18)","v":" "},{"$f":"IF($C18=\"\",\" \",VLOOKUP($C18,Futtermittel!$A$8:$CG$171,27,FALSE)*$F18)","v":" "},""]
[null,{"$f":"IF($C19=\"\",\" \",VLOOKUP($C19,Futtermittel!$A$8:$CG$171,2,FALSE))","v":" "},{"$f":"IF(Futterberechnung!C19=\"\",\"\",Futterberechnung!C19)","v":""},null,{"$f":"IF(Futterberechnung!E19=\"\",\"\",Futterberechnung!E19)","v":""},null,""," ",{"$f":"IF($C19=\"\",\" \",VLOOKUP($C19,Futtermittel!$A$8:$CG$171,8,FALSE)*$F19)","v":" "},{"$f":"IF($C19=\"\",\" \",VLOOKUP($C19,Futtermittel!$A$8:$CG$171,9,FALSE)*$F19)","v":" "},{"$f":"IF($C19=\"\",\" \",VLOOKUP($C19,Futtermittel!$A$8:$CG$171,10,FALSE)*$F19)","v":" "},{"$f":"IF($C19=\"\",\" \",VLOOKUP($C19,Futtermittel!$A$8:$CG$171,11,FALSE)*$F19)","v":" "},{"$f":"IF($C19=\"\",\" \",VLOOKUP($C19,Futtermittel!$A$8:$CG$171,12,FALSE)*$F19)","v":" "},{"$f":"IF($C19=\"\",\" \",VLOOKUP(C19,Futtermittel!$A$8:$CG$171,13,FALSE)*$F19)","v":" "},{"$f":"IF($C19=\"\",\" \",VLOOKUP($C19,Futtermittel!$A$8:$CG$171,14,FALSE)*$F19)","v":" "},{"$f":"IF($C19=\"\",\" \",VLOOKUP($C19,Futtermittel!$A$8:$CG$171,15,FALSE)*$F19)","v":" "},{"$f":"IF($C19=\"\",\" \",VLOOKUP($C19,Futtermittel!$A$8:$CG$171,16,FALSE)*$F19)","v":" "},{"$f":"IF($C19=\"\",\" \",VLOOKUP($C19,Futtermittel!$A$8:$CG$171,17,FALSE)*$F19)","v":" "},{"$f":"IF($C19=\"\",\" \",VLOOKUP($C19,Futtermittel!$A$8:$CG$171,18,FALSE)*$F19)","v":" "},{"$f":"IF($C19=\"\",\" \",VLOOKUP($C19,Futtermittel!$A$8:$CG$171,19,FALSE)*$F19)","v":" "},{"$f":"IF($C19=\"\",\" \",VLOOKUP($C19,Futtermittel!$A$8:$CG$171,20,FALSE)*$F19)","v":" "},{"$f":"IF($C19=\"\",\" \",VLOOKUP($C19,Futtermittel!$A$8:$CG$171,21,FALSE)*$F19)","v":" "},{"$f":"IF($C19=\"\",\" \",VLOOKUP($C19,Futtermittel!$A$8:$CG$171,22,FALSE)*$F19)","v":" "},{"$f":"IF($C19=\"\",\" \",VLOOKUP($C19,Futtermittel!$A$8:$CG$171,23,FALSE)*$F19)","v":" "},{"$f":"IF($C19=\"\",\" \",VLOOKUP($C19,Futtermittel!$A$8:$CG$171,24,FALSE)*$F19)","v":" "},{"$f":"IF($C19=\"\",\" \",VLOOKUP($C19,Futtermittel!$A$8:$CG$171,25,FALSE)*$F19)","v":" "},{"$f":"IF($C19=\"\",\" \",VLOOKUP($C19,Futtermittel!$A$8:$CG$171,26,FALSE)*$F19)","v":" "},{"$f":"IF($C19=\"\",\" \",VLOOKUP($C19,Futtermittel!$A$8:$CG$171,27,FALSE)*$F19)","v":" "},""]
[null,{"$f":"IF($C20=\"\",\" \",VLOOKUP($C20,Futtermittel!$A$8:$CG$171,2,FALSE))","v":" "},{"$f":"IF(Futterberechnung!C20=\"\",\"\",Futterberechnung!C20)","v":""},null,{"$f":"IF(Futterberechnung!E20=\"\",\"\",Futterberechnung!E20)","v":""},null,""," ",{"$f":"IF($C20=\"\",\" \",VLOOKUP($C20,Futtermittel!$A$8:$CG$171,8,FALSE)*$F20)","v":" "},{"$f":"IF($C20=\"\",\" \",VLOOKUP($C20,Futtermittel!$A$8:$CG$171,9,FALSE)*$F20)","v":" "},{"$f":"IF($C20=\"\",\" \",VLOOKUP($C20,Futtermittel!$A$8:$CG$171,10,FALSE)*$F20)","v":" "},{"$f":"IF($C20=\"\",\" \",VLOOKUP($C20,Futtermittel!$A$8:$CG$171,11,FALSE)*$F20)","v":" "},{"$f":"IF($C20=\"\",\" \",VLOOKUP($C20,Futtermittel!$A$8:$CG$171,12,FALSE)*$F20)","v":" "},{"$f":"IF($C20=\"\",\" \",VLOOKUP(C20,Futtermittel!$A$8:$CG$171,13,FALSE)*$F20)","v":" "},{"$f":"IF($C20=\"\",\" \",VLOOKUP($C20,Futtermittel!$A$8:$CG$171,14,FALSE)*$F20)","v":" "},{"$f":"IF($C20=\"\",\" \",VLOOKUP($C20,Futtermittel!$A$8:$CG$171,15,FALSE)*$F20)","v":" "},{"$f":"IF($C20=\"\",\" \",VLOOKUP($C20,Futtermittel!$A$8:$CG$171,16,FALSE)*$F20)","v":" "},{"$f":"IF($C20=\"\",\" \",VLOOKUP($C20,Futtermittel!$A$8:$CG$171,17,FALSE)*$F20)","v":" "},{"$f":"IF($C20=\"\",\" \",VLOOKUP($C20,Futtermittel!$A$8:$CG$171,18,FALSE)*$F20)","v":" "},{"$f":"IF($C20=\"\",\" \",VLOOKUP($C20,Futtermittel!$A$8:$CG$171,19,FALSE)*$F20)","v":" "},{"$f":"IF($C20=\"\",\" \",VLOOKUP($C20,Futtermittel!$A$8:$CG$171,20,FALSE)*$F20)","v":" "},{"$f":"IF($C20=\"\",\" \",VLOOKUP($C20,Futtermittel!$A$8:$CG$171,21,FALSE)*$F20)","v":" "},{"$f":"IF($C20=\"\",\" \",VLOOKUP($C20,Futtermittel!$A$8:$CG$171,22,FALSE)*$F20)","v":" "},{"$f":"IF($C20=\"\",\" \",VLOOKUP($C20,Futtermittel!$A$8:$CG$171,23,FALSE)*$F20)","v":" "},{"$f":"IF($C20=\"\",\" \",VLOOKUP($C20,Futtermittel!$A$8:$CG$171,24,FALSE)*$F20)","v":" "},{"$f":"IF($C20=\"\",\" \",VLOOKUP($C20,Futtermittel!$A$8:$CG$171,25,FALSE)*$F20)","v":" "},{"$f":"IF($C20=\"\",\" \",VLOOKUP($C20,Futtermittel!$A$8:$CG$171,26,FALSE)*$F20)","v":" "},{"$f":"IF($C20=\"\",\" \",VLOOKUP($C20,Futtermittel!$A$8:$CG$171,27,FALSE)*$F20)","v":" "},""]
[null,{"$f":"IF($C21=\"\",\" \",VLOOKUP($C21,Futtermittel!$A$8:$CG$171,2,FALSE))","v":" "},{"$f":"IF(Futterberechnung!C21=\"\",\"\",Futterberechnung!C21)","v":""},null,{"$f":"IF(Futterberechnung!E21=\"\",\"\",Futterberechnung!E21)","v":""},null,""," ",{"$f":"IF($C21=\"\",\" \",VLOOKUP($C21,Futtermittel!$A$8:$CG$171,8,FALSE)*$F21)","v":" "},{"$f":"IF($C21=\"\",\" \",VLOOKUP($C21,Futtermittel!$A$8:$CG$171,9,FALSE)*$F21)","v":" "},{"$f":"IF($C21=\"\",\" \",VLOOKUP($C21,Futtermittel!$A$8:$CG$171,10,FALSE)*$F21)","v":" "},{"$f":"IF($C21=\"\",\" \",VLOOKUP($C21,Futtermittel!$A$8:$CG$171,11,FALSE)*$F21)","v":" "},{"$f":"IF($C21=\"\",\" \",VLOOKUP($C21,Futtermittel!$A$8:$CG$171,12,FALSE)*$F21)","v":" "},{"$f":"IF($C21=\"\",\" \",VLOOKUP(C21,Futtermittel!$A$8:$CG$171,13,FALSE)*$F21)","v":" "},{"$f":"IF($C21=\"\",\" \",VLOOKUP($C21,Futtermittel!$A$8:$CG$171,14,FALSE)*$F21)","v":" "},{"$f":"IF($C21=\"\",\" \",VLOOKUP($C21,Futtermittel!$A$8:$CG$171,15,FALSE)*$F21)","v":" "},{"$f":"IF($C21=\"\",\" \",VLOOKUP($C21,Futtermittel!$A$8:$CG$171,16,FALSE)*$F21)","v":" "},{"$f":"IF($C21=\"\",\" \",VLOOKUP($C21,Futtermittel!$A$8:$CG$171,17,FALSE)*$F21)","v":" "},{"$f":"IF($C21=\"\",\" \",VLOOKUP($C21,Futtermittel!$A$8:$CG$171,18,FALSE)*$F21)","v":" "},{"$f":"IF($C21=\"\",\" \",VLOOKUP($C21,Futtermittel!$A$8:$CG$171,19,FALSE)*$F21)","v":" "},{"$f":"IF($C21=\"\",\" \",VLOOKUP($C21,Futtermittel!$A$8:$CG$171,20,FALSE)*$F21)","v":" "},{"$f":"IF($C21=\"\",\" \",VLOOKUP($C21,Futtermittel!$A$8:$CG$171,21,FALSE)*$F21)","v":" "},{"$f":"IF($C21=\"\",\" \",VLOOKUP($C21,Futtermittel!$A$8:$CG$171,22,FALSE)*$F21)","v":" "},{"$f":"IF($C21=\"\",\" \",VLOOKUP($C21,Futtermittel!$A$8:$CG$171,23,FALSE)*$F21)","v":" "},{"$f":"IF($C21=\"\",\" \",VLOOKUP($C21,Futtermittel!$A$8:$CG$171,24,FALSE)*$F21)","v":" "},{"$f":"IF($C21=\"\",\" \",VLOOKUP($C21,Futtermittel!$A$8:$CG$171,25,FALSE)*$F21)","v":" "},{"$f":"IF($C21=\"\",\" \",VLOOKUP($C21,Futtermittel!$A$8:$CG$171,26,FALSE)*$F21)","v":" "},{"$f":"IF($C21=\"\",\" \",VLOOKUP($C21,Futtermittel!$A$8:$CG$171,27,FALSE)*$F21)","v":" "},""]
[null,{"$f":"IF($C22=\"\",\" \",VLOOKUP($C22,Futtermittel!$A$8:$CG$171,2,FALSE))","v":" "},{"$f":"IF(Futterberechnung!C22=\"\",\"\",Futterberechnung!C22)","v":""},null,{"$f":"IF(Futterberechnung!E22=\"\",\"\",Futterberechnung!E22)","v":""},null,""," ",{"$f":"IF($C22=\"\",\" \",VLOOKUP($C22,Futtermittel!$A$8:$CG$171,8,FALSE)*$F22)","v":" "},{"$f":"IF($C22=\"\",\" \",VLOOKUP($C22,Futtermittel!$A$8:$CG$171,9,FALSE)*$F22)","v":" "},{"$f":"IF($C22=\"\",\" \",VLOOKUP($C22,Futtermittel!$A$8:$CG$171,10,FALSE)*$F22)","v":" "},{"$f":"IF($C22=\"\",\" \",VLOOKUP($C22,Futtermittel!$A$8:$CG$171,11,FALSE)*$F22)","v":" "},{"$f":"IF($C22=\"\",\" \",VLOOKUP($C22,Futtermittel!$A$8:$CG$171,12,FALSE)*$F22)","v":" "},{"$f":"IF($C22=\"\",\" \",VLOOKUP(C22,Futtermittel!$A$8:$CG$171,13,FALSE)*$F22)","v":" "},{"$f":"IF($C22=\"\",\" \",VLOOKUP($C22,Futtermittel!$A$8:$CG$171,14,FALSE)*$F22)","v":" "},{"$f":"IF($C22=\"\",\" \",VLOOKUP($C22,Futtermittel!$A$8:$CG$171,15,FALSE)*$F22)","v":" "},{"$f":"IF($C22=\"\",\" \",VLOOKUP($C22,Futtermittel!$A$8:$CG$171,16,FALSE)*$F22)","v":" "},{"$f":"IF($C22=\"\",\" \",VLOOKUP($C22,Futtermittel!$A$8:$CG$171,17,FALSE)*$F22)","v":" "},{"$f":"IF($C22=\"\",\" \",VLOOKUP($C22,Futtermittel!$A$8:$CG$171,18,FALSE)*$F22)","v":" "},{"$f":"IF($C22=\"\",\" \",VLOOKUP($C22,Futtermittel!$A$8:$CG$171,19,FALSE)*$F22)","v":" "},{"$f":"IF($C22=\"\",\" \",VLOOKUP($C22,Futtermittel!$A$8:$CG$171,20,FALSE)*$F22)","v":" "},{"$f":"IF($C22=\"\",\" \",VLOOKUP($C22,Futtermittel!$A$8:$CG$171,21,FALSE)*$F22)","v":" "},{"$f":"IF($C22=\"\",\" \",VLOOKUP($C22,Futtermittel!$A$8:$CG$171,22,FALSE)*$F22)","v":" "},{"$f":"IF($C22=\"\",\" \",VLOOKUP($C22,Futtermittel!$A$8:$CG$171,23,FALSE)*$F22)","v":" "},{"$f":"IF($C22=\"\",\" \",VLOOKUP($C22,Futtermittel!$A$8:$CG$171,24,FALSE)*$F22)","v":" "},{"$f":"IF($C22=\"\",\" \",VLOOKUP($C22,Futtermittel!$A$8:$CG$171,25,FALSE)*$F22)","v":" "},{"$f":"IF($C22=\"\",\" \",VLOOKUP($C22,Futtermittel!$A$8:$CG$171,26,FALSE)*$F22)","v":" "},{"$f":"IF($C22=\"\",\" \",VLOOKUP($C22,Futtermittel!$A$8:$CG$171,27,FALSE)*$F22)","v":" "},""]
[null,{"$f":"IF($C23=\"\",\" \",VLOOKUP($C23,Futtermittel!$A$8:$CG$171,2,FALSE))","v":" "},{"$f":"IF(Futterberechnung!C23=\"\",\"\",Futterberechnung!C23)","v":""},null,{"$f":"IF(Futterberechnung!E23=\"\",\"\",Futterberechnung!E23)","v":""},null,""," ",{"$f":"IF($C23=\"\",\" \",VLOOKUP($C23,Futtermittel!$A$8:$CG$171,8,FALSE)*$F23)","v":" "},{"$f":"IF($C23=\"\",\" \",VLOOKUP($C23,Futtermittel!$A$8:$CG$171,9,FALSE)*$F23)","v":" "},{"$f":"IF($C23=\"\",\" \",VLOOKUP($C23,Futtermittel!$A$8:$CG$171,10,FALSE)*$F23)","v":" "},{"$f":"IF($C23=\"\",\" \",VLOOKUP($C23,Futtermittel!$A$8:$CG$171,11,FALSE)*$F23)","v":" "},{"$f":"IF($C23=\"\",\" \",VLOOKUP($C23,Futtermittel!$A$8:$CG$171,12,FALSE)*$F23)","v":" "},{"$f":"IF($C23=\"\",\" \",VLOOKUP(C23,Futtermittel!$A$8:$CG$171,13,FALSE)*$F23)","v":" "},{"$f":"IF($C23=\"\",\" \",VLOOKUP($C23,Futtermittel!$A$8:$CG$171,14,FALSE)*$F23)","v":" "},{"$f":"IF($C23=\"\",\" \",VLOOKUP($C23,Futtermittel!$A$8:$CG$171,15,FALSE)*$F23)","v":" "},{"$f":"IF($C23=\"\",\" \",VLOOKUP($C23,Futtermittel!$A$8:$CG$171,16,FALSE)*$F23)","v":" "},{"$f":"IF($C23=\"\",\" \",VLOOKUP($C23,Futtermittel!$A$8:$CG$171,17,FALSE)*$F23)","v":" "},{"$f":"IF($C23=\"\",\" \",VLOOKUP($C23,Futtermittel!$A$8:$CG$171,18,FALSE)*$F23)","v":" "},{"$f":"IF($C23=\"\",\" \",VLOOKUP($C23,Futtermittel!$A$8:$CG$171,19,FALSE)*$F23)","v":" "},{"$f":"IF($C23=\"\",\" \",VLOOKUP($C23,Futtermittel!$A$8:$CG$171,20,FALSE)*$F23)","v":" "},{"$f":"IF($C23=\"\",\" \",VLOOKUP($C23,Futtermittel!$A$8:$CG$171,21,FALSE)*$F23)","v":" "},{"$f":"IF($C23=\"\",\" \",VLOOKUP($C23,Futtermittel!$A$8:$CG$171,22,FALSE)*$F23)","v":" "},{"$f":"IF($C23=\"\",\" \",VLOOKUP($C23,Futtermittel!$A$8:$CG$171,23,FALSE)*$F23)","v":" "},{"$f":"IF($C23=\"\",\" \",VLOOKUP($C23,Futtermittel!$A$8:$CG$171,24,FALSE)*$F23)","v":" "},{"$f":"IF($C23=\"\",\" \",VLOOKUP($C23,Futtermittel!$A$8:$CG$171,25,FALSE)*$F23)","v":" "},{"$f":"IF($C23=\"\",\" \",VLOOKUP($C23,Futtermittel!$A$8:$CG$171,26,FALSE)*$F23)","v":" "},{"$f":"IF($C23=\"\",\" \",VLOOKUP($C23,Futtermittel!$A$8:$CG$171,27,FALSE)*$F23)","v":" "},""]
[null,"EF-Nr.","Ergänzungsfutter ","VQ in %",null,null,{"$f":"IF(F24=\"\",\"\",I24/I$2941)","v":""},null,null,null,null,null,null,null,null,null,null,null,null,null,null,null,null,null,null,null,null,null," "]
[null,{"$f":"IF($C25=\"\",\" \",VLOOKUP($C25,Ergänzungsfutter!$A$11:$Q$35,3,FALSE))","v":" "},null,0.85,null,null,{"$f":"IF(F25=\"\",\"\",I25/I$30)","v":""}," ",{"$f":"IF($C25=\"\",\" \",VLOOKUP($C25,Ergänzungsfutter!$A$11:$BE$35,5,FALSE)*$F25)","v":" "},{"$f":"IF($C25=\"\",\" \",VLOOKUP($C25,Ergänzungsfutter!$A$11:$BE$35,6,FALSE)*$F25)","v":" "},{"$f":"IF($C25=\"\",\" \",VLOOKUP($C25,Ergänzungsfutter!$A$11:$BE$35,6,FALSE)*$F25*D25)","v":" "},{"$f":"IF($C25=\"\",\" \",VLOOKUP($C25,Ergänzungsfutter!$A$11:$BE$35,7,FALSE)*$F25)","v":" "},{"$f":"IF($C25=\"\",\" \",IF(VLOOKUP($C25,Ergänzungsfutter!$A$11:$BE$35,8,FALSE)=\" \",0,VLOOKUP($C25,Ergänzungsfutter!$A$11:$BE$35,8,FALSE)*$F25))","v":" "},{"$f":"IF($C25=\"\",\" \",IF(VLOOKUP($C25,Ergänzungsfutter!$A$11:$BE$35,8,FALSE)=\" \",0,VLOOKUP($C25,Ergänzungsfutter!$A$11:$BE$35,8,FALSE)*$F25))","v":" "},{"$f":"IF($C25=\"\",\" \",VLOOKUP($C25,Ergänzungsfutter!$A$11:$BE$35,9,FALSE)*$F25)","v":" "},{"$f":"IF($C25=\"\",\" \",VLOOKUP($C25,Ergänzungsfutter!$A$11:$BE$35,9,FALSE)*$F25*D25)","v":" "},{"$f":"IF($C25=\"\",\" \",VLOOKUP($C25,Ergänzungsfutter!$A$11:$BE$35,10,FALSE)*$F25)","v":" "},{"$f":"IF($C25=\"\",\" \",VLOOKUP($C25,Ergänzungsfutter!$A$11:$BE$35,10,FALSE)*$F25*D25)","v":" "},{"$f":"IF($C25=\"\",\" \",VLOOKUP($C25,Ergänzungsfutter!$A$11:$BE$35,11,FALSE)*$F25)","v":" "},{"$f":"IF($C25=\"\",\" \",VLOOKUP($C25,Ergänzungsfutter!$A$11:$BE$35,11,FALSE)*$F25*D25)","v":" "},{"$f":"IF($C25=\"\",\" \",VLOOKUP($C25,Ergänzungsfutter!$A$11:$BE$35,12,FALSE)*$F25)","v":" "},{"$f":"IF($C25=\"\",\" \",VLOOKUP($C25,Ergänzungsfutter!$A$11:$BE$35,12,FALSE)*$F25*D25)","v":" "},{"$f":"IF($C25=\"\",\" \",VLOOKUP($C25,Ergänzungsfutter!$A$11:$BE$35,13,FALSE)*$F25)","v":" "},{"$f":"IF($C25=\"\",\" \",VLOOKUP($C25,Ergänzungsfutter!$A$11:$BE$35,14,FALSE)*$F25)","v":" "},{"$f":"IF($C25=\"\",\" \",VLOOKUP($C25,Ergänzungsfutter!$A$11:$BE$35,15,FALSE)*$F25)","v":" "},{"$f":"IF($C25=\"\",\" \",IF(Y25>VLOOKUP($C25,Ergänzungsfutter!$A$11:$BE$35,14,FALSE)*$F25*0.65,Y25,VLOOKUP($C25,Ergänzungsfutter!$A$11:$BE$35,14,FALSE)*$F25*0.65))","v":" "},{"$f":"IF($C25=\"\",\" \",VLOOKUP($C25,Ergänzungsfutter!$A$11:$BE$35,16,FALSE)*$F25)","v":" "},{"$f":"IF($C25=\"\",\" \",VLOOKUP($C25,Ergänzungsfutter!$A$11:$BE$35,17,FALSE)*$F25)","v":" "}," "]
[null,{"$f":"IF($C26=\"\",\" \",VLOOKUP($C26,Ergänzungsfutter!$A$11:$Q$35,3,FALSE))","v":" "},null,null,null,null,{"$f":"IF(F26=\"\",\"\",I26/I$30)","v":""}," ",{"$f":"IF($C26=\"\",\" \",VLOOKUP($C26,Ergänzungsfutter!$A$11:$BE$35,5,FALSE)*$F26)","v":" "},{"$f":"IF($C26=\"\",\" \",VLOOKUP($C26,Ergänzungsfutter!$A$11:$BE$35,6,FALSE)*$F26)","v":" "},{"$f":"IF($C26=\"\",\" \",VLOOKUP($C26,Ergänzungsfutter!$A$11:$BE$35,6,FALSE)*$F26*D26)","v":" "},{"$f":"IF($C26=\"\",\" \",VLOOKUP($C26,Ergänzungsfutter!$A$11:$BE$35,7,FALSE)*$F26)","v":" "},{"$f":"IF($C26=\"\",\" \",IF(VLOOKUP($C26,Ergänzungsfutter!$A$11:$BE$35,8,FALSE)=\" \",0,VLOOKUP($C26,Ergänzungsfutter!$A$11:$BE$35,8,FALSE)*$F26))","v":" "},{"$f":"IF($C26=\"\",\" \",IF(VLOOKUP($C26,Ergänzungsfutter!$A$11:$BE$35,8,FALSE)=\" \",0,VLOOKUP($C26,Ergänzungsfutter!$A$11:$BE$35,8,FALSE)*$F26))","v":" "},{"$f":"IF($C26=\"\",\" \",VLOOKUP($C26,Ergänzungsfutter!$A$11:$BE$35,9,FALSE)*$F26)","v":" "},{"$f":"IF($C26=\"\",\" \",VLOOKUP($C26,Ergänzungsfutter!$A$11:$BE$35,9,FALSE)*$F26*D26)","v":" "},{"$f":"IF($C26=\"\",\" \",VLOOKUP($C26,Ergänzungsfutter!$A$11:$BE$35,10,FALSE)*$F26)","v":" "},{"$f":"IF($C26=\"\",\" \",VLOOKUP($C26,Ergänzungsfutter!$A$11:$BE$35,10,FALSE)*$F26*D26)","v":" "},{"$f":"IF($C26=\"\",\" \",VLOOKUP($C26,Ergänzungsfutter!$A$11:$BE$35,11,FALSE)*$F26)","v":" "},{"$f":"IF($C26=\"\",\" \",VLOOKUP($C26,Ergänzungsfutter!$A$11:$BE$35,11,FALSE)*$F26*D26)","v":" "},{"$f":"IF($C26=\"\",\" \",VLOOKUP($C26,Ergänzungsfutter!$A$11:$BE$35,12,FALSE)*$F26)","v":" "},{"$f":"IF($C26=\"\",\" \",VLOOKUP($C26,Ergänzungsfutter!$A$11:$BE$35,12,FALSE)*$F26*D26)","v":" "},{"$f":"IF($C26=\"\",\" \",VLOOKUP($C26,Ergänzungsfutter!$A$11:$BE$35,13,FALSE)*$F26)","v":" "},{"$f":"IF($C26=\"\",\" \",VLOOKUP($C26,Ergänzungsfutter!$A$11:$BE$35,14,FALSE)*$F26)","v":" "},{"$f":"IF($C26=\"\",\" \",VLOOKUP($C26,Ergänzungsfutter!$A$11:$BE$35,15,FALSE)*$F26)","v":" "},{"$f":"IF($C26=\"\",\" \",IF(Y26>VLOOKUP($C26,Ergänzungsfutter!$A$11:$BE$35,14,FALSE)*$F26*0.65,Y26,VLOOKUP($C26,Ergänzungsfutter!$A$11:$BE$35,14,FALSE)*$F26*0.65))","v":" "},{"$f":"IF($C26=\"\",\" \",VLOOKUP($C26,Ergänzungsfutter!$A$11:$BE$35,16,FALSE)*$F26)","v":" "},{"$f":"IF($C26=\"\",\" \",VLOOKUP($C26,Ergänzungsfutter!$A$11:$BE$35,17,FALSE)*$F26)","v":" "}," "]
[null,"Nr.","Mineralfutter",null,null,null,{"$f":"IF(F27=\"\",\"\",I27/I$2944)","v":""},null,null,null,null,null,null,null,null,null,null,null,null,null,null,null,null,null,null,null,null,null," "]
[2,{"$f":"IF($C28=\"\",\" \",VLOOKUP($C28,Mineralfutter!$A$11:$BE$25,3,FALSE))","v":6},"Opti. MinFu AM 850g TZ 3,5% + Phytase 17/18",null,81,3.5000000000000003E-2,{"$f":"IF(F28=\"\",\"\",I28/I$30)","v":3.7948563884035509E-2},35,{"$f":"IF($C28=\"\",\" \",VLOOKUP($C28,Mineralfutter!$A$11:$BE$25,5,FALSE)*$F28)","v":33.6},{"$f":"IF($C28=\"\",\" \",VLOOKUP($C28,Mineralfutter!$A$11:$BE$25,6,FALSE)*$F28)","v":5.730410422910424},{"$f":"IF($C28=\"\",\" \",VLOOKUP($C28,Mineralfutter!$A$11:$BE$25,6,FALSE)*$F28)","v":5.730410422910424},{"$f":"IF($C28=\"\",\" \",VLOOKUP($C28,Mineralfutter!$A$11:$BE$25,7,FALSE)*$F28)","v":0},{"$f":"IF($C28=\"\",\" \",IF(VLOOKUP($C28,Mineralfutter!$A$11:$BE$25,8,FALSE)=\" \",0,VLOOKUP($C28,Mineralfutter!$A$11:$BE$25,8,FALSE)*$F28))","v":0.11749050949050949},{"$f":"IF($C28=\"\",\" \",IF(VLOOKUP($C28,Mineralfutter!$A$11:$BE$25,19,FALSE)=\" \",0,VLOOKUP($C28,Mineralfutter!$A$11:$BE$25,19,FALSE)*$F28))","v":0.12320880369630371},{"$f":"IF($C28=\"\",\" \",VLOOKUP($C28,Mineralfutter!$A$11:$BE$25,9,FALSE)*$F28)","v":3.3250000000000002},{"$f":"IF($C28=\"\",\" \",VLOOKUP($C28,Mineralfutter!$A$11:$BE$25,9,FALSE)*$F28)","v":3.3250000000000002},{"$f":"IF($C28=\"\",\" \",VLOOKUP($C28,Mineralfutter!$A$11:$BE$25,10,FALSE)*$F28)","v":1.05},{"$f":"IF($C28=\"\",\" \",VLOOKUP($C28,Mineralfutter!$A$11:$BE$25,10,FALSE)*$F28)","v":1.05},{"$f":"IF($C28=\"\",\" \",VLOOKUP($C28,Mineralfutter!$A$11:$BE$25,11,FALSE)*$F28)","v":1.4000000000000001},{"$f":"IF($C28=\"\",\" \",VLOOKUP($C28,Mineralfutter!$A$11:$BE$25,11,FALSE)*$F28)","v":1.4000000000000001},{"$f":"IF($C28=\"\",\" \",VLOOKUP($C28,Mineralfutter!$A$11:$BE$25,12,FALSE)*$F28)","v":0},{"$f":"IF($C28=\"\",\" \",VLOOKUP($C28,Mineralfutter!$A$11:$BE$25,12,FALSE)*$F28)","v":0},{"$f":"IF($C28=\"\",\" \",VLOOKUP($C28,Mineralfutter!$A$11:$BE$25,13,FALSE)*$F28)","v":5.0750000000000002},{"$f":"IF($C28=\"\",\" \",VLOOKUP($C28,Mineralfutter!$A$11:$BE$25,14,FALSE)*$F28)","v":0.52500000000000002},{"$f":"IF($C28=\"\",\" \",VLOOKUP($C28,Mineralfutter!$A$11:$BE$25,15,FALSE)*$F28)","v":0.42000000000000004},{"$f":"IF($C28=\"\",\" \",VLOOKUP($C28,Mineralfutter!$A$11:$BE$25,15,FALSE)*$F28)","v":0.42000000000000004},{"$f":"IF($C28=\"\",\" \",VLOOKUP($C28,Mineralfutter!$A$11:$BE$25,16,FALSE)*$F28)","v":0},{"$f":"IF($C28=\"\",\" \",VLOOKUP($C28,Mineralfutter!$A$11:$BE$25,17,FALSE)*$F28)","v":1.7500000000000002},2.8350000000000004]
[null,{"$f":"IF($C29=\"\",\" \",VLOOKUP($C29,Mineralfutter!$A$11:$BE$25,3,FALSE))","v":" "},null,null,null,null,{"$f":"IF(F29=\"\",\"\",I29/I$30)","v":""}," ",{"$f":"IF($C29=\"\",\" \",VLOOKUP($C29,Mineralfutter!$A$11:$BE$25,5,FALSE)*$F29)","v":" "},{"$f":"IF($C29=\"\",\" \",VLOOKUP($C29,Mineralfutter!$A$11:$BE$25,6,FALSE)*$F29)","v":" "},{"$f":"IF($C29=\"\",\" \",VLOOKUP($C29,Mineralfutter!$A$11:$BE$25,6,FALSE)*$F29)","v":" "},{"$f":"IF($C29=\"\",\" \",VLOOKUP($C29,Mineralfutter!$A$11:$BE$25,7,FALSE)*$F29)","v":" "},{"$f":"IF($C29=\"\",\" \",IF(VLOOKUP($C29,Mineralfutter!$A$11:$BE$25,8,FALSE)=\" \",0,VLOOKUP($C29,Mineralfutter!$A$11:$BE$25,8,FALSE)*$F29))","v":" "},{"$f":"IF($C29=\"\",\" \",IF(VLOOKUP($C29,Mineralfutter!$A$11:$BE$25,19,FALSE)=\" \",0,VLOOKUP($C29,Mineralfutter!$A$11:$BE$25,19,FALSE)*$F29))","v":" "},{"$f":"IF($C29=\"\",\" \",VLOOKUP($C29,Mineralfutter!$A$11:$BE$25,9,FALSE)*$F29)","v":" "},{"$f":"IF($C29=\"\",\" \",VLOOKUP($C29,Mineralfutter!$A$11:$BE$25,9,FALSE)*$F29)","v":" "},{"$f":"IF($C29=\"\",\" \",VLOOKUP($C29,Mineralfutter!$A$11:$BE$25,10,FALSE)*$F29)","v":" "},{"$f":"IF($C29=\"\",\" \",VLOOKUP($C29,Mineralfutter!$A$11:$BE$25,10,FALSE)*$F29)","v":" "},{"$f":"IF($C29=\"\",\" \",VLOOKUP($C29,Mineralfutter!$A$11:$BE$25,11,FALSE)*$F29)","v":" "},{"$f":"IF($C29=\"\",\" \",VLOOKUP($C29,Mineralfutter!$A$11:$BE$25,11,FALSE)*$F29)","v":" "},{"$f":"IF($C29=\"\",\" \",VLOOKUP($C29,Mineralfutter!$A$11:$BE$25,12,FALSE)*$F29)","v":" "},{"$f":"IF($C29=\"\",\" \",VLOOKUP($C29,Mineralfutter!$A$11:$BE$25,12,FALSE)*$F29)","v":" "},{"$f":"IF($C29=\"\",\" \",VLOOKUP($C29,Mineralfutter!$A$11:$BE$25,13,FALSE)*$F29)","v":" "},{"$f":"IF($C29=\"\",\" \",VLOOKUP($C29,Mineralfutter!$A$11:$BE$25,14,FALSE)*$F29)","v":" "},{"$f":"IF($C29=\"\",\" \",VLOOKUP($C29,Mineralfutter!$A$11:$BE$25,15,FALSE)*$F29)","v":" "},{"$f":"IF($C29=\"\",\" \",VLOOKUP($C29,Mineralfutter!$A$11:$BE$25,15,FALSE)*$F29)","v":" "},{"$f":"IF($C29=\"\",\" \",VLOOKUP($C29,Mineralfutter!$A$11:$BE$25,16,FALSE)*$F29)","v":" "},{"$f":"IF($C29=\"\",\" \",VLOOKUP($C29,Mineralfutter!$A$11:$BE$25,17,FALSE)*$F29)","v":" "}," "]
[null,null,"Summe",null,{"$f":"AC30","v":22.872660000000003},{"$f":"IF(SUM(F13:F29,F36:F37)=0,\" \",SUM(F13:F29,F36:F37))","v":1},null,null,{"$f":"IF(F30=\" \",\" \",SUM(I13:I29,I36*$F36,I37*$F37))","v":885.40900000000011},{"$f":"IF(I30=\" \",\" \",SUM(J13:J29,J36*$F36,J37*$F37))","v":147.83963042291043},123.55590902291043,37.663960000000003,{"$f":"IF(L30=\" \",\" \",SUM(M13:M29,N36*$F36,N37*$F37))","v":13.225935413150511},{"$f":"IF(F30=\" \",\" \",IF(N37=\"\",(0.021503*J30+0.032497*I63+0.016309*J63+0.014701*M63-0.02107*L30),IF(N36=\" \",(0.021503*J30+0.032497*I63+0.016309*J63+0.014701*M63-0.02107*L30),SUM(N13:N29)+N36*F36+N37*F37)))","v":13.189244263163843},{"$f":"IF(M30=\" \",\" \",SUM(O13:O29,O36*$F36,O37*$F37))","v":9.7052303090909078},8.7494777529090904,5.9002040999999998,5.227279645052632,6.4476407818181816,5.6832829323636362,1.8851081090909092,1.5985962338181818,5.9813285417659579,4.178381059751973,2.2729024239007889,2.8818357948139797,1.2732330042553193,1.9216243793103451,{"$f":"IF(SUM(AC13:AC29,AC36:AC37)=0,\" \",SUM(AC13:AC29,AC36:AC37))","v":22.872660000000003}]
[null,null,"Summe auf 88% TM umgerechnet",null,{"$f":"AC31","v":22.732929979252528},{"$f":"F30","v":1},null,null,880,{"$f":"IF($F31=\" \",\" \",ROUND($I31*J30/$I30*$F31,0))","v":147},{"$f":"IF($F31=\" \",\" \",ROUND($I31*K30/$I30*$F31,0))","v":123},{"$f":"IF($F31=\" \",\" \",ROUND($I31*L30/$I30*$F31,0))","v":37},{"$f":"IF($F31=\" \",\" \",ROUND($I31*M30/$I30*$F31,2))","v":13.15},{"$f":"IF($F31=\" \",\" \",ROUND($I31*N30/$I30*$F31,2))","v":13.11},{"$f":"IF($F31=\" \",\" \",ROUND($I31*O30/$I30*$F31,1))","v":9.6},8.6999999999999993,5.9,5.2,6.4,5.6,1.9,1.6,5.9,4.2,2.2999999999999998,2.9,1.3,1.9,{"$f":"IF(AC30=\" \",\" \",AC30*I31/I30)","v":22.732929979252528}]
[null,"OW-Nr.","aus Tabelle Orientierungswerte in g"]
[null,{"$f":"IF($C33=\"\",\" \",VLOOKUP($C33,Orientierungswerte!A13:AZ126,2,FALSE))","v":13},"Anfangsmast ab 40 Kg LM für 850 g TZ*",null,"-",{"$f":"F30","v":1},null,null,{"$f":"I31","v":880},{"$f":"IF($C33=\"\",\" \",ROUND(VLOOKUP($C$33,Orientierungswerte!$A$13:$AZ$126,5,FALSE)*$F$33,0))","v":158},{"$f":"IF($C33=\"\",\" \",ROUND(VLOOKUP($C$33,Orientierungswerte!$A$13:$AZ$126,6,FALSE)*$F$33,0))","v":139},{"$f":"IF($C33=\"\",\" \",ROUND(VLOOKUP($C33,Orientierungswerte!$A$13:$AZ$126,28,FALSE)*$F$33,0))","v":40},{"$f":"IF($C33=\"\",\" \",ROUND(VLOOKUP($C$33,Orientierungswerte!$A$13:$AZ$126,4,FALSE)*$F$33,2))","v":13.2},{"$f":"IF($C33=\"\",\" \",ROUND(VLOOKUP($C$33,Orientierungswerte!$A$13:$AZ$126,4,FALSE)*$F$33,2))","v":13.2},{"$f":"IF($C33=\"\",\" \",ROUND(VLOOKUP($C$33,Orientierungswerte!$A$13:$AZ$126,7,FALSE)*$F$33,1))","v":10.199999999999999},{"$f":"IF($C33=\"\",\" \",ROUND(VLOOKUP($C$33,Orientierungswerte!$A$13:$AZ$126,8,FALSE)*$F$33,1))","v":8.9},{"$f":"IF($C33=\"\",\" \",ROUND(VLOOKUP($C$33,Orientierungswerte!$A$13:$AZ$126,9,FALSE)*$F$33,1))","v":5.5},{"$f":"IF($C33=\"\",\" \",ROUND(VLOOKUP($C$33,Orientierungswerte!$A$13:$AZ$126,10,FALSE)*$F$33,1))","v":4.9000000000000004},{"$f":"IF($C33=\"\",\" \",ROUND(VLOOKUP($C$33,Orientierungswerte!$A$13:$AZ$126,11,FALSE)*$F$33,1))","v":6.4},{"$f":"IF($C33=\"\",\" \",ROUND(VLOOKUP($C$33,Orientierungswerte!$A$13:$AZ$126,12,FALSE)*$F$33,1))","v":5.8},{"$f":"IF($C33=\"\",\" \",ROUND(VLOOKUP($C$33,Orientierungswerte!$A$13:$AZ$126,13,FALSE)*$F$33,1))","v":1.8},{"$f":"IF($C33=\"\",\" \",ROUND(VLOOKUP($C$33,Orientierungswerte!$A$13:$AZ$126,14,FALSE)*$F$33,1))","v":1.6},{"$f":"IF($C33=\"\",\" \",ROUND(VLOOKUP($C$33,Orientierungswerte!$A$13:$AZ$126,15,FALSE)*$F$33,1))","v":5.9},{"$f":"IF($C33=\"\",\" \",ROUND(VLOOKUP($C$33,Orientierungswerte!$A$13:$AZ$126,16,FALSE)*$F$33,1))","v":4.4000000000000004},{"$f":"IF($C33=\"\",\" \",ROUND(VLOOKUP($C$33,Orientierungswerte!$A$13:$AZ$126,17,FALSE)*$F$33,1))","v":2.7},{"$f":"IF($C33=\"\",\" \",ROUND(VLOOKUP($C$33,Orientierungswerte!$A$13:$AZ$126,17,FALSE)*$F$33,1))","v":2.7},{"$f":"IF($C33=\"\",\" \",ROUND(VLOOKUP($C$33,Orientierungswerte!$A$13:$AZ$126,18,FALSE)*$F$33,1))","v":1},{"$f":"IF($C33=\"\",\" \",ROUND(VLOOKUP($C$33,Orientierungswerte!$A$13:$AZ$126,19,FALSE)*$F$33,1))","v":1.8},"-"]
[null,null,"Differenz Mischung zu Orientierungswert",null,"-",{"$f":"IF($C$33=\"\",\" \",ROUND((1-F31)*-1,4))","v":0},null,null,{"$f":"IF($C$33=\"\",\" \",ROUND(I31-I33,))","v":0},{"$f":"IF($C$33=\"\",\" \",ROUND(J31-J33,))","v":-11},{"$f":"IF($C$33=\"\",\" \",ROUND(K31-K33,0))","v":-16},{"$f":"IF($C$33=\"\",\" \",ROUND(L31-L33,0))","v":-3},{"$f":"IF($C$33=\"\",\" \",ROUND(M31-M33,2))","v":-0.05},{"$f":"IF($C$33=\"\",\" \",ROUND(N31-N33,2))","v":-0.09},{"$f":"IF($C$33=\"\",\" \",ROUND(O31-O33,1))","v":-0.6},-0.2,0.4,0.3,0,-0.2,0.1,0,0,-0.2,-0.4,0.2,0.3,0.1,"-"]
[null,"erforderliches Mineral- oder Ergänzungsfutter",null,null,null,"Anteil %",null,null,null,{"$f":"IF(F$36=0,\" \",O35*954/780+Q35*584/990+S35*731/980+U35*853/980)","v":" "},{"$f":"IF(F$36=0,\" \",IF(J35>200,J35*0.8,J35))","v":" "},null,{"$f":"IF(F$36=0,\" \",O35*21.3/780+Q35*13/990+S35*16.3/980+U35*19/980)","v":" "}]
[null,null,"opt. Mineralfutter in g/kg:",null,null,null,{"$f":"IF(F36=\"\",\"\",I36*F36/I$30)","v":""},{"$f":"IF(F36=\"\",\" \",$H$8*F36*1000)","v":" "},{"$f":"IF($F36=0,0,960)","v":0},{"$f":"IF($F36=0,0,O36*954/780+Q36*584/990+S36*731/980+U36*853/980)","v":0},{"$f":"IF(F$36=0,0,J36)","v":0},null,{"$f":"IF($F36=0,0,O36*19.56/780+Q36*11.97/990+S36*14.99/980+U36*17.49/980)","v":0},{"$f":"IF($F36=0,0,O36*20.51/780+Q36*12.56/990+S36*15.72/980+U36*18.34/980)","v":0},95,{"$f":"O36","v":95},30,{"$f":"Q36","v":30},40,{"$f":"S36","v":40},null,{"$f":"U36","v":0},145,15,{"$f":"IF(F36=0,0,X36*0.8)","v":0},{"$f":"Y36","v":0},null,50,{"$f":"IF(F36*E36=0,0,F36*E36)","v":0}]
[null,null,"opt. Ergänzungsfutter in g/kg:",0.85,null,null,{"$f":"IF(F37=\"\",\"\",I37*F37/I$30)","v":""},{"$f":"IF(F37=\"\",\" \",$H$8*F37*1000)","v":" "},{"$f":"IF($F37=0,0,890)","v":0},null,{"$f":"IF(F37=0,0,J37*D37)","v":0},null,{"$f":"N37","v":0},null,null,{"$f":"IF(O37=0,0,O37*D37)","v":0},null,{"$f":"IF(Q37=0,0,Q37*D37)","v":0},null,{"$f":"IF(S37=0,0,S37*D37)","v":0},null,{"$f":"IF(U37=0,0,U37*D37)","v":0},null,null,{"$f":"IF(F37=0,0,X37*0.75)","v":0},{"$f":"IF(F37=0,0,X37*0.75)","v":0},null,null,{"$f":"IF(F37*E37=0,0,F37*E37)","v":0}]
[null,"pcv VQ Lys",null,null,null,null,null,null,null,null,null,null,null,null,null,null,null,null,null,null,null,null,null,"Ca / vP"]
[null,null,null,null,null,"Lys / ME",null,null," pcv Lys/ ME",null,null,"pcv. Lys. / pcv. M. & C. / pcv. Thr. / pcv. Trp.",null,null,null,null,null,null,null,"Ca / P",null,null,"mit Phytase",{"$f":"IF(F30=\" \",\" \",W30/Z30)","v":2.0755271874024483},{"$f":"IF(F30=0,\" \",1)","v":1},"Lys / 100g RP"]
[null,{"$f":"IF(F30=\" \",\" \",P31/O31)","v":0.90625},"in der Mischung",null,null,{"$f":"IF(F30=\" \",\" \",O31/M31)","v":0.73003802281368813},{"$f":"IF(F30<=0,\" \",1)","v":1},null,{"$f":"IF(F30=\" \",\" \",P31/M31)","v":0.66159695817490483},{"$f":"IF(L30<=0,\" \",1)","v":1},null,{"$f":"IF(F30<=0,\" \",1)","v":1},"/",{"$f":"IF(F30=\" \",\" \",R30/P30)","v":0.59743904638361167},"/",{"$f":"IF(F30=\" \",\" \",T30/P30)","v":0.64955681845970936},"/",{"$f":"IF(F30=\" \",\" \",V30/P30)","v":0.18270761741026986},null,{"$f":"IF(F30=\" \",\" \",W30/X30)","v":1.4314942692471919},{"$f":"IF(F30=0,\" \",1)","v":1},null,"ohne",{"$f":"IF(F30=\" \",\" \",W30/Y30)","v":2.6315817515389477},{"$f":"IF(F30=0,\" \",1)","v":1},null,{"$f":"IF(L30=\" \",\" \",P31*100/J31)","v":5.9183673469387745},{"$f":"IF(L30=0,\" \",100)","v":100}]
[null,{"$f":"IF(P33=\" \",\" \",P33/O33)","v":0.87254901960784326},"Orientierungswerte",null,null,{"$f":"IF($B$33=\" \",\" \",ROUND(VLOOKUP($B$33,Orientierungswerte!$B$13:$X$114,23,TRUE),2))","v":0.77},{"$f":"IF($B$33=\" \",1,ROUND(VLOOKUP($B$33,Orientierungswerte!$B$13:$X$114,19,TRUE),2))","v":1},null,{"$f":"IF($B$33=\" \",\" \",ROUND(VLOOKUP($B$33,Orientierungswerte!$B$13:$AB$114,24,TRUE),2))","v":0.68},{"$f":"IF($B$33=\" \",1,ROUND(VLOOKUP($B$33,Orientierungswerte!$B$13:$X$114,19,TRUE),2))","v":1},null,{"$f":"IF($B$33=\" \",1,ROUND(VLOOKUP($B$33,Orientierungswerte!$B$13:$X$114,19,TRUE),2))","v":1},"/",{"$f":"IF($B$33=\" \",\" \",ROUND(VLOOKUP($B$33,Orientierungswerte!$B$13:$X$114,20,TRUE),2))","v":0.54},"/",{"$f":"IF($B$33=\" \",\" \",ROUND(VLOOKUP($B$33,Orientierungswerte!$B$13:$X$114,21,TRUE),2))","v":0.63},"/",{"$f":"IF($B$33=\" \",\" \",ROUND(VLOOKUP($B$33,Orientierungswerte!$B$13:$X$114,22,TRUE),2))","v":0.18},null,{"$f":"IF($B$33=\" \",\" \",ROUND(VLOOKUP($B$33,Orientierungswerte!$B$13:$AA$114,25,TRUE),2))","v":1.35},{"$f":"IF($B$33=\" \",1,ROUND(VLOOKUP($B$33,Orientierungswerte!$B$13:$X$114,19,TRUE),2))","v":1},null,null,{"$f":"IF($B$33=\" \",\" \",ROUND(VLOOKUP($B$33,Orientierungswerte!$B$13:$AA$114,26,TRUE),2))","v":2.2000000000000002},{"$f":"IF($B$33=\" \",1,ROUND(VLOOKUP($B$33,Orientierungswerte!$B$13:$X$114,19,TRUE),2))","v":1},null,{"$f":"IF($B$33=\" \",\" \",ROUND(P33*100/J33,2))","v":5.63},{"$f":"IF($B$33=\" \",1,ROUND(VLOOKUP($B$33,Orientierungswerte!$B$13:$X$114,19,TRUE)*100,0))","v":100}]
[]
[]
[null,null,null,null,"Preis","Anteil","Met","pcv Met","Roh-fett XL","Stär-ke     S","Zu-cker Z","Roh-asche XA","org. Rest","Poly-en-säure","Linol-säure","Lino-len-säure","Vit A in IE","Vit D in IE","Vit E in mg","KAB BE in mmol","SBK in meq","BfS","NDF               om","ADF               om","NfE","NE_GP","NE_S","Kali-um         K","DON","ZEA"]
[null,"FM-Nr.","Futtermittel + % RP in der FM",null,"€/dt","%","Anteil in g/kg",null,null,null,null,null,null,null,null,null,"pro kg ",null,null,null,null,"Anteil in g/kg",null,null,null,"MJ/kg",null,"g/kg","mg pro kg"]
[null,{"$f":"B13","v":49},{"$f":"IF(C13=\"\",\" \",C13)","v":"eigener Weizen 10% RP Ø 2018"},null,{"$f":"IF(E13=\"\",\" \",E13)","v":17.420000000000002},0.51,{"$f":"IF($C13=\"\",\" \",VLOOKUP(C13,Futtermittel!$A$8:$CG$171,29,FALSE)*$F13)","v":0.60710400000000009},{"$f":"IF($C13=\"\",\" \",VLOOKUP(C13,Futtermittel!$A$8:$CG$171,30,FALSE)*$F13)","v":0.53425151999999998},{"$f":"IF($C13=\"\",\" \",VLOOKUP(C13,Futtermittel!$A$8:$CG$171,31,FALSE)*$F13)","v":9.0066000000000006},{"$f":"IF($C13=\"\",\" \",VLOOKUP(C13,Futtermittel!$A$8:$CG$171,32,FALSE)*$F13)","v":305.286},{"$f":"IF($C13=\"\",\" \",VLOOKUP(C13,Futtermittel!$A$8:$CG$171,33,FALSE)*$F13)","v":14.280000000000001},{"$f":"IF($C13=\"\",\" \",VLOOKUP(C13,Futtermittel!$A$8:$CG$171,34,FALSE)*$F13)","v":8.4660000000000011},{"$f":"IF($C13=\"\",\" \",VLOOKUP(C13,Futtermittel!$A$8:$CG$171,36,FALSE)*$F13)","v":62.082300000000011},{"$f":"IF($C13=\"\",\" \",VLOOKUP($C13,Futtermittel!$A$8:$CG$171,37,FALSE)*$F13)","v":5.5335000000000001},{"$f":"IF($C13=\"\",\" \",VLOOKUP($C13,Futtermittel!$A$8:$CG$171,38,FALSE)*$F13)","v":5.08725},{"$f":"IF($C13=\"\",\" \",VLOOKUP($C13,Futtermittel!$A$8:$CG$171,39,FALSE)*$F13)","v":0.44625000000000004},{"$f":"IF($C13=\"\",\" \",VLOOKUP($C13,Futtermittel!$A$8:$CG$171,40,FALSE)*$F13)","v":0},{"$f":"IF($C13=\"\",\" \",VLOOKUP($C13,Futtermittel!$A$8:$CG$171,41,FALSE)*$F13)","v":0},{"$f":"IF($C13=\"\",\" \",VLOOKUP($C13,Futtermittel!$A$8:$CG$171,42,FALSE)*$F13)","v":0},{"$f":"IF($C13=\"\",\" \",VLOOKUP($C13,Futtermittel!$A$8:$CG$171,43,FALSE)*$F13)","v":-12.641879999999979},{"$f":"IF($C13=\"\",\" \",VLOOKUP($C13,Futtermittel!$A$8:$CG$171,44,FALSE)*$F13)","v":160.73058},{"$f":"IF($C13=\"\",\" \",VLOOKUP($C13,Futtermittel!$A$8:$CG$171,45,FALSE)*$F13)","v":25.852155000000021},{"$f":"IF($C13=\"\",\" \",VLOOKUP($C13,Futtermittel!$A$8:$CG$171,54,FALSE)*$F13)","v":87.685524000000015},{"$f":"IF($C13=\"\",\" \",VLOOKUP($C13,Futtermittel!$A$8:$CG$171,53,FALSE)*$F13)","v":18.82818},{"$f":"IF($C13=\"\",\" \",VLOOKUP($C13,Futtermittel!$A$8:$CG$171,46,FALSE)*$F13)","v":367.36830000000003},{"$f":"IF($C13=\"\",\" \",VLOOKUP($C13,Futtermittel!$A$8:$CG$171,56,FALSE)*$F13)","v":5.1314460187351862},{"$f":"IF($C13=\"\",\" \",VLOOKUP($C13,Futtermittel!$A$8:$CG$171,57,FALSE)*$F13)","v":5.2644665180386356},{"$f":"IF($C13=\"\",\" \",VLOOKUP($C13,Futtermittel!$A$8:$CG$171,28,FALSE)*$F13)","v":1.9379999999999999},{"$f":"IF($C13=\"\",\" \",VLOOKUP($C13,Futtermittel!$A$8:$CG$171,58,FALSE)*$F13)","v":0},{"$f":"IF($C13=\"\",\" \",VLOOKUP($C13,Futtermittel!$A$8:$CG$171,59,FALSE)*$F13)","v":0}]
[null,11,"eigene Gerste 10% RP Ø 2018",null,16.39,0.314,{"$f":"IF($C14=\"\",\" \",VLOOKUP(C14,Futtermittel!$A$8:$CG$171,29,FALSE)*$F14)","v":0.39918819999999994},{"$f":"IF($C14=\"\",\" \",VLOOKUP(C14,Futtermittel!$A$8:$CG$171,30,FALSE)*$F14)","v":0.32733432399999995},{"$f":"IF($C14=\"\",\" \",VLOOKUP(C14,Futtermittel!$A$8:$CG$171,31,FALSE)*$F14)","v":7.4700600000000001},{"$f":"IF($C14=\"\",\" \",VLOOKUP(C14,Futtermittel!$A$8:$CG$171,32,FALSE)*$F14)","v":157.72220000000002},{"$f":"IF($C14=\"\",\" \",VLOOKUP(C14,Futtermittel!$A$8:$CG$171,33,FALSE)*$F14)","v":7.2220000000000004},{"$f":"IF($C14=\"\",\" \",VLOOKUP(C14,Futtermittel!$A$8:$CG$171,34,FALSE)*$F14)","v":7.4104000000000001},{"$f":"IF($C14=\"\",\" \",VLOOKUP(C14,Futtermittel!$A$8:$CG$171,36,FALSE)*$F14)","v":55.763259999999974},{"$f":"IF($C14=\"\",\" \",VLOOKUP($C14,Futtermittel!$A$8:$CG$171,37,FALSE)*$F14)","v":4.7260248275862065},{"$f":"IF($C14=\"\",\" \",VLOOKUP($C14,Futtermittel!$A$8:$CG$171,38,FALSE)*$F14)","v":4.3448937931034477},{"$f":"IF($C14=\"\",\" \",VLOOKUP($C14,Futtermittel!$A$8:$CG$171,39,FALSE)*$F14)","v":0.38113103448275859},{"$f":"IF($C14=\"\",\" \",VLOOKUP($C14,Futtermittel!$A$8:$CG$171,40,FALSE)*$F14)","v":0},{"$f":"IF($C14=\"\",\" \",VLOOKUP($C14,Futtermittel!$A$8:$CG$171,41,FALSE)*$F14)","v":0},{"$f":"IF($C14=\"\",\" \",VLOOKUP($C14,Futtermittel!$A$8:$CG$171,42,FALSE)*$F14)","v":0},{"$f":"IF($C14=\"\",\" \",VLOOKUP($C14,Futtermittel!$A$8:$CG$171,43,FALSE)*$F14)","v":-13.959447110344815},{"$f":"IF($C14=\"\",\" \",VLOOKUP($C14,Futtermittel!$A$8:$CG$171,44,FALSE)*$F14)","v":95.760381551999998},{"$f":"IF($C14=\"\",\" \",VLOOKUP($C14,Futtermittel!$A$8:$CG$171,45,FALSE)*$F14)","v":29.985555599999987},{"$f":"IF($C14=\"\",\" \",VLOOKUP($C14,Futtermittel!$A$8:$CG$171,54,FALSE)*$F14)","v":115.86681206896554},{"$f":"IF($C14=\"\",\" \",VLOOKUP($C14,Futtermittel!$A$8:$CG$171,53,FALSE)*$F14)","v":15.081077126436782},{"$f":"IF($C14=\"\",\" \",VLOOKUP($C14,Futtermittel!$A$8:$CG$171,46,FALSE)*$F14)","v":213.48545999999999},{"$f":"IF($C14=\"\",\" \",VLOOKUP($C14,Futtermittel!$A$8:$CG$171,56,FALSE)*$F14)","v":2.3947708585134131},{"$f":"IF($C14=\"\",\" \",VLOOKUP($C14,Futtermittel!$A$8:$CG$171,57,FALSE)*$F14)","v":2.4963003333963565},{"$f":"IF($C14=\"\",\" \",VLOOKUP($C14,Futtermittel!$A$8:$CG$171,28,FALSE)*$F14)","v":1.3816000000000002},{"$f":"IF($C14=\"\",\" \",VLOOKUP($C14,Futtermittel!$A$8:$CG$171,58,FALSE)*$F14)","v":0},{"$f":"IF($C14=\"\",\" \",VLOOKUP($C14,Futtermittel!$A$8:$CG$171,59,FALSE)*$F14)","v":0}]
[null,100,"Sojaschrot HP 47% RP ",null,38,0.13,{"$f":"IF($C15=\"\",\" \",VLOOKUP(C15,Futtermittel!$A$8:$CG$171,29,FALSE)*$F15)","v":0.81928068181818181},{"$f":"IF($C15=\"\",\" \",VLOOKUP(C15,Futtermittel!$A$8:$CG$171,30,FALSE)*$F15)","v":0.72096700000000002},{"$f":"IF($C15=\"\",\" \",VLOOKUP(C15,Futtermittel!$A$8:$CG$171,31,FALSE)*$F15)","v":2.4700000000000002},{"$f":"IF($C15=\"\",\" \",VLOOKUP(C15,Futtermittel!$A$8:$CG$171,32,FALSE)*$F15)","v":5.46},{"$f":"IF($C15=\"\",\" \",VLOOKUP(C15,Futtermittel!$A$8:$CG$171,33,FALSE)*$F15)","v":11.83},{"$f":"IF($C15=\"\",\" \",VLOOKUP(C15,Futtermittel!$A$8:$CG$171,34,FALSE)*$F15)","v":8.7100000000000009},{"$f":"IF($C15=\"\",\" \",VLOOKUP(C15,Futtermittel!$A$8:$CG$171,36,FALSE)*$F15)","v":31.200000000000003},{"$f":"IF($C15=\"\",\" \",VLOOKUP($C15,Futtermittel!$A$8:$CG$171,37,FALSE)*$F15)","v":1.3338000000000001},{"$f":"IF($C15=\"\",\" \",VLOOKUP($C15,Futtermittel!$A$8:$CG$171,38,FALSE)*$F15)","v":1.2350000000000001},{"$f":"IF($C15=\"\",\" \",VLOOKUP($C15,Futtermittel!$A$8:$CG$171,39,FALSE)*$F15)","v":9.8799999999999999E-2},{"$f":"IF($C15=\"\",\" \",VLOOKUP($C15,Futtermittel!$A$8:$CG$171,40,FALSE)*$F15)","v":0},{"$f":"IF($C15=\"\",\" \",VLOOKUP($C15,Futtermittel!$A$8:$CG$171,41,FALSE)*$F15)","v":0},{"$f":"IF($C15=\"\",\" \",VLOOKUP($C15,Futtermittel!$A$8:$CG$171,42,FALSE)*$F15)","v":0},{"$f":"IF($C15=\"\",\" \",VLOOKUP($C15,Futtermittel!$A$8:$CG$171,43,FALSE)*$F15)","v":46.315306416122951},{"$f":"IF($C15=\"\",\" \",VLOOKUP($C15,Futtermittel!$A$8:$CG$171,44,FALSE)*$F15)","v":178.9146692859749},{"$f":"IF($C15=\"\",\" \",VLOOKUP($C15,Futtermittel!$A$8:$CG$171,45,FALSE)*$F15)","v":22.393799999999999},{"$f":"IF($C15=\"\",\" \",VLOOKUP($C15,Futtermittel!$A$8:$CG$171,54,FALSE)*$F15)","v":16.79903896103896},{"$f":"IF($C15=\"\",\" \",VLOOKUP($C15,Futtermittel!$A$8:$CG$171,53,FALSE)*$F15)","v":11.974857142857141},{"$f":"IF($C15=\"\",\" \",VLOOKUP($C15,Futtermittel!$A$8:$CG$171,46,FALSE)*$F15)","v":36.660000000000004},{"$f":"IF($C15=\"\",\" \",VLOOKUP($C15,Futtermittel!$A$8:$CG$171,56,FALSE)*$F15)","v":1.1360911235324589},{"$f":"IF($C15=\"\",\" \",VLOOKUP($C15,Futtermittel!$A$8:$CG$171,57,FALSE)*$F15)","v":1.1799971418527},{"$f":"IF($C15=\"\",\" \",VLOOKUP($C15,Futtermittel!$A$8:$CG$171,28,FALSE)*$F15)","v":2.68424},{"$f":"IF($C15=\"\",\" \",VLOOKUP($C15,Futtermittel!$A$8:$CG$171,58,FALSE)*$F15)","v":0},{"$f":"IF($C15=\"\",\" \",VLOOKUP($C15,Futtermittel!$A$8:$CG$171,59,FALSE)*$F15)","v":0}]
[null,140,"Rapsöl / Pflanzenöl DLG 2014",null,97,1.0999999999999999E-2,{"$f":"IF($C16=\"\",\" \",VLOOKUP(C16,Futtermittel!$A$8:$CG$171,29,FALSE)*$F16)","v":0},{"$f":"IF($C16=\"\",\" \",VLOOKUP(C16,Futtermittel!$A$8:$CG$171,30,FALSE)*$F16)","v":0},{"$f":"IF($C16=\"\",\" \",VLOOKUP(C16,Futtermittel!$A$8:$CG$171,31,FALSE)*$F16)","v":10.978},{"$f":"IF($C16=\"\",\" \",VLOOKUP(C16,Futtermittel!$A$8:$CG$171,32,FALSE)*$F16)","v":0},{"$f":"IF($C16=\"\",\" \",VLOOKUP(C16,Futtermittel!$A$8:$CG$171,33,FALSE)*$F16)","v":0},{"$f":"IF($C16=\"\",\" \",VLOOKUP(C16,Futtermittel!$A$8:$CG$171,34,FALSE)*$F16)","v":0},{"$f":"IF($C16=\"\",\" \",VLOOKUP(C16,Futtermittel!$A$8:$CG$171,36,FALSE)*$F16)","v":0},{"$f":"IF($C16=\"\",\" \",VLOOKUP($C16,Futtermittel!$A$8:$CG$171,37,FALSE)*$F16)","v":3.1789999999999998},{"$f":"IF($C16=\"\",\" \",VLOOKUP($C16,Futtermittel!$A$8:$CG$171,38,FALSE)*$F16)","v":2.1955999999999998},{"$f":"IF($C16=\"\",\" \",VLOOKUP($C16,Futtermittel!$A$8:$CG$171,39,FALSE)*$F16)","v":0.9880199999999999},{"$f":"IF($C16=\"\",\" \",VLOOKUP($C16,Futtermittel!$A$8:$CG$171,40,FALSE)*$F16)","v":0},{"$f":"IF($C16=\"\",\" \",VLOOKUP($C16,Futtermittel!$A$8:$CG$171,41,FALSE)*$F16)","v":0},{"$f":"IF($C16=\"\",\" \",VLOOKUP($C16,Futtermittel!$A$8:$CG$171,42,FALSE)*$F16)","v":0},{"$f":"IF($C16=\"\",\" \",VLOOKUP($C16,Futtermittel!$A$8:$CG$171,43,FALSE)*$F16)","v":0},{"$f":"IF($C16=\"\",\" \",VLOOKUP($C16,Futtermittel!$A$8:$CG$171,44,FALSE)*$F16)","v":0},{"$f":"IF($C16=\"\",\" \",VLOOKUP($C16,Futtermittel!$A$8:$CG$171,45,FALSE)*$F16)","v":0},{"$f":"IF($C16=\"\",\" \",VLOOKUP($C16,Futtermittel!$A$8:$CG$171,54,FALSE)*$F16)","v":0},{"$f":"IF($C16=\"\",\" \",VLOOKUP($C16,Futtermittel!$A$8:$CG$171,53,FALSE)*$F16)","v":0},{"$f":"IF($C16=\"\",\" \",VLOOKUP($C16,Futtermittel!$A$8:$CG$171,46,FALSE)*$F16)","v":0},{"$f":"IF($C16=\"\",\" \",VLOOKUP($C16,Futtermittel!$A$8:$CG$171,56,FALSE)*$F16)","v":0.33343359485135038},{"$f":"IF($C16=\"\",\" \",VLOOKUP($C16,Futtermittel!$A$8:$CG$171,57,FALSE)*$F16)","v":0.33709893587979339},{"$f":"IF($C16=\"\",\" \",VLOOKUP($C16,Futtermittel!$A$8:$CG$171,28,FALSE)*$F16)","v":0},{"$f":"IF($C16=\"\",\" \",VLOOKUP($C16,Futtermittel!$A$8:$CG$171,58,FALSE)*$F16)","v":0},{"$f":"IF($C16=\"\",\" \",VLOOKUP($C16,Futtermittel!$A$8:$CG$171,59,FALSE)*$F16)","v":0}]
[null," "," ",null," "," ",{"$f":"IF($C17=\"\",\" \",VLOOKUP(C17,Futtermittel!$A$8:$CG$171,29,FALSE)*$F17)","v":" "},{"$f":"IF($C17=\"\",\" \",VLOOKUP(C17,Futtermittel!$A$8:$CG$171,30,FALSE)*$F17)","v":" "},{"$f":"IF($C17=\"\",\" \",VLOOKUP(C17,Futtermittel!$A$8:$CG$171,31,FALSE)*$F17)","v":" "},{"$f":"IF($C17=\"\",\" \",VLOOKUP(C17,Futtermittel!$A$8:$CG$171,32,FALSE)*$F17)","v":" "},{"$f":"IF($C17=\"\",\" \",VLOOKUP(C17,Futtermittel!$A$8:$CG$171,33,FALSE)*$F17)","v":" "},{"$f":"IF($C17=\"\",\" \",VLOOKUP(C17,Futtermittel!$A$8:$CG$171,34,FALSE)*$F17)","v":" "},{"$f":"IF($C17=\"\",\" \",VLOOKUP(C17,Futtermittel!$A$8:$CG$171,36,FALSE)*$F17)","v":" "},{"$f":"IF($C17=\"\",\" \",VLOOKUP($C17,Futtermittel!$A$8:$CG$171,37,FALSE)*$F17)","v":" "},{"$f":"IF($C17=\"\",\" \",VLOOKUP($C17,Futtermittel!$A$8:$CG$171,38,FALSE)*$F17)","v":" "},{"$f":"IF($C17=\"\",\" \",VLOOKUP($C17,Futtermittel!$A$8:$CG$171,39,FALSE)*$F17)","v":" "},{"$f":"IF($C17=\"\",\" \",VLOOKUP($C17,Futtermittel!$A$8:$CG$171,40,FALSE)*$F17)","v":" "},{"$f":"IF($C17=\"\",\" \",VLOOKUP($C17,Futtermittel!$A$8:$CG$171,41,FALSE)*$F17)","v":" "},{"$f":"IF($C17=\"\",\" \",VLOOKUP($C17,Futtermittel!$A$8:$CG$171,42,FALSE)*$F17)","v":" "},{"$f":"IF($C17=\"\",\" \",VLOOKUP($C17,Futtermittel!$A$8:$CG$171,43,FALSE)*$F17)","v":" "},{"$f":"IF($C17=\"\",\" \",VLOOKUP($C17,Futtermittel!$A$8:$CG$171,44,FALSE)*$F17)","v":" "},{"$f":"IF($C17=\"\",\" \",VLOOKUP($C17,Futtermittel!$A$8:$CG$171,45,FALSE)*$F17)","v":" "},{"$f":"IF($C17=\"\",\" \",VLOOKUP($C17,Futtermittel!$A$8:$CG$171,54,FALSE)*$F17)","v":" "},{"$f":"IF($C17=\"\",\" \",VLOOKUP($C17,Futtermittel!$A$8:$CG$171,53,FALSE)*$F17)","v":" "},{"$f":"IF($C17=\"\",\" \",VLOOKUP($C17,Futtermittel!$A$8:$CG$171,46,FALSE)*$F17)","v":" "},{"$f":"IF($C17=\"\",\" \",VLOOKUP($C17,Futtermittel!$A$8:$CG$171,56,FALSE)*$F17)","v":" "},{"$f":"IF($C17=\"\",\" \",VLOOKUP($C17,Futtermittel!$A$8:$CG$171,57,FALSE)*$F17)","v":" "},{"$f":"IF($C17=\"\",\" \",VLOOKUP($C17,Futtermittel!$A$8:$CG$171,28,FALSE)*$F17)","v":" "},{"$f":"IF($C17=\"\",\" \",VLOOKUP($C17,Futtermittel!$A$8:$CG$171,58,FALSE)*$F17)","v":" "},{"$f":"IF($C17=\"\",\" \",VLOOKUP($C17,Futtermittel!$A$8:$CG$171,59,FALSE)*$F17)","v":" "}]
[null," "," ",null," "," ",{"$f":"IF($C18=\"\",\" \",VLOOKUP(C18,Futtermittel!$A$8:$CG$171,29,FALSE)*$F18)","v":" "},{"$f":"IF($C18=\"\",\" \",VLOOKUP(C18,Futtermittel!$A$8:$CG$171,30,FALSE)*$F18)","v":" "},{"$f":"IF($C18=\"\",\" \",VLOOKUP(C18,Futtermittel!$A$8:$CG$171,31,FALSE)*$F18)","v":" "},{"$f":"IF($C18=\"\",\" \",VLOOKUP(C18,Futtermittel!$A$8:$CG$171,32,FALSE)*$F18)","v":" "},{"$f":"IF($C18=\"\",\" \",VLOOKUP(C18,Futtermittel!$A$8:$CG$171,33,FALSE)*$F18)","v":" "},{"$f":"IF($C18=\"\",\" \",VLOOKUP(C18,Futtermittel!$A$8:$CG$171,34,FALSE)*$F18)","v":" "},{"$f":"IF($C18=\"\",\" \",VLOOKUP(C18,Futtermittel!$A$8:$CG$171,36,FALSE)*$F18)","v":" "},{"$f":"IF($C18=\"\",\" \",VLOOKUP($C18,Futtermittel!$A$8:$CG$171,37,FALSE)*$F18)","v":" "},{"$f":"IF($C18=\"\",\" \",VLOOKUP($C18,Futtermittel!$A$8:$CG$171,38,FALSE)*$F18)","v":" "},{"$f":"IF($C18=\"\",\" \",VLOOKUP($C18,Futtermittel!$A$8:$CG$171,39,FALSE)*$F18)","v":" "},{"$f":"IF($C18=\"\",\" \",VLOOKUP($C18,Futtermittel!$A$8:$CG$171,40,FALSE)*$F18)","v":" "},{"$f":"IF($C18=\"\",\" \",VLOOKUP($C18,Futtermittel!$A$8:$CG$171,41,FALSE)*$F18)","v":" "},{"$f":"IF($C18=\"\",\" \",VLOOKUP($C18,Futtermittel!$A$8:$CG$171,42,FALSE)*$F18)","v":" "},{"$f":"IF($C18=\"\",\" \",VLOOKUP($C18,Futtermittel!$A$8:$CG$171,43,FALSE)*$F18)","v":" "},{"$f":"IF($C18=\"\",\" \",VLOOKUP($C18,Futtermittel!$A$8:$CG$171,44,FALSE)*$F18)","v":" "},{"$f":"IF($C18=\"\",\" \",VLOOKUP($C18,Futtermittel!$A$8:$CG$171,45,FALSE)*$F18)","v":" "},{"$f":"IF($C18=\"\",\" \",VLOOKUP($C18,Futtermittel!$A$8:$CG$171,54,FALSE)*$F18)","v":" "},{"$f":"IF($C18=\"\",\" \",VLOOKUP($C18,Futtermittel!$A$8:$CG$171,53,FALSE)*$F18)","v":" "},{"$f":"IF($C18=\"\",\" \",VLOOKUP($C18,Futtermittel!$A$8:$CG$171,46,FALSE)*$F18)","v":" "},{"$f":"IF($C18=\"\",\" \",VLOOKUP($C18,Futtermittel!$A$8:$CG$171,56,FALSE)*$F18)","v":" "},{"$f":"IF($C18=\"\",\" \",VLOOKUP($C18,Futtermittel!$A$8:$CG$171,57,FALSE)*$F18)","v":" "},{"$f":"IF($C18=\"\",\" \",VLOOKUP($C18,Futtermittel!$A$8:$CG$171,28,FALSE)*$F18)","v":" "},{"$f":"IF($C18=\"\",\" \",VLOOKUP($C18,Futtermittel!$A$8:$CG$171,58,FALSE)*$F18)","v":" "},{"$f":"IF($C18=\"\",\" \",VLOOKUP($C18,Futtermittel!$A$8:$CG$171,59,FALSE)*$F18)","v":" "}]
[null," "," ",null," "," ",{"$f":"IF($C19=\"\",\" \",VLOOKUP(C19,Futtermittel!$A$8:$CG$171,29,FALSE)*$F19)","v":" "},{"$f":"IF($C19=\"\",\" \",VLOOKUP(C19,Futtermittel!$A$8:$CG$171,30,FALSE)*$F19)","v":" "},{"$f":"IF($C19=\"\",\" \",VLOOKUP(C19,Futtermittel!$A$8:$CG$171,31,FALSE)*$F19)","v":" "},{"$f":"IF($C19=\"\",\" \",VLOOKUP(C19,Futtermittel!$A$8:$CG$171,32,FALSE)*$F19)","v":" "},{"$f":"IF($C19=\"\",\" \",VLOOKUP(C19,Futtermittel!$A$8:$CG$171,33,FALSE)*$F19)","v":" "},{"$f":"IF($C19=\"\",\" \",VLOOKUP(C19,Futtermittel!$A$8:$CG$171,34,FALSE)*$F19)","v":" "},{"$f":"IF($C19=\"\",\" \",VLOOKUP(C19,Futtermittel!$A$8:$CG$171,36,FALSE)*$F19)","v":" "},{"$f":"IF($C19=\"\",\" \",VLOOKUP($C19,Futtermittel!$A$8:$CG$171,37,FALSE)*$F19)","v":" "},{"$f":"IF($C19=\"\",\" \",VLOOKUP($C19,Futtermittel!$A$8:$CG$171,38,FALSE)*$F19)","v":" "},{"$f":"IF($C19=\"\",\" \",VLOOKUP($C19,Futtermittel!$A$8:$CG$171,39,FALSE)*$F19)","v":" "},{"$f":"IF($C19=\"\",\" \",VLOOKUP($C19,Futtermittel!$A$8:$CG$171,40,FALSE)*$F19)","v":" "},{"$f":"IF($C19=\"\",\" \",VLOOKUP($C19,Futtermittel!$A$8:$CG$171,41,FALSE)*$F19)","v":" "},{"$f":"IF($C19=\"\",\" \",VLOOKUP($C19,Futtermittel!$A$8:$CG$171,42,FALSE)*$F19)","v":" "},{"$f":"IF($C19=\"\",\" \",VLOOKUP($C19,Futtermittel!$A$8:$CG$171,43,FALSE)*$F19)","v":" "},{"$f":"IF($C19=\"\",\" \",VLOOKUP($C19,Futtermittel!$A$8:$CG$171,44,FALSE)*$F19)","v":" "},{"$f":"IF($C19=\"\",\" \",VLOOKUP($C19,Futtermittel!$A$8:$CG$171,45,FALSE)*$F19)","v":" "},{"$f":"IF($C19=\"\",\" \",VLOOKUP($C19,Futtermittel!$A$8:$CG$171,54,FALSE)*$F19)","v":" "},{"$f":"IF($C19=\"\",\" \",VLOOKUP($C19,Futtermittel!$A$8:$CG$171,53,FALSE)*$F19)","v":" "},{"$f":"IF($C19=\"\",\" \",VLOOKUP($C19,Futtermittel!$A$8:$CG$171,46,FALSE)*$F19)","v":" "},{"$f":"IF($C19=\"\",\" \",VLOOKUP($C19,Futtermittel!$A$8:$CG$171,56,FALSE)*$F19)","v":" "},{"$f":"IF($C19=\"\",\" \",VLOOKUP($C19,Futtermittel!$A$8:$CG$171,57,FALSE)*$F19)","v":" "},{"$f":"IF($C19=\"\",\" \",VLOOKUP($C19,Futtermittel!$A$8:$CG$171,28,FALSE)*$F19)","v":" "},{"$f":"IF($C19=\"\",\" \",VLOOKUP($C19,Futtermittel!$A$8:$CG$171,58,FALSE)*$F19)","v":" "},{"$f":"IF($C19=\"\",\" \",VLOOKUP($C19,Futtermittel!$A$8:$CG$171,59,FALSE)*$F19)","v":" "}]
[null," "," ",null," "," ",{"$f":"IF($C20=\"\",\" \",VLOOKUP(C20,Futtermittel!$A$8:$CG$171,29,FALSE)*$F20)","v":" "},{"$f":"IF($C20=\"\",\" \",VLOOKUP(C20,Futtermittel!$A$8:$CG$171,30,FALSE)*$F20)","v":" "},{"$f":"IF($C20=\"\",\" \",VLOOKUP(C20,Futtermittel!$A$8:$CG$171,31,FALSE)*$F20)","v":" "},{"$f":"IF($C20=\"\",\" \",VLOOKUP(C20,Futtermittel!$A$8:$CG$171,32,FALSE)*$F20)","v":" "},{"$f":"IF($C20=\"\",\" \",VLOOKUP(C20,Futtermittel!$A$8:$CG$171,33,FALSE)*$F20)","v":" "},{"$f":"IF($C20=\"\",\" \",VLOOKUP(C20,Futtermittel!$A$8:$CG$171,34,FALSE)*$F20)","v":" "},{"$f":"IF($C20=\"\",\" \",VLOOKUP(C20,Futtermittel!$A$8:$CG$171,36,FALSE)*$F20)","v":" "},{"$f":"IF($C20=\"\",\" \",VLOOKUP($C20,Futtermittel!$A$8:$CG$171,37,FALSE)*$F20)","v":" "},{"$f":"IF($C20=\"\",\" \",VLOOKUP($C20,Futtermittel!$A$8:$CG$171,38,FALSE)*$F20)","v":" "},{"$f":"IF($C20=\"\",\" \",VLOOKUP($C20,Futtermittel!$A$8:$CG$171,39,FALSE)*$F20)","v":" "},{"$f":"IF($C20=\"\",\" \",VLOOKUP($C20,Futtermittel!$A$8:$CG$171,40,FALSE)*$F20)","v":" "},{"$f":"IF($C20=\"\",\" \",VLOOKUP($C20,Futtermittel!$A$8:$CG$171,41,FALSE)*$F20)","v":" "},{"$f":"IF($C20=\"\",\" \",VLOOKUP($C20,Futtermittel!$A$8:$CG$171,42,FALSE)*$F20)","v":" "},{"$f":"IF($C20=\"\",\" \",VLOOKUP($C20,Futtermittel!$A$8:$CG$171,43,FALSE)*$F20)","v":" "},{"$f":"IF($C20=\"\",\" \",VLOOKUP($C20,Futtermittel!$A$8:$CG$171,44,FALSE)*$F20)","v":" "},{"$f":"IF($C20=\"\",\" \",VLOOKUP($C20,Futtermittel!$A$8:$CG$171,45,FALSE)*$F20)","v":" "},{"$f":"IF($C20=\"\",\" \",VLOOKUP($C20,Futtermittel!$A$8:$CG$171,54,FALSE)*$F20)","v":" "},{"$f":"IF($C20=\"\",\" \",VLOOKUP($C20,Futtermittel!$A$8:$CG$171,53,FALSE)*$F20)","v":" "},{"$f":"IF($C20=\"\",\" \",VLOOKUP($C20,Futtermittel!$A$8:$CG$171,46,FALSE)*$F20)","v":" "},{"$f":"IF($C20=\"\",\" \",VLOOKUP($C20,Futtermittel!$A$8:$CG$171,56,FALSE)*$F20)","v":" "},{"$f":"IF($C20=\"\",\" \",VLOOKUP($C20,Futtermittel!$A$8:$CG$171,57,FALSE)*$F20)","v":" "},{"$f":"IF($C20=\"\",\" \",VLOOKUP($C20,Futtermittel!$A$8:$CG$171,28,FALSE)*$F20)","v":" "},{"$f":"IF($C20=\"\",\" \",VLOOKUP($C20,Futtermittel!$A$8:$CG$171,58,FALSE)*$F20)","v":" "},{"$f":"IF($C20=\"\",\" \",VLOOKUP($C20,Futtermittel!$A$8:$CG$171,59,FALSE)*$F20)","v":" "}]
[null," "," ",null," ",{"$f":"IF(F21=\"\",\" \",F21)","v":" "},{"$f":"IF($C21=\"\",\" \",VLOOKUP(C21,Futtermittel!$A$8:$CG$171,29,FALSE)*$F21)","v":" "},{"$f":"IF($C21=\"\",\" \",VLOOKUP(C21,Futtermittel!$A$8:$CG$171,30,FALSE)*$F21)","v":" "},{"$f":"IF($C21=\"\",\" \",VLOOKUP(C21,Futtermittel!$A$8:$CG$171,31,FALSE)*$F21)","v":" "},{"$f":"IF($C21=\"\",\" \",VLOOKUP(C21,Futtermittel!$A$8:$CG$171,32,FALSE)*$F21)","v":" "},{"$f":"IF($C21=\"\",\" \",VLOOKUP(C21,Futtermittel!$A$8:$CG$171,33,FALSE)*$F21)","v":" "},{"$f":"IF($C21=\"\",\" \",VLOOKUP(C21,Futtermittel!$A$8:$CG$171,34,FALSE)*$F21)","v":" "},{"$f":"IF($C21=\"\",\" \",VLOOKUP(C21,Futtermittel!$A$8:$CG$171,36,FALSE)*$F21)","v":" "},{"$f":"IF($C21=\"\",\" \",VLOOKUP($C21,Futtermittel!$A$8:$CG$171,37,FALSE)*$F21)","v":" "},{"$f":"IF($C21=\"\",\" \",VLOOKUP($C21,Futtermittel!$A$8:$CG$171,38,FALSE)*$F21)","v":" "},{"$f":"IF($C21=\"\",\" \",VLOOKUP($C21,Futtermittel!$A$8:$CG$171,39,FALSE)*$F21)","v":" "},{"$f":"IF($C21=\"\",\" \",VLOOKUP($C21,Futtermittel!$A$8:$CG$171,40,FALSE)*$F21)","v":" "},{"$f":"IF($C21=\"\",\" \",VLOOKUP($C21,Futtermittel!$A$8:$CG$171,41,FALSE)*$F21)","v":" "},{"$f":"IF($C21=\"\",\" \",VLOOKUP($C21,Futtermittel!$A$8:$CG$171,42,FALSE)*$F21)","v":" "},{"$f":"IF($C21=\"\",\" \",VLOOKUP($C21,Futtermittel!$A$8:$CG$171,43,FALSE)*$F21)","v":" "},{"$f":"IF($C21=\"\",\" \",VLOOKUP($C21,Futtermittel!$A$8:$CG$171,44,FALSE)*$F21)","v":" "},{"$f":"IF($C21=\"\",\" \",VLOOKUP($C21,Futtermittel!$A$8:$CG$171,45,FALSE)*$F21)","v":" "},{"$f":"IF($C21=\"\",\" \",VLOOKUP($C21,Futtermittel!$A$8:$CG$171,54,FALSE)*$F21)","v":" "},{"$f":"IF($C21=\"\",\" \",VLOOKUP($C21,Futtermittel!$A$8:$CG$171,53,FALSE)*$F21)","v":" "},{"$f":"IF($C21=\"\",\" \",VLOOKUP($C21,Futtermittel!$A$8:$CG$171,46,FALSE)*$F21)","v":" "},{"$f":"IF($C21=\"\",\" \",VLOOKUP($C21,Futtermittel!$A$8:$CG$171,56,FALSE)*$F21)","v":" "},{"$f":"IF($C21=\"\",\" \",VLOOKUP($C21,Futtermittel!$A$8:$CG$171,57,FALSE)*$F21)","v":" "},{"$f":"IF($C21=\"\",\" \",VLOOKUP($C21,Futtermittel!$A$8:$CG$171,28,FALSE)*$F21)","v":" "},{"$f":"IF($C21=\"\",\" \",VLOOKUP($C21,Futtermittel!$A$8:$CG$171,58,FALSE)*$F21)","v":" "},{"$f":"IF($C21=\"\",\" \",VLOOKUP($C21,Futtermittel!$A$8:$CG$171,59,FALSE)*$F21)","v":" "}]
[null," "," ",null," ",{"$f":"IF(F22=\"\",\" \",F22)","v":" "},{"$f":"IF($C22=\"\",\" \",VLOOKUP(C22,Futtermittel!$A$8:$CG$171,29,FALSE)*$F22)","v":" "},{"$f":"IF($C22=\"\",\" \",VLOOKUP(C22,Futtermittel!$A$8:$CG$171,30,FALSE)*$F22)","v":" "},{"$f":"IF($C22=\"\",\" \",VLOOKUP(C22,Futtermittel!$A$8:$CG$171,31,FALSE)*$F22)","v":" "},{"$f":"IF($C22=\"\",\" \",VLOOKUP(C22,Futtermittel!$A$8:$CG$171,32,FALSE)*$F22)","v":" "},{"$f":"IF($C22=\"\",\" \",VLOOKUP(C22,Futtermittel!$A$8:$CG$171,33,FALSE)*$F22)","v":" "},{"$f":"IF($C22=\"\",\" \",VLOOKUP(C22,Futtermittel!$A$8:$CG$171,34,FALSE)*$F22)","v":" "},{"$f":"IF($C22=\"\",\" \",VLOOKUP(C22,Futtermittel!$A$8:$CG$171,36,FALSE)*$F22)","v":" "},{"$f":"IF($C22=\"\",\" \",VLOOKUP($C22,Futtermittel!$A$8:$CG$171,37,FALSE)*$F22)","v":" "},{"$f":"IF($C22=\"\",\" \",VLOOKUP($C22,Futtermittel!$A$8:$CG$171,38,FALSE)*$F22)","v":" "},{"$f":"IF($C22=\"\",\" \",VLOOKUP($C22,Futtermittel!$A$8:$CG$171,39,FALSE)*$F22)","v":" "},{"$f":"IF($C22=\"\",\" \",VLOOKUP($C22,Futtermittel!$A$8:$CG$171,40,FALSE)*$F22)","v":" "},{"$f":"IF($C22=\"\",\" \",VLOOKUP($C22,Futtermittel!$A$8:$CG$171,41,FALSE)*$F22)","v":" "},{"$f":"IF($C22=\"\",\" \",VLOOKUP($C22,Futtermittel!$A$8:$CG$171,42,FALSE)*$F22)","v":" "},{"$f":"IF($C22=\"\",\" \",VLOOKUP($C22,Futtermittel!$A$8:$CG$171,43,FALSE)*$F22)","v":" "},{"$f":"IF($C22=\"\",\" \",VLOOKUP($C22,Futtermittel!$A$8:$CG$171,44,FALSE)*$F22)","v":" "},{"$f":"IF($C22=\"\",\" \",VLOOKUP($C22,Futtermittel!$A$8:$CG$171,45,FALSE)*$F22)","v":" "},{"$f":"IF($C22=\"\",\" \",VLOOKUP($C22,Futtermittel!$A$8:$CG$171,54,FALSE)*$F22)","v":" "},{"$f":"IF($C22=\"\",\" \",VLOOKUP($C22,Futtermittel!$A$8:$CG$171,53,FALSE)*$F22)","v":" "},{"$f":"IF($C22=\"\",\" \",VLOOKUP($C22,Futtermittel!$A$8:$CG$171,46,FALSE)*$F22)","v":" "},{"$f":"IF($C22=\"\",\" \",VLOOKUP($C22,Futtermittel!$A$8:$CG$171,56,FALSE)*$F22)","v":" "},{"$f":"IF($C22=\"\",\" \",VLOOKUP($C22,Futtermittel!$A$8:$CG$171,57,FALSE)*$F22)","v":" "},{"$f":"IF($C22=\"\",\" \",VLOOKUP($C22,Futtermittel!$A$8:$CG$171,28,FALSE)*$F22)","v":" "},{"$f":"IF($C22=\"\",\" \",VLOOKUP($C22,Futtermittel!$A$8:$CG$171,58,FALSE)*$F22)","v":" "},{"$f":"IF($C22=\"\",\" \",VLOOKUP($C22,Futtermittel!$A$8:$CG$171,59,FALSE)*$F22)","v":" "}]
[null," "," ",null," ",{"$f":"IF(F23=\"\",\" \",F23)","v":" "},{"$f":"IF($C23=\"\",\" \",VLOOKUP(C23,Futtermittel!$A$8:$CG$171,29,FALSE)*$F23)","v":" "},{"$f":"IF($C23=\"\",\" \",VLOOKUP(C23,Futtermittel!$A$8:$CG$171,30,FALSE)*$F23)","v":" "},{"$f":"IF($C23=\"\",\" \",VLOOKUP(C23,Futtermittel!$A$8:$CG$171,31,FALSE)*$F23)","v":" "},{"$f":"IF($C23=\"\",\" \",VLOOKUP(C23,Futtermittel!$A$8:$CG$171,32,FALSE)*$F23)","v":" "},{"$f":"IF($C23=\"\",\" \",VLOOKUP(C23,Futtermittel!$A$8:$CG$171,33,FALSE)*$F23)","v":" "},{"$f":"IF($C23=\"\",\" \",VLOOKUP(C23,Futtermittel!$A$8:$CG$171,34,FALSE)*$F23)","v":" "},{"$f":"IF($C23=\"\",\" \",VLOOKUP(C23,Futtermittel!$A$8:$CG$171,36,FALSE)*$F23)","v":" "},{"$f":"IF($C23=\"\",\" \",VLOOKUP($C23,Futtermittel!$A$8:$CG$171,37,FALSE)*$F23)","v":" "},{"$f":"IF($C23=\"\",\" \",VLOOKUP($C23,Futtermittel!$A$8:$CG$171,38,FALSE)*$F23)","v":" "},{"$f":"IF($C23=\"\",\" \",VLOOKUP($C23,Futtermittel!$A$8:$CG$171,39,FALSE)*$F23)","v":" "},{"$f":"IF($C23=\"\",\" \",VLOOKUP($C23,Futtermittel!$A$8:$CG$171,40,FALSE)*$F23)","v":" "},{"$f":"IF($C23=\"\",\" \",VLOOKUP($C23,Futtermittel!$A$8:$CG$171,41,FALSE)*$F23)","v":" "},{"$f":"IF($C23=\"\",\" \",VLOOKUP($C23,Futtermittel!$A$8:$CG$171,42,FALSE)*$F23)","v":" "},{"$f":"IF($C23=\"\",\" \",VLOOKUP($C23,Futtermittel!$A$8:$CG$171,43,FALSE)*$F23)","v":" "},{"$f":"IF($C23=\"\",\" \",VLOOKUP($C23,Futtermittel!$A$8:$CG$171,44,FALSE)*$F23)","v":" "},{"$f":"IF($C23=\"\",\" \",VLOOKUP($C23,Futtermittel!$A$8:$CG$171,45,FALSE)*$F23)","v":" "},{"$f":"IF($C23=\"\",\" \",VLOOKUP($C23,Futtermittel!$A$8:$CG$171,54,FALSE)*$F23)","v":" "},{"$f":"IF($C23=\"\",\" \",VLOOKUP($C23,Futtermittel!$A$8:$CG$171,53,FALSE)*$F23)","v":" "},{"$f":"IF($C23=\"\",\" \",VLOOKUP($C23,Futtermittel!$A$8:$CG$171,46,FALSE)*$F23)","v":" "},{"$f":"IF($C23=\"\",\" \",VLOOKUP($C23,Futtermittel!$A$8:$CG$171,56,FALSE)*$F23)","v":" "},{"$f":"IF($C23=\"\",\" \",VLOOKUP($C23,Futtermittel!$A$8:$CG$171,57,FALSE)*$F23)","v":" "},{"$f":"IF($C23=\"\",\" \",VLOOKUP($C23,Futtermittel!$A$8:$CG$171,28,FALSE)*$F23)","v":" "},{"$f":"IF($C23=\"\",\" \",VLOOKUP($C23,Futtermittel!$A$8:$CG$171,58,FALSE)*$F23)","v":" "},{"$f":"IF($C23=\"\",\" \",VLOOKUP($C23,Futtermittel!$A$8:$CG$171,59,FALSE)*$F23)","v":" "}]
[null,"EF-Nr.","Ergänzungsfutter ","VQ in %"]
[null," ",{"$f":"IF(C25=\"\",\" \",C25)","v":" "},0.85," "," ",{"$f":"IF($C25=\"\",\" \",VLOOKUP($C25,Ergänzungsfutter!$A$11:$BE$35,20,FALSE)*$F25)","v":" "},{"$f":"IF($C25=\"\",\" \",VLOOKUP($C25,Ergänzungsfutter!$A$11:$BE$35,20,FALSE)*$F25*D25)","v":" "},{"$f":"IF($C25=\"\",\" \",VLOOKUP($C25,Ergänzungsfutter!$A$11:$BE$35,21,FALSE)*$F25)","v":" "},{"$f":"IF($C25=\"\",\" \",VLOOKUP($C25,Ergänzungsfutter!$A$11:$BE$35,22,FALSE)*$F25)","v":" "},{"$f":"IF($C25=\"\",\" \",VLOOKUP($C25,Ergänzungsfutter!$A$11:$BE$35,23,FALSE)*$F25)","v":" "},{"$f":"IF($C25=\"\",\" \",VLOOKUP($C25,Ergänzungsfutter!$A$11:$BE$35,24,FALSE)*$F25)","v":" "},{"$f":"IF($C25=\"\",\" \",VLOOKUP($C25,Ergänzungsfutter!$A$11:$BE$35,24,FALSE)*$F25)","v":" "},{"$f":"IF($C25=\"\",\" \",VLOOKUP($C25,Ergänzungsfutter!$A$11:$BE$35,27,FALSE)*$F25)","v":" "},{"$f":"IF($C25=\"\",\" \",VLOOKUP($C25,Ergänzungsfutter!$A$11:$BE$35,28,FALSE)*$F25)","v":" "},{"$f":"IF($C25=\"\",\" \",VLOOKUP($C25,Ergänzungsfutter!$A$11:$BE$35,29,FALSE)*$F25)","v":" "},{"$f":"IF($C25=\"\",\" \",VLOOKUP($C25,Ergänzungsfutter!$A$11:$BE$35,30,FALSE)*$F25)","v":" "},{"$f":"IF($C25=\"\",\" \",VLOOKUP($C25,Ergänzungsfutter!$A$11:$BE$35,31,FALSE)*$F25)","v":" "},{"$f":"IF($C25=\"\",\" \",VLOOKUP($C25,Ergänzungsfutter!$A$11:$BE$35,32,FALSE)*$F25)","v":" "},{"$f":"IF($C25=\"\",\" \",VLOOKUP($C25,Ergänzungsfutter!$A$11:$BE$35,33,FALSE)*$F25)","v":" "},{"$f":"IF($C25=\"\",\" \",VLOOKUP($C25,Ergänzungsfutter!$A$11:$BE$35,34,FALSE)*$F25)","v":" "},{"$f":"IF($C25=\"\",\" \",VLOOKUP($C25,Ergänzungsfutter!$A$11:$BE$35,35,FALSE)*$F25)","v":" "},{"$f":"IF($C25=\"\",\" \",VLOOKUP($C25,Ergänzungsfutter!$A$11:$BE$35,36,FALSE)*$F25)","v":" "},{"$f":"IF($C25=\"\",\" \",VLOOKUP($C25,Ergänzungsfutter!$A$11:$BE$35,35,FALSE)*$F25)","v":" "},{"$f":"IF($C25=\"\",\" \",VLOOKUP($C25,Ergänzungsfutter!$A$11:$BE$35,37,FALSE)*$F25)","v":" "},{"$f":"IF($C25=\"\",\" \",VLOOKUP($C25,Ergänzungsfutter!$A$11:$BE$35,38,FALSE)*$F25)","v":" "},{"$f":"IF($C25=\"\",\" \",VLOOKUP($C25,Ergänzungsfutter!$A$11:$BE$35,39,FALSE)*$F25)","v":" "},{"$f":"IF($C25=\"\",\" \",VLOOKUP($C25,Ergänzungsfutter!$A$11:$BE$35,37,FALSE)*$F25)","v":" "},{"$f":"IF($C25=\"\",\" \",VLOOKUP($C25,Ergänzungsfutter!$A$11:$BE$35,40,FALSE)*$F25)","v":" "},{"$f":"IF($C25=\"\",\" \",VLOOKUP($C25,Ergänzungsfutter!$A$11:$BE$35,41,FALSE)*$F25)","v":" "}]
[null," ",{"$f":"IF(C26=\"\",\" \",C26)","v":" "}," "," "," ",{"$f":"IF($C26=\"\",\" \",VLOOKUP($C26,Ergänzungsfutter!$A$11:$BE$35,20,FALSE)*$F26)","v":" "},{"$f":"IF($C26=\"\",\" \",VLOOKUP($C26,Ergänzungsfutter!$A$11:$BE$35,20,FALSE)*$F26*D26)","v":" "},{"$f":"IF($C26=\"\",\" \",VLOOKUP($C26,Ergänzungsfutter!$A$11:$BE$35,21,FALSE)*$F26)","v":" "},{"$f":"IF($C26=\"\",\" \",VLOOKUP($C26,Ergänzungsfutter!$A$11:$BE$35,22,FALSE)*$F26)","v":" "},{"$f":"IF($C26=\"\",\" \",VLOOKUP($C26,Ergänzungsfutter!$A$11:$BE$35,23,FALSE)*$F26)","v":" "},{"$f":"IF($C26=\"\",\" \",VLOOKUP($C26,Ergänzungsfutter!$A$11:$BE$35,24,FALSE)*$F26)","v":" "},{"$f":"IF($C26=\"\",\" \",VLOOKUP($C26,Ergänzungsfutter!$A$11:$BE$35,24,FALSE)*$F26)","v":" "},{"$f":"IF($C26=\"\",\" \",VLOOKUP($C26,Ergänzungsfutter!$A$11:$BE$35,27,FALSE)*$F26)","v":" "},{"$f":"IF($C26=\"\",\" \",VLOOKUP($C26,Ergänzungsfutter!$A$11:$BE$35,28,FALSE)*$F26)","v":" "},{"$f":"IF($C26=\"\",\" \",VLOOKUP($C26,Ergänzungsfutter!$A$11:$BE$35,29,FALSE)*$F26)","v":" "},{"$f":"IF($C26=\"\",\" \",VLOOKUP($C26,Ergänzungsfutter!$A$11:$BE$35,30,FALSE)*$F26)","v":" "},{"$f":"IF($C26=\"\",\" \",VLOOKUP($C26,Ergänzungsfutter!$A$11:$BE$35,31,FALSE)*$F26)","v":" "},{"$f":"IF($C26=\"\",\" \",VLOOKUP($C26,Ergänzungsfutter!$A$11:$BE$35,32,FALSE)*$F26)","v":" "},{"$f":"IF($C26=\"\",\" \",VLOOKUP($C26,Ergänzungsfutter!$A$11:$BE$35,33,FALSE)*$F26)","v":" "},{"$f":"IF($C26=\"\",\" \",VLOOKUP($C26,Ergänzungsfutter!$A$11:$BE$35,34,FALSE)*$F26)","v":" "},{"$f":"IF($C26=\"\",\" \",VLOOKUP($C26,Ergänzungsfutter!$A$11:$BE$35,35,FALSE)*$F26)","v":" "},{"$f":"IF($C26=\"\",\" \",VLOOKUP($C26,Ergänzungsfutter!$A$11:$BE$35,36,FALSE)*$F26)","v":" "},{"$f":"IF($C26=\"\",\" \",VLOOKUP($C26,Ergänzungsfutter!$A$11:$BE$35,35,FALSE)*$F26)","v":" "},{"$f":"IF($C26=\"\",\" \",VLOOKUP($C26,Ergänzungsfutter!$A$11:$BE$35,37,FALSE)*$F26)","v":" "},{"$f":"IF($C26=\"\",\" \",VLOOKUP($C26,Ergänzungsfutter!$A$11:$BE$35,38,FALSE)*$F26)","v":" "},{"$f":"IF($C26=\"\",\" \",VLOOKUP($C26,Ergänzungsfutter!$A$11:$BE$35,39,FALSE)*$F26)","v":" "},{"$f":"IF($C26=\"\",\" \",VLOOKUP($C26,Ergänzungsfutter!$A$11:$BE$35,37,FALSE)*$F26)","v":" "},{"$f":"IF($C26=\"\",\" \",VLOOKUP($C26,Ergänzungsfutter!$A$11:$BE$35,40,FALSE)*$F26)","v":" "},{"$f":"IF($C26=\"\",\" \",VLOOKUP($C26,Ergänzungsfutter!$A$11:$BE$35,41,FALSE)*$F26)","v":" "}]
[null,"Nr.","Mineralfutter"]
[null,{"$f":"B28","v":6},{"$f":"IF(C28=\"\",\" \",C28)","v":"Opti. MinFu AM 850g TZ 3,5% + Phytase 17/18"},null,{"$f":"IF(E28=\"\",\" \",E28)","v":81},{"$f":"IF(F28=\"\",\" \",F28)","v":3.5000000000000003E-2},{"$f":"IF($C28=\"\",\" \",VLOOKUP($C28,Mineralfutter!$A$11:$BE$25,10,FALSE)*$F28)","v":1.05},{"$f":"IF($C28=\"\",\" \",VLOOKUP($C28,Mineralfutter!$A$11:$BE$25,10,FALSE)*$F28)","v":1.05},{"$f":"IF($C28=\"\",\" \",VLOOKUP($C28,Mineralfutter!$A$11:$BE$25,21,FALSE)*$F28)","v":0},{"$f":"IF($C28=\"\",\" \",VLOOKUP($C28,Mineralfutter!$A$11:$BE$25,22,FALSE)*$F28)","v":0},{"$f":"IF($C28=\"\",\" \",VLOOKUP($C28,Mineralfutter!$A$11:$BE$25,23,FALSE)*$F28)","v":0},{"$f":"IF($C28=\"\",\" \",VLOOKUP($C28,Mineralfutter!$A$11:$BE$25,24,FALSE)*$F28)","v":24.500000000000004},null,{"$f":"IF($C28=\"\",\" \",VLOOKUP($C28,Mineralfutter!$A$11:$BE$25,27,FALSE)*$F28)","v":0},{"$f":"IF($C28=\"\",\" \",VLOOKUP($C28,Mineralfutter!$A$11:$BE$25,28,FALSE)*$F28)","v":0},{"$f":"IF($C28=\"\",\" \",VLOOKUP($C28,Mineralfutter!$A$11:$BE$25,29,FALSE)*$F28)","v":0},{"$f":"IF($C28=\"\",\" \",VLOOKUP($C28,Mineralfutter!$A$11:$BE$25,30,FALSE)*$F28)","v":6055.0000000000009},{"$f":"IF($C28=\"\",\" \",VLOOKUP($C28,Mineralfutter!$A$11:$BE$25,31,FALSE)*$F28)","v":1513.7500000000002},{"$f":"IF($C28=\"\",\" \",VLOOKUP($C28,Mineralfutter!$A$11:$BE$25,32,FALSE)*$F28)","v":61.250000000000007},{"$f":"IF($C28=\"\",\" \",VLOOKUP($C28,Mineralfutter!$A$11:$BE$25,33,FALSE)*$F28)","v":256.60077464788736},{"$f":"IF($C28=\"\",\" \",VLOOKUP($C28,Mineralfutter!$A$11:$BE$25,34,FALSE)*$F28)","v":116.53652605727606},null,null,null,null,{"$f":"IF($C28=\"\",\" \",VLOOKUP($C28,Mineralfutter!$A$11:$BE$25,35,FALSE)*$F28)","v":9.1664431401931423E-2},{"$f":"IF($C28=\"\",\" \",VLOOKUP($C28,Mineralfutter!$A$11:$BE$25,36,FALSE)*$F28)","v":9.2780248917748928E-2},{"$f":"IF($C28=\"\",\" \",VLOOKUP($C28,Mineralfutter!$A$11:$BE$25,37,FALSE)*$F28)","v":0},{"$f":"IF($C28=\"\",\" \",VLOOKUP($C28,Mineralfutter!$A$11:$BE$25,37,FALSE)*$F28)","v":0},{"$f":"IF($C28=\"\",\" \",VLOOKUP($C28,Mineralfutter!$A$11:$BE$25,38,FALSE)*$F28)","v":0}]
[null,{"$f":"B29","v":" "},{"$f":"IF(C29=\"\",\" \",C29)","v":" "},null,{"$f":"IF(E29=\"\",\" \",E29)","v":" "},{"$f":"IF(F29=\"\",\" \",F29)","v":" "},{"$f":"IF($C29=\"\",\" \",VLOOKUP($C29,Mineralfutter!$A$11:$BE$25,10,FALSE)*$F29)","v":" "},{"$f":"IF($C29=\"\",\" \",VLOOKUP($C29,Mineralfutter!$A$11:$BE$25,10,FALSE)*$F29)","v":" "},{"$f":"IF($C29=\"\",\" \",VLOOKUP($C29,Mineralfutter!$A$11:$BE$25,21,FALSE)*$F29)","v":" "},{"$f":"IF($C29=\"\",\" \",VLOOKUP($C29,Mineralfutter!$A$11:$BE$25,22,FALSE)*$F29)","v":" "},{"$f":"IF($C29=\"\",\" \",VLOOKUP($C29,Mineralfutter!$A$11:$BE$25,23,FALSE)*$F29)","v":" "},{"$f":"IF($C29=\"\",\" \",VLOOKUP($C29,Mineralfutter!$A$11:$BE$25,24,FALSE)*$F29)","v":" "},null,{"$f":"IF($C29=\"\",\" \",VLOOKUP($C29,Mineralfutter!$A$11:$BE$25,27,FALSE)*$F29)","v":" "},{"$f":"IF($C29=\"\",\" \",VLOOKUP($C29,Mineralfutter!$A$11:$BE$25,28,FALSE)*$F29)","v":" "},{"$f":"IF($C29=\"\",\" \",VLOOKUP($C29,Mineralfutter!$A$11:$BE$25,29,FALSE)*$F29)","v":" "},{"$f":"IF($C29=\"\",\" \",VLOOKUP($C29,Mineralfutter!$A$11:$BE$25,30,FALSE)*$F29)","v":" "},{"$f":"IF($C29=\"\",\" \",VLOOKUP($C29,Mineralfutter!$A$11:$BE$25,31,FALSE)*$F29)","v":" "},{"$f":"IF($C29=\"\",\" \",VLOOKUP($C29,Mineralfutter!$A$11:$BE$25,32,FALSE)*$F29)","v":" "},{"$f":"IF($C29=\"\",\" \",VLOOKUP($C29,Mineralfutter!$A$11:$BE$25,33,FALSE)*$F29)","v":" "},{"$f":"IF($C29=\"\",\" \",VLOOKUP($C29,Mineralfutter!$A$11:$BE$25,34,FALSE)*$F29)","v":" "},null,null,null,null,{"$f":"IF($C29=\"\",\" \",VLOOKUP($C29,Mineralfutter!$A$11:$BE$25,35,FALSE)*$F29)","v":" "},{"$f":"IF($C29=\"\",\" \",VLOOKUP($C29,Mineralfutter!$A$11:$BE$25,36,FALSE)*$F29)","v":" "},{"$f":"IF($C29=\"\",\" \",VLOOKUP($C29,Mineralfutter!$A$11:$BE$25,37,FALSE)*$F29)","v":" "},{"$f":"IF($C29=\"\",\" \",VLOOKUP($C29,Mineralfutter!$A$11:$BE$25,37,FALSE)*$F29)","v":" "},{"$f":"IF($C29=\"\",\" \",VLOOKUP($C29,Mineralfutter!$A$11:$BE$25,38,FALSE)*$F29)","v":" "}]
[null,null,"Summe",null,{"$f":"AC30","v":22.872660000000003},{"$f":"IF(SUM(F13:F29,F36:F37)=0,\" \",SUM(F13:F29,F36:F37))","v":1},{"$f":"IF(F30=\" \",\" \",SUM(G46:G62,Q36*$F36,Q37*$F37*0.525))","v":2.875572881818182},{"$f":"IF(F30=\" \",\" \",SUM(H46:H62,R36*$F36,R37*$F37*0.525))","v":2.6325528440000001},{"$f":"IF(F30=\" \",\" \",SUM(I46:I62))","v":29.924660000000003},{"$f":"IF(F30=\" \",\" \",SUM(J46:J62))","v":468.46819999999997},{"$f":"IF(F30=\" \",\" \",SUM(K46:K62))","v":33.332000000000001},{"$f":"IF(F30=\" \",\" \",SUM(L46:L62,F36*650))","v":49.086400000000005},{"$f":"IF(G30=\" \",\" \",SUM(M46:M62))","v":149.04555999999997},{"$f":"IF(F30=\" \",\" \",SUM(N46:N62))","v":14.772324827586207},{"$f":"IF(F30=\" \",\" \",SUM(O46:O62))","v":12.862743793103448},{"$f":"IF(F30=\" \",\" \",SUM(P46:P62))","v":1.9142010344827585},{"$f":"IF(F30=\" \",\" \",SUM(Q46:Q62))","v":6055.0000000000009},{"$f":"IF(F30=\" \",\" \",SUM(R46:R62))","v":1513.7500000000002},{"$f":"IF(F30=\" \",\" \",SUM(S46:S62))","v":61.250000000000007},{"$f":"IF(F30=\" \",\" \",SUM(T46:T62))","v":276.3147539536655},{"$f":"IF(F30=\" \",\" \",SUM(U46:U62))","v":551.94215689525095},{"$f":"IF(F30=\" \",\" \",SUM(V46:V62))","v":78.231510600000007},{"$f":"IF(H30=\" \",\" \",SUM(W46:W62))","v":220.35137503000453},{"$f":"IF(I30=\" \",\" \",SUM(X46:X62))","v":45.884114269293924},{"$f":"IF(H30=\" \",\" \",SUM(Y46:Y62))","v":617.51375999999993},{"$f":"IF(K30=\" \",\" \",SUM(Z46:Z62))","v":9.0874060270343389},{"$f":"IF(J30=\" \",\" \",SUM(AA46:AA62))","v":9.3706431780852348},{"$f":"IF(AA30=\" \",\" \",SUM(AB46:AB62,AK36*$F36,AK37*$F37*0.525))","v":6.0038400000000003},{"$f":"IF(N30=\" \",\" \",SUM(AC46:AC62))","v":0},{"$f":"IF(M30=\" \",\" \",SUM(AD46:AD62))","v":0}]
[null,null,"Summe auf 88% TM umgerechnet",null,{"$f":"AC31","v":22.732929979252528},{"$f":"F30","v":1},{"$f":"IF($F31=\" \",\" \",ROUND($I31*G63/$I30*$F31,1))","v":2.9},{"$f":"IF($F31=\" \",\" \",ROUND($I31*H63/$I30*$F31,1))","v":2.6},{"$f":"IF($F31=\" \",\" \",ROUND($I31*I63/$I30*$F31,0))","v":30},{"$f":"IF($F31=\" \",\" \",ROUND($I31*J63/$I30*$F31,0))","v":466},{"$f":"IF($F31=\" \",\" \",ROUND($I31*K63/$I30*$F31,0))","v":33},{"$f":"IF($F31=\" \",\" \",ROUND($I31*L63/$I30*$F31,0))","v":49},{"$f":"IF($F31=\" \",\" \",ROUND($I31*M63/$I30*$F31,0))","v":148},{"$f":"IF($F31=\" \",\" \",ROUND($I31*N63/$I30*$F31,1))","v":14.7},{"$f":"IF($F31=\" \",\" \",ROUND($I31*O63/$I30*$F31,1))","v":12.8},{"$f":"IF($F31=\" \",\" \",ROUND($I31*P63/$I30*$F31,1))","v":1.9},{"$f":"IF($F31=\" \",\" \",ROUND($I31*Q63/$I30*$F31,0))","v":6018},{"$f":"IF($F31=\" \",\" \",ROUND($I31*R63/$I30*$F31,0))","v":1505},{"$f":"IF($F31=\" \",\" \",ROUND($I31*S63/$I30*$F31,0))","v":61},{"$f":"IF($F31=\" \",\" \",ROUND($I31*T63/$I30*$F31,0))","v":275},{"$f":"IF($F31=\" \",\" \",ROUND($I31*U63/$I30*$F31,0))","v":549},{"$f":"IF($F31=\" \",\" \",ROUND($I31*V63/$I30*$F31,1))","v":77.8},219,45.6,613.70000000000005,9,9.3000000000000007,6,{"$f":"IF($F31=\" \",\" \",ROUND($I31*AC63/$I30*$F31,2))","v":0},{"$f":"IF($F31=\" \",\" \",ROUND($I31*AD63/$I30*$F31,2))","v":0}]
[null,"OW-Nr.","aus Tabelle Orientierungswerte in g"]
[null,{"$f":"B33","v":13},{"$f":"IF(C33=\"\",\" \",C33)","v":"Anfangsmast ab 40 Kg LM für 850 g TZ*"},null,"-",{"$f":"F30","v":1},{"$f":"IF($C33=\"\",\" \",ROUND(VLOOKUP($C$33,Orientierungswerte!$A$13:$AZ$126,30,FALSE)*$F$33,1))","v":2.9},{"$f":"IF($C33=\"\",\" \",ROUND(VLOOKUP($C$33,Orientierungswerte!$A$13:$AZ$126,31,FALSE)*$F$33,1))","v":2.6},{"$f":"IF($C33=\"\",\" \",ROUND(VLOOKUP($C$33,Orientierungswerte!$A$13:$AZ$126,33,FALSE)*$F$33,0))","v":0},{"$f":"IF($C33=\"\",\" \",ROUND(VLOOKUP($C$33,Orientierungswerte!$A$13:$AZ$126,34,FALSE)*$F$33,0))","v":0},{"$f":"IF($C33=\"\",\" \",ROUND(VLOOKUP($C$33,Orientierungswerte!$A$13:$AZ$126,35,FALSE)*$F$33,0))","v":0},{"$f":"IF($C33=\"\",\" \",ROUND(VLOOKUP($C$33,Orientierungswerte!$A$13:$AZ$126,36,FALSE)*$F$33,0))","v":0},{"$f":"IF($C33=\"\",\" \",ROUND(VLOOKUP($C$33,Orientierungswerte!$A$13:$AZ$126,36,FALSE)*$F$33,0))","v":0},{"$f":"IF($C33=\"\",\" \",ROUND(VLOOKUP($C$33,Orientierungswerte!$A$13:$AZ$126,37,FALSE)*$F$33,1))","v":17.7},{"$f":"IF($C33=\"\",\" \",ROUND(VLOOKUP($C$33,Orientierungswerte!$A$13:$AZ$126,38,FALSE)*$F$33,1))","v":9.9},{"$f":"IF($C33=\"\",\" \",ROUND(VLOOKUP($C$33,Orientierungswerte!$A$13:$AZ$126,39,FALSE)*$F$33,1))","v":0},{"$f":"IF($C33=\"\",\" \",ROUND(VLOOKUP($C$33,Orientierungswerte!$A$13:$AZ$126,40,FALSE)*$F$33,0))","v":6000},{"$f":"IF($C33=\"\",\" \",ROUND(VLOOKUP($C$33,Orientierungswerte!$A$13:$AZ$126,41,FALSE)*$F$33,0))","v":1500},{"$f":"IF($C33=\"\",\" \",ROUND(VLOOKUP($C$33,Orientierungswerte!$A$13:$AZ$126,42,FALSE)*$F$33,0))","v":60},{"$f":"IF($C33=\"\",\" \",ROUND(VLOOKUP($C$33,Orientierungswerte!$A$13:$AZ$126,43,FALSE)*$F$33,1))","v":0},{"$f":"IF($C33=\"\",\" \",ROUND(VLOOKUP($C$33,Orientierungswerte!$A$13:$AZ$126,44,FALSE)*$F$33,1))","v":0},{"$f":"IF($C33=\"\",\" \",ROUND(VLOOKUP($C$33,Orientierungswerte!$A$13:$AZ$126,47,FALSE)*$F$33,1))","v":0},{"$f":"IF($C33=\"\",\" \",ROUND(VLOOKUP($C$33,Orientierungswerte!$A$13:$AZ$126,46,FALSE)*$F$33,1))","v":120},{"$f":"IF($C33=\"\",\" \",ROUND(VLOOKUP($C$33,Orientierungswerte!$A$13:$AZ$126,45,FALSE)*$F$33,1))","v":70},{"$f":"IF($C33=\"\",\" \",ROUND(VLOOKUP($C$33,Orientierungswerte!$A$13:$AZ$126,49,FALSE)*$F$33,1))","v":0},{"$f":"IF($C33=\"\",\" \",ROUND(VLOOKUP($C$33,Orientierungswerte!$A$13:$AZ$126,48,FALSE)*$F$33,1))","v":9.8000000000000007},{"$f":"IF($C33=\"\",\" \",ROUND(VLOOKUP($C$33,Orientierungswerte!$A$13:$AZ$126,49,FALSE)*$F$33,1))","v":0},null,{"$f":"IF($C33=\"\",\" \",ROUND(VLOOKUP($C$33,Orientierungswerte!$A$13:$AZ$126,50,FALSE)*$F$33,2))","v":1},{"$f":"IF($C33=\"\",\" \",ROUND(VLOOKUP($C$33,Orientierungswerte!$A$13:$AZ$126,51,FALSE)*$F$33,2))","v":0.25}]
[null,null,"Differenz Mischung zu Orientierungswert",null,"-",{"$f":"IF($C$33=\"\",\" \",ROUND((1-F31)*-1,4))","v":0},{"$f":"IF($C$33=\"\",\" \",ROUND(G64-G66,1))","v":0},{"$f":"IF($C$33=\"\",\" \",ROUND(H64-H66,1))","v":0},{"$f":"IF($C$33=\"\",\" \",ROUND(I64-I66,0))","v":30},{"$f":"IF($C$33=\"\",\" \",ROUND(J64-J66,0))","v":466},{"$f":"IF($C$33=\"\",\" \",ROUND(K64-K66,0))","v":33},{"$f":"IF($C$33=\"\",\" \",ROUND(L64-L66,0))","v":49},{"$f":"IF($C$33=\"\",\" \",ROUND(M64-M66,0))","v":148},{"$f":"IF($C$33=\"\",\" \",ROUND(N64-N66,1))","v":-3},{"$f":"IF($C$33=\"\",\" \",ROUND(O64-O66,1))","v":2.9},{"$f":"IF($C$33=\"\",\" \",ROUND(P64-P66,1))","v":1.9},{"$f":"IF($C$33=\"\",\" \",ROUND(Q64-Q66,0))","v":18},5,1,275,549,78,99,{"$f":"IF($C$33=\"\",\" \",ROUND(X64-X66,0))","v":-24},{"$f":"IF($C$33=\"\",\" \",ROUND(Y64-Y66,0))","v":614},{"$f":"IF($C$33=\"\",\" \",Z64-Z66)","v":-0.80000000000000071},{"$f":"IF($C$33=\"\",\" \",AA64-AA66)","v":9.3000000000000007},{"$f":"IF($C$33=\"\",\" \",ROUND(AB64-AB66,1))","v":6},{"$f":"IF($C$33=\"\",\" \",ROUND(AC64-AC66,2))","v":-1},{"$f":"IF($C$33=\"\",\" \",ROUND(AD64-AD66,2))","v":-0.25}]

{"sheet":"Ausdruck (2)","index":5,"n_rows":67,"n_cols":13,"rows_kept":67,"cut":false,"hidden":false,"merged":[[56,1,56,2],[9,2,9,6],[9,7,9,11],[10,2,10,6],[10,7,10,12],[11,2,11,11],[13,7,13,10]]}
[]
[]
[]
[]
[]
[]
[]
[]
[null,null,null,null,null,null,null,null,null,null,null,"Datum:",{"$f":"Futterberechnung!$Z$5","v":"2018-08-01"}]
[null,"Betrieb:",{"$f":"'Futterberechnung (2)'!H5","v":"Mustermann"}]
[null,"Futtermischung für:",{"$f":"IF('Futterberechnung (2)'!H7=\"\",\"\",'Futterberechnung (2)'!H7)","v":"Anfangsmast ab 40 Kg LM für 850 g TZ* "},null,null,null,null,{"$f":"IF('Futterberechnung (2)'!P7=\"\",\"\",'Futterberechnung (2)'!P7)","v":"Getreide = Richtpreise Ernte 2017/18"}]
[null,null,{"$f":"'Futterberechnung (2)'!J8","v":""}]
[]
[null,"Futtermittel","Preis / dt","Anteile                       in % FM","Anteile                       bei 88% TM","in Mischer",null,"Inhaltsstoffe                                                                       in 1 kg Futtermittel",null,null,null,"Soll","Differenz"]
[null,{"$f":"IF('Futterberechnung (2)'!C13=\"\",\"\",'Futterberechnung (2)'!C13)","v":"eigener Weizen 10% RP Ø 2018"},{"$f":"IF('Futterberechnung (2)'!E13=\"\",\"\",'Futterberechnung (2)'!E13)","v":17.420000000000002},{"$f":"IF('Futterberechnung (2)'!F13=\"\",\"\",'Futterberechnung (2)'!F13)","v":0.51},{"$f":"IF('Futterberechnung (2)'!G13=\"\",\"\",'Futterberechnung (2)'!G13)","v":0.50688438902247435},{"$f":"IF('Futterberechnung (2)'!H13=\"\",\"\",'Futterberechnung (2)'!H13)","v":510},null,null,"in","in der FM","in 88% TM","in 88% TM"]
[null,{"$f":"IF('Futterberechnung (2)'!C14=\"\",\"\",'Futterberechnung (2)'!C14)","v":"eigene Gerste 10% RP Ø 2018"},{"$f":"IF('Futterberechnung (2)'!E14=\"\",\"\",'Futterberechnung (2)'!E14)","v":16.39},{"$f":"IF('Futterberechnung (2)'!F14=\"\",\"\",'Futterberechnung (2)'!F14)","v":0.314},{"$f":"IF('Futterberechnung (2)'!G14=\"\",\"\",'Futterberechnung (2)'!G14)","v":0.31208176108442537},{"$f":"IF('Futterberechnung (2)'!H14=\"\",\"\",'Futterberechnung (2)'!H14)","v":314},null,"TM","g",{"$f":"IF('Futterberechnung (2)'!I30=\"\",\"\",'Futterberechnung (2)'!I30)","v":885.40900000000011},{"$f":"IF('Futterberechnung (2)'!I31=\"\",\"\",'Futterberechnung (2)'!I31)","v":880}]
[null,{"$f":"IF('Futterberechnung (2)'!C15=\"\",\"\",'Futterberechnung (2)'!C15)","v":"Sojaschrot HP 47% RP "},{"$f":"IF('Futterberechnung (2)'!E15=\"\",\"\",'Futterberechnung (2)'!E15)","v":38},{"$f":"IF('Futterberechnung (2)'!F15=\"\",\"\",'Futterberechnung (2)'!F15)","v":0.13},{"$f":"IF('Futterberechnung (2)'!G15=\"\",\"\",'Futterberechnung (2)'!G15)","v":0.13067407266020561},{"$f":"IF('Futterberechnung (2)'!H15=\"\",\"\",'Futterberechnung (2)'!H15)","v":130},null,"MES EFF*","MJ",{"$f":"IF('Futterberechnung (2)'!$M$30=\"\",\"\",'Futterberechnung (2)'!$M$30)","v":13.225935413150511},{"$f":"IF('Futterberechnung (2)'!$M$31=\"\",\"\",'Futterberechnung (2)'!$M$31)","v":13.15},{"$f":"IF('Futterberechnung (2)'!$M$33=\"\",\"\",'Futterberechnung (2)'!$M$33)","v":13.2},{"$f":"IF('Futterberechnung (2)'!$M$34=\"\",\"\",'Futterberechnung (2)'!$M$34)","v":-0.05}]
[null,{"$f":"IF('Futterberechnung (2)'!C16=\"\",\"\",'Futterberechnung (2)'!C16)","v":"Rapsöl / Pflanzenöl DLG 2014"},{"$f":"IF('Futterberechnung (2)'!E16=\"\",\"\",'Futterberechnung (2)'!E16)","v":97},{"$f":"IF('Futterberechnung (2)'!F16=\"\",\"\",'Futterberechnung (2)'!F16)","v":1.0999999999999999E-2},{"$f":"IF('Futterberechnung (2)'!G16=\"\",\"\",'Futterberechnung (2)'!G16)","v":1.2411213348859113E-2},{"$f":"IF('Futterberechnung (2)'!H16=\"\",\"\",'Futterberechnung (2)'!H16)","v":11},null,"MES MFF*","MJ",{"$f":"IF('Futterberechnung (2)'!$N$30=\"\",\"\",'Futterberechnung (2)'!$N$30)","v":13.189244263163843},{"$f":"IF('Futterberechnung (2)'!$N$31=\"\",\"\",'Futterberechnung (2)'!$N$31)","v":13.11},{"$f":"IF('Futterberechnung (2)'!$N$33=\"\",\"\",'Futterberechnung (2)'!$N$33)","v":13.2},{"$f":"IF('Futterberechnung (2)'!$N$34=\"\",\"\",'Futterberechnung (2)'!$N$34)","v":-0.09}]
[null,{"$f":"IF('Futterberechnung (2)'!C17=\"\",\"\",'Futterberechnung (2)'!C17)","v":""},{"$f":"IF('Futterberechnung (2)'!E17=\"\",\"\",'Futterberechnung (2)'!E17)","v":""},{"$f":"IF('Futterberechnung (2)'!F17=\"\",\"\",'Futterberechnung (2)'!F17)","v":""},{"$f":"IF('Futterberechnung (2)'!G17=\"\",\"\",'Futterberechnung (2)'!G17)","v":""},{"$f":"IF('Futterberechnung (2)'!H17=\"\",\"\",'Futterberechnung (2)'!H17)","v":" "},null,"Rohprotein (XP)","g",{"$f":"IF('Futterberechnung (2)'!$J$30=\"\",\"\",'Futterberechnung (2)'!$J$30)","v":147.83963042291043},{"$f":"IF('Futterberechnung (2)'!$J$31=\"\",\"\",'Futterberechnung (2)'!$J$31)","v":147},{"$f":"IF('Futterberechnung (2)'!$J$33=\"\",\"\",'Futterberechnung (2)'!$J$33)","v":158},{"$f":"IF('Futterberechnung (2)'!$J$34=\"\",\"\",'Futterberechnung (2)'!$J$34)","v":-11}]
[null,{"$f":"IF('Futterberechnung (2)'!C18=\"\",\"\",'Futterberechnung (2)'!C18)","v":""},{"$f":"IF('Futterberechnung (2)'!E18=\"\",\"\",'Futterberechnung (2)'!E18)","v":""},{"$f":"IF('Futterberechnung (2)'!F18=\"\",\"\",'Futterberechnung (2)'!F18)","v":""},{"$f":"IF('Futterberechnung (2)'!G18=\"\",\"\",'Futterberechnung (2)'!G18)","v":""},{"$f":"IF('Futterberechnung (2)'!H18=\"\",\"\",'Futterberechnung (2)'!H18)","v":" "},null,"Lys","g",{"$f":"IF('Futterberechnung (2)'!$O$30=\"\",\"\",'Futterberechnung (2)'!$O$30)","v":9.7052303090909078},{"$f":"IF('Futterberechnung (2)'!$O$31=\"\",\"\",'Futterberechnung (2)'!$O$31)","v":9.6},{"$f":"IF('Futterberechnung (2)'!$O$33=\"\",\"\",'Futterberechnung (2)'!$O$33)","v":10.199999999999999},{"$f":"IF('Futterberechnung (2)'!$O$34=\"\",\"\",'Futterberechnung (2)'!$O$34)","v":-0.6}]
[null,{"$f":"IF('Futterberechnung (2)'!C19=\"\",\"\",'Futterberechnung (2)'!C19)","v":""},{"$f":"IF('Futterberechnung (2)'!E19=\"\",\"\",'Futterberechnung (2)'!E19)","v":""},{"$f":"IF('Futterberechnung (2)'!F19=\"\",\"\",'Futterberechnung (2)'!F19)","v":""},{"$f":"IF('Futterberechnung (2)'!G19=\"\",\"\",'Futterberechnung (2)'!G19)","v":""},{"$f":"IF('Futterberechnung (2)'!H19=\"\",\"\",'Futterberechnung (2)'!H19)","v":" "},null,"pcv Lys","g",{"$f":"IF('Futterberechnung (2)'!$P$30=\"\",\"\",'Futterberechnung (2)'!$P$30)","v":8.7494777529090904},{"$f":"IF('Futterberechnung (2)'!$P$31=\"\",\"\",'Futterberechnung (2)'!$P$31)","v":8.6999999999999993},{"$f":"IF('Futterberechnung (2)'!$P$33=\"\",\"\",'Futterberechnung (2)'!$P$33)","v":8.9},{"$f":"IF('Futterberechnung (2)'!$P$34=\"\",\"\",'Futterberechnung (2)'!$P$34)","v":-0.2}]
[null,{"$f":"IF('Futterberechnung (2)'!C20=\"\",\"\",'Futterberechnung (2)'!C20)","v":""},{"$f":"IF('Futterberechnung (2)'!E20=\"\",\"\",'Futterberechnung (2)'!E20)","v":""},{"$f":"IF('Futterberechnung (2)'!F20=\"\",\"\",'Futterberechnung (2)'!F20)","v":""},{"$f":"IF('Futterberechnung (2)'!G20=\"\",\"\",'Futterberechnung (2)'!G20)","v":""},{"$f":"IF('Futterberechnung (2)'!H20=\"\",\"\",'Futterberechnung (2)'!H20)","v":" "},null,"Met","g",{"$f":"IF('Futterberechnung (2)'!$G$63=\"\",\"\",'Futterberechnung (2)'!$G$63)","v":2.875572881818182},{"$f":"IF('Futterberechnung (2)'!$G$64=\"\",\"\",'Futterberechnung (2)'!$G$64)","v":2.9},{"$f":"IF('Futterberechnung (2)'!$G$66=\"\",\"\",'Futterberechnung (2)'!$G$66)","v":2.9},{"$f":"IF('Futterberechnung (2)'!$G67=\"\",\"\",'Futterberechnung (2)'!$G$67)","v":0}]
[null,{"$f":"IF('Futterberechnung (2)'!C21=\"\",\"\",'Futterberechnung (2)'!C21)","v":""},{"$f":"IF('Futterberechnung (2)'!E21=\"\",\"\",'Futterberechnung (2)'!E21)","v":""},{"$f":"IF('Futterberechnung (2)'!F21=\"\",\"\",'Futterberechnung (2)'!F21)","v":""},{"$f":"IF('Futterberechnung (2)'!G21=\"\",\"\",'Futterberechnung (2)'!G21)","v":""},{"$f":"IF('Futterberechnung (2)'!H21=\"\",\"\",'Futterberechnung (2)'!H21)","v":" "},null,"pcv Met","g",{"$f":"IF('Futterberechnung (2)'!$H$63=\"\",\"\",'Futterberechnung (2)'!$H$63)","v":2.6325528440000001},{"$f":"IF('Futterberechnung (2)'!$H$64=\"\",\"\",'Futterberechnung (2)'!$H$64)","v":2.6},{"$f":"IF('Futterberechnung (2)'!$H$66=\"\",\"\",'Futterberechnung (2)'!$H$66)","v":2.6},{"$f":"IF('Futterberechnung (2)'!$H67=\"\",\"\",'Futterberechnung (2)'!$H$67)","v":0}]
[null,{"$f":"IF('Futterberechnung (2)'!C22=\"\",\"\",'Futterberechnung (2)'!C22)","v":""},{"$f":"IF('Futterberechnung (2)'!E22=\"\",\"\",'Futterberechnung (2)'!E22)","v":""},{"$f":"IF('Futterberechnung (2)'!F22=\"\",\"\",'Futterberechnung (2)'!F22)","v":""},{"$f":"IF('Futterberechnung (2)'!G22=\"\",\"\",'Futterberechnung (2)'!G22)","v":""},{"$f":"IF('Futterberechnung (2)'!H22=\"\",\"\",'Futterberechnung (2)'!H22)","v":" "},null,"Met + Cys","g",{"$f":"IF('Futterberechnung (2)'!$Q$30=\"\",\"\",'Futterberechnung (2)'!$Q$30)","v":5.9002040999999998},{"$f":"IF('Futterberechnung (2)'!$Q$31=\"\",\"\",'Futterberechnung (2)'!$Q$31)","v":5.9},{"$f":"IF('Futterberechnung (2)'!$Q$33=\"\",\"\",'Futterberechnung (2)'!$Q$33)","v":5.5},{"$f":"IF('Futterberechnung (2)'!$Q$34=\"\",\"\",'Futterberechnung (2)'!$Q$34)","v":0.4}]
[null,{"$f":"IF('Futterberechnung (2)'!C23=\"\",\"\",'Futterberechnung (2)'!C23)","v":""},{"$f":"IF('Futterberechnung (2)'!E23=\"\",\"\",'Futterberechnung (2)'!E23)","v":""},{"$f":"IF('Futterberechnung (2)'!F23=\"\",\"\",'Futterberechnung (2)'!F23)","v":""},{"$f":"IF('Futterberechnung (2)'!G23=\"\",\"\",'Futterberechnung (2)'!G23)","v":""},{"$f":"IF('Futterberechnung (2)'!H23=\"\",\"\",'Futterberechnung (2)'!H23)","v":" "},null,"pcv Met + Cys","g",{"$f":"IF('Futterberechnung (2)'!$R$30=\"\",\"\",'Futterberechnung (2)'!$R$30)","v":5.227279645052632},{"$f":"IF('Futterberechnung (2)'!$R$31=\"\",\"\",'Futterberechnung (2)'!$R$31)","v":5.2},{"$f":"IF('Futterberechnung (2)'!$R$33=\"\",\"\",'Futterberechnung (2)'!$R$33)","v":4.9000000000000004},{"$f":"IF('Futterberechnung (2)'!$R$34=\"\",\"\",'Futterberechnung (2)'!$R$34)","v":0.3}]
[null,{"$f":"IF('Futterberechnung (2)'!C24=\"\",\"\",'Futterberechnung (2)'!C24)","v":"Ergänzungsfutter "},{"$f":"IF('Futterberechnung (2)'!E24=\"\",\"\",'Futterberechnung (2)'!E24)","v":""},{"$f":"IF('Futterberechnung (2)'!F24=\"\",\"\",'Futterberechnung (2)'!F24)","v":""},{"$f":"IF('Futterberechnung (2)'!G24=\"\",\"\",'Futterberechnung (2)'!G24)","v":""},{"$f":"IF('Futterberechnung (2)'!H24=\"\",\"\",'Futterberechnung (2)'!H24)","v":""},null,"Thr","g",{"$f":"IF('Futterberechnung (2)'!$S$30=\"\",\"\",'Futterberechnung (2)'!$S$30)","v":6.4476407818181816},{"$f":"IF('Futterberechnung (2)'!$S$31=\"\",\"\",'Futterberechnung (2)'!$S$31)","v":6.4},{"$f":"IF('Futterberechnung (2)'!$S$33=\"\",\"\",'Futterberechnung (2)'!$S$33)","v":6.4},{"$f":"IF('Futterberechnung (2)'!$S$34=\"\",\"\",'Futterberechnung (2)'!$S$34)","v":0}]
[null,{"$f":"IF('Futterberechnung (2)'!C25=\"\",\"\",'Futterberechnung (2)'!C25)","v":""},{"$f":"IF('Futterberechnung (2)'!E25=\"\",\"\",'Futterberechnung (2)'!E25)","v":""},{"$f":"IF('Futterberechnung (2)'!F25=\"\",\"\",'Futterberechnung (2)'!F25)","v":""},{"$f":"IF('Futterberechnung (2)'!G25=\"\",\"\",'Futterberechnung (2)'!G25)","v":""},{"$f":"IF('Futterberechnung (2)'!H25=\"\",\"\",'Futterberechnung (2)'!H25)","v":" "},null,"pcv Thr","g",{"$f":"IF('Futterberechnung (2)'!$T$30=\"\",\"\",'Futterberechnung (2)'!$T$30)","v":5.6832829323636362},{"$f":"IF('Futterberechnung (2)'!$T$31=\"\",\"\",'Futterberechnung (2)'!$T$31)","v":5.6},{"$f":"IF('Futterberechnung (2)'!$T$33=\"\",\"\",'Futterberechnung (2)'!$T$33)","v":5.8},{"$f":"IF('Futterberechnung (2)'!$T$34=\"\",\"\",'Futterberechnung (2)'!$T$34)","v":-0.2}]
[null,{"$f":"IF('Futterberechnung (2)'!C26=\"\",\"\",'Futterberechnung (2)'!C26)","v":""},{"$f":"IF('Futterberechnung (2)'!E26=\"\",\"\",'Futterberechnung (2)'!E26)","v":""},{"$f":"IF('Futterberechnung (2)'!F26=\"\",\"\",'Futterberechnung (2)'!F26)","v":""},{"$f":"IF('Futterberechnung (2)'!G26=\"\",\"\",'Futterberechnung (2)'!G26)","v":""},{"$f":"IF('Futterberechnung (2)'!H26=\"\",\"\",'Futterberechnung (2)'!H26)","v":" "},null,"Trp","g",{"$f":"IF('Futterberechnung (2)'!$U$30=\"\",\"\",'Futterberechnung (2)'!$U$30)","v":1.8851081090909092},{"$f":"IF('Futterberechnung (2)'!$U$31=\"\",\"\",'Futterberechnung (2)'!$U$31)","v":1.9},{"$f":"IF('Futterberechnung (2)'!$U$33=\"\",\"\",'Futterberechnung (2)'!$U$33)","v":1.8},{"$f":"IF('Futterberechnung (2)'!$U$34=\"\",\"\",'Futterberechnung (2)'!$U$34)","v":0.1}]
[null,{"$f":"IF('Futterberechnung (2)'!C27=\"\",\"\",'Futterberechnung (2)'!C27)","v":"Mineralfutter"},{"$f":"IF('Futterberechnung (2)'!E27=\"\",\"\",'Futterberechnung (2)'!E27)","v":""},{"$f":"IF('Futterberechnung (2)'!F27=\"\",\"\",'Futterberechnung (2)'!F27)","v":""},{"$f":"IF('Futterberechnung (2)'!G27=\"\",\"\",'Futterberechnung (2)'!G27)","v":""},{"$f":"IF('Futterberechnung (2)'!H27=\"\",\"\",'Futterberechnung (2)'!H27)","v":""},null,"pcv Trp","g",{"$f":"IF('Futterberechnung (2)'!$V$30=\"\",\"\",'Futterberechnung (2)'!$V$30)","v":1.5985962338181818},{"$f":"IF('Futterberechnung (2)'!$V$31=\"\",\"\",'Futterberechnung (2)'!$V$31)","v":1.6},{"$f":"IF('Futterberechnung (2)'!$V$33=\"\",\"\",'Futterberechnung (2)'!$V$33)","v":1.6},{"$f":"IF('Futterberechnung (2)'!$V$34=\"\",\"\",'Futterberechnung (2)'!$V$34)","v":0}]
[null,{"$f":"IF('Futterberechnung (2)'!C28=\"\",\"\",'Futterberechnung (2)'!C28)","v":"Opti. MinFu AM 850g TZ 3,5% + Phytase 17/18"},{"$f":"IF('Futterberechnung (2)'!E28=\"\",\"\",'Futterberechnung (2)'!E28)","v":81},{"$f":"IF('Futterberechnung (2)'!F28=\"\",\"\",'Futterberechnung (2)'!F28)","v":3.5000000000000003E-2},{"$f":"IF('Futterberechnung (2)'!G28=\"\",\"\",'Futterberechnung (2)'!G28)","v":3.7948563884035509E-2},{"$f":"IF('Futterberechnung (2)'!H28=\"\",\"\",'Futterberechnung (2)'!H28)","v":35},null,"Rohfaser (XF)","g",{"$f":"IF('Futterberechnung (2)'!$L$30=\"\",\"\",'Futterberechnung (2)'!$L$30)","v":37.663960000000003},{"$f":"IF('Futterberechnung (2)'!$L$31=\"\",\"\",'Futterberechnung (2)'!$L$31)","v":37},{"$f":"IF('Futterberechnung (2)'!$L$33=\"\",\"\",'Futterberechnung (2)'!$L$33)","v":40},{"$f":"IF('Futterberechnung (2)'!$L$34=\"\",\"\",'Futterberechnung (2)'!$L$34)","v":-3}]
[null,{"$f":"IF('Futterberechnung (2)'!C29=\"\",\"\",'Futterberechnung (2)'!C29)","v":""},{"$f":"IF('Futterberechnung (2)'!E29=\"\",\"\",'Futterberechnung (2)'!E29)","v":""},{"$f":"IF('Futterberechnung (2)'!F29=\"\",\"\",'Futterberechnung (2)'!F29)","v":""},{"$f":"IF('Futterberechnung (2)'!G29=\"\",\"\",'Futterberechnung (2)'!G29)","v":""},{"$f":"IF('Futterberechnung (2)'!H29=\"\",\"\",'Futterberechnung (2)'!H29)","v":" "},null,"NDFom","g",{"$f":"IF('Futterberechnung (2)'!$W$63=\"\",\"\",'Futterberechnung (2)'!$W$63)","v":220.35137503000453},{"$f":"IF('Futterberechnung (2)'!$W$64=\"\",\"\",'Futterberechnung (2)'!$W$64)","v":219},{"$f":"IF('Futterberechnung (2)'!$W$66=0,\"\",'Futterberechnung (2)'!$W$66)","v":120},{"$f":"IF($L$31=\"\",\"\",'Futterberechnung (2)'!$W$67)","v":99}]
[null,"Futterkosten / Summe / Mischergröße",{"$f":"IF('Futterberechnung (2)'!E30=\"\",\"\",'Futterberechnung (2)'!E30)","v":22.872660000000003},{"$f":"IF('Futterberechnung (2)'!F30=\"\",\"\",'Futterberechnung (2)'!F30)","v":1},null,{"$f":"IF(F15=\"\",\"\",SUM(F15:F31))","v":1000},null,"ADFom","g",{"$f":"IF('Futterberechnung (2)'!$X$63=\"\",\"\",'Futterberechnung (2)'!$X$63)","v":45.884114269293924},{"$f":"IF('Futterberechnung (2)'!$X$64=\"\",\"\",'Futterberechnung (2)'!$X$64)","v":45.6},{"$f":"IF('Futterberechnung (2)'!$X$66=0,\"\",'Futterberechnung (2)'!$X$66)","v":70},{"$f":"IF($L$32=\"\",\"\",'Futterberechnung (2)'!$X$67)","v":-24}]
[null,"Futterkosten auf 88% TM umgerechnet",{"$f":"IF('Futterberechnung (2)'!E31=\"\",\"\",'Futterberechnung (2)'!E31)","v":22.732929979252528},null,null,{"$f":"IF(Futterberechnung!H31=\"\",\"\",Futterberechnung!H31)","v":""},null,"BfS","g",{"$f":"IF('Futterberechnung (2)'!$V$63=\"\",\"\",'Futterberechnung (2)'!$V$63)","v":78.231510600000007},{"$f":"IF('Futterberechnung (2)'!$V$64=\"\",\"\",'Futterberechnung (2)'!$V$64)","v":77.8},{"$f":"IF('Futterberechnung (2)'!$V$66=0,\"\",'Futterberechnung (2)'!$V$66)","v":""},{"$f":"IF($L$33=\"\",\"\",'Futterberechnung (2)'!$V$67)","v":""}]
[null,null,null,null,null,null,null,"Ca","g",{"$f":"IF('Futterberechnung (2)'!$W$30=\"\",\"\",'Futterberechnung (2)'!$W$30)","v":5.9813285417659579},{"$f":"IF('Futterberechnung (2)'!$W$31=\"\",\"\",'Futterberechnung (2)'!$W$31)","v":5.9},{"$f":"IF('Futterberechnung (2)'!$W$33=\"\",\"\",'Futterberechnung (2)'!$W$33)","v":5.9},{"$f":"IF('Futterberechnung (2)'!$W$34=\"\",\"\",'Futterberechnung (2)'!$W$34)","v":0}]
[null,null,null,null,null,null,null,"P","g",{"$f":"IF('Futterberechnung (2)'!$X$30=\"\",\"\",'Futterberechnung (2)'!$X$30)","v":4.178381059751973},{"$f":"IF('Futterberechnung (2)'!$X$31=\"\",\"\",'Futterberechnung (2)'!$X$31)","v":4.2},{"$f":"IF('Futterberechnung (2)'!$X$33=\"\",\"\",'Futterberechnung (2)'!$X$33)","v":4.4000000000000004},{"$f":"IF('Futterberechnung (2)'!$X$34=\"\",\"\",'Futterberechnung (2)'!$X$34)","v":-0.2}]
[null,null,null,null,null,null,null,"v.P","g",{"$f":"IF('Futterberechnung (2)'!$Y$30=\"\",\"\",'Futterberechnung (2)'!$Y$30)","v":2.2729024239007889},{"$f":"IF('Futterberechnung (2)'!$Y$31=\"\",\"\",'Futterberechnung (2)'!$Y$31)","v":2.2999999999999998},{"$f":"IF('Futterberechnung (2)'!$Y$33=\"\",\"\",'Futterberechnung (2)'!$Y$33)","v":2.7},{"$f":"IF('Futterberechnung (2)'!$Y$34=\"\",\"\",'Futterberechnung (2)'!$Y$34)","v":-0.4}]
[null,null,null,null,null,null,null,"v.P + Phytase","g",{"$f":"IF('Futterberechnung (2)'!$Z$30=\"\",\"\",'Futterberechnung (2)'!$Z$30)","v":2.8818357948139797},{"$f":"IF('Futterberechnung (2)'!$Z$31=\"\",\"\",'Futterberechnung (2)'!$Z$31)","v":2.9},{"$f":"IF('Futterberechnung (2)'!$Z$33=\"\",\"\",'Futterberechnung (2)'!$Z$33)","v":2.7},{"$f":"IF('Futterberechnung (2)'!$Z$34=\"\",\"\",'Futterberechnung (2)'!$Z$34)","v":0.2}]
[null,null,null,null,null,null,null,"Na","g",{"$f":"IF('Futterberechnung (2)'!$AB$30=\"\",\"\",'Futterberechnung (2)'!$AB$30)","v":1.9216243793103451},{"$f":"IF('Futterberechnung (2)'!$AB$31=\"\",\"\",'Futterberechnung (2)'!$AB$31)","v":1.9},{"$f":"IF('Futterberechnung (2)'!$AB$33=\"\",\"\",'Futterberechnung (2)'!$AB$33)","v":1.8},{"$f":"IF(Futterberechnung!$AB$34=\"\",\"\",'Futterberechnung (2)'!$AB$34)","v":0.1}]
[null,null,null,null,null,null,null,"Mg","g",{"$f":"IF('Futterberechnung (2)'!$AA$30=\"\",\"\",'Futterberechnung (2)'!$AA$30)","v":1.2732330042553193},{"$f":"IF('Futterberechnung (2)'!$AA$31=\"\",\"\",'Futterberechnung (2)'!$AA$31)","v":1.3},{"$f":"IF('Futterberechnung (2)'!$AA$33=\"\",\"\",'Futterberechnung (2)'!$AA$33)","v":1},{"$f":"IF('Futterberechnung (2)'!$AA$34=\"\",\"\",'Futterberechnung (2)'!$AA$34)","v":0.3}]
[null,null,null,null,null,null,null,"Polyensäuren","g",{"$f":"IF('Futterberechnung (2)'!$N$63=\"\",\"\",'Futterberechnung (2)'!$N$63)","v":14.772324827586207},{"$f":"IF('Futterberechnung (2)'!$N$64=\"\",\"\",'Futterberechnung (2)'!$N$64)","v":14.7},{"$f":"IF('Futterberechnung (2)'!$N$66=\"\",\"\",'Futterberechnung (2)'!$N$66)","v":17.7},{"$f":"IF('Futterberechnung (2)'!$N$67=\"\",\"\",'Futterberechnung (2)'!$N$67)","v":-3}]
[null,null,null,null,null,null,null,"Vit. A","IE",{"$f":"IF('Futterberechnung (2)'!$Q$63=\"\",\"\",'Futterberechnung (2)'!$Q$63)","v":6055.0000000000009},{"$f":"IF('Futterberechnung (2)'!$Q$64=\"\",\"\",'Futterberechnung (2)'!$Q$64)","v":6018},{"$f":"IF('Futterberechnung (2)'!$Q$66=\"\",\"\",'Futterberechnung (2)'!$Q$66)","v":6000},{"$f":"IF('Futterberechnung (2)'!$Q$67=\"\",\"\",'Futterberechnung (2)'!$Q$67)","v":18}]
[null,null,null,null,null,null,null,"Vit. D3","IE",{"$f":"IF('Futterberechnung (2)'!$R$63=\"\",\"\",'Futterberechnung (2)'!$R$63)","v":1513.7500000000002},{"$f":"IF('Futterberechnung (2)'!$R$64=\"\",\"\",'Futterberechnung (2)'!$R$64)","v":1505},{"$f":"IF('Futterberechnung (2)'!$R$66=\"\",\"\",'Futterberechnung (2)'!$R$66)","v":1500},{"$f":"IF('Futterberechnung (2)'!$R$67=\"\",\"\",'Futterberechnung (2)'!$R$67)","v":5}]
[null,null,null,null,null,null,null,"Vit. E","mg",{"$f":"IF('Futterberechnung (2)'!$S$63=\"\",\"\",'Futterberechnung (2)'!$S$63)","v":61.250000000000007},{"$f":"IF('Futterberechnung (2)'!$S$64=\"\",\"\",'Futterberechnung (2)'!$S$64)","v":61},{"$f":"IF('Futterberechnung (2)'!$S$66=\"\",\"\",'Futterberechnung (2)'!$S$66)","v":60},{"$f":"IF('Futterberechnung (2)'!$S$67=\"\",\"\",'Futterberechnung (2)'!$S$67)","v":1}]
[]
[null,"Aminosäurenverhältnis (AS-Verältnis)","pcv M + C","pcv Thr","pcv Trp",null,null,"Ca / P   ","/1",{"$f":"IF(K45=\"\",\"\",K45)","v":1.4314942692471919},{"$f":"IF('Futterberechnung (2)'!$T$40=\"\",\"\",'Futterberechnung (2)'!$T$40)","v":1.4314942692471919},{"$f":"IF('Futterberechnung (2)'!$T$41=\"\",\"\",'Futterberechnung (2)'!$T$41)","v":1.35},{"$f":"IF(K45=\"\",\"\",K45-L45)","v":8.1494269247191831E-2}]
[null,"AS-Verhältnis in der Ration pcv Lysin 1 /",{"$f":"IF('Futterberechnung (2)'!N40=\"\",\"\",'Futterberechnung (2)'!N40)","v":0.59743904638361167},{"$f":"IF('Futterberechnung (2)'!P40=\"\",\"\",'Futterberechnung (2)'!P40)","v":0.64955681845970936},{"$f":"IF('Futterberechnung (2)'!R40=\"\",\"\",'Futterberechnung (2)'!R40)","v":0.18270761741026986},null,null,"Ca / vP          ","/1",2.6315817515389477,{"$f":"IF('Futterberechnung (2)'!$X$40=\"\",\"\",'Futterberechnung (2)'!$X$40)","v":2.6315817515389477},{"$f":"IF('Futterberechnung (2)'!$X$41=\"\",\"\",'Futterberechnung (2)'!$X$41)","v":2.2000000000000002},0.43158175153894751]
[null,"Orientierungswert AS-Verhältnis pcv Lysin 1 /",{"$f":"IF('Futterberechnung (2)'!N41=\"\",\"\",'Futterberechnung (2)'!N41)","v":0.54},{"$f":"IF('Futterberechnung (2)'!P41=\"\",\"\",'Futterberechnung (2)'!P41)","v":0.63},{"$f":"IF('Futterberechnung (2)'!R41=\"\",\"\",'Futterberechnung (2)'!R41)","v":0.18},null,null,"Ca / vP + Phytase","/1",2.0755271874024483,{"$f":"IF('Futterberechnung (2)'!$X$39=\"\",\"\",'Futterberechnung (2)'!$X$39)","v":2.0755271874024483},{"$f":"IF('Futterberechnung (2)'!$X$41=\"\",\"\",'Futterberechnung (2)'!$X$41)","v":2.2000000000000002},-0.12447281259755183]
[null,"Differenz",{"$f":"IF(C46=\"\",\"\",C46-C47)","v":5.7439046383611636E-2},{"$f":"IF(D46=\"\",\"\",D46-D47)","v":1.9556818459709358E-2},{"$f":"IF(E46=\"\",\"\",E46-E47)","v":2.7076174102698691E-3},null,null,"Lys / MES EFF*","g/MJ",0.73003802281368813,{"$f":"IF('Futterberechnung (2)'!$F$40=\"\",\"\",'Futterberechnung (2)'!$F$40)","v":0.73003802281368813},{"$f":"IF('Futterberechnung (2)'!$F$41=\"\",\"\",'Futterberechnung (2)'!$F$41)","v":0.77},-3.9961977186311892E-2]
[null,null,null,null,null,null,null,"pcv Lys / MES EFF*","g/MJ",0.66159695817490483,{"$f":"IF('Futterberechnung (2)'!$I$40=\"\",\"\",'Futterberechnung (2)'!$I$40)","v":0.66159695817490483},{"$f":"IF('Futterberechnung (2)'!$I$41=\"\",\"\",'Futterberechnung (2)'!$I$41)","v":0.68},-1.8403041825095223E-2]
[null,null,null,null,null,null,null,"Lys in 100g RP","g",5.9183673469387745,{"$f":"IF('Futterberechnung (2)'!$AA$40=\"\",\"\",'Futterberechnung (2)'!$AA$40)","v":5.9183673469387745},{"$f":"IF('Futterberechnung (2)'!$AA$41=\"\",\"\",'Futterberechnung (2)'!$AA$41)","v":5.63},0.28836734693877464]
[null,null,null,null,null,null,null,"Kosten / 10 MJ MES EFF*",null,{"$f":"IF('Futterberechnung (2)'!$M$31=\"\",\"\",$C$32/100/'Futterberechnung (2)'!$M$30*10)","v":0.1729379381155739},{"$f":"IF('Futterberechnung (2)'!$M$31=\"\",\"\",$C$33/100/'Futterberechnung (2)'!$M$31*10)","v":0.17287399223766181}]
[]
[null,null,null,null,null,null,null,"* EFF=Einzelfutterformel und MFF=Mischfutterformel (EFF ist genauer!)"]
[null,"KAB oder DCAB oder BE in 100% TM der Ration",{"$f":"IF('Futterberechnung (2)'!T64=\"\",\"\",'Futterberechnung (2)'!T64/88*100)","v":312.5}]
[null,"Harn-pH bei Fütterung dieser Ration",{"$f":"IF(C54=\"\",\"\",6.19+0.0031*C54+3*10^-6*C54^2)","v":7.4517187500000004}]
[]
[null,"Basenüberschuß (BE)",null,"Harn pH"]
[null,"100 % TM"," in 88 %TM"]
[null,500,{"$f":"B59*0.88","v":440},8.5]
[null,400,{"$f":"B60*0.88","v":352},7.9]
[null,300,264,7.4]
[null,200,176,6.9]
[null,100,88,6.5]
[null,0,0,6.2]
[null,-100,-88,5.9]
[null,-200,-176,5.7]
[null,-400,-352,5.4]

{"sheet":"Futterberechnung (3)","index":6,"n_rows":67,"n_cols":30,"rows_kept":67,"cut":false,"hidden":false,"merged":[[2,25,3,28],[4,7,4,17],[5,7,5,17],[5,25,5,28],[4,25,4,27],[3,1,3,3],[17,2,17,3],[6,7,6,14],[6,15,6,21],[6,25,6,28],[7,9,7,20],[7,25,7,28],[11,2,11,3],[11,8,11,11],[11,12,11,13],[11,14,11,27],[12,2,12,3],[13,2,13,3],[14,2,14,3],[15,2,15,3],[16,2,16,3],[31,11,31,12],[18,2,18,3],[19,2,19,3],[20,2,20,3],[21,2,21,3],[22,2,22,3],[26,2,26,3],[27,2,27,3],[28,2,28,3],[29,2,29,3],[30,2,30,3],[31,2,31,4],[32,2,32,3],[33,2,33,3],[34,1,34,4],[37,1,38,1],[37,23,37,24],[38,5,38,6],[38,8,38,9],[38,11,38,17],[38,19,38,20],[38,25,38,28],[39,2,39,3],[40,2,40,3],[44,2,44,3],[44,6,44,15],[44,16,44,20],[44,21,44,24],[44,25,44,26],[44,28,44,29],[59,2,59,3],[45,2,45,3],[46,2,46,3],[47,2,47,3],[48,2,48,3],[49,2,49,3],[50,2,50,3],[51,2,51,3],[52,2,52,3],[53,2,53,3],[54,2,54,3],[55,2,55,3],[66,2,66,3],[60,2,60,3],[61,2,61,3],[62,2,62,3],[63,2,63,3],[64,2,64,4],[65,2,65,3]]}
[]
[]
[null,null,null,null,null,null,null,null,null,null,null,null,null,null,null,null,null,null,null,null,null,null,null,null,null,"2018 Version 1"]
[null,"Rheinischer Erzeugerring für Mastschweine e.V."]
[null,null,null,null,"Betrieb:",null,null,"Mustermann",null,null,null,null,null,null,null,null,null,null,null,null,null,null,null,"Datum:",null,"2018-08-01"]
[null,null,null,null,"Berater:",null,null,{"$f":"Futterberechnung!H6","v":"………………………………………………………."},null,null,null,null,null,null,null,null,null,null,null,null,null,null,null,"Tel.Nr.:",null,{"$f":"Futterberechnung!Z6","v":"……………………………"}]
[null,null,null,null,"Futtermischung für:",null,null,{"$f":"C33&\" \"","v":"Mittelmast ab 60 Kg LM für 850 g TZ* "},null,null,null,null,null,null,null,"Getreide = Richtpreise Ernte 2017/18",null,null,null,null,null,null,null,"Tel.Nr.:",null,{"$f":"Futterberechnung!Z7","v":"……………………………"}]
[null,null,null,null,"Mischergröße in t:",null,null,{"$f":"Futterberechnung!H8","v":1},null,{"$f":"IF(OR(B10=\"m\",B10=\"w\",'Futterkurve Mast'!T6=\"HP\"),Orientierungswerte!D35,\"\")","v":""},null,null,null,null,null,null,null,null,null,null,null,null,null,"gültig bis:",null,{"$f":"Futterberechnung!Z8","v":"……………………………"}]
[]
[null,{"$f":"IF(Futterberechnung!B10=0,\"\",Futterberechnung!B10)","v":""},"Geschlecht"]
[null,null,null,null,"Netto-Preis ","Anteil in FM","Anteil bei 88% TM","in Mi-scher","TM","Roh-pro-tein XP","pcv XP","Roh-faser XF","ME EFF","ME MFF","Lys","pcv Lys","M&C","pcv M+C","Thr","pcv Thr","Trp","pcv Trp","Ca","P","v. P","v. P m. Phy","Mg","Na","€/dt"]
[null,"FM-Nr.","Futtermittel + % RP in der FM",null,"€/dt","%","%","kg","Anteil in g/kg",null,null,null,"MJ/kg",null,"Anteile in g je kg",null,null,null,null,null,null,null,null,null,null,null,null,null,"Anteil"]
[null,{"$f":"IF($C13=\"\",\" \",VLOOKUP($C13,Futtermittel!$A$8:$CG$171,2,FALSE))","v":49},{"$f":"IF(Futterberechnung!C13=\"\",\"\",Futterberechnung!C13)","v":"eigener Weizen 10% RP Ø 2018"},null,{"$f":"IF(Futterberechnung!E13=\"\",\"\",Futterberechnung!E13)","v":17.420000000000002},0.45,{"$f":"IF(F13=\"\",\"\",I13/I$30)","v":0.44791566517172926},{"$f":"IF(F13=\"\",\" \",$H$8*F13*1000)","v":450},{"$f":"IF($C13=\"\",\" \",VLOOKUP($C13,Futtermittel!$A$8:$CG$171,8,FALSE)*$F13)","v":396},{"$f":"IF($C13=\"\",\" \",VLOOKUP($C13,Futtermittel!$A$8:$CG$171,9,FALSE)*$F13)","v":44.568000000000005},{"$f":"IF($C13=\"\",\" \",VLOOKUP($C13,Futtermittel!$A$8:$CG$171,10,FALSE)*$F13)","v":40.111200000000004},{"$f":"IF($C13=\"\",\" \",VLOOKUP($C13,Futtermittel!$A$8:$CG$171,11,FALSE)*$F13)","v":11.8665},{"$f":"IF($C13=\"\",\" \",VLOOKUP($C13,Futtermittel!$A$8:$CG$171,12,FALSE)*$F13)","v":6.1322598000000008},{"$f":"IF($C13=\"\",\" \",VLOOKUP(C13,Futtermittel!$A$8:$CG$171,13,FALSE)*$F13)","v":6.1650144000000004},{"$f":"IF($C13=\"\",\" \",VLOOKUP($C13,Futtermittel!$A$8:$CG$171,14,FALSE)*$F13)","v":1.43136},{"$f":"IF($C13=\"\",\" \",VLOOKUP($C13,Futtermittel!$A$8:$CG$171,15,FALSE)*$F13)","v":1.2595968000000002},{"$f":"IF($C13=\"\",\" \",VLOOKUP($C13,Futtermittel!$A$8:$CG$171,16,FALSE)*$F13)","v":1.6520400000000002},{"$f":"IF($C13=\"\",\" \",VLOOKUP($C13,Futtermittel!$A$8:$CG$171,17,FALSE)*$F13)","v":1.4923428000000001},{"$f":"IF($C13=\"\",\" \",VLOOKUP($C13,Futtermittel!$A$8:$CG$171,18,FALSE)*$F13)","v":1.1613599999999999},{"$f":"IF($C13=\"\",\" \",VLOOKUP($C13,Futtermittel!$A$8:$CG$171,19,FALSE)*$F13)","v":1.0452239999999999},{"$f":"IF($C13=\"\",\" \",VLOOKUP($C13,Futtermittel!$A$8:$CG$171,20,FALSE)*$F13)","v":0.62568000000000001},{"$f":"IF($C13=\"\",\" \",VLOOKUP($C13,Futtermittel!$A$8:$CG$171,21,FALSE)*$F13)","v":0.55059840000000004},{"$f":"IF($C13=\"\",\" \",VLOOKUP($C13,Futtermittel!$A$8:$CG$171,22,FALSE)*$F13)","v":0.315},{"$f":"IF($C13=\"\",\" \",VLOOKUP($C13,Futtermittel!$A$8:$CG$171,23,FALSE)*$F13)","v":1.4849999999999999},{"$f":"IF($C13=\"\",\" \",VLOOKUP($C13,Futtermittel!$A$8:$CG$171,24,FALSE)*$F13)","v":0.8909999999999999},{"$f":"IF($C13=\"\",\" \",VLOOKUP($C13,Futtermittel!$A$8:$CG$171,25,FALSE)*$F13)","v":0.96525000000000005},{"$f":"IF($C13=\"\",\" \",VLOOKUP($C13,Futtermittel!$A$8:$CG$171,26,FALSE)*$F13)","v":0.49500000000000005},{"$f":"IF($C13=\"\",\" \",VLOOKUP($C13,Futtermittel!$A$8:$CG$171,27,FALSE)*$F13)","v":9.0000000000000011E-2},{"$f":"IFERROR(IF(E13*F13=0,\" \",E13*F13),\"\")","v":7.8390000000000013}]
[null,{"$f":"IF($C14=\"\",\" \",VLOOKUP($C14,Futtermittel!$A$8:$CG$171,2,FALSE))","v":11},{"$f":"IF(Futterberechnung!C14=\"\",\"\",Futterberechnung!C14)","v":"eigene Gerste 10% RP Ø 2018"},null,{"$f":"IF(Futterberechnung!E14=\"\",\"\",Futterberechnung!E14)","v":16.39},0.40500000000000003,{"$f":"IF(F14=\"\",\"\",I14/I$30)","v":0.4031240986545564},{"$f":"IF(F14=\"\",\" \",$H$8*F14*1000)","v":405},{"$f":"IF($C14=\"\",\" \",VLOOKUP($C14,Futtermittel!$A$8:$CG$171,8,FALSE)*$F14)","v":356.40000000000003},{"$f":"IF($C14=\"\",\" \",VLOOKUP($C14,Futtermittel!$A$8:$CG$171,9,FALSE)*$F14)","v":39.337650000000004},{"$f":"IF($C14=\"\",\" \",VLOOKUP($C14,Futtermittel!$A$8:$CG$171,10,FALSE)*$F14)","v":28.7164845},{"$f":"IF($C14=\"\",\" \",VLOOKUP($C14,Futtermittel!$A$8:$CG$171,11,FALSE)*$F14)","v":22.513950000000001},{"$f":"IF($C14=\"\",\" \",VLOOKUP($C14,Futtermittel!$A$8:$CG$171,12,FALSE)*$F14)","v":5.0675799919499998},{"$f":"IF($C14=\"\",\" \",VLOOKUP(C14,Futtermittel!$A$8:$CG$171,13,FALSE)*$F14)","v":5.0597113401000007},{"$f":"IF($C14=\"\",\" \",VLOOKUP($C14,Futtermittel!$A$8:$CG$171,14,FALSE)*$F14)","v":1.313253},{"$f":"IF($C14=\"\",\" \",VLOOKUP($C14,Futtermittel!$A$8:$CG$171,15,FALSE)*$F14)","v":0.95867469000000005},{"$f":"IF($C14=\"\",\" \",VLOOKUP($C14,Futtermittel!$A$8:$CG$171,16,FALSE)*$F14)","v":1.6256294999999998},{"$f":"IF($C14=\"\",\" \",VLOOKUP($C14,Futtermittel!$A$8:$CG$171,17,FALSE)*$F14)","v":1.3612508076315792},{"$f":"IF($C14=\"\",\" \",VLOOKUP($C14,Futtermittel!$A$8:$CG$171,18,FALSE)*$F14)","v":1.4231295000000002},{"$f":"IF($C14=\"\",\" \",VLOOKUP($C14,Futtermittel!$A$8:$CG$171,19,FALSE)*$F14)","v":1.08157842},{"$f":"IF($C14=\"\",\" \",VLOOKUP($C14,Futtermittel!$A$8:$CG$171,20,FALSE)*$F14)","v":0.47437650000000003},{"$f":"IF($C14=\"\",\" \",VLOOKUP($C14,Futtermittel!$A$8:$CG$171,21,FALSE)*$F14)","v":0.36052613999999999},{"$f":"IF($C14=\"\",\" \",VLOOKUP($C14,Futtermittel!$A$8:$CG$171,22,FALSE)*$F14)","v":0.17463600000000001},{"$f":"IF($C14=\"\",\" \",VLOOKUP($C14,Futtermittel!$A$8:$CG$171,23,FALSE)*$F14)","v":1.4175},{"$f":"IF($C14=\"\",\" \",VLOOKUP($C14,Futtermittel!$A$8:$CG$171,24,FALSE)*$F14)","v":0.63787499999999997},{"$f":"IF($C14=\"\",\" \",VLOOKUP($C14,Futtermittel!$A$8:$CG$171,25,FALSE)*$F14)","v":0.92137500000000006},{"$f":"IF($C14=\"\",\" \",VLOOKUP($C14,Futtermittel!$A$8:$CG$171,26,FALSE)*$F14)","v":0.44550000000000006},{"$f":"IF($C14=\"\",\" \",VLOOKUP($C14,Futtermittel!$A$8:$CG$171,27,FALSE)*$F14)","v":6.1448275862068968E-2},6.6379500000000009]
[null,{"$f":"IF($C15=\"\",\" \",VLOOKUP($C15,Futtermittel!$A$8:$CG$171,2,FALSE))","v":100},{"$f":"IF(Futterberechnung!C15=\"\",\"\",Futterberechnung!C15)","v":"Sojaschrot HP 47% RP "},null,{"$f":"IF(Futterberechnung!E15=\"\",\"\",Futterberechnung!E15)","v":38},0.11,{"$f":"IF(F15=\"\",\"\",I15/I$30)","v":0.11073470611189974},110,{"$f":"IF($C15=\"\",\" \",VLOOKUP($C15,Futtermittel!$A$8:$CG$171,8,FALSE)*$F15)","v":97.9},{"$f":"IF($C15=\"\",\" \",VLOOKUP($C15,Futtermittel!$A$8:$CG$171,9,FALSE)*$F15)","v":51.7},{"$f":"IF($C15=\"\",\" \",VLOOKUP($C15,Futtermittel!$A$8:$CG$171,10,FALSE)*$F15)","v":42.393999999999998},{"$f":"IF($C15=\"\",\" \",VLOOKUP($C15,Futtermittel!$A$8:$CG$171,11,FALSE)*$F15)","v":5.72},{"$f":"IF($C15=\"\",\" \",VLOOKUP($C15,Futtermittel!$A$8:$CG$171,12,FALSE)*$F15)","v":1.5242835299999997},{"$f":"IF($C15=\"\",\" \",VLOOKUP(C15,Futtermittel!$A$8:$CG$171,13,FALSE)*$F15)","v":1.52255169},{"$f":"IF($C15=\"\",\" \",VLOOKUP($C15,Futtermittel!$A$8:$CG$171,14,FALSE)*$F15)","v":3.1644849999999995},{"$f":"IF($C15=\"\",\" \",VLOOKUP($C15,Futtermittel!$A$8:$CG$171,15,FALSE)*$F15)","v":2.7531019499999996},{"$f":"IF($C15=\"\",\" \",VLOOKUP($C15,Futtermittel!$A$8:$CG$171,16,FALSE)*$F15)","v":1.4532924999999999},{"$f":"IF($C15=\"\",\" \",VLOOKUP($C15,Futtermittel!$A$8:$CG$171,17,FALSE)*$F15)","v":1.2104808607692303},{"$f":"IF($C15=\"\",\" \",VLOOKUP($C15,Futtermittel!$A$8:$CG$171,18,FALSE)*$F15)","v":2.2237499999999994},{"$f":"IF($C15=\"\",\" \",VLOOKUP($C15,Futtermittel!$A$8:$CG$171,19,FALSE)*$F15)","v":1.9124249999999998},{"$f":"IF($C15=\"\",\" \",VLOOKUP($C15,Futtermittel!$A$8:$CG$171,20,FALSE)*$F15)","v":0.68387500000000001},{"$f":"IF($C15=\"\",\" \",VLOOKUP($C15,Futtermittel!$A$8:$CG$171,21,FALSE)*$F15)","v":0.58813249999999995},{"$f":"IF($C15=\"\",\" \",VLOOKUP($C15,Futtermittel!$A$8:$CG$171,22,FALSE)*$F15)","v":0.35024993534042559},{"$f":"IF($C15=\"\",\" \",VLOOKUP($C15,Futtermittel!$A$8:$CG$171,23,FALSE)*$F15)","v":0.73732243517474627},{"$f":"IF($C15=\"\",\" \",VLOOKUP($C15,Futtermittel!$A$8:$CG$171,24,FALSE)*$F15)","v":0.29492897406989849},{"$f":"IF($C15=\"\",\" \",VLOOKUP($C15,Futtermittel!$A$8:$CG$171,25,FALSE)*$F15)","v":0.55299182638105959},{"$f":"IF($C15=\"\",\" \",VLOOKUP($C15,Futtermittel!$A$8:$CG$171,26,FALSE)*$F15)","v":0.31039715744680851},{"$f":"IF($C15=\"\",\" \",VLOOKUP($C15,Futtermittel!$A$8:$CG$171,27,FALSE)*$F15)","v":1.8600999999999999E-2},4.18]
[null,{"$f":"IF($C16=\"\",\" \",VLOOKUP($C16,Futtermittel!$A$8:$CG$171,2,FALSE))","v":140},{"$f":"IF(Futterberechnung!C16=\"\",\"\",Futterberechnung!C16)","v":"Rapsöl / Pflanzenöl DLG 2014"},null,{"$f":"IF(Futterberechnung!E16=\"\",\"\",Futterberechnung!E16)","v":97},5.0000000000000001E-3,5.6498453220524946E-3,5,{"$f":"IF($C16=\"\",\" \",VLOOKUP($C16,Futtermittel!$A$8:$CG$171,8,FALSE)*$F16)","v":4.9950000000000001},{"$f":"IF($C16=\"\",\" \",VLOOKUP($C16,Futtermittel!$A$8:$CG$171,9,FALSE)*$F16)","v":0},{"$f":"IF($C16=\"\",\" \",VLOOKUP($C16,Futtermittel!$A$8:$CG$171,10,FALSE)*$F16)","v":0},{"$f":"IF($C16=\"\",\" \",VLOOKUP($C16,Futtermittel!$A$8:$CG$171,11,FALSE)*$F16)","v":0},{"$f":"IF($C16=\"\",\" \",VLOOKUP($C16,Futtermittel!$A$8:$CG$171,12,FALSE)*$F16)","v":0.19462996000000002},{"$f":"IF($C16=\"\",\" \",VLOOKUP(C16,Futtermittel!$A$8:$CG$171,13,FALSE)*$F16)","v":0.16216003000000001},{"$f":"IF($C16=\"\",\" \",VLOOKUP($C16,Futtermittel!$A$8:$CG$171,14,FALSE)*$F16)","v":0},{"$f":"IF($C16=\"\",\" \",VLOOKUP($C16,Futtermittel!$A$8:$CG$171,15,FALSE)*$F16)","v":0},{"$f":"IF($C16=\"\",\" \",VLOOKUP($C16,Futtermittel!$A$8:$CG$171,16,FALSE)*$F16)","v":0},{"$f":"IF($C16=\"\",\" \",VLOOKUP($C16,Futtermittel!$A$8:$CG$171,17,FALSE)*$F16)","v":0},{"$f":"IF($C16=\"\",\" \",VLOOKUP($C16,Futtermittel!$A$8:$CG$171,18,FALSE)*$F16)","v":0},{"$f":"IF($C16=\"\",\" \",VLOOKUP($C16,Futtermittel!$A$8:$CG$171,19,FALSE)*$F16)","v":0},{"$f":"IF($C16=\"\",\" \",VLOOKUP($C16,Futtermittel!$A$8:$CG$171,20,FALSE)*$F16)","v":0},{"$f":"IF($C16=\"\",\" \",VLOOKUP($C16,Futtermittel!$A$8:$CG$171,21,FALSE)*$F16)","v":0},{"$f":"IF($C16=\"\",\" \",VLOOKUP($C16,Futtermittel!$A$8:$CG$171,22,FALSE)*$F16)","v":0},{"$f":"IF($C16=\"\",\" \",VLOOKUP($C16,Futtermittel!$A$8:$CG$171,23,FALSE)*$F16)","v":0},{"$f":"IF($C16=\"\",\" \",VLOOKUP($C16,Futtermittel!$A$8:$CG$171,24,FALSE)*$F16)","v":0},{"$f":"IF($C16=\"\",\" \",VLOOKUP($C16,Futtermittel!$A$8:$CG$171,25,FALSE)*$F16)","v":0},{"$f":"IF($C16=\"\",\" \",VLOOKUP($C16,Futtermittel!$A$8:$CG$171,26,FALSE)*$F16)","v":0},{"$f":"IF($C16=\"\",\" \",VLOOKUP($C16,Futtermittel!$A$8:$CG$171,27,FALSE)*$F16)","v":0},0.48499999999999999]
[null,{"$f":"IF($C17=\"\",\" \",VLOOKUP($C17,Futtermittel!$A$8:$CG$171,2,FALSE))","v":" "},{"$f":"IF(Futterberechnung!C17=\"\",\"\",Futterberechnung!C17)","v":""},null,{"$f":"IF(Futterberechnung!E17=\"\",\"\",Futterberechnung!E17)","v":""},null,""," ",{"$f":"IF($C17=\"\",\" \",VLOOKUP($C17,Futtermittel!$A$8:$CG$171,8,FALSE)*$F17)","v":" "},{"$f":"IF($C17=\"\",\" \",VLOOKUP($C17,Futtermittel!$A$8:$CG$171,9,FALSE)*$F17)","v":" "},{"$f":"IF($C17=\"\",\" \",VLOOKUP($C17,Futtermittel!$A$8:$CG$171,10,FALSE)*$F17)","v":" "},{"$f":"IF($C17=\"\",\" \",VLOOKUP($C17,Futtermittel!$A$8:$CG$171,11,FALSE)*$F17)","v":" "},{"$f":"IF($C17=\"\",\" \",VLOOKUP($C17,Futtermittel!$A$8:$CG$171,12,FALSE)*$F17)","v":" "},{"$f":"IF($C17=\"\",\" \",VLOOKUP(C17,Futtermittel!$A$8:$CG$171,13,FALSE)*$F17)","v":" "},{"$f":"IF($C17=\"\",\" \",VLOOKUP($C17,Futtermittel!$A$8:$CG$171,14,FALSE)*$F17)","v":" "},{"$f":"IF($C17=\"\",\" \",VLOOKUP($C17,Futtermittel!$A$8:$CG$171,15,FALSE)*$F17)","v":" "},{"$f":"IF($C17=\"\",\" \",VLOOKUP($C17,Futtermittel!$A$8:$CG$171,16,FALSE)*$F17)","v":" "},{"$f":"IF($C17=\"\",\" \",VLOOKUP($C17,Futtermittel!$A$8:$CG$171,17,FALSE)*$F17)","v":" "},{"$f":"IF($C17=\"\",\" \",VLOOKUP($C17,Futtermittel!$A$8:$CG$171,18,FALSE)*$F17)","v":" "},{"$f":"IF($C17=\"\",\" \",VLOOKUP($C17,Futtermittel!$A$8:$CG$171,19,FALSE)*$F17)","v":" "},{"$f":"IF($C17=\"\",\" \",VLOOKUP($C17,Futtermittel!$A$8:$CG$171,20,FALSE)*$F17)","v":" "},{"$f":"IF($C17=\"\",\" \",VLOOKUP($C17,Futtermittel!$A$8:$CG$171,21,FALSE)*$F17)","v":" "},{"$f":"IF($C17=\"\",\" \",VLOOKUP($C17,Futtermittel!$A$8:$CG$171,22,FALSE)*$F17)","v":" "},{"$f":"IF($C17=\"\",\" \",VLOOKUP($C17,Futtermittel!$A$8:$CG$171,23,FALSE)*$F17)","v":" "},{"$f":"IF($C17=\"\",\" \",VLOOKUP($C17,Futtermittel!$A$8:$CG$171,24,FALSE)*$F17)","v":" "},{"$f":"IF($C17=\"\",\" \",VLOOKUP($C17,Futtermittel!$A$8:$CG$171,25,FALSE)*$F17)","v":" "},{"$f":"IF($C17=\"\",\" \",VLOOKUP($C17,Futtermittel!$A$8:$CG$171,26,FALSE)*$F17)","v":" "},{"$f":"IF($C17=\"\",\" \",VLOOKUP($C17,Futtermittel!$A$8:$CG$171,27,FALSE)*$F17)","v":" "},{"$f":"IFERROR(IF(E17*F17=0,\" \",E17*F17),\"\")","v":""}]
[null,{"$f":"IF($C18=\"\",\" \",VLOOKUP($C18,Futtermittel!$A$8:$CG$171,2,FALSE))","v":" "},{"$f":"IF(Futterberechnung!C18=\"\",\"\",Futterberechnung!C18)","v":""},null,{"$f":"IF(Futterberechnung!E18=\"\",\"\",Futterberechnung!E18)","v":""},null,""," ",{"$f":"IF($C18=\"\",\" \",VLOOKUP($C18,Futtermittel!$A$8:$CG$171,8,FALSE)*$F18)","v":" "},{"$f":"IF($C18=\"\",\" \",VLOOKUP($C18,Futtermittel!$A$8:$CG$171,9,FALSE)*$F18)","v":" "},{"$f":"IF($C18=\"\",\" \",VLOOKUP($C18,Futtermittel!$A$8:$CG$171,10,FALSE)*$F18)","v":" "},{"$f":"IF($C18=\"\",\" \",VLOOKUP($C18,Futtermittel!$A$8:$CG$171,11,FALSE)*$F18)","v":" "},{"$f":"IF($C18=\"\",\" \",VLOOKUP($C18,Futtermittel!$A$8:$CG$171,12,FALSE)*$F18)","v":" "},{"$f":"IF($C18=\"\",\" \",VLOOKUP(C18,Futtermittel!$A$8:$CG$171,13,FALSE)*$F18)","v":" "},{"$f":"IF($C18=\"\",\" \",VLOOKUP($C18,Futtermittel!$A$8:$CG$171,14,FALSE)*$F18)","v":" "},{"$f":"IF($C18=\"\",\" \",VLOOKUP($C18,Futtermittel!$A$8:$CG$171,15,FALSE)*$F18)","v":" "},{"$f":"IF($C18=\"\",\" \",VLOOKUP($C18,Futtermittel!$A$8:$CG$171,16,FALSE)*$F18)","v":" "},{"$f":"IF($C18=\"\",\" \",VLOOKUP($C18,Futtermittel!$A$8:$CG$171,17,FALSE)*$F18)","v":" "},{"$f":"IF($C18=\"\",\" \",VLOOKUP($C18,Futtermittel!$A$8:$CG$171,18,FALSE)*$F18)","v":" "},{"$f":"IF($C18=\"\",\" \",VLOOKUP($C18,Futtermittel!$A$8:$CG$171,19,FALSE)*$F18)","v":" "},{"$f":"IF($C18=\"\",\" \",VLOOKUP($C18,Futtermittel!$A$8:$CG$171,20,FALSE)*$F18)","v":" "},{"$f":"IF($C18=\"\",\" \",VLOOKUP($C18,Futtermittel!$A$8:$CG$171,21,FALSE)*$F18)","v":" "},{"$f":"IF($C18=\"\",\" \",VLOOKUP($C18,Futtermittel!$A$8:$CG$171,22,FALSE)*$F18)","v":" "},{"$f":"IF($C18=\"\",\" \",VLOOKUP($C18,Futtermittel!$A$8:$CG$171,23,FALSE)*$F18)","v":" "},{"$f":"IF($C18=\"\",\" \",VLOOKUP($C18,Futtermittel!$A$8:$CG$171,24,FALSE)*$F18)","v":" "},{"$f":"IF($C18=\"\",\" \",VLOOKUP($C18,Futtermittel!$A$8:$CG$171,25,FALSE)*$F18)","v":" "},{"$f":"IF($C18=\"\",\" \",VLOOKUP($C18,Futtermittel!$A$8:$CG$171,26,FALSE)*$F18)","v":" "},{"$f":"IF($C18=\"\",\" \",VLOOKUP($C18,Futtermittel!$A$8:$CG$171,27,FALSE)*$F18)","v":" "},""]
[null,{"$f":"IF($C19=\"\",\" \",VLOOKUP($C19,Futtermittel!$A$8:$CG$171,2,FALSE))","v":" "},{"$f":"IF(Futterberechnung!C19=\"\",\"\",Futterberechnung!C19)","v":""},null,{"$f":"IF(Futterberechnung!E19=\"\",\"\",Futterberechnung!E19)","v":""},null,""," ",{"$f":"IF($C19=\"\",\" \",VLOOKUP($C19,Futtermittel!$A$8:$CG$171,8,FALSE)*$F19)","v":" "},{"$f":"IF($C19=\"\",\" \",VLOOKUP($C19,Futtermittel!$A$8:$CG$171,9,FALSE)*$F19)","v":" "},{"$f":"IF($C19=\"\",\" \",VLOOKUP($C19,Futtermittel!$A$8:$CG$171,10,FALSE)*$F19)","v":" "},{"$f":"IF($C19=\"\",\" \",VLOOKUP($C19,Futtermittel!$A$8:$CG$171,11,FALSE)*$F19)","v":" "},{"$f":"IF($C19=\"\",\" \",VLOOKUP($C19,Futtermittel!$A$8:$CG$171,12,FALSE)*$F19)","v":" "},{"$f":"IF($C19=\"\",\" \",VLOOKUP(C19,Futtermittel!$A$8:$CG$171,13,FALSE)*$F19)","v":" "},{"$f":"IF($C19=\"\",\" \",VLOOKUP($C19,Futtermittel!$A$8:$CG$171,14,FALSE)*$F19)","v":" "},{"$f":"IF($C19=\"\",\" \",VLOOKUP($C19,Futtermittel!$A$8:$CG$171,15,FALSE)*$F19)","v":" "},{"$f":"IF($C19=\"\",\" \",VLOOKUP($C19,Futtermittel!$A$8:$CG$171,16,FALSE)*$F19)","v":" "},{"$f":"IF($C19=\"\",\" \",VLOOKUP($C19,Futtermittel!$A$8:$CG$171,17,FALSE)*$F19)","v":" "},{"$f":"IF($C19=\"\",\" \",VLOOKUP($C19,Futtermittel!$A$8:$CG$171,18,FALSE)*$F19)","v":" "},{"$f":"IF($C19=\"\",\" \",VLOOKUP($C19,Futtermittel!$A$8:$CG$171,19,FALSE)*$F19)","v":" "},{"$f":"IF($C19=\"\",\" \",VLOOKUP($C19,Futtermittel!$A$8:$CG$171,20,FALSE)*$F19)","v":" "},{"$f":"IF($C19=\"\",\" \",VLOOKUP($C19,Futtermittel!$A$8:$CG$171,21,FALSE)*$F19)","v":" "},{"$f":"IF($C19=\"\",\" \",VLOOKUP($C19,Futtermittel!$A$8:$CG$171,22,FALSE)*$F19)","v":" "},{"$f":"IF($C19=\"\",\" \",VLOOKUP($C19,Futtermittel!$A$8:$CG$171,23,FALSE)*$F19)","v":" "},{"$f":"IF($C19=\"\",\" \",VLOOKUP($C19,Futtermittel!$A$8:$CG$171,24,FALSE)*$F19)","v":" "},{"$f":"IF($C19=\"\",\" \",VLOOKUP($C19,Futtermittel!$A$8:$CG$171,25,FALSE)*$F19)","v":" "},{"$f":"IF($C19=\"\",\" \",VLOOKUP($C19,Futtermittel!$A$8:$CG$171,26,FALSE)*$F19)","v":" "},{"$f":"IF($C19=\"\",\" \",VLOOKUP($C19,Futtermittel!$A$8:$CG$171,27,FALSE)*$F19)","v":" "},""]
[null,{"$f":"IF($C20=\"\",\" \",VLOOKUP($C20,Futtermittel!$A$8:$CG$171,2,FALSE))","v":" "},{"$f":"IF(Futterberechnung!C20=\"\",\"\",Futterberechnung!C20)","v":""},null,{"$f":"IF(Futterberechnung!E20=\"\",\"\",Futterberechnung!E20)","v":""},null,""," ",{"$f":"IF($C20=\"\",\" \",VLOOKUP($C20,Futtermittel!$A$8:$CG$171,8,FALSE)*$F20)","v":" "},{"$f":"IF($C20=\"\",\" \",VLOOKUP($C20,Futtermittel!$A$8:$CG$171,9,FALSE)*$F20)","v":" "},{"$f":"IF($C20=\"\",\" \",VLOOKUP($C20,Futtermittel!$A$8:$CG$171,10,FALSE)*$F20)","v":" "},{"$f":"IF($C20=\"\",\" \",VLOOKUP($C20,Futtermittel!$A$8:$CG$171,11,FALSE)*$F20)","v":" "},{"$f":"IF($C20=\"\",\" \",VLOOKUP($C20,Futtermittel!$A$8:$CG$171,12,FALSE)*$F20)","v":" "},{"$f":"IF($C20=\"\",\" \",VLOOKUP(C20,Futtermittel!$A$8:$CG$171,13,FALSE)*$F20)","v":" "},{"$f":"IF($C20=\"\",\" \",VLOOKUP($C20,Futtermittel!$A$8:$CG$171,14,FALSE)*$F20)","v":" "},{"$f":"IF($C20=\"\",\" \",VLOOKUP($C20,Futtermittel!$A$8:$CG$171,15,FALSE)*$F20)","v":" "},{"$f":"IF($C20=\"\",\" \",VLOOKUP($C20,Futtermittel!$A$8:$CG$171,16,FALSE)*$F20)","v":" "},{"$f":"IF($C20=\"\",\" \",VLOOKUP($C20,Futtermittel!$A$8:$CG$171,17,FALSE)*$F20)","v":" "},{"$f":"IF($C20=\"\",\" \",VLOOKUP($C20,Futtermittel!$A$8:$CG$171,18,FALSE)*$F20)","v":" "},{"$f":"IF($C20=\"\",\" \",VLOOKUP($C20,Futtermittel!$A$8:$CG$171,19,FALSE)*$F20)","v":" "},{"$f":"IF($C20=\"\",\" \",VLOOKUP($C20,Futtermittel!$A$8:$CG$171,20,FALSE)*$F20)","v":" "},{"$f":"IF($C20=\"\",\" \",VLOOKUP($C20,Futtermittel!$A$8:$CG$171,21,FALSE)*$F20)","v":" "},{"$f":"IF($C20=\"\",\" \",VLOOKUP($C20,Futtermittel!$A$8:$CG$171,22,FALSE)*$F20)","v":" "},{"$f":"IF($C20=\"\",\" \",VLOOKUP($C20,Futtermittel!$A$8:$CG$171,23,FALSE)*$F20)","v":" "},{"$f":"IF($C20=\"\",\" \",VLOOKUP($C20,Futtermittel!$A$8:$CG$171,24,FALSE)*$F20)","v":" "},{"$f":"IF($C20=\"\",\" \",VLOOKUP($C20,Futtermittel!$A$8:$CG$171,25,FALSE)*$F20)","v":" "},{"$f":"IF($C20=\"\",\" \",VLOOKUP($C20,Futtermittel!$A$8:$CG$171,26,FALSE)*$F20)","v":" "},{"$f":"IF($C20=\"\",\" \",VLOOKUP($C20,Futtermittel!$A$8:$CG$171,27,FALSE)*$F20)","v":" "},""]
[null,{"$f":"IF($C21=\"\",\" \",VLOOKUP($C21,Futtermittel!$A$8:$CG$171,2,FALSE))","v":" "},{"$f":"IF(Futterberechnung!C21=\"\",\"\",Futterberechnung!C21)","v":""},null,{"$f":"IF(Futterberechnung!E21=\"\",\"\",Futterberechnung!E21)","v":""},null,""," ",{"$f":"IF($C21=\"\",\" \",VLOOKUP($C21,Futtermittel!$A$8:$CG$171,8,FALSE)*$F21)","v":" "},{"$f":"IF($C21=\"\",\" \",VLOOKUP($C21,Futtermittel!$A$8:$CG$171,9,FALSE)*$F21)","v":" "},{"$f":"IF($C21=\"\",\" \",VLOOKUP($C21,Futtermittel!$A$8:$CG$171,10,FALSE)*$F21)","v":" "},{"$f":"IF($C21=\"\",\" \",VLOOKUP($C21,Futtermittel!$A$8:$CG$171,11,FALSE)*$F21)","v":" "},{"$f":"IF($C21=\"\",\" \",VLOOKUP($C21,Futtermittel!$A$8:$CG$171,12,FALSE)*$F21)","v":" "},{"$f":"IF($C21=\"\",\" \",VLOOKUP(C21,Futtermittel!$A$8:$CG$171,13,FALSE)*$F21)","v":" "},{"$f":"IF($C21=\"\",\" \",VLOOKUP($C21,Futtermittel!$A$8:$CG$171,14,FALSE)*$F21)","v":" "},{"$f":"IF($C21=\"\",\" \",VLOOKUP($C21,Futtermittel!$A$8:$CG$171,15,FALSE)*$F21)","v":" "},{"$f":"IF($C21=\"\",\" \",VLOOKUP($C21,Futtermittel!$A$8:$CG$171,16,FALSE)*$F21)","v":" "},{"$f":"IF($C21=\"\",\" \",VLOOKUP($C21,Futtermittel!$A$8:$CG$171,17,FALSE)*$F21)","v":" "},{"$f":"IF($C21=\"\",\" \",VLOOKUP($C21,Futtermittel!$A$8:$CG$171,18,FALSE)*$F21)","v":" "},{"$f":"IF($C21=\"\",\" \",VLOOKUP($C21,Futtermittel!$A$8:$CG$171,19,FALSE)*$F21)","v":" "},{"$f":"IF($C21=\"\",\" \",VLOOKUP($C21,Futtermittel!$A$8:$CG$171,20,FALSE)*$F21)","v":" "},{"$f":"IF($C21=\"\",\" \",VLOOKUP($C21,Futtermittel!$A$8:$CG$171,21,FALSE)*$F21)","v":" "},{"$f":"IF($C21=\"\",\" \",VLOOKUP($C21,Futtermittel!$A$8:$CG$171,22,FALSE)*$F21)","v":" "},{"$f":"IF($C21=\"\",\" \",VLOOKUP($C21,Futtermittel!$A$8:$CG$171,23,FALSE)*$F21)","v":" "},{"$f":"IF($C21=\"\",\" \",VLOOKUP($C21,Futtermittel!$A$8:$CG$171,24,FALSE)*$F21)","v":" "},{"$f":"IF($C21=\"\",\" \",VLOOKUP($C21,Futtermittel!$A$8:$CG$171,25,FALSE)*$F21)","v":" "},{"$f":"IF($C21=\"\",\" \",VLOOKUP($C21,Futtermittel!$A$8:$CG$171,26,FALSE)*$F21)","v":" "},{"$f":"IF($C21=\"\",\" \",VLOOKUP($C21,Futtermittel!$A$8:$CG$171,27,FALSE)*$F21)","v":" "},""]
[null,{"$f":"IF($C22=\"\",\" \",VLOOKUP($C22,Futtermittel!$A$8:$CG$171,2,FALSE))","v":" "},{"$f":"IF(Futterberechnung!C22=\"\",\"\",Futterberechnung!C22)","v":""},null,{"$f":"IF(Futterberechnung!E22=\"\",\"\",Futterberechnung!E22)","v":""},null,""," ",{"$f":"IF($C22=\"\",\" \",VLOOKUP($C22,Futtermittel!$A$8:$CG$171,8,FALSE)*$F22)","v":" "},{"$f":"IF($C22=\"\",\" \",VLOOKUP($C22,Futtermittel!$A$8:$CG$171,9,FALSE)*$F22)","v":" "},{"$f":"IF($C22=\"\",\" \",VLOOKUP($C22,Futtermittel!$A$8:$CG$171,10,FALSE)*$F22)","v":" "},{"$f":"IF($C22=\"\",\" \",VLOOKUP($C22,Futtermittel!$A$8:$CG$171,11,FALSE)*$F22)","v":" "},{"$f":"IF($C22=\"\",\" \",VLOOKUP($C22,Futtermittel!$A$8:$CG$171,12,FALSE)*$F22)","v":" "},{"$f":"IF($C22=\"\",\" \",VLOOKUP(C22,Futtermittel!$A$8:$CG$171,13,FALSE)*$F22)","v":" "},{"$f":"IF($C22=\"\",\" \",VLOOKUP($C22,Futtermittel!$A$8:$CG$171,14,FALSE)*$F22)","v":" "},{"$f":"IF($C22=\"\",\" \",VLOOKUP($C22,Futtermittel!$A$8:$CG$171,15,FALSE)*$F22)","v":" "},{"$f":"IF($C22=\"\",\" \",VLOOKUP($C22,Futtermittel!$A$8:$CG$171,16,FALSE)*$F22)","v":" "},{"$f":"IF($C22=\"\",\" \",VLOOKUP($C22,Futtermittel!$A$8:$CG$171,17,FALSE)*$F22)","v":" "},{"$f":"IF($C22=\"\",\" \",VLOOKUP($C22,Futtermittel!$A$8:$CG$171,18,FALSE)*$F22)","v":" "},{"$f":"IF($C22=\"\",\" \",VLOOKUP($C22,Futtermittel!$A$8:$CG$171,19,FALSE)*$F22)","v":" "},{"$f":"IF($C22=\"\",\" \",VLOOKUP($C22,Futtermittel!$A$8:$CG$171,20,FALSE)*$F22)","v":" "},{"$f":"IF($C22=\"\",\" \",VLOOKUP($C22,Futtermittel!$A$8:$CG$171,21,FALSE)*$F22)","v":" "},{"$f":"IF($C22=\"\",\" \",VLOOKUP($C22,Futtermittel!$A$8:$CG$171,22,FALSE)*$F22)","v":" "},{"$f":"IF($C22=\"\",\" \",VLOOKUP($C22,Futtermittel!$A$8:$CG$171,23,FALSE)*$F22)","v":" "},{"$f":"IF($C22=\"\",\" \",VLOOKUP($C22,Futtermittel!$A$8:$CG$171,24,FALSE)*$F22)","v":" "},{"$f":"IF($C22=\"\",\" \",VLOOKUP($C22,Futtermittel!$A$8:$CG$171,25,FALSE)*$F22)","v":" "},{"$f":"IF($C22=\"\",\" \",VLOOKUP($C22,Futtermittel!$A$8:$CG$171,26,FALSE)*$F22)","v":" "},{"$f":"IF($C22=\"\",\" \",VLOOKUP($C22,Futtermittel!$A$8:$CG$171,27,FALSE)*$F22)","v":" "},""]
[null,{"$f":"IF($C23=\"\",\" \",VLOOKUP($C23,Futtermittel!$A$8:$CG$171,2,FALSE))","v":" "},{"$f":"IF(Futterberechnung!C23=\"\",\"\",Futterberechnung!C23)","v":""},null,{"$f":"IF(Futterberechnung!E23=\"\",\"\",Futterberechnung!E23)","v":""},null,""," ",{"$f":"IF($C23=\"\",\" \",VLOOKUP($C23,Futtermittel!$A$8:$CG$171,8,FALSE)*$F23)","v":" "},{"$f":"IF($C23=\"\",\" \",VLOOKUP($C23,Futtermittel!$A$8:$CG$171,9,FALSE)*$F23)","v":" "},{"$f":"IF($C23=\"\",\" \",VLOOKUP($C23,Futtermittel!$A$8:$CG$171,10,FALSE)*$F23)","v":" "},{"$f":"IF($C23=\"\",\" \",VLOOKUP($C23,Futtermittel!$A$8:$CG$171,11,FALSE)*$F23)","v":" "},{"$f":"IF($C23=\"\",\" \",VLOOKUP($C23,Futtermittel!$A$8:$CG$171,12,FALSE)*$F23)","v":" "},{"$f":"IF($C23=\"\",\" \",VLOOKUP(C23,Futtermittel!$A$8:$CG$171,13,FALSE)*$F23)","v":" "},{"$f":"IF($C23=\"\",\" \",VLOOKUP($C23,Futtermittel!$A$8:$CG$171,14,FALSE)*$F23)","v":" "},{"$f":"IF($C23=\"\",\" \",VLOOKUP($C23,Futtermittel!$A$8:$CG$171,15,FALSE)*$F23)","v":" "},{"$f":"IF($C23=\"\",\" \",VLOOKUP($C23,Futtermittel!$A$8:$CG$171,16,FALSE)*$F23)","v":" "},{"$f":"IF($C23=\"\",\" \",VLOOKUP($C23,Futtermittel!$A$8:$CG$171,17,FALSE)*$F23)","v":" "},{"$f":"IF($C23=\"\",\" \",VLOOKUP($C23,Futtermittel!$A$8:$CG$171,18,FALSE)*$F23)","v":" "},{"$f":"IF($C23=\"\",\" \",VLOOKUP($C23,Futtermittel!$A$8:$CG$171,19,FALSE)*$F23)","v":" "},{"$f":"IF($C23=\"\",\" \",VLOOKUP($C23,Futtermittel!$A$8:$CG$171,20,FALSE)*$F23)","v":" "},{"$f":"IF($C23=\"\",\" \",VLOOKUP($C23,Futtermittel!$A$8:$CG$171,21,FALSE)*$F23)","v":" "},{"$f":"IF($C23=\"\",\" \",VLOOKUP($C23,Futtermittel!$A$8:$CG$171,22,FALSE)*$F23)","v":" "},{"$f":"IF($C23=\"\",\" \",VLOOKUP($C23,Futtermittel!$A$8:$CG$171,23,FALSE)*$F23)","v":" "},{"$f":"IF($C23=\"\",\" \",VLOOKUP($C23,Futtermittel!$A$8:$CG$171,24,FALSE)*$F23)","v":" "},{"$f":"IF($C23=\"\",\" \",VLOOKUP($C23,Futtermittel!$A$8:$CG$171,25,FALSE)*$F23)","v":" "},{"$f":"IF($C23=\"\",\" \",VLOOKUP($C23,Futtermittel!$A$8:$CG$171,26,FALSE)*$F23)","v":" "},{"$f":"IF($C23=\"\",\" \",VLOOKUP($C23,Futtermittel!$A$8:$CG$171,27,FALSE)*$F23)","v":" "},""]
[null,"EF-Nr.","Ergänzungsfutter ","VQ in %",null,null,{"$f":"IF(F24=\"\",\"\",I24/I$2941)","v":""},null,null,null,null,null,null,null,null,null,null,null,null,null,null,null,null,null,null,null,null,null," "]
[null,{"$f":"IF($C25=\"\",\" \",VLOOKUP($C25,Ergänzungsfutter!$A$11:$Q$35,3,FALSE))","v":" "},null,0.85,null,null,{"$f":"IF(F25=\"\",\"\",I25/I$30)","v":""}," ",{"$f":"IF($C25=\"\",\" \",VLOOKUP($C25,Ergänzungsfutter!$A$11:$BE$35,5,FALSE)*$F25)","v":" "},{"$f":"IF($C25=\"\",\" \",VLOOKUP($C25,Ergänzungsfutter!$A$11:$BE$35,6,FALSE)*$F25)","v":" "},{"$f":"IF($C25=\"\",\" \",VLOOKUP($C25,Ergänzungsfutter!$A$11:$BE$35,6,FALSE)*$F25*D25)","v":" "},{"$f":"IF($C25=\"\",\" \",VLOOKUP($C25,Ergänzungsfutter!$A$11:$BE$35,7,FALSE)*$F25)","v":" "},{"$f":"IF($C25=\"\",\" \",IF(VLOOKUP($C25,Ergänzungsfutter!$A$11:$BE$35,8,FALSE)=\" \",0,VLOOKUP($C25,Ergänzungsfutter!$A$11:$BE$35,8,FALSE)*$F25))","v":" "},{"$f":"IF($C25=\"\",\" \",IF(VLOOKUP($C25,Ergänzungsfutter!$A$11:$BE$35,8,FALSE)=\" \",0,VLOOKUP($C25,Ergänzungsfutter!$A$11:$BE$35,8,FALSE)*$F25))","v":" "},{"$f":"IF($C25=\"\",\" \",VLOOKUP($C25,Ergänzungsfutter!$A$11:$BE$35,9,FALSE)*$F25)","v":" "},{"$f":"IF($C25=\"\",\" \",VLOOKUP($C25,Ergänzungsfutter!$A$11:$BE$35,9,FALSE)*$F25*D25)","v":" "},{"$f":"IF($C25=\"\",\" \",VLOOKUP($C25,Ergänzungsfutter!$A$11:$BE$35,10,FALSE)*$F25)","v":" "},{"$f":"IF($C25=\"\",\" \",VLOOKUP($C25,Ergänzungsfutter!$A$11:$BE$35,10,FALSE)*$F25*D25)","v":" "},{"$f":"IF($C25=\"\",\" \",VLOOKUP($C25,Ergänzungsfutter!$A$11:$BE$35,11,FALSE)*$F25)","v":" "},{"$f":"IF($C25=\"\",\" \",VLOOKUP($C25,Ergänzungsfutter!$A$11:$BE$35,11,FALSE)*$F25*D25)","v":" "},{"$f":"IF($C25=\"\",\" \",VLOOKUP($C25,Ergänzungsfutter!$A$11:$BE$35,12,FALSE)*$F25)","v":" "},{"$f":"IF($C25=\"\",\" \",VLOOKUP($C25,Ergänzungsfutter!$A$11:$BE$35,12,FALSE)*$F25*D25)","v":" "},{"$f":"IF($C25=\"\",\" \",VLOOKUP($C25,Ergänzungsfutter!$A$11:$BE$35,13,FALSE)*$F25)","v":" "},{"$f":"IF($C25=\"\",\" \",VLOOKUP($C25,Ergänzungsfutter!$A$11:$BE$35,14,FALSE)*$F25)","v":" "},{"$f":"IF($C25=\"\",\" \",VLOOKUP($C25,Ergänzungsfutter!$A$11:$BE$35,15,FALSE)*$F25)","v":" "},{"$f":"IF($C25=\"\",\" \",IF(Y25>VLOOKUP($C25,Ergänzungsfutter!$A$11:$BE$35,14,FALSE)*$F25*0.65,Y25,VLOOKUP($C25,Ergänzungsfutter!$A$11:$BE$35,14,FALSE)*$F25*0.65))","v":" "},{"$f":"IF($C25=\"\",\" \",VLOOKUP($C25,Ergänzungsfutter!$A$11:$BE$35,16,FALSE)*$F25)","v":" "},{"$f":"IF($C25=\"\",\" \",VLOOKUP($C25,Ergänzungsfutter!$A$11:$BE$35,17,FALSE)*$F25)","v":" "}," "]
[null,{"$f":"IF($C26=\"\",\" \",VLOOKUP($C26,Ergänzungsfutter!$A$11:$Q$35,3,FALSE))","v":" "},null,null,null,null,{"$f":"IF(F26=\"\",\"\",I26/I$30)","v":""}," ",{"$f":"IF($C26=\"\",\" \",VLOOKUP($C26,Ergänzungsfutter!$A$11:$BE$35,5,FALSE)*$F26)","v":" "},{"$f":"IF($C26=\"\",\" \",VLOOKUP($C26,Ergänzungsfutter!$A$11:$BE$35,6,FALSE)*$F26)","v":" "},{"$f":"IF($C26=\"\",\" \",VLOOKUP($C26,Ergänzungsfutter!$A$11:$BE$35,6,FALSE)*$F26*D26)","v":" "},{"$f":"IF($C26=\"\",\" \",VLOOKUP($C26,Ergänzungsfutter!$A$11:$BE$35,7,FALSE)*$F26)","v":" "},{"$f":"IF($C26=\"\",\" \",IF(VLOOKUP($C26,Ergänzungsfutter!$A$11:$BE$35,8,FALSE)=\" \",0,VLOOKUP($C26,Ergänzungsfutter!$A$11:$BE$35,8,FALSE)*$F26))","v":" "},{"$f":"IF($C26=\"\",\" \",IF(VLOOKUP($C26,Ergänzungsfutter!$A$11:$BE$35,8,FALSE)=\" \",0,VLOOKUP($C26,Ergänzungsfutter!$A$11:$BE$35,8,FALSE)*$F26))","v":" "},{"$f":"IF($C26=\"\",\" \",VLOOKUP($C26,Ergänzungsfutter!$A$11:$BE$35,9,FALSE)*$F26)","v":" "},{"$f":"IF($C26=\"\",\" \",VLOOKUP($C26,Ergänzungsfutter!$A$11:$BE$35,9,FALSE)*$F26*D26)","v":" "},{"$f":"IF($C26=\"\",\" \",VLOOKUP($C26,Ergänzungsfutter!$A$11:$BE$35,10,FALSE)*$F26)","v":" "},{"$f":"IF($C26=\"\",\" \",VLOOKUP($C26,Ergänzungsfutter!$A$11:$BE$35,10,FALSE)*$F26*D26)","v":" "},{"$f":"IF($C26=\"\",\" \",VLOOKUP($C26,Ergänzungsfutter!$A$11:$BE$35,11,FALSE)*$F26)","v":" "},{"$f":"IF($C26=\"\",\" \",VLOOKUP($C26,Ergänzungsfutter!$A$11:$BE$35,11,FALSE)*$F26*D26)","v":" "},{"$f":"IF($C26=\"\",\" \",VLOOKUP($C26,Ergänzungsfutter!$A$11:$BE$35,12,FALSE)*$F26)","v":" "},{"$f":"IF($C26=\"\",\" \",VLOOKUP($C26,Ergänzungsfutter!$A$11:$BE$35,12,FALSE)*$F26*D26)","v":" "},{"$f":"IF($C26=\"\",\" \",VLOOKUP($C26,Ergänzungsfutter!$A$11:$BE$35,13,FALSE)*$F26)","v":" "},{"$f":"IF($C26=\"\",\" \",VLOOKUP($C26,Ergänzungsfutter!$A$11:$BE$35,14,FALSE)*$F26)","v":" "},{"$f":"IF($C26=\"\",\" \",VLOOKUP($C26,Ergänzungsfutter!$A$11:$BE$35,15,FALSE)*$F26)","v":" "},{"$f":"IF($C26=\"\",\" \",IF(Y26>VLOOKUP($C26,Ergänzungsfutter!$A$11:$BE$35,14,FALSE)*$F26*0.65,Y26,VLOOKUP($C26,Ergänzungsfutter!$A$11:$BE$35,14,FALSE)*$F26*0.65))","v":" "},{"$f":"IF($C26=\"\",\" \",VLOOKUP($C26,Ergänzungsfutter!$A$11:$BE$35,16,FALSE)*$F26)","v":" "},{"$f":"IF($C26=\"\",\" \",VLOOKUP($C26,Ergänzungsfutter!$A$11:$BE$35,17,FALSE)*$F26)","v":" "}," "]
[null,"Nr.","Mineralfutter",null,null,null,{"$f":"IF(F27=\"\",\"\",I27/I$2944)","v":""},null,null,null,null,null,null,null,null,null,null,null,null,null,null,null,null,null,null,null,null,null," "]
[2,{"$f":"IF($C28=\"\",\" \",VLOOKUP($C28,Mineralfutter!$A$11:$BE$25,3,FALSE))","v":7},"Opti. MinFu MM 850g TZ 3,0% + Phytase 17/18",null,77,0.03,{"$f":"IF(F28=\"\",\"\",I28/I$30)","v":3.2575684739762127E-2},30,{"$f":"IF($C28=\"\",\" \",VLOOKUP($C28,Mineralfutter!$A$11:$BE$25,5,FALSE)*$F28)","v":28.799999999999997},{"$f":"IF($C28=\"\",\" \",VLOOKUP($C28,Mineralfutter!$A$11:$BE$25,6,FALSE)*$F28)","v":4.0322243232957522},{"$f":"IF($C28=\"\",\" \",VLOOKUP($C28,Mineralfutter!$A$11:$BE$25,6,FALSE)*$F28)","v":4.0322243232957522},{"$f":"IF($C28=\"\",\" \",VLOOKUP($C28,Mineralfutter!$A$11:$BE$25,7,FALSE)*$F28)","v":0},{"$f":"IF($C28=\"\",\" \",IF(VLOOKUP($C28,Mineralfutter!$A$11:$BE$25,8,FALSE)=\" \",0,VLOOKUP($C28,Mineralfutter!$A$11:$BE$25,8,FALSE)*$F28))","v":8.2672638076209504E-2},{"$f":"IF($C28=\"\",\" \",IF(VLOOKUP($C28,Mineralfutter!$A$11:$BE$25,19,FALSE)=\" \",0,VLOOKUP($C28,Mineralfutter!$A$11:$BE$25,19,FALSE)*$F28))","v":8.6694656533942246E-2},{"$f":"IF($C28=\"\",\" \",VLOOKUP($C28,Mineralfutter!$A$11:$BE$25,9,FALSE)*$F28)","v":2.5499999999999998},{"$f":"IF($C28=\"\",\" \",VLOOKUP($C28,Mineralfutter!$A$11:$BE$25,9,FALSE)*$F28)","v":2.5499999999999998},{"$f":"IF($C28=\"\",\" \",VLOOKUP($C28,Mineralfutter!$A$11:$BE$25,10,FALSE)*$F28)","v":0.6},{"$f":"IF($C28=\"\",\" \",VLOOKUP($C28,Mineralfutter!$A$11:$BE$25,10,FALSE)*$F28)","v":0.6},{"$f":"IF($C28=\"\",\" \",VLOOKUP($C28,Mineralfutter!$A$11:$BE$25,11,FALSE)*$F28)","v":0.75},{"$f":"IF($C28=\"\",\" \",VLOOKUP($C28,Mineralfutter!$A$11:$BE$25,11,FALSE)*$F28)","v":0.75},{"$f":"IF($C28=\"\",\" \",VLOOKUP($C28,Mineralfutter!$A$11:$BE$25,12,FALSE)*$F28)","v":0},{"$f":"IF($C28=\"\",\" \",VLOOKUP($C28,Mineralfutter!$A$11:$BE$25,12,FALSE)*$F28)","v":0},{"$f":"IF($C28=\"\",\" \",VLOOKUP($C28,Mineralfutter!$A$11:$BE$25,13,FALSE)*$F28)","v":4.3499999999999996},{"$f":"IF($C28=\"\",\" \",VLOOKUP($C28,Mineralfutter!$A$11:$BE$25,14,FALSE)*$F28)","v":0},{"$f":"IF($C28=\"\",\" \",VLOOKUP($C28,Mineralfutter!$A$11:$BE$25,15,FALSE)*$F28)","v":0},{"$f":"IF($C28=\"\",\" \",VLOOKUP($C28,Mineralfutter!$A$11:$BE$25,15,FALSE)*$F28)","v":0},{"$f":"IF($C28=\"\",\" \",VLOOKUP($C28,Mineralfutter!$A$11:$BE$25,16,FALSE)*$F28)","v":0},{"$f":"IF($C28=\"\",\" \",VLOOKUP($C28,Mineralfutter!$A$11:$BE$25,17,FALSE)*$F28)","v":1.65},2.31]
[null,{"$f":"IF($C29=\"\",\" \",VLOOKUP($C29,Mineralfutter!$A$11:$BE$25,3,FALSE))","v":" "},null,null,null,null,{"$f":"IF(F29=\"\",\"\",I29/I$30)","v":""}," ",{"$f":"IF($C29=\"\",\" \",VLOOKUP($C29,Mineralfutter!$A$11:$BE$25,5,FALSE)*$F29)","v":" "},{"$f":"IF($C29=\"\",\" \",VLOOKUP($C29,Mineralfutter!$A$11:$BE$25,6,FALSE)*$F29)","v":" "},{"$f":"IF($C29=\"\",\" \",VLOOKUP($C29,Mineralfutter!$A$11:$BE$25,6,FALSE)*$F29)","v":" "},{"$f":"IF($C29=\"\",\" \",VLOOKUP($C29,Mineralfutter!$A$11:$BE$25,7,FALSE)*$F29)","v":" "},{"$f":"IF($C29=\"\",\" \",IF(VLOOKUP($C29,Mineralfutter!$A$11:$BE$25,8,FALSE)=\" \",0,VLOOKUP($C29,Mineralfutter!$A$11:$BE$25,8,FALSE)*$F29))","v":" "},{"$f":"IF($C29=\"\",\" \",IF(VLOOKUP($C29,Mineralfutter!$A$11:$BE$25,19,FALSE)=\" \",0,VLOOKUP($C29,Mineralfutter!$A$11:$BE$25,19,FALSE)*$F29))","v":" "},{"$f":"IF($C29=\"\",\" \",VLOOKUP($C29,Mineralfutter!$A$11:$BE$25,9,FALSE)*$F29)","v":" "},{"$f":"IF($C29=\"\",\" \",VLOOKUP($C29,Mineralfutter!$A$11:$BE$25,9,FALSE)*$F29)","v":" "},{"$f":"IF($C29=\"\",\" \",VLOOKUP($C29,Mineralfutter!$A$11:$BE$25,10,FALSE)*$F29)","v":" "},{"$f":"IF($C29=\"\",\" \",VLOOKUP($C29,Mineralfutter!$A$11:$BE$25,10,FALSE)*$F29)","v":" "},{"$f":"IF($C29=\"\",\" \",VLOOKUP($C29,Mineralfutter!$A$11:$BE$25,11,FALSE)*$F29)","v":" "},{"$f":"IF($C29=\"\",\" \",VLOOKUP($C29,Mineralfutter!$A$11:$BE$25,11,FALSE)*$F29)","v":" "},{"$f":"IF($C29=\"\",\" \",VLOOKUP($C29,Mineralfutter!$A$11:$BE$25,12,FALSE)*$F29)","v":" "},{"$f":"IF($C29=\"\",\" \",VLOOKUP($C29,Mineralfutter!$A$11:$BE$25,12,FALSE)*$F29)","v":" "},{"$f":"IF($C29=\"\",\" \",VLOOKUP($C29,Mineralfutter!$A$11:$BE$25,13,FALSE)*$F29)","v":" "},{"$f":"IF($C29=\"\",\" \",VLOOKUP($C29,Mineralfutter!$A$11:$BE$25,14,FALSE)*$F29)","v":" "},{"$f":"IF($C29=\"\",\" \",VLOOKUP($C29,Mineralfutter!$A$11:$BE$25,15,FALSE)*$F29)","v":" "},{"$f":"IF($C29=\"\",\" \",VLOOKUP($C29,Mineralfutter!$A$11:$BE$25,15,FALSE)*$F29)","v":" "},{"$f":"IF($C29=\"\",\" \",VLOOKUP($C29,Mineralfutter!$A$11:$BE$25,16,FALSE)*$F29)","v":" "},{"$f":"IF($C29=\"\",\" \",VLOOKUP($C29,Mineralfutter!$A$11:$BE$25,17,FALSE)*$F29)","v":" "}," "]
[null,null,"Summe",null,{"$f":"AC30","v":21.45195},{"$f":"IF(SUM(F13:F29,F36:F37)=0,\" \",SUM(F13:F29,F36:F37))","v":1},null,null,{"$f":"IF(F30=\" \",\" \",SUM(I13:I29,I36*$F36,I37*$F37))","v":884.09500000000003},{"$f":"IF(I30=\" \",\" \",SUM(J13:J29,J36*$F36,J37*$F37))","v":139.63787432329579},115.25390882329576,40.100450000000002,{"$f":"IF(L30=\" \",\" \",SUM(M13:M29,N36*$F36,N37*$F37))","v":13.001425920026211},{"$f":"IF(F30=\" \",\" \",IF(N37=\"\",(0.021503*J30+0.032497*I63+0.016309*J63+0.014701*M63-0.02107*L30),IF(N36=\" \",(0.021503*J30+0.032497*I63+0.016309*J63+0.014701*M63-0.02107*L30),SUM(N13:N29)+N36*F36+N37*F37)))","v":12.996182480173831},{"$f":"IF(M30=\" \",\" \",SUM(O13:O29,O36*$F36,O37*$F37))","v":8.4590980000000009},7.5213734399999996,5.3309619999999995,4.6640744684008091,5.5582394999999991,4.7892274199999996,1.7839315,1.49925704,5.189885935340425,3.6398224351747461,1.8238039740698984,2.4396168263810596,1.2508971574468086,1.820049275862069,{"$f":"IF(SUM(AC13:AC29,AC36:AC37)=0,\" \",SUM(AC13:AC29,AC36:AC37))","v":21.45195}]
[null,null,"Summe auf 88% TM umgerechnet",null,{"$f":"AC31","v":21.352587674401505},{"$f":"F30","v":1},null,null,880,{"$f":"IF($F31=\" \",\" \",ROUND($I31*J30/$I30*$F31,0))","v":139},{"$f":"IF($F31=\" \",\" \",ROUND($I31*K30/$I30*$F31,0))","v":115},{"$f":"IF($F31=\" \",\" \",ROUND($I31*L30/$I30*$F31,0))","v":40},{"$f":"IF($F31=\" \",\" \",ROUND($I31*M30/$I30*$F31,2))","v":12.94},{"$f":"IF($F31=\" \",\" \",ROUND($I31*N30/$I30*$F31,2))","v":12.94},{"$f":"IF($F31=\" \",\" \",ROUND($I31*O30/$I30*$F31,1))","v":8.4},7.5,5.3,4.5999999999999996,5.5,4.8,1.8,1.5,5.2,3.6,1.8,2.4,1.2,1.8,{"$f":"IF(AC30=\" \",\" \",AC30*I31/I30)","v":21.352587674401505}]
[null,"OW-Nr.","aus Tabelle Orientierungswerte in g"]
[null,{"$f":"IF($C33=\"\",\" \",VLOOKUP($C33,Orientierungswerte!A13:AZ126,2,FALSE))","v":19},"Mittelmast ab 60 Kg LM für 850 g TZ*",null,"-",{"$f":"F30","v":1},null,null,{"$f":"I31","v":880},{"$f":"IF($C33=\"\",\" \",ROUND(VLOOKUP($C$33,Orientierungswerte!$A$13:$AZ$126,5,FALSE)*$F$33,0))","v":150},{"$f":"IF($C33=\"\",\" \",ROUND(VLOOKUP($C$33,Orientierungswerte!$A$13:$AZ$126,6,FALSE)*$F$33,0))","v":131},{"$f":"IF($C33=\"\",\" \",ROUND(VLOOKUP($C33,Orientierungswerte!$A$13:$AZ$126,28,FALSE)*$F$33,0))","v":45},{"$f":"IF($C33=\"\",\" \",ROUND(VLOOKUP($C$33,Orientierungswerte!$A$13:$AZ$126,4,FALSE)*$F$33,2))","v":13},{"$f":"IF($C33=\"\",\" \",ROUND(VLOOKUP($C$33,Orientierungswerte!$A$13:$AZ$126,4,FALSE)*$F$33,2))","v":13},{"$f":"IF($C33=\"\",\" \",ROUND(VLOOKUP($C$33,Orientierungswerte!$A$13:$AZ$126,7,FALSE)*$F$33,1))","v":8.8000000000000007},{"$f":"IF($C33=\"\",\" \",ROUND(VLOOKUP($C$33,Orientierungswerte!$A$13:$AZ$126,8,FALSE)*$F$33,1))","v":7.7},{"$f":"IF($C33=\"\",\" \",ROUND(VLOOKUP($C$33,Orientierungswerte!$A$13:$AZ$126,9,FALSE)*$F$33,1))","v":4.7},{"$f":"IF($C33=\"\",\" \",ROUND(VLOOKUP($C$33,Orientierungswerte!$A$13:$AZ$126,10,FALSE)*$F$33,1))","v":4.2},{"$f":"IF($C33=\"\",\" \",ROUND(VLOOKUP($C$33,Orientierungswerte!$A$13:$AZ$126,11,FALSE)*$F$33,1))","v":5.5},{"$f":"IF($C33=\"\",\" \",ROUND(VLOOKUP($C$33,Orientierungswerte!$A$13:$AZ$126,12,FALSE)*$F$33,1))","v":5},{"$f":"IF($C33=\"\",\" \",ROUND(VLOOKUP($C$33,Orientierungswerte!$A$13:$AZ$126,13,FALSE)*$F$33,1))","v":1.6},{"$f":"IF($C33=\"\",\" \",ROUND(VLOOKUP($C$33,Orientierungswerte!$A$13:$AZ$126,14,FALSE)*$F$33,1))","v":1.4},{"$f":"IF($C33=\"\",\" \",ROUND(VLOOKUP($C$33,Orientierungswerte!$A$13:$AZ$126,15,FALSE)*$F$33,1))","v":5.0999999999999996},{"$f":"IF($C33=\"\",\" \",ROUND(VLOOKUP($C$33,Orientierungswerte!$A$13:$AZ$126,16,FALSE)*$F$33,1))","v":4.0999999999999996},{"$f":"IF($C33=\"\",\" \",ROUND(VLOOKUP($C$33,Orientierungswerte!$A$13:$AZ$126,17,FALSE)*$F$33,1))","v":2.4},{"$f":"IF($C33=\"\",\" \",ROUND(VLOOKUP($C$33,Orientierungswerte!$A$13:$AZ$126,17,FALSE)*$F$33,1))","v":2.4},{"$f":"IF($C33=\"\",\" \",ROUND(VLOOKUP($C$33,Orientierungswerte!$A$13:$AZ$126,18,FALSE)*$F$33,1))","v":1},{"$f":"IF($C33=\"\",\" \",ROUND(VLOOKUP($C$33,Orientierungswerte!$A$13:$AZ$126,19,FALSE)*$F$33,1))","v":1.7},"-"]
[null,null,"Differenz Mischung zu Orientierungswert",null,"-",{"$f":"IF($C$33=\"\",\" \",ROUND((1-F31)*-1,4))","v":0},null,null,{"$f":"IF($C$33=\"\",\" \",ROUND(I31-I33,))","v":0},{"$f":"IF($C$33=\"\",\" \",ROUND(J31-J33,))","v":-11},{"$f":"IF($C$33=\"\",\" \",ROUND(K31-K33,0))","v":-16},{"$f":"IF($C$33=\"\",\" \",ROUND(L31-L33,0))","v":-5},{"$f":"IF($C$33=\"\",\" \",ROUND(M31-M33,2))","v":-0.06},{"$f":"IF($C$33=\"\",\" \",ROUND(N31-N33,2))","v":-0.06},{"$f":"IF($C$33=\"\",\" \",ROUND(O31-O33,1))","v":-0.4},-0.2,0.6,0.4,0,-0.2,0.2,0.1,0.1,-0.5,-0.6,0,0.2,0.1,"-"]
[null,"erforderliches Mineral- oder Ergänzungsfutter",null,null,null,"Anteil %",null,null,null,{"$f":"IF(F$36=0,\" \",O35*954/780+Q35*584/990+S35*731/980+U35*853/980)","v":" "},{"$f":"IF(F$36=0,\" \",IF(J35>200,J35*0.8,J35))","v":" "},null,{"$f":"IF(F$36=0,\" \",O35*21.3/780+Q35*13/990+S35*16.3/980+U35*19/980)","v":" "}]
[null,null,"opt. Mineralfutter in g/kg:",null,null,null,{"$f":"IF(F36=\"\",\"\",I36*F36/I$30)","v":""},{"$f":"IF(F36=\"\",\" \",$H$8*F36*1000)","v":" "},{"$f":"IF($F36=0,0,960)","v":0},{"$f":"IF($F36=0,0,O36*954/780+Q36*584/990+S36*731/980+U36*853/980)","v":0},{"$f":"IF(F$36=0,0,J36)","v":0},null,{"$f":"IF($F36=0,0,O36*19.56/780+Q36*11.97/990+S36*14.99/980+U36*17.49/980)","v":0},{"$f":"IF($F36=0,0,O36*20.51/780+Q36*12.56/990+S36*15.72/980+U36*18.34/980)","v":0},85,{"$f":"O36","v":85},20,{"$f":"Q36","v":20},25,{"$f":"S36","v":25},null,{"$f":"U36","v":0},145,null,{"$f":"IF(F36=0,0,X36*0.8)","v":0},{"$f":"Y36","v":0},null,55,{"$f":"IF(F36*E36=0,0,F36*E36)","v":0}]
[null,null,"opt. Ergänzungsfutter in g/kg:",0.85,null,null,{"$f":"IF(F37=\"\",\"\",I37*F37/I$30)","v":""},{"$f":"IF(F37=\"\",\" \",$H$8*F37*1000)","v":" "},{"$f":"IF($F37=0,0,890)","v":0},null,{"$f":"IF(F37=0,0,J37*D37)","v":0},null,{"$f":"N37","v":0},null,null,{"$f":"IF(O37=0,0,O37*D37)","v":0},null,{"$f":"IF(Q37=0,0,Q37*D37)","v":0},null,{"$f":"IF(S37=0,0,S37*D37)","v":0},null,{"$f":"IF(U37=0,0,U37*D37)","v":0},null,null,{"$f":"IF(F37=0,0,X37*0.75)","v":0},{"$f":"IF(F37=0,0,X37*0.75)","v":0},null,null,{"$f":"IF(F37*E37=0,0,F37*E37)","v":0}]
[null,"pcv VQ Lys",null,null,null,null,null,null,null,null,null,null,null,null,null,null,null,null,null,null,null,null,null,"Ca / vP"]
[null,null,null,null,null,"Lys / ME",null,null," pcv Lys/ ME",null,null,"pcv. Lys. / pcv. M. & C. / pcv. Thr. / pcv. Trp.",null,null,null,null,null,null,null,"Ca / P",null,null,"mit Phytase",{"$f":"IF(F30=\" \",\" \",W30/Z30)","v":2.1273365059705416},{"$f":"IF(F30=0,\" \",1)","v":1},"Lys / 100g RP"]
[null,{"$f":"IF(F30=\" \",\" \",P31/O31)","v":0.89285714285714279},"in der Mischung",null,null,{"$f":"IF(F30=\" \",\" \",O31/M31)","v":0.6491499227202473},{"$f":"IF(F30<=0,\" \",1)","v":1},null,{"$f":"IF(F30=\" \",\" \",P31/M31)","v":0.57959814528593512},{"$f":"IF(L30<=0,\" \",1)","v":1},null,{"$f":"IF(F30<=0,\" \",1)","v":1},"/",{"$f":"IF(F30=\" \",\" \",R30/P30)","v":0.62010941294264588},"/",{"$f":"IF(F30=\" \",\" \",T30/P30)","v":0.63674905364092649},"/",{"$f":"IF(F30=\" \",\" \",V30/P30)","v":0.19933288141587077},null,{"$f":"IF(F30=\" \",\" \",W30/X30)","v":1.4258623951503999},{"$f":"IF(F30=0,\" \",1)","v":1},null,"ohne",{"$f":"IF(F30=\" \",\" \",W30/Y30)","v":2.8456380231253511},{"$f":"IF(F30=0,\" \",1)","v":1},null,{"$f":"IF(L30=\" \",\" \",P31*100/J31)","v":5.3956834532374103},{"$f":"IF(L30=0,\" \",100)","v":100}]
[null,{"$f":"IF(P33=\" \",\" \",P33/O33)","v":0.875},"Orientierungswerte",null,null,{"$f":"IF($B$33=\" \",\" \",ROUND(VLOOKUP($B$33,Orientierungswerte!$B$13:$X$114,23,TRUE),2))","v":0.67},{"$f":"IF($B$33=\" \",1,ROUND(VLOOKUP($B$33,Orientierungswerte!$B$13:$X$114,19,TRUE),2))","v":1},null,{"$f":"IF($B$33=\" \",\" \",ROUND(VLOOKUP($B$33,Orientierungswerte!$B$13:$AB$114,24,TRUE),2))","v":0.59},{"$f":"IF($B$33=\" \",1,ROUND(VLOOKUP($B$33,Orientierungswerte!$B$13:$X$114,19,TRUE),2))","v":1},null,{"$f":"IF($B$33=\" \",1,ROUND(VLOOKUP($B$33,Orientierungswerte!$B$13:$X$114,19,TRUE),2))","v":1},"/",{"$f":"IF($B$33=\" \",\" \",ROUND(VLOOKUP($B$33,Orientierungswerte!$B$13:$X$114,20,TRUE),2))","v":0.54},"/",{"$f":"IF($B$33=\" \",\" \",ROUND(VLOOKUP($B$33,Orientierungswerte!$B$13:$X$114,21,TRUE),2))","v":0.63},"/",{"$f":"IF($B$33=\" \",\" \",ROUND(VLOOKUP($B$33,Orientierungswerte!$B$13:$X$114,22,TRUE),2))","v":0.18},null,{"$f":"IF($B$33=\" \",\" \",ROUND(VLOOKUP($B$33,Orientierungswerte!$B$13:$AA$114,25,TRUE),2))","v":1.26},{"$f":"IF($B$33=\" \",1,ROUND(VLOOKUP($B$33,Orientierungswerte!$B$13:$X$114,19,TRUE),2))","v":1},null,null,{"$f":"IF($B$33=\" \",\" \",ROUND(VLOOKUP($B$33,Orientierungswerte!$B$13:$AA$114,26,TRUE),2))","v":2.12},{"$f":"IF($B$33=\" \",1,ROUND(VLOOKUP($B$33,Orientierungswerte!$B$13:$X$114,19,TRUE),2))","v":1},null,{"$f":"IF($B$33=\" \",\" \",ROUND(P33*100/J33,2))","v":5.13},{"$f":"IF($B$33=\" \",1,ROUND(VLOOKUP($B$33,Orientierungswerte!$B$13:$X$114,19,TRUE)*100,0))","v":100}]
[]
[]
[null,null,null,null,"Preis","Anteil","Met","pcv Met","Roh-fett XL","Stär-ke     S","Zu-cker Z","Roh-asche XA","org. Rest","Poly-en-säure","Linol-säure","Lino-len-säure","Vit A in IE","Vit D in IE","Vit E in mg","KAB BE in mmol","SBK in meq","BfS","NDF               om","ADF               om","NfE","NE_GP","NE_S","Kali-um         K","DON","ZEA"]
[null,"FM-Nr.","Futtermittel + % RP in der FM",null,"€/dt","%","Anteil in g/kg",null,null,null,null,null,null,null,null,null,"pro kg ",null,null,null,null,"Anteil in g/kg",null,null,null,"MJ/kg",null,"g/kg","mg pro kg"]
[null,{"$f":"B13","v":49},{"$f":"IF(C13=\"\",\" \",C13)","v":"eigener Weizen 10% RP Ø 2018"},null,{"$f":"IF(E13=\"\",\" \",E13)","v":17.420000000000002},0.45,{"$f":"IF($C13=\"\",\" \",VLOOKUP(C13,Futtermittel!$A$8:$CG$171,29,FALSE)*$F13)","v":0.53568000000000005},{"$f":"IF($C13=\"\",\" \",VLOOKUP(C13,Futtermittel!$A$8:$CG$171,30,FALSE)*$F13)","v":0.47139840000000005},{"$f":"IF($C13=\"\",\" \",VLOOKUP(C13,Futtermittel!$A$8:$CG$171,31,FALSE)*$F13)","v":7.9470000000000001},{"$f":"IF($C13=\"\",\" \",VLOOKUP(C13,Futtermittel!$A$8:$CG$171,32,FALSE)*$F13)","v":269.37},{"$f":"IF($C13=\"\",\" \",VLOOKUP(C13,Futtermittel!$A$8:$CG$171,33,FALSE)*$F13)","v":12.6},{"$f":"IF($C13=\"\",\" \",VLOOKUP(C13,Futtermittel!$A$8:$CG$171,34,FALSE)*$F13)","v":7.4700000000000006},{"$f":"IF($C13=\"\",\" \",VLOOKUP(C13,Futtermittel!$A$8:$CG$171,36,FALSE)*$F13)","v":54.778500000000008},{"$f":"IF($C13=\"\",\" \",VLOOKUP($C13,Futtermittel!$A$8:$CG$171,37,FALSE)*$F13)","v":4.8825000000000003},{"$f":"IF($C13=\"\",\" \",VLOOKUP($C13,Futtermittel!$A$8:$CG$171,38,FALSE)*$F13)","v":4.4887499999999996},{"$f":"IF($C13=\"\",\" \",VLOOKUP($C13,Futtermittel!$A$8:$CG$171,39,FALSE)*$F13)","v":0.39374999999999999},{"$f":"IF($C13=\"\",\" \",VLOOKUP($C13,Futtermittel!$A$8:$CG$171,40,FALSE)*$F13)","v":0},{"$f":"IF($C13=\"\",\" \",VLOOKUP($C13,Futtermittel!$A$8:$CG$171,41,FALSE)*$F13)","v":0},{"$f":"IF($C13=\"\",\" \",VLOOKUP($C13,Futtermittel!$A$8:$CG$171,42,FALSE)*$F13)","v":0},{"$f":"IF($C13=\"\",\" \",VLOOKUP($C13,Futtermittel!$A$8:$CG$171,43,FALSE)*$F13)","v":-11.154599999999981},{"$f":"IF($C13=\"\",\" \",VLOOKUP($C13,Futtermittel!$A$8:$CG$171,44,FALSE)*$F13)","v":141.8211},{"$f":"IF($C13=\"\",\" \",VLOOKUP($C13,Futtermittel!$A$8:$CG$171,45,FALSE)*$F13)","v":22.810725000000019},{"$f":"IF($C13=\"\",\" \",VLOOKUP($C13,Futtermittel!$A$8:$CG$171,54,FALSE)*$F13)","v":77.369580000000013},{"$f":"IF($C13=\"\",\" \",VLOOKUP($C13,Futtermittel!$A$8:$CG$171,53,FALSE)*$F13)","v":16.613099999999999},{"$f":"IF($C13=\"\",\" \",VLOOKUP($C13,Futtermittel!$A$8:$CG$171,46,FALSE)*$F13)","v":324.14850000000001},{"$f":"IF($C13=\"\",\" \",VLOOKUP($C13,Futtermittel!$A$8:$CG$171,56,FALSE)*$F13)","v":4.5277464871192823},{"$f":"IF($C13=\"\",\" \",VLOOKUP($C13,Futtermittel!$A$8:$CG$171,57,FALSE)*$F13)","v":4.6451175159164428},{"$f":"IF($C13=\"\",\" \",VLOOKUP($C13,Futtermittel!$A$8:$CG$171,28,FALSE)*$F13)","v":1.71},{"$f":"IF($C13=\"\",\" \",VLOOKUP($C13,Futtermittel!$A$8:$CG$171,58,FALSE)*$F13)","v":0},{"$f":"IF($C13=\"\",\" \",VLOOKUP($C13,Futtermittel!$A$8:$CG$171,59,FALSE)*$F13)","v":0}]
[null,11,"eigene Gerste 10% RP Ø 2018",null,16.39,0.40500000000000003,{"$f":"IF($C14=\"\",\" \",VLOOKUP(C14,Futtermittel!$A$8:$CG$171,29,FALSE)*$F14)","v":0.51487649999999996},{"$f":"IF($C14=\"\",\" \",VLOOKUP(C14,Futtermittel!$A$8:$CG$171,30,FALSE)*$F14)","v":0.42219872999999997},{"$f":"IF($C14=\"\",\" \",VLOOKUP(C14,Futtermittel!$A$8:$CG$171,31,FALSE)*$F14)","v":9.6349499999999999},{"$f":"IF($C14=\"\",\" \",VLOOKUP(C14,Futtermittel!$A$8:$CG$171,32,FALSE)*$F14)","v":203.43150000000003},{"$f":"IF($C14=\"\",\" \",VLOOKUP(C14,Futtermittel!$A$8:$CG$171,33,FALSE)*$F14)","v":9.3150000000000013},{"$f":"IF($C14=\"\",\" \",VLOOKUP(C14,Futtermittel!$A$8:$CG$171,34,FALSE)*$F14)","v":9.5580000000000016},{"$f":"IF($C14=\"\",\" \",VLOOKUP(C14,Futtermittel!$A$8:$CG$171,36,FALSE)*$F14)","v":71.923949999999977},{"$f":"IF($C14=\"\",\" \",VLOOKUP($C14,Futtermittel!$A$8:$CG$171,37,FALSE)*$F14)","v":6.095668965517242},{"$f":"IF($C14=\"\",\" \",VLOOKUP($C14,Futtermittel!$A$8:$CG$171,38,FALSE)*$F14)","v":5.6040827586206898},{"$f":"IF($C14=\"\",\" \",VLOOKUP($C14,Futtermittel!$A$8:$CG$171,39,FALSE)*$F14)","v":0.49158620689655175},{"$f":"IF($C14=\"\",\" \",VLOOKUP($C14,Futtermittel!$A$8:$CG$171,40,FALSE)*$F14)","v":0},{"$f":"IF($C14=\"\",\" \",VLOOKUP($C14,Futtermittel!$A$8:$CG$171,41,FALSE)*$F14)","v":0},{"$f":"IF($C14=\"\",\" \",VLOOKUP($C14,Futtermittel!$A$8:$CG$171,42,FALSE)*$F14)","v":0},{"$f":"IF($C14=\"\",\" \",VLOOKUP($C14,Futtermittel!$A$8:$CG$171,43,FALSE)*$F14)","v":-18.00501936206895},{"$f":"IF($C14=\"\",\" \",VLOOKUP($C14,Futtermittel!$A$8:$CG$171,44,FALSE)*$F14)","v":123.51259404},{"$f":"IF($C14=\"\",\" \",VLOOKUP($C14,Futtermittel!$A$8:$CG$171,45,FALSE)*$F14)","v":38.675636999999988},{"$f":"IF($C14=\"\",\" \",VLOOKUP($C14,Futtermittel!$A$8:$CG$171,54,FALSE)*$F14)","v":149.44604741379314},{"$f":"IF($C14=\"\",\" \",VLOOKUP($C14,Futtermittel!$A$8:$CG$171,53,FALSE)*$F14)","v":19.451707758620692},{"$f":"IF($C14=\"\",\" \",VLOOKUP($C14,Futtermittel!$A$8:$CG$171,46,FALSE)*$F14)","v":275.35545000000002},{"$f":"IF($C14=\"\",\" \",VLOOKUP($C14,Futtermittel!$A$8:$CG$171,56,FALSE)*$F14)","v":3.0887968079551986},{"$f":"IF($C14=\"\",\" \",VLOOKUP($C14,Futtermittel!$A$8:$CG$171,57,FALSE)*$F14)","v":3.2197504300175939},{"$f":"IF($C14=\"\",\" \",VLOOKUP($C14,Futtermittel!$A$8:$CG$171,28,FALSE)*$F14)","v":1.7820000000000003},{"$f":"IF($C14=\"\",\" \",VLOOKUP($C14,Futtermittel!$A$8:$CG$171,58,FALSE)*$F14)","v":0},{"$f":"IF($C14=\"\",\" \",VLOOKUP($C14,Futtermittel!$A$8:$CG$171,59,FALSE)*$F14)","v":0}]
[null,100,"Sojaschrot HP 47% RP ",null,38,0.11,{"$f":"IF($C15=\"\",\" \",VLOOKUP(C15,Futtermittel!$A$8:$CG$171,29,FALSE)*$F15)","v":0.69323749999999995},{"$f":"IF($C15=\"\",\" \",VLOOKUP(C15,Futtermittel!$A$8:$CG$171,30,FALSE)*$F15)","v":0.61004899999999995},{"$f":"IF($C15=\"\",\" \",VLOOKUP(C15,Futtermittel!$A$8:$CG$171,31,FALSE)*$F15)","v":2.09},{"$f":"IF($C15=\"\",\" \",VLOOKUP(C15,Futtermittel!$A$8:$CG$171,32,FALSE)*$F15)","v":4.62},{"$f":"IF($C15=\"\",\" \",VLOOKUP(C15,Futtermittel!$A$8:$CG$171,33,FALSE)*$F15)","v":10.01},{"$f":"IF($C15=\"\",\" \",VLOOKUP(C15,Futtermittel!$A$8:$CG$171,34,FALSE)*$F15)","v":7.37},{"$f":"IF($C15=\"\",\" \",VLOOKUP(C15,Futtermittel!$A$8:$CG$171,36,FALSE)*$F15)","v":26.4},{"$f":"IF($C15=\"\",\" \",VLOOKUP($C15,Futtermittel!$A$8:$CG$171,37,FALSE)*$F15)","v":1.1286},{"$f":"IF($C15=\"\",\" \",VLOOKUP($C15,Futtermittel!$A$8:$CG$171,38,FALSE)*$F15)","v":1.0449999999999999},{"$f":"IF($C15=\"\",\" \",VLOOKUP($C15,Futtermittel!$A$8:$CG$171,39,FALSE)*$F15)","v":8.3600000000000008E-2},{"$f":"IF($C15=\"\",\" \",VLOOKUP($C15,Futtermittel!$A$8:$CG$171,40,FALSE)*$F15)","v":0},{"$f":"IF($C15=\"\",\" \",VLOOKUP($C15,Futtermittel!$A$8:$CG$171,41,FALSE)*$F15)","v":0},{"$f":"IF($C15=\"\",\" \",VLOOKUP($C15,Futtermittel!$A$8:$CG$171,42,FALSE)*$F15)","v":0},{"$f":"IF($C15=\"\",\" \",VLOOKUP($C15,Futtermittel!$A$8:$CG$171,43,FALSE)*$F15)","v":39.189874659796345},{"$f":"IF($C15=\"\",\" \",VLOOKUP($C15,Futtermittel!$A$8:$CG$171,44,FALSE)*$F15)","v":151.38933554967105},{"$f":"IF($C15=\"\",\" \",VLOOKUP($C15,Futtermittel!$A$8:$CG$171,45,FALSE)*$F15)","v":18.948599999999999},{"$f":"IF($C15=\"\",\" \",VLOOKUP($C15,Futtermittel!$A$8:$CG$171,54,FALSE)*$F15)","v":14.214571428571428},{"$f":"IF($C15=\"\",\" \",VLOOKUP($C15,Futtermittel!$A$8:$CG$171,53,FALSE)*$F15)","v":10.132571428571428},{"$f":"IF($C15=\"\",\" \",VLOOKUP($C15,Futtermittel!$A$8:$CG$171,46,FALSE)*$F15)","v":31.02},{"$f":"IF($C15=\"\",\" \",VLOOKUP($C15,Futtermittel!$A$8:$CG$171,56,FALSE)*$F15)","v":0.96130787375823434},{"$f":"IF($C15=\"\",\" \",VLOOKUP($C15,Futtermittel!$A$8:$CG$171,57,FALSE)*$F15)","v":0.99845912002920778},{"$f":"IF($C15=\"\",\" \",VLOOKUP($C15,Futtermittel!$A$8:$CG$171,28,FALSE)*$F15)","v":2.27128},{"$f":"IF($C15=\"\",\" \",VLOOKUP($C15,Futtermittel!$A$8:$CG$171,58,FALSE)*$F15)","v":0},{"$f":"IF($C15=\"\",\" \",VLOOKUP($C15,Futtermittel!$A$8:$CG$171,59,FALSE)*$F15)","v":0}]
[null,140,"Rapsöl / Pflanzenöl DLG 2014",null,97,5.0000000000000001E-3,{"$f":"IF($C16=\"\",\" \",VLOOKUP(C16,Futtermittel!$A$8:$CG$171,29,FALSE)*$F16)","v":0},{"$f":"IF($C16=\"\",\" \",VLOOKUP(C16,Futtermittel!$A$8:$CG$171,30,FALSE)*$F16)","v":0},{"$f":"IF($C16=\"\",\" \",VLOOKUP(C16,Futtermittel!$A$8:$CG$171,31,FALSE)*$F16)","v":4.99},{"$f":"IF($C16=\"\",\" \",VLOOKUP(C16,Futtermittel!$A$8:$CG$171,32,FALSE)*$F16)","v":0},{"$f":"IF($C16=\"\",\" \",VLOOKUP(C16,Futtermittel!$A$8:$CG$171,33,FALSE)*$F16)","v":0},{"$f":"IF($C16=\"\",\" \",VLOOKUP(C16,Futtermittel!$A$8:$CG$171,34,FALSE)*$F16)","v":0},{"$f":"IF($C16=\"\",\" \",VLOOKUP(C16,Futtermittel!$A$8:$CG$171,36,FALSE)*$F16)","v":0},{"$f":"IF($C16=\"\",\" \",VLOOKUP($C16,Futtermittel!$A$8:$CG$171,37,FALSE)*$F16)","v":1.4450000000000001},{"$f":"IF($C16=\"\",\" \",VLOOKUP($C16,Futtermittel!$A$8:$CG$171,38,FALSE)*$F16)","v":0.998},{"$f":"IF($C16=\"\",\" \",VLOOKUP($C16,Futtermittel!$A$8:$CG$171,39,FALSE)*$F16)","v":0.4491},{"$f":"IF($C16=\"\",\" \",VLOOKUP($C16,Futtermittel!$A$8:$CG$171,40,FALSE)*$F16)","v":0},{"$f":"IF($C16=\"\",\" \",VLOOKUP($C16,Futtermittel!$A$8:$CG$171,41,FALSE)*$F16)","v":0},{"$f":"IF($C16=\"\",\" \",VLOOKUP($C16,Futtermittel!$A$8:$CG$171,42,FALSE)*$F16)","v":0},{"$f":"IF($C16=\"\",\" \",VLOOKUP($C16,Futtermittel!$A$8:$CG$171,43,FALSE)*$F16)","v":0},{"$f":"IF($C16=\"\",\" \",VLOOKUP($C16,Futtermittel!$A$8:$CG$171,44,FALSE)*$F16)","v":0},{"$f":"IF($C16=\"\",\" \",VLOOKUP($C16,Futtermittel!$A$8:$CG$171,45,FALSE)*$F16)","v":0},{"$f":"IF($C16=\"\",\" \",VLOOKUP($C16,Futtermittel!$A$8:$CG$171,54,FALSE)*$F16)","v":0},{"$f":"IF($C16=\"\",\" \",VLOOKUP($C16,Futtermittel!$A$8:$CG$171,53,FALSE)*$F16)","v":0},{"$f":"IF($C16=\"\",\" \",VLOOKUP($C16,Futtermittel!$A$8:$CG$171,46,FALSE)*$F16)","v":0},{"$f":"IF($C16=\"\",\" \",VLOOKUP($C16,Futtermittel!$A$8:$CG$171,56,FALSE)*$F16)","v":0.151560724932432},{"$f":"IF($C16=\"\",\" \",VLOOKUP($C16,Futtermittel!$A$8:$CG$171,57,FALSE)*$F16)","v":0.15322678903626971},{"$f":"IF($C16=\"\",\" \",VLOOKUP($C16,Futtermittel!$A$8:$CG$171,28,FALSE)*$F16)","v":0},{"$f":"IF($C16=\"\",\" \",VLOOKUP($C16,Futtermittel!$A$8:$CG$171,58,FALSE)*$F16)","v":0},{"$f":"IF($C16=\"\",\" \",VLOOKUP($C16,Futtermittel!$A$8:$CG$171,59,FALSE)*$F16)","v":0}]
[null," "," ",null," "," ",{"$f":"IF($C17=\"\",\" \",VLOOKUP(C17,Futtermittel!$A$8:$CG$171,29,FALSE)*$F17)","v":" "},{"$f":"IF($C17=\"\",\" \",VLOOKUP(C17,Futtermittel!$A$8:$CG$171,30,FALSE)*$F17)","v":" "},{"$f":"IF($C17=\"\",\" \",VLOOKUP(C17,Futtermittel!$A$8:$CG$171,31,FALSE)*$F17)","v":" "},{"$f":"IF($C17=\"\",\" \",VLOOKUP(C17,Futtermittel!$A$8:$CG$171,32,FALSE)*$F17)","v":" "},{"$f":"IF($C17=\"\",\" \",VLOOKUP(C17,Futtermittel!$A$8:$CG$171,33,FALSE)*$F17)","v":" "},{"$f":"IF($C17=\"\",\" \",VLOOKUP(C17,Futtermittel!$A$8:$CG$171,34,FALSE)*$F17)","v":" "},{"$f":"IF($C17=\"\",\" \",VLOOKUP(C17,Futtermittel!$A$8:$CG$171,36,FALSE)*$F17)","v":" "},{"$f":"IF($C17=\"\",\" \",VLOOKUP($C17,Futtermittel!$A$8:$CG$171,37,FALSE)*$F17)","v":" "},{"$f":"IF($C17=\"\",\" \",VLOOKUP($C17,Futtermittel!$A$8:$CG$171,38,FALSE)*$F17)","v":" "},{"$f":"IF($C17=\"\",\" \",VLOOKUP($C17,Futtermittel!$A$8:$CG$171,39,FALSE)*$F17)","v":" "},{"$f":"IF($C17=\"\",\" \",VLOOKUP($C17,Futtermittel!$A$8:$CG$171,40,FALSE)*$F17)","v":" "},{"$f":"IF($C17=\"\",\" \",VLOOKUP($C17,Futtermittel!$A$8:$CG$171,41,FALSE)*$F17)","v":" "},{"$f":"IF($C17=\"\",\" \",VLOOKUP($C17,Futtermittel!$A$8:$CG$171,42,FALSE)*$F17)","v":" "},{"$f":"IF($C17=\"\",\" \",VLOOKUP($C17,Futtermittel!$A$8:$CG$171,43,FALSE)*$F17)","v":" "},{"$f":"IF($C17=\"\",\" \",VLOOKUP($C17,Futtermittel!$A$8:$CG$171,44,FALSE)*$F17)","v":" "},{"$f":"IF($C17=\"\",\" \",VLOOKUP($C17,Futtermittel!$A$8:$CG$171,45,FALSE)*$F17)","v":" "},{"$f":"IF($C17=\"\",\" \",VLOOKUP($C17,Futtermittel!$A$8:$CG$171,54,FALSE)*$F17)","v":" "},{"$f":"IF($C17=\"\",\" \",VLOOKUP($C17,Futtermittel!$A$8:$CG$171,53,FALSE)*$F17)","v":" "},{"$f":"IF($C17=\"\",\" \",VLOOKUP($C17,Futtermittel!$A$8:$CG$171,46,FALSE)*$F17)","v":" "},{"$f":"IF($C17=\"\",\" \",VLOOKUP($C17,Futtermittel!$A$8:$CG$171,56,FALSE)*$F17)","v":" "},{"$f":"IF($C17=\"\",\" \",VLOOKUP($C17,Futtermittel!$A$8:$CG$171,57,FALSE)*$F17)","v":" "},{"$f":"IF($C17=\"\",\" \",VLOOKUP($C17,Futtermittel!$A$8:$CG$171,28,FALSE)*$F17)","v":" "},{"$f":"IF($C17=\"\",\" \",VLOOKUP($C17,Futtermittel!$A$8:$CG$171,58,FALSE)*$F17)","v":" "},{"$f":"IF($C17=\"\",\" \",VLOOKUP($C17,Futtermittel!$A$8:$CG$171,59,FALSE)*$F17)","v":" "}]
[null," "," ",null," "," ",{"$f":"IF($C18=\"\",\" \",VLOOKUP(C18,Futtermittel!$A$8:$CG$171,29,FALSE)*$F18)","v":" "},{"$f":"IF($C18=\"\",\" \",VLOOKUP(C18,Futtermittel!$A$8:$CG$171,30,FALSE)*$F18)","v":" "},{"$f":"IF($C18=\"\",\" \",VLOOKUP(C18,Futtermittel!$A$8:$CG$171,31,FALSE)*$F18)","v":" "},{"$f":"IF($C18=\"\",\" \",VLOOKUP(C18,Futtermittel!$A$8:$CG$171,32,FALSE)*$F18)","v":" "},{"$f":"IF($C18=\"\",\" \",VLOOKUP(C18,Futtermittel!$A$8:$CG$171,33,FALSE)*$F18)","v":" "},{"$f":"IF($C18=\"\",\" \",VLOOKUP(C18,Futtermittel!$A$8:$CG$171,34,FALSE)*$F18)","v":" "},{"$f":"IF($C18=\"\",\" \",VLOOKUP(C18,Futtermittel!$A$8:$CG$171,36,FALSE)*$F18)","v":" "},{"$f":"IF($C18=\"\",\" \",VLOOKUP($C18,Futtermittel!$A$8:$CG$171,37,FALSE)*$F18)","v":" "},{"$f":"IF($C18=\"\",\" \",VLOOKUP($C18,Futtermittel!$A$8:$CG$171,38,FALSE)*$F18)","v":" "},{"$f":"IF($C18=\"\",\" \",VLOOKUP($C18,Futtermittel!$A$8:$CG$171,39,FALSE)*$F18)","v":" "},{"$f":"IF($C18=\"\",\" \",VLOOKUP($C18,Futtermittel!$A$8:$CG$171,40,FALSE)*$F18)","v":" "},{"$f":"IF($C18=\"\",\" \",VLOOKUP($C18,Futtermittel!$A$8:$CG$171,41,FALSE)*$F18)","v":" "},{"$f":"IF($C18=\"\",\" \",VLOOKUP($C18,Futtermittel!$A$8:$CG$171,42,FALSE)*$F18)","v":" "},{"$f":"IF($C18=\"\",\" \",VLOOKUP($C18,Futtermittel!$A$8:$CG$171,43,FALSE)*$F18)","v":" "},{"$f":"IF($C18=\"\",\" \",VLOOKUP($C18,Futtermittel!$A$8:$CG$171,44,FALSE)*$F18)","v":" "},{"$f":"IF($C18=\"\",\" \",VLOOKUP($C18,Futtermittel!$A$8:$CG$171,45,FALSE)*$F18)","v":" "},{"$f":"IF($C18=\"\",\" \",VLOOKUP($C18,Futtermittel!$A$8:$CG$171,54,FALSE)*$F18)","v":" "},{"$f":"IF($C18=\"\",\" \",VLOOKUP($C18,Futtermittel!$A$8:$CG$171,53,FALSE)*$F18)","v":" "},{"$f":"IF($C18=\"\",\" \",VLOOKUP($C18,Futtermittel!$A$8:$CG$171,46,FALSE)*$F18)","v":" "},{"$f":"IF($C18=\"\",\" \",VLOOKUP($C18,Futtermittel!$A$8:$CG$171,56,FALSE)*$F18)","v":" "},{"$f":"IF($C18=\"\",\" \",VLOOKUP($C18,Futtermittel!$A$8:$CG$171,57,FALSE)*$F18)","v":" "},{"$f":"IF($C18=\"\",\" \",VLOOKUP($C18,Futtermittel!$A$8:$CG$171,28,FALSE)*$F18)","v":" "},{"$f":"IF($C18=\"\",\" \",VLOOKUP($C18,Futtermittel!$A$8:$CG$171,58,FALSE)*$F18)","v":" "},{"$f":"IF($C18=\"\",\" \",VLOOKUP($C18,Futtermittel!$A$8:$CG$171,59,FALSE)*$F18)","v":" "}]
[null," "," ",null," "," ",{"$f":"IF($C19=\"\",\" \",VLOOKUP(C19,Futtermittel!$A$8:$CG$171,29,FALSE)*$F19)","v":" "},{"$f":"IF($C19=\"\",\" \",VLOOKUP(C19,Futtermittel!$A$8:$CG$171,30,FALSE)*$F19)","v":" "},{"$f":"IF($C19=\"\",\" \",VLOOKUP(C19,Futtermittel!$A$8:$CG$171,31,FALSE)*$F19)","v":" "},{"$f":"IF($C19=\"\",\" \",VLOOKUP(C19,Futtermittel!$A$8:$CG$171,32,FALSE)*$F19)","v":" "},{"$f":"IF($C19=\"\",\" \",VLOOKUP(C19,Futtermittel!$A$8:$CG$171,33,FALSE)*$F19)","v":" "},{"$f":"IF($C19=\"\",\" \",VLOOKUP(C19,Futtermittel!$A$8:$CG$171,34,FALSE)*$F19)","v":" "},{"$f":"IF($C19=\"\",\" \",VLOOKUP(C19,Futtermittel!$A$8:$CG$171,36,FALSE)*$F19)","v":" "},{"$f":"IF($C19=\"\",\" \",VLOOKUP($C19,Futtermittel!$A$8:$CG$171,37,FALSE)*$F19)","v":" "},{"$f":"IF($C19=\"\",\" \",VLOOKUP($C19,Futtermittel!$A$8:$CG$171,38,FALSE)*$F19)","v":" "},{"$f":"IF($C19=\"\",\" \",VLOOKUP($C19,Futtermittel!$A$8:$CG$171,39,FALSE)*$F19)","v":" "},{"$f":"IF($C19=\"\",\" \",VLOOKUP($C19,Futtermittel!$A$8:$CG$171,40,FALSE)*$F19)","v":" "},{"$f":"IF($C19=\"\",\" \",VLOOKUP($C19,Futtermittel!$A$8:$CG$171,41,FALSE)*$F19)","v":" "},{"$f":"IF($C19=\"\",\" \",VLOOKUP($C19,Futtermittel!$A$8:$CG$171,42,FALSE)*$F19)","v":" "},{"$f":"IF($C19=\"\",\" \",VLOOKUP($C19,Futtermittel!$A$8:$CG$171,43,FALSE)*$F19)","v":" "},{"$f":"IF($C19=\"\",\" \",VLOOKUP($C19,Futtermittel!$A$8:$CG$171,44,FALSE)*$F19)","v":" "},{"$f":"IF($C19=\"\",\" \",VLOOKUP($C19,Futtermittel!$A$8:$CG$171,45,FALSE)*$F19)","v":" "},{"$f":"IF($C19=\"\",\" \",VLOOKUP($C19,Futtermittel!$A$8:$CG$171,54,FALSE)*$F19)","v":" "},{"$f":"IF($C19=\"\",\" \",VLOOKUP($C19,Futtermittel!$A$8:$CG$171,53,FALSE)*$F19)","v":" "},{"$f":"IF($C19=\"\",\" \",VLOOKUP($C19,Futtermittel!$A$8:$CG$171,46,FALSE)*$F19)","v":" "},{"$f":"IF($C19=\"\",\" \",VLOOKUP($C19,Futtermittel!$A$8:$CG$171,56,FALSE)*$F19)","v":" "},{"$f":"IF($C19=\"\",\" \",VLOOKUP($C19,Futtermittel!$A$8:$CG$171,57,FALSE)*$F19)","v":" "},{"$f":"IF($C19=\"\",\" \",VLOOKUP($C19,Futtermittel!$A$8:$CG$171,28,FALSE)*$F19)","v":" "},{"$f":"IF($C19=\"\",\" \",VLOOKUP($C19,Futtermittel!$A$8:$CG$171,58,FALSE)*$F19)","v":" "},{"$f":"IF($C19=\"\",\" \",VLOOKUP($C19,Futtermittel!$A$8:$CG$171,59,FALSE)*$F19)","v":" "}]
[null," "," ",null," "," ",{"$f":"IF($C20=\"\",\" \",VLOOKUP(C20,Futtermittel!$A$8:$CG$171,29,FALSE)*$F20)","v":" "},{"$f":"IF($C20=\"\",\" \",VLOOKUP(C20,Futtermittel!$A$8:$CG$171,30,FALSE)*$F20)","v":" "},{"$f":"IF($C20=\"\",\" \",VLOOKUP(C20,Futtermittel!$A$8:$CG$171,31,FALSE)*$F20)","v":" "},{"$f":"IF($C20=\"\",\" \",VLOOKUP(C20,Futtermittel!$A$8:$CG$171,32,FALSE)*$F20)","v":" "},{"$f":"IF($C20=\"\",\" \",VLOOKUP(C20,Futtermittel!$A$8:$CG$171,33,FALSE)*$F20)","v":" "},{"$f":"IF($C20=\"\",\" \",VLOOKUP(C20,Futtermittel!$A$8:$CG$171,34,FALSE)*$F20)","v":" "},{"$f":"IF($C20=\"\",\" \",VLOOKUP(C20,Futtermittel!$A$8:$CG$171,36,FALSE)*$F20)","v":" "},{"$f":"IF($C20=\"\",\" \",VLOOKUP($C20,Futtermittel!$A$8:$CG$171,37,FALSE)*$F20)","v":" "},{"$f":"IF($C20=\"\",\" \",VLOOKUP($C20,Futtermittel!$A$8:$CG$171,38,FALSE)*$F20)","v":" "},{"$f":"IF($C20=\"\",\" \",VLOOKUP($C20,Futtermittel!$A$8:$CG$171,39,FALSE)*$F20)","v":" "},{"$f":"IF($C20=\"\",\" \",VLOOKUP($C20,Futtermittel!$A$8:$CG$171,40,FALSE)*$F20)","v":" "},{"$f":"IF($C20=\"\",\" \",VLOOKUP($C20,Futtermittel!$A$8:$CG$171,41,FALSE)*$F20)","v":" "},{"$f":"IF($C20=\"\",\" \",VLOOKUP($C20,Futtermittel!$A$8:$CG$171,42,FALSE)*$F20)","v":" "},{"$f":"IF($C20=\"\",\" \",VLOOKUP($C20,Futtermittel!$A$8:$CG$171,43,FALSE)*$F20)","v":" "},{"$f":"IF($C20=\"\",\" \",VLOOKUP($C20,Futtermittel!$A$8:$CG$171,44,FALSE)*$F20)","v":" "},{"$f":"IF($C20=\"\",\" \",VLOOKUP($C20,Futtermittel!$A$8:$CG$171,45,FALSE)*$F20)","v":" "},{"$f":"IF($C20=\"\",\" \",VLOOKUP($C20,Futtermittel!$A$8:$CG$171,54,FALSE)*$F20)","v":" "},{"$f":"IF($C20=\"\",\" \",VLOOKUP($C20,Futtermittel!$A$8:$CG$171,53,FALSE)*$F20)","v":" "},{"$f":"IF($C20=\"\",\" \",VLOOKUP($C20,Futtermittel!$A$8:$CG$171,46,FALSE)*$F20)","v":" "},{"$f":"IF($C20=\"\",\" \",VLOOKUP($C20,Futtermittel!$A$8:$CG$171,56,FALSE)*$F20)","v":" "},{"$f":"IF($C20=\"\",\" \",VLOOKUP($C20,Futtermittel!$A$8:$CG$171,57,FALSE)*$F20)","v":" "},{"$f":"IF($C20=\"\",\" \",VLOOKUP($C20,Futtermittel!$A$8:$CG$171,28,FALSE)*$F20)","v":" "},{"$f":"IF($C20=\"\",\" \",VLOOKUP($C20,Futtermittel!$A$8:$CG$171,58,FALSE)*$F20)","v":" "},{"$f":"IF($C20=\"\",\" \",VLOOKUP($C20,Futtermittel!$A$8:$CG$171,59,FALSE)*$F20)","v":" "}]
[null," "," ",null," ",{"$f":"IF(F21=\"\",\" \",F21)","v":" "},{"$f":"IF($C21=\"\",\" \",VLOOKUP(C21,Futtermittel!$A$8:$CG$171,29,FALSE)*$F21)","v":" "},{"$f":"IF($C21=\"\",\" \",VLOOKUP(C21,Futtermittel!$A$8:$CG$171,30,FALSE)*$F21)","v":" "},{"$f":"IF($C21=\"\",\" \",VLOOKUP(C21,Futtermittel!$A$8:$CG$171,31,FALSE)*$F21)","v":" "},{"$f":"IF($C21=\"\",\" \",VLOOKUP(C21,Futtermittel!$A$8:$CG$171,32,FALSE)*$F21)","v":" "},{"$f":"IF($C21=\"\",\" \",VLOOKUP(C21,Futtermittel!$A$8:$CG$171,33,FALSE)*$F21)","v":" "},{"$f":"IF($C21=\"\",\" \",VLOOKUP(C21,Futtermittel!$A$8:$CG$171,34,FALSE)*$F21)","v":" "},{"$f":"IF($C21=\"\",\" \",VLOOKUP(C21,Futtermittel!$A$8:$CG$171,36,FALSE)*$F21)","v":" "},{"$f":"IF($C21=\"\",\" \",VLOOKUP($C21,Futtermittel!$A$8:$CG$171,37,FALSE)*$F21)","v":" "},{"$f":"IF($C21=\"\",\" \",VLOOKUP($C21,Futtermittel!$A$8:$CG$171,38,FALSE)*$F21)","v":" "},{"$f":"IF($C21=\"\",\" \",VLOOKUP($C21,Futtermittel!$A$8:$CG$171,39,FALSE)*$F21)","v":" "},{"$f":"IF($C21=\"\",\" \",VLOOKUP($C21,Futtermittel!$A$8:$CG$171,40,FALSE)*$F21)","v":" "},{"$f":"IF($C21=\"\",\" \",VLOOKUP($C21,Futtermittel!$A$8:$CG$171,41,FALSE)*$F21)","v":" "},{"$f":"IF($C21=\"\",\" \",VLOOKUP($C21,Futtermittel!$A$8:$CG$171,42,FALSE)*$F21)","v":" "},{"$f":"IF($C21=\"\",\" \",VLOOKUP($C21,Futtermittel!$A$8:$CG$171,43,FALSE)*$F21)","v":" "},{"$f":"IF($C21=\"\",\" \",VLOOKUP($C21,Futtermittel!$A$8:$CG$171,44,FALSE)*$F21)","v":" "},{"$f":"IF($C21=\"\",\" \",VLOOKUP($C21,Futtermittel!$A$8:$CG$171,45,FALSE)*$F21)","v":" "},{"$f":"IF($C21=\"\",\" \",VLOOKUP($C21,Futtermittel!$A$8:$CG$171,54,FALSE)*$F21)","v":" "},{"$f":"IF($C21=\"\",\" \",VLOOKUP($C21,Futtermittel!$A$8:$CG$171,53,FALSE)*$F21)","v":" "},{"$f":"IF($C21=\"\",\" \",VLOOKUP($C21,Futtermittel!$A$8:$CG$171,46,FALSE)*$F21)","v":" "},{"$f":"IF($C21=\"\",\" \",VLOOKUP($C21,Futtermittel!$A$8:$CG$171,56,FALSE)*$F21)","v":" "},{"$f":"IF($C21=\"\",\" \",VLOOKUP($C21,Futtermittel!$A$8:$CG$171,57,FALSE)*$F21)","v":" "},{"$f":"IF($C21=\"\",\" \",VLOOKUP($C21,Futtermittel!$A$8:$CG$171,28,FALSE)*$F21)","v":" "},{"$f":"IF($C21=\"\",\" \",VLOOKUP($C21,Futtermittel!$A$8:$CG$171,58,FALSE)*$F21)","v":" "},{"$f":"IF($C21=\"\",\" \",VLOOKUP($C21,Futtermittel!$A$8:$CG$171,59,FALSE)*$F21)","v":" "}]
[null," "," ",null," ",{"$f":"IF(F22=\"\",\" \",F22)","v":" "},{"$f":"IF($C22=\"\",\" \",VLOOKUP(C22,Futtermittel!$A$8:$CG$171,29,FALSE)*$F22)","v":" "},{"$f":"IF($C22=\"\",\" \",VLOOKUP(C22,Futtermittel!$A$8:$CG$171,30,FALSE)*$F22)","v":" "},{"$f":"IF($C22=\"\",\" \",VLOOKUP(C22,Futtermittel!$A$8:$CG$171,31,FALSE)*$F22)","v":" "},{"$f":"IF($C22=\"\",\" \",VLOOKUP(C22,Futtermittel!$A$8:$CG$171,32,FALSE)*$F22)","v":" "},{"$f":"IF($C22=\"\",\" \",VLOOKUP(C22,Futtermittel!$A$8:$CG$171,33,FALSE)*$F22)","v":" "},{"$f":"IF($C22=\"\",\" \",VLOOKUP(C22,Futtermittel!$A$8:$CG$171,34,FALSE)*$F22)","v":" "},{"$f":"IF($C22=\"\",\" \",VLOOKUP(C22,Futtermittel!$A$8:$CG$171,36,FALSE)*$F22)","v":" "},{"$f":"IF($C22=\"\",\" \",VLOOKUP($C22,Futtermittel!$A$8:$CG$171,37,FALSE)*$F22)","v":" "},{"$f":"IF($C22=\"\",\" \",VLOOKUP($C22,Futtermittel!$A$8:$CG$171,38,FALSE)*$F22)","v":" "},{"$f":"IF($C22=\"\",\" \",VLOOKUP($C22,Futtermittel!$A$8:$CG$171,39,FALSE)*$F22)","v":" "},{"$f":"IF($C22=\"\",\" \",VLOOKUP($C22,Futtermittel!$A$8:$CG$171,40,FALSE)*$F22)","v":" "},{"$f":"IF($C22=\"\",\" \",VLOOKUP($C22,Futtermittel!$A$8:$CG$171,41,FALSE)*$F22)","v":" "},{"$f":"IF($C22=\"\",\" \",VLOOKUP($C22,Futtermittel!$A$8:$CG$171,42,FALSE)*$F22)","v":" "},{"$f":"IF($C22=\"\",\" \",VLOOKUP($C22,Futtermittel!$A$8:$CG$171,43,FALSE)*$F22)","v":" "},{"$f":"IF($C22=\"\",\" \",VLOOKUP($C22,Futtermittel!$A$8:$CG$171,44,FALSE)*$F22)","v":" "},{"$f":"IF($C22=\"\",\" \",VLOOKUP($C22,Futtermittel!$A$8:$CG$171,45,FALSE)*$F22)","v":" "},{"$f":"IF($C22=\"\",\" \",VLOOKUP($C22,Futtermittel!$A$8:$CG$171,54,FALSE)*$F22)","v":" "},{"$f":"IF($C22=\"\",\" \",VLOOKUP($C22,Futtermittel!$A$8:$CG$171,53,FALSE)*$F22)","v":" "},{"$f":"IF($C22=\"\",\" \",VLOOKUP($C22,Futtermittel!$A$8:$CG$171,46,FALSE)*$F22)","v":" "},{"$f":"IF($C22=\"\",\" \",VLOOKUP($C22,Futtermittel!$A$8:$CG$171,56,FALSE)*$F22)","v":" "},{"$f":"IF($C22=\"\",\" \",VLOOKUP($C22,Futtermittel!$A$8:$CG$171,57,FALSE)*$F22)","v":" "},{"$f":"IF($C22=\"\",\" \",VLOOKUP($C22,Futtermittel!$A$8:$CG$171,28,FALSE)*$F22)","v":" "},{"$f":"IF($C22=\"\",\" \",VLOOKUP($C22,Futtermittel!$A$8:$CG$171,58,FALSE)*$F22)","v":" "},{"$f":"IF($C22=\"\",\" \",VLOOKUP($C22,Futtermittel!$A$8:$CG$171,59,FALSE)*$F22)","v":" "}]
[null," "," ",null," ",{"$f":"IF(F23=\"\",\" \",F23)","v":" "},{"$f":"IF($C23=\"\",\" \",VLOOKUP(C23,Futtermittel!$A$8:$CG$171,29,FALSE)*$F23)","v":" "},{"$f":"IF($C23=\"\",\" \",VLOOKUP(C23,Futtermittel!$A$8:$CG$171,30,FALSE)*$F23)","v":" "},{"$f":"IF($C23=\"\",\" \",VLOOKUP(C23,Futtermittel!$A$8:$CG$171,31,FALSE)*$F23)","v":" "},{"$f":"IF($C23=\"\",\" \",VLOOKUP(C23,Futtermittel!$A$8:$CG$171,32,FALSE)*$F23)","v":" "},{"$f":"IF($C23=\"\",\" \",VLOOKUP(C23,Futtermittel!$A$8:$CG$171,33,FALSE)*$F23)","v":" "},{"$f":"IF($C23=\"\",\" \",VLOOKUP(C23,Futtermittel!$A$8:$CG$171,34,FALSE)*$F23)","v":" "},{"$f":"IF($C23=\"\",\" \",VLOOKUP(C23,Futtermittel!$A$8:$CG$171,36,FALSE)*$F23)","v":" "},{"$f":"IF($C23=\"\",\" \",VLOOKUP($C23,Futtermittel!$A$8:$CG$171,37,FALSE)*$F23)","v":" "},{"$f":"IF($C23=\"\",\" \",VLOOKUP($C23,Futtermittel!$A$8:$CG$171,38,FALSE)*$F23)","v":" "},{"$f":"IF($C23=\"\",\" \",VLOOKUP($C23,Futtermittel!$A$8:$CG$171,39,FALSE)*$F23)","v":" "},{"$f":"IF($C23=\"\",\" \",VLOOKUP($C23,Futtermittel!$A$8:$CG$171,40,FALSE)*$F23)","v":" "},{"$f":"IF($C23=\"\",\" \",VLOOKUP($C23,Futtermittel!$A$8:$CG$171,41,FALSE)*$F23)","v":" "},{"$f":"IF($C23=\"\",\" \",VLOOKUP($C23,Futtermittel!$A$8:$CG$171,42,FALSE)*$F23)","v":" "},{"$f":"IF($C23=\"\",\" \",VLOOKUP($C23,Futtermittel!$A$8:$CG$171,43,FALSE)*$F23)","v":" "},{"$f":"IF($C23=\"\",\" \",VLOOKUP($C23,Futtermittel!$A$8:$CG$171,44,FALSE)*$F23)","v":" "},{"$f":"IF($C23=\"\",\" \",VLOOKUP($C23,Futtermittel!$A$8:$CG$171,45,FALSE)*$F23)","v":" "},{"$f":"IF($C23=\"\",\" \",VLOOKUP($C23,Futtermittel!$A$8:$CG$171,54,FALSE)*$F23)","v":" "},{"$f":"IF($C23=\"\",\" \",VLOOKUP($C23,Futtermittel!$A$8:$CG$171,53,FALSE)*$F23)","v":" "},{"$f":"IF($C23=\"\",\" \",VLOOKUP($C23,Futtermittel!$A$8:$CG$171,46,FALSE)*$F23)","v":" "},{"$f":"IF($C23=\"\",\" \",VLOOKUP($C23,Futtermittel!$A$8:$CG$171,56,FALSE)*$F23)","v":" "},{"$f":"IF($C23=\"\",\" \",VLOOKUP($C23,Futtermittel!$A$8:$CG$171,57,FALSE)*$F23)","v":" "},{"$f":"IF($C23=\"\",\" \",VLOOKUP($C23,Futtermittel!$A$8:$CG$171,28,FALSE)*$F23)","v":" "},{"$f":"IF($C23=\"\",\" \",VLOOKUP($C23,Futtermittel!$A$8:$CG$171,58,FALSE)*$F23)","v":" "},{"$f":"IF($C23=\"\",\" \",VLOOKUP($C23,Futtermittel!$A$8:$CG$171,59,FALSE)*$F23)","v":" "}]
[null,"EF-Nr.","Ergänzungsfutter ","VQ in %"]
[null," ",{"$f":"IF(C25=\"\",\" \",C25)","v":" "},0.85," "," ",{"$f":"IF($C25=\"\",\" \",VLOOKUP($C25,Ergänzungsfutter!$A$11:$BE$35,20,FALSE)*$F25)","v":" "},{"$f":"IF($C25=\"\",\" \",VLOOKUP($C25,Ergänzungsfutter!$A$11:$BE$35,20,FALSE)*$F25*D25)","v":" "},{"$f":"IF($C25=\"\",\" \",VLOOKUP($C25,Ergänzungsfutter!$A$11:$BE$35,21,FALSE)*$F25)","v":" "},{"$f":"IF($C25=\"\",\" \",VLOOKUP($C25,Ergänzungsfutter!$A$11:$BE$35,22,FALSE)*$F25)","v":" "},{"$f":"IF($C25=\"\",\" \",VLOOKUP($C25,Ergänzungsfutter!$A$11:$BE$35,23,FALSE)*$F25)","v":" "},{"$f":"IF($C25=\"\",\" \",VLOOKUP($C25,Ergänzungsfutter!$A$11:$BE$35,24,FALSE)*$F25)","v":" "},{"$f":"IF($C25=\"\",\" \",VLOOKUP($C25,Ergänzungsfutter!$A$11:$BE$35,24,FALSE)*$F25)","v":" "},{"$f":"IF($C25=\"\",\" \",VLOOKUP($C25,Ergänzungsfutter!$A$11:$BE$35,27,FALSE)*$F25)","v":" "},{"$f":"IF($C25=\"\",\" \",VLOOKUP($C25,Ergänzungsfutter!$A$11:$BE$35,28,FALSE)*$F25)","v":" "},{"$f":"IF($C25=\"\",\" \",VLOOKUP($C25,Ergänzungsfutter!$A$11:$BE$35,29,FALSE)*$F25)","v":" "},{"$f":"IF($C25=\"\",\" \",VLOOKUP($C25,Ergänzungsfutter!$A$11:$BE$35,30,FALSE)*$F25)","v":" "},{"$f":"IF($C25=\"\",\" \",VLOOKUP($C25,Ergänzungsfutter!$A$11:$BE$35,31,FALSE)*$F25)","v":" "},{"$f":"IF($C25=\"\",\" \",VLOOKUP($C25,Ergänzungsfutter!$A$11:$BE$35,32,FALSE)*$F25)","v":" "},{"$f":"IF($C25=\"\",\" \",VLOOKUP($C25,Ergänzungsfutter!$A$11:$BE$35,33,FALSE)*$F25)","v":" "},{"$f":"IF($C25=\"\",\" \",VLOOKUP($C25,Ergänzungsfutter!$A$11:$BE$35,34,FALSE)*$F25)","v":" "},{"$f":"IF($C25=\"\",\" \",VLOOKUP($C25,Ergänzungsfutter!$A$11:$BE$35,35,FALSE)*$F25)","v":" "},{"$f":"IF($C25=\"\",\" \",VLOOKUP($C25,Ergänzungsfutter!$A$11:$BE$35,36,FALSE)*$F25)","v":" "},{"$f":"IF($C25=\"\",\" \",VLOOKUP($C25,Ergänzungsfutter!$A$11:$BE$35,35,FALSE)*$F25)","v":" "},{"$f":"IF($C25=\"\",\" \",VLOOKUP($C25,Ergänzungsfutter!$A$11:$BE$35,37,FALSE)*$F25)","v":" "},{"$f":"IF($C25=\"\",\" \",VLOOKUP($C25,Ergänzungsfutter!$A$11:$BE$35,38,FALSE)*$F25)","v":" "},{"$f":"IF($C25=\"\",\" \",VLOOKUP($C25,Ergänzungsfutter!$A$11:$BE$35,39,FALSE)*$F25)","v":" "},{"$f":"IF($C25=\"\",\" \",VLOOKUP($C25,Ergänzungsfutter!$A$11:$BE$35,37,FALSE)*$F25)","v":" "},{"$f":"IF($C25=\"\",\" \",VLOOKUP($C25,Ergänzungsfutter!$A$11:$BE$35,40,FALSE)*$F25)","v":" "},{"$f":"IF($C25=\"\",\" \",VLOOKUP($C25,Ergänzungsfutter!$A$11:$BE$35,41,FALSE)*$F25)","v":" "}]
[null," ",{"$f":"IF(C26=\"\",\" \",C26)","v":" "}," "," "," ",{"$f":"IF($C26=\"\",\" \",VLOOKUP($C26,Ergänzungsfutter!$A$11:$BE$35,20,FALSE)*$F26)","v":" "},{"$f":"IF($C26=\"\",\" \",VLOOKUP($C26,Ergänzungsfutter!$A$11:$BE$35,20,FALSE)*$F26*D26)","v":" "},{"$f":"IF($C26=\"\",\" \",VLOOKUP($C26,Ergänzungsfutter!$A$11:$BE$35,21,FALSE)*$F26)","v":" "},{"$f":"IF($C26=\"\",\" \",VLOOKUP($C26,Ergänzungsfutter!$A$11:$BE$35,22,FALSE)*$F26)","v":" "},{"$f":"IF($C26=\"\",\" \",VLOOKUP($C26,Ergänzungsfutter!$A$11:$BE$35,23,FALSE)*$F26)","v":" "},{"$f":"IF($C26=\"\",\" \",VLOOKUP($C26,Ergänzungsfutter!$A$11:$BE$35,24,FALSE)*$F26)","v":" "},{"$f":"IF($C26=\"\",\" \",VLOOKUP($C26,Ergänzungsfutter!$A$11:$BE$35,24,FALSE)*$F26)","v":" "},{"$f":"IF($C26=\"\",\" \",VLOOKUP($C26,Ergänzungsfutter!$A$11:$BE$35,27,FALSE)*$F26)","v":" "},{"$f":"IF($C26=\"\",\" \",VLOOKUP($C26,Ergänzungsfutter!$A$11:$BE$35,28,FALSE)*$F26)","v":" "},{"$f":"IF($C26=\"\",\" \",VLOOKUP($C26,Ergänzungsfutter!$A$11:$BE$35,29,FALSE)*$F26)","v":" "},{"$f":"IF($C26=\"\",\" \",VLOOKUP($C26,Ergänzungsfutter!$A$11:$BE$35,30,FALSE)*$F26)","v":" "},{"$f":"IF($C26=\"\",\" \",VLOOKUP($C26,Ergänzungsfutter!$A$11:$BE$35,31,FALSE)*$F26)","v":" "},{"$f":"IF($C26=\"\",\" \",VLOOKUP($C26,Ergänzungsfutter!$A$11:$BE$35,32,FALSE)*$F26)","v":" "},{"$f":"IF($C26=\"\",\" \",VLOOKUP($C26,Ergänzungsfutter!$A$11:$BE$35,33,FALSE)*$F26)","v":" "},{"$f":"IF($C26=\"\",\" \",VLOOKUP($C26,Ergänzungsfutter!$A$11:$BE$35,34,FALSE)*$F26)","v":" "},{"$f":"IF($C26=\"\",\" \",VLOOKUP($C26,Ergänzungsfutter!$A$11:$BE$35,35,FALSE)*$F26)","v":" "},{"$f":"IF($C26=\"\",\" \",VLOOKUP($C26,Ergänzungsfutter!$A$11:$BE$35,36,FALSE)*$F26)","v":" "},{"$f":"IF($C26=\"\",\" \",VLOOKUP($C26,Ergänzungsfutter!$A$11:$BE$35,35,FALSE)*$F26)","v":" "},{"$f":"IF($C26=\"\",\" \",VLOOKUP($C26,Ergänzungsfutter!$A$11:$BE$35,37,FALSE)*$F26)","v":" "},{"$f":"IF($C26=\"\",\" \",VLOOKUP($C26,Ergänzungsfutter!$A$11:$BE$35,38,FALSE)*$F26)","v":" "},{"$f":"IF($C26=\"\",\" \",VLOOKUP($C26,Ergänzungsfutter!$A$11:$BE$35,39,FALSE)*$F26)","v":" "},{"$f":"IF($C26=\"\",\" \",VLOOKUP($C26,Ergänzungsfutter!$A$11:$BE$35,37,FALSE)*$F26)","v":" "},{"$f":"IF($C26=\"\",\" \",VLOOKUP($C26,Ergänzungsfutter!$A$11:$BE$35,40,FALSE)*$F26)","v":" "},{"$f":"IF($C26=\"\",\" \",VLOOKUP($C26,Ergänzungsfutter!$A$11:$BE$35,41,FALSE)*$F26)","v":" "}]
[null,"Nr.","Mineralfutter"]
[null,{"$f":"B28","v":7},{"$f":"IF(C28=\"\",\" \",C28)","v":"Opti. MinFu MM 850g TZ 3,0% + Phytase 17/18"},null,{"$f":"IF(E28=\"\",\" \",E28)","v":77},{"$f":"IF(F28=\"\",\" \",F28)","v":0.03},{"$f":"IF($C28=\"\",\" \",VLOOKUP($C28,Mineralfutter!$A$11:$BE$25,10,FALSE)*$F28)","v":0.6},{"$f":"IF($C28=\"\",\" \",VLOOKUP($C28,Mineralfutter!$A$11:$BE$25,10,FALSE)*$F28)","v":0.6},{"$f":"IF($C28=\"\",\" \",VLOOKUP($C28,Mineralfutter!$A$11:$BE$25,21,FALSE)*$F28)","v":0},{"$f":"IF($C28=\"\",\" \",VLOOKUP($C28,Mineralfutter!$A$11:$BE$25,22,FALSE)*$F28)","v":0},{"$f":"IF($C28=\"\",\" \",VLOOKUP($C28,Mineralfutter!$A$11:$BE$25,23,FALSE)*$F28)","v":0},{"$f":"IF($C28=\"\",\" \",VLOOKUP($C28,Mineralfutter!$A$11:$BE$25,24,FALSE)*$F28)","v":21.75},null,{"$f":"IF($C28=\"\",\" \",VLOOKUP($C28,Mineralfutter!$A$11:$BE$25,27,FALSE)*$F28)","v":0},{"$f":"IF($C28=\"\",\" \",VLOOKUP($C28,Mineralfutter!$A$11:$BE$25,28,FALSE)*$F28)","v":0},{"$f":"IF($C28=\"\",\" \",VLOOKUP($C28,Mineralfutter!$A$11:$BE$25,29,FALSE)*$F28)","v":0},{"$f":"IF($C28=\"\",\" \",VLOOKUP($C28,Mineralfutter!$A$11:$BE$25,30,FALSE)*$F28)","v":5025},{"$f":"IF($C28=\"\",\" \",VLOOKUP($C28,Mineralfutter!$A$11:$BE$25,31,FALSE)*$F28)","v":1005},{"$f":"IF($C28=\"\",\" \",VLOOKUP($C28,Mineralfutter!$A$11:$BE$25,32,FALSE)*$F28)","v":51},{"$f":"IF($C28=\"\",\" \",VLOOKUP($C28,Mineralfutter!$A$11:$BE$25,33,FALSE)*$F28)","v":254.46287323943659},{"$f":"IF($C28=\"\",\" \",VLOOKUP($C28,Mineralfutter!$A$11:$BE$25,34,FALSE)*$F28)","v":97.689560808239378},null,null,null,null,{"$f":"IF($C28=\"\",\" \",VLOOKUP($C28,Mineralfutter!$A$11:$BE$25,35,FALSE)*$F28)","v":6.3155355358926787E-2},{"$f":"IF($C28=\"\",\" \",VLOOKUP($C28,Mineralfutter!$A$11:$BE$25,36,FALSE)*$F28)","v":6.3917625231910941E-2},{"$f":"IF($C28=\"\",\" \",VLOOKUP($C28,Mineralfutter!$A$11:$BE$25,37,FALSE)*$F28)","v":0},{"$f":"IF($C28=\"\",\" \",VLOOKUP($C28,Mineralfutter!$A$11:$BE$25,37,FALSE)*$F28)","v":0},{"$f":"IF($C28=\"\",\" \",VLOOKUP($C28,Mineralfutter!$A$11:$BE$25,38,FALSE)*$F28)","v":0}]
[null,{"$f":"B29","v":" "},{"$f":"IF(C29=\"\",\" \",C29)","v":" "},null,{"$f":"IF(E29=\"\",\" \",E29)","v":" "},{"$f":"IF(F29=\"\",\" \",F29)","v":" "},{"$f":"IF($C29=\"\",\" \",VLOOKUP($C29,Mineralfutter!$A$11:$BE$25,10,FALSE)*$F29)","v":" "},{"$f":"IF($C29=\"\",\" \",VLOOKUP($C29,Mineralfutter!$A$11:$BE$25,10,FALSE)*$F29)","v":" "},{"$f":"IF($C29=\"\",\" \",VLOOKUP($C29,Mineralfutter!$A$11:$BE$25,21,FALSE)*$F29)","v":" "},{"$f":"IF($C29=\"\",\" \",VLOOKUP($C29,Mineralfutter!$A$11:$BE$25,22,FALSE)*$F29)","v":" "},{"$f":"IF($C29=\"\",\" \",VLOOKUP($C29,Mineralfutter!$A$11:$BE$25,23,FALSE)*$F29)","v":" "},{"$f":"IF($C29=\"\",\" \",VLOOKUP($C29,Mineralfutter!$A$11:$BE$25,24,FALSE)*$F29)","v":" "},null,{"$f":"IF($C29=\"\",\" \",VLOOKUP($C29,Mineralfutter!$A$11:$BE$25,27,FALSE)*$F29)","v":" "},{"$f":"IF($C29=\"\",\" \",VLOOKUP($C29,Mineralfutter!$A$11:$BE$25,28,FALSE)*$F29)","v":" "},{"$f":"IF($C29=\"\",\" \",VLOOKUP($C29,Mineralfutter!$A$11:$BE$25,29,FALSE)*$F29)","v":" "},{"$f":"IF($C29=\"\",\" \",VLOOKUP($C29,Mineralfutter!$A$11:$BE$25,30,FALSE)*$F29)","v":" "},{"$f":"IF($C29=\"\",\" \",VLOOKUP($C29,Mineralfutter!$A$11:$BE$25,31,FALSE)*$F29)","v":" "},{"$f":"IF($C29=\"\",\" \",VLOOKUP($C29,Mineralfutter!$A$11:$BE$25,32,FALSE)*$F29)","v":" "},{"$f":"IF($C29=\"\",\" \",VLOOKUP($C29,Mineralfutter!$A$11:$BE$25,33,FALSE)*$F29)","v":" "},{"$f":"IF($C29=\"\",\" \",VLOOKUP($C29,Mineralfutter!$A$11:$BE$25,34,FALSE)*$F29)","v":" "},null,null,null,null,{"$f":"IF($C29=\"\",\" \",VLOOKUP($C29,Mineralfutter!$A$11:$BE$25,35,FALSE)*$F29)","v":" "},{"$f":"IF($C29=\"\",\" \",VLOOKUP($C29,Mineralfutter!$A$11:$BE$25,36,FALSE)*$F29)","v":" "},{"$f":"IF($C29=\"\",\" \",VLOOKUP($C29,Mineralfutter!$A$11:$BE$25,37,FALSE)*$F29)","v":" "},{"$f":"IF($C29=\"\",\" \",VLOOKUP($C29,Mineralfutter!$A$11:$BE$25,37,FALSE)*$F29)","v":" "},{"$f":"IF($C29=\"\",\" \",VLOOKUP($C29,Mineralfutter!$A$11:$BE$25,38,FALSE)*$F29)","v":" "}]
[null,null,"Summe",null,{"$f":"AC30","v":21.45195},{"$f":"IF(SUM(F13:F29,F36:F37)=0,\" \",SUM(F13:F29,F36:F37))","v":1},{"$f":"IF(F30=\" \",\" \",SUM(G46:G62,Q36*$F36,Q37*$F37*0.525))","v":2.3437939999999999},{"$f":"IF(F30=\" \",\" \",SUM(H46:H62,R36*$F36,R37*$F37*0.525))","v":2.10364613},{"$f":"IF(F30=\" \",\" \",SUM(I46:I62))","v":24.661949999999997},{"$f":"IF(F30=\" \",\" \",SUM(J46:J62))","v":477.42150000000004},{"$f":"IF(F30=\" \",\" \",SUM(K46:K62))","v":31.924999999999997},{"$f":"IF(F30=\" \",\" \",SUM(L46:L62,F36*650))","v":46.148000000000003},{"$f":"IF(G30=\" \",\" \",SUM(M46:M62))","v":153.10244999999998},{"$f":"IF(F30=\" \",\" \",SUM(N46:N62))","v":13.551768965517242},{"$f":"IF(F30=\" \",\" \",SUM(O46:O62))","v":12.135832758620689},{"$f":"IF(F30=\" \",\" \",SUM(P46:P62))","v":1.4180362068965517},{"$f":"IF(F30=\" \",\" \",SUM(Q46:Q62))","v":5025},{"$f":"IF(F30=\" \",\" \",SUM(R46:R62))","v":1005},{"$f":"IF(F30=\" \",\" \",SUM(S46:S62))","v":51},{"$f":"IF(F30=\" \",\" \",SUM(T46:T62))","v":264.49312853716401},{"$f":"IF(F30=\" \",\" \",SUM(U46:U62))","v":514.41259039791044},{"$f":"IF(F30=\" \",\" \",SUM(V46:V62))","v":80.434962000000013},{"$f":"IF(H30=\" \",\" \",SUM(W46:W62))","v":241.03019884236457},{"$f":"IF(I30=\" \",\" \",SUM(X46:X62))","v":46.197379187192112},{"$f":"IF(H30=\" \",\" \",SUM(Y46:Y62))","v":630.52395000000001},{"$f":"IF(K30=\" \",\" \",SUM(Z46:Z62))","v":8.7925672491240743},{"$f":"IF(J30=\" \",\" \",SUM(AA46:AA62))","v":9.0804714802314255},{"$f":"IF(AA30=\" \",\" \",SUM(AB46:AB62,AK36*$F36,AK37*$F37*0.525))","v":5.76328},{"$f":"IF(N30=\" \",\" \",SUM(AC46:AC62))","v":0},{"$f":"IF(M30=\" \",\" \",SUM(AD46:AD62))","v":0}]
[null,null,"Summe auf 88% TM umgerechnet",null,{"$f":"AC31","v":21.352587674401505},{"$f":"F30","v":1},{"$f":"IF($F31=\" \",\" \",ROUND($I31*G63/$I30*$F31,1))","v":2.2999999999999998},{"$f":"IF($F31=\" \",\" \",ROUND($I31*H63/$I30*$F31,1))","v":2.1},{"$f":"IF($F31=\" \",\" \",ROUND($I31*I63/$I30*$F31,0))","v":25},{"$f":"IF($F31=\" \",\" \",ROUND($I31*J63/$I30*$F31,0))","v":475},{"$f":"IF($F31=\" \",\" \",ROUND($I31*K63/$I30*$F31,0))","v":32},{"$f":"IF($F31=\" \",\" \",ROUND($I31*L63/$I30*$F31,0))","v":46},{"$f":"IF($F31=\" \",\" \",ROUND($I31*M63/$I30*$F31,0))","v":152},{"$f":"IF($F31=\" \",\" \",ROUND($I31*N63/$I30*$F31,1))","v":13.5},{"$f":"IF($F31=\" \",\" \",ROUND($I31*O63/$I30*$F31,1))","v":12.1},{"$f":"IF($F31=\" \",\" \",ROUND($I31*P63/$I30*$F31,1))","v":1.4},{"$f":"IF($F31=\" \",\" \",ROUND($I31*Q63/$I30*$F31,0))","v":5002},{"$f":"IF($F31=\" \",\" \",ROUND($I31*R63/$I30*$F31,0))","v":1000},{"$f":"IF($F31=\" \",\" \",ROUND($I31*S63/$I30*$F31,0))","v":51},{"$f":"IF($F31=\" \",\" \",ROUND($I31*T63/$I30*$F31,0))","v":263},{"$f":"IF($F31=\" \",\" \",ROUND($I31*U63/$I30*$F31,0))","v":512},{"$f":"IF($F31=\" \",\" \",ROUND($I31*V63/$I30*$F31,1))","v":80.099999999999994},239.9,46,627.6,8.8000000000000007,9,5.7,{"$f":"IF($F31=\" \",\" \",ROUND($I31*AC63/$I30*$F31,2))","v":0},{"$f":"IF($F31=\" \",\" \",ROUND($I31*AD63/$I30*$F31,2))","v":0}]
[null,"OW-Nr.","aus Tabelle Orientierungswerte in g"]
[null,{"$f":"B33","v":19},{"$f":"IF(C33=\"\",\" \",C33)","v":"Mittelmast ab 60 Kg LM für 850 g TZ*"},null,"-",{"$f":"F30","v":1},{"$f":"IF($C33=\"\",\" \",ROUND(VLOOKUP($C$33,Orientierungswerte!$A$13:$AZ$126,30,FALSE)*$F$33,1))","v":2.5},{"$f":"IF($C33=\"\",\" \",ROUND(VLOOKUP($C$33,Orientierungswerte!$A$13:$AZ$126,31,FALSE)*$F$33,1))","v":2.2000000000000002},{"$f":"IF($C33=\"\",\" \",ROUND(VLOOKUP($C$33,Orientierungswerte!$A$13:$AZ$126,33,FALSE)*$F$33,0))","v":0},{"$f":"IF($C33=\"\",\" \",ROUND(VLOOKUP($C$33,Orientierungswerte!$A$13:$AZ$126,34,FALSE)*$F$33,0))","v":0},{"$f":"IF($C33=\"\",\" \",ROUND(VLOOKUP($C$33,Orientierungswerte!$A$13:$AZ$126,35,FALSE)*$F$33,0))","v":0},{"$f":"IF($C33=\"\",\" \",ROUND(VLOOKUP($C$33,Orientierungswerte!$A$13:$AZ$126,36,FALSE)*$F$33,0))","v":0},{"$f":"IF($C33=\"\",\" \",ROUND(VLOOKUP($C$33,Orientierungswerte!$A$13:$AZ$126,36,FALSE)*$F$33,0))","v":0},{"$f":"IF($C33=\"\",\" \",ROUND(VLOOKUP($C$33,Orientierungswerte!$A$13:$AZ$126,37,FALSE)*$F$33,1))","v":17.5},{"$f":"IF($C33=\"\",\" \",ROUND(VLOOKUP($C$33,Orientierungswerte!$A$13:$AZ$126,38,FALSE)*$F$33,1))","v":9.6999999999999993},{"$f":"IF($C33=\"\",\" \",ROUND(VLOOKUP($C$33,Orientierungswerte!$A$13:$AZ$126,39,FALSE)*$F$33,1))","v":0},{"$f":"IF($C33=\"\",\" \",ROUND(VLOOKUP($C$33,Orientierungswerte!$A$13:$AZ$126,40,FALSE)*$F$33,0))","v":5000},{"$f":"IF($C33=\"\",\" \",ROUND(VLOOKUP($C$33,Orientierungswerte!$A$13:$AZ$126,41,FALSE)*$F$33,0))","v":1000},{"$f":"IF($C33=\"\",\" \",ROUND(VLOOKUP($C$33,Orientierungswerte!$A$13:$AZ$126,42,FALSE)*$F$33,0))","v":50},{"$f":"IF($C33=\"\",\" \",ROUND(VLOOKUP($C$33,Orientierungswerte!$A$13:$AZ$126,43,FALSE)*$F$33,1))","v":0},{"$f":"IF($C33=\"\",\" \",ROUND(VLOOKUP($C$33,Orientierungswerte!$A$13:$AZ$126,44,FALSE)*$F$33,1))","v":0},{"$f":"IF($C33=\"\",\" \",ROUND(VLOOKUP($C$33,Orientierungswerte!$A$13:$AZ$126,47,FALSE)*$F$33,1))","v":0},{"$f":"IF($C33=\"\",\" \",ROUND(VLOOKUP($C$33,Orientierungswerte!$A$13:$AZ$126,46,FALSE)*$F$33,1))","v":120},{"$f":"IF($C33=\"\",\" \",ROUND(VLOOKUP($C$33,Orientierungswerte!$A$13:$AZ$126,45,FALSE)*$F$33,1))","v":70},{"$f":"IF($C33=\"\",\" \",ROUND(VLOOKUP($C$33,Orientierungswerte!$A$13:$AZ$126,49,FALSE)*$F$33,1))","v":0},{"$f":"IF($C33=\"\",\" \",ROUND(VLOOKUP($C$33,Orientierungswerte!$A$13:$AZ$126,48,FALSE)*$F$33,1))","v":9.6},{"$f":"IF($C33=\"\",\" \",ROUND(VLOOKUP($C$33,Orientierungswerte!$A$13:$AZ$126,49,FALSE)*$F$33,1))","v":0},null,{"$f":"IF($C33=\"\",\" \",ROUND(VLOOKUP($C$33,Orientierungswerte!$A$13:$AZ$126,50,FALSE)*$F$33,2))","v":1},{"$f":"IF($C33=\"\",\" \",ROUND(VLOOKUP($C$33,Orientierungswerte!$A$13:$AZ$126,51,FALSE)*$F$33,2))","v":0.25}]
[null,null,"Differenz Mischung zu Orientierungswert",null,"-",{"$f":"IF($C$33=\"\",\" \",ROUND((1-F31)*-1,4))","v":0},{"$f":"IF($C$33=\"\",\" \",ROUND(G64-G66,1))","v":-0.2},{"$f":"IF($C$33=\"\",\" \",ROUND(H64-H66,1))","v":-0.1},{"$f":"IF($C$33=\"\",\" \",ROUND(I64-I66,0))","v":25},{"$f":"IF($C$33=\"\",\" \",ROUND(J64-J66,0))","v":475},{"$f":"IF($C$33=\"\",\" \",ROUND(K64-K66,0))","v":32},{"$f":"IF($C$33=\"\",\" \",ROUND(L64-L66,0))","v":46},{"$f":"IF($C$33=\"\",\" \",ROUND(M64-M66,0))","v":152},{"$f":"IF($C$33=\"\",\" \",ROUND(N64-N66,1))","v":-4},{"$f":"IF($C$33=\"\",\" \",ROUND(O64-O66,1))","v":2.4},{"$f":"IF($C$33=\"\",\" \",ROUND(P64-P66,1))","v":1.4},{"$f":"IF($C$33=\"\",\" \",ROUND(Q64-Q66,0))","v":2},0,1,263,512,80,120,{"$f":"IF($C$33=\"\",\" \",ROUND(X64-X66,0))","v":-24},{"$f":"IF($C$33=\"\",\" \",ROUND(Y64-Y66,0))","v":628},{"$f":"IF($C$33=\"\",\" \",Z64-Z66)","v":-0.79999999999999893},{"$f":"IF($C$33=\"\",\" \",AA64-AA66)","v":9},{"$f":"IF($C$33=\"\",\" \",ROUND(AB64-AB66,1))","v":5.7},{"$f":"IF($C$33=\"\",\" \",ROUND(AC64-AC66,2))","v":-1},{"$f":"IF($C$33=\"\",\" \",ROUND(AD64-AD66,2))","v":-0.25}]

{"sheet":"Ausdruck (3)","index":7,"n_rows":67,"n_cols":13,"rows_kept":67,"cut":false,"hidden":false,"merged":[[56,1,56,2],[9,2,9,6],[9,7,9,11],[10,2,10,6],[10,7,10,12],[11,2,11,11],[13,7,13,10]]}
[]
[]
[]
[]
[]
[]
[]
[]
[null,null,null,null,null,null,null,null,null,null,null,"Datum:",{"$f":"Futterberechnung!$Z$5","v":"2018-08-01"}]
[null,"Betrieb:",{"$f":"'Futterberechnung (3)'!H5","v":"Mustermann"}]
[null,"Futtermischung für:",{"$f":"IF('Futterberechnung (3)'!H7=\"\",\"\",'Futterberechnung (3)'!H7)","v":"Mittelmast ab 60 Kg LM für 850 g TZ* "},null,null,null,null,{"$f":"IF('Futterberechnung (3)'!P7=\"\",\"\",'Futterberechnung (3)'!P7)","v":"Getreide = Richtpreise Ernte 2017/18"}]
[null,null,{"$f":"'Futterberechnung (3)'!J8","v":""}]
[]
[null,"Futtermittel","Preis / dt","Anteile                       in % FM","Anteile                       bei 88% TM","in Mischer",null,"Inhaltsstoffe                                                                       in 1 kg Futtermittel",null,null,null,"Soll","Differenz"]
[null,{"$f":"IF('Futterberechnung (3)'!C13=\"\",\"\",'Futterberechnung (3)'!C13)","v":"eigener Weizen 10% RP Ø 2018"},{"$f":"IF('Futterberechnung (3)'!E13=\"\",\"\",'Futterberechnung (3)'!E13)","v":17.420000000000002},{"$f":"IF('Futterberechnung (3)'!F13=\"\",\"\",'Futterberechnung (3)'!F13)","v":0.45},{"$f":"IF('Futterberechnung (3)'!G13=\"\",\"\",'Futterberechnung (3)'!G13)","v":0.44791566517172926},{"$f":"IF('Futterberechnung (3)'!H13=\"\",\"\",'Futterberechnung (3)'!H13)","v":450},null,null,"in","in der FM","in 88% TM","in 88% TM"]
[null,{"$f":"IF('Futterberechnung (3)'!C14=\"\",\"\",'Futterberechnung (3)'!C14)","v":"eigene Gerste 10% RP Ø 2018"},{"$f":"IF('Futterberechnung (3)'!E14=\"\",\"\",'Futterberechnung (3)'!E14)","v":16.39},{"$f":"IF('Futterberechnung (3)'!F14=\"\",\"\",'Futterberechnung (3)'!F14)","v":0.40500000000000003},{"$f":"IF('Futterberechnung (3)'!G14=\"\",\"\",'Futterberechnung (3)'!G14)","v":0.4031240986545564},{"$f":"IF('Futterberechnung (3)'!H14=\"\",\"\",'Futterberechnung (3)'!H14)","v":405},null,"TM","g",{"$f":"IF('Futterberechnung (3)'!I30=\"\",\"\",'Futterberechnung (3)'!I30)","v":884.09500000000003},{"$f":"IF('Futterberechnung (3)'!I31=\"\",\"\",'Futterberechnung (3)'!I31)","v":880}]
[null,{"$f":"IF('Futterberechnung (3)'!C15=\"\",\"\",'Futterberechnung (3)'!C15)","v":"Sojaschrot HP 47% RP "},{"$f":"IF('Futterberechnung (3)'!E15=\"\",\"\",'Futterberechnung (3)'!E15)","v":38},{"$f":"IF('Futterberechnung (3)'!F15=\"\",\"\",'Futterberechnung (3)'!F15)","v":0.11},{"$f":"IF('Futterberechnung (3)'!G15=\"\",\"\",'Futterberechnung (3)'!G15)","v":0.11073470611189974},{"$f":"IF('Futterberechnung (3)'!H15=\"\",\"\",'Futterberechnung (3)'!H15)","v":110},null,"MES EFF*","MJ",{"$f":"IF('Futterberechnung (3)'!$M$30=\"\",\"\",'Futterberechnung (3)'!$M$30)","v":13.001425920026211},{"$f":"IF('Futterberechnung (3)'!$M$31=\"\",\"\",'Futterberechnung (3)'!$M$31)","v":12.94},{"$f":"IF('Futterberechnung (3)'!$M$33=\"\",\"\",'Futterberechnung (3)'!$M$33)","v":13},{"$f":"IF('Futterberechnung (3)'!$M$34=\"\",\"\",'Futterberechnung (3)'!$M$34)","v":-0.06}]
[null,{"$f":"IF('Futterberechnung (3)'!C16=\"\",\"\",'Futterberechnung (3)'!C16)","v":"Rapsöl / Pflanzenöl DLG 2014"},{"$f":"IF('Futterberechnung (3)'!E16=\"\",\"\",'Futterberechnung (3)'!E16)","v":97},{"$f":"IF('Futterberechnung (3)'!F16=\"\",\"\",'Futterberechnung (3)'!F16)","v":5.0000000000000001E-3},{"$f":"IF('Futterberechnung (3)'!G16=\"\",\"\",'Futterberechnung (3)'!G16)","v":5.6498453220524946E-3},{"$f":"IF('Futterberechnung (3)'!H16=\"\",\"\",'Futterberechnung (3)'!H16)","v":5},null,"MES MFF*","MJ",{"$f":"IF('Futterberechnung (3)'!$N$30=\"\",\"\",'Futterberechnung (3)'!$N$30)","v":12.996182480173831},{"$f":"IF('Futterberechnung (3)'!$N$31=\"\",\"\",'Futterberechnung (3)'!$N$31)","v":12.94},{"$f":"IF('Futterberechnung (3)'!$N$33=\"\",\"\",'Futterberechnung (3)'!$N$33)","v":13},{"$f":"IF('Futterberechnung (3)'!$N$34=\"\",\"\",'Futterberechnung (3)'!$N$34)","v":-0.06}]
[null,{"$f":"IF('Futterberechnung (3)'!C17=\"\",\"\",'Futterberechnung (3)'!C17)","v":""},{"$f":"IF('Futterberechnung (3)'!E17=\"\",\"\",'Futterberechnung (3)'!E17)","v":""},{"$f":"IF('Futterberechnung (3)'!F17=\"\",\"\",'Futterberechnung (3)'!F17)","v":""},{"$f":"IF('Futterberechnung (3)'!G17=\"\",\"\",'Futterberechnung (3)'!G17)","v":""},{"$f":"IF('Futterberechnung (3)'!H17=\"\",\"\",'Futterberechnung (3)'!H17)","v":" "},null,"Rohprotein (XP)","g",{"$f":"IF('Futterberechnung (3)'!$J$30=\"\",\"\",'Futterberechnung (3)'!$J$30)","v":139.63787432329579},{"$f":"IF('Futterberechnung (3)'!$J$31=\"\",\"\",'Futterberechnung (3)'!$J$31)","v":139},{"$f":"IF('Futterberechnung (3)'!$J$33=\"\",\"\",'Futterberechnung (3)'!$J$33)","v":150},{"$f":"IF('Futterberechnung (3)'!$J$34=\"\",\"\",'Futterberechnung (3)'!$J$34)","v":-11}]
[null,{"$f":"IF('Futterberechnung (3)'!C18=\"\",\"\",'Futterberechnung (3)'!C18)","v":""},{"$f":"IF('Futterberechnung (3)'!E18=\"\",\"\",'Futterberechnung (3)'!E18)","v":""},{"$f":"IF('Futterberechnung (3)'!F18=\"\",\"\",'Futterberechnung (3)'!F18)","v":""},{"$f":"IF('Futterberechnung (3)'!G18=\"\",\"\",'Futterberechnung (3)'!G18)","v":""},{"$f":"IF('Futterberechnung (3)'!H18=\"\",\"\",'Futterberechnung (3)'!H18)","v":" "},null,"Lys","g",{"$f":"IF('Futterberechnung (3)'!$O$30=\"\",\"\",'Futterberechnung (3)'!$O$30)","v":8.4590980000000009},{"$f":"IF('Futterberechnung (3)'!$O$31=\"\",\"\",'Futterberechnung (3)'!$O$31)","v":8.4},{"$f":"IF('Futterberechnung (3)'!$O$33=\"\",\"\",'Futterberechnung (3)'!$O$33)","v":8.8000000000000007},{"$f":"IF('Futterberechnung (3)'!$O$34=\"\",\"\",'Futterberechnung (3)'!$O$34)","v":-0.4}]
[null,{"$f":"IF('Futterberechnung (3)'!C19=\"\",\"\",'Futterberechnung (3)'!C19)","v":""},{"$f":"IF('Futterberechnung (3)'!E19=\"\",\"\",'Futterberechnung (3)'!E19)","v":""},{"$f":"IF('Futterberechnung (3)'!F19=\"\",\"\",'Futterberechnung (3)'!F19)","v":""},{"$f":"IF('Futterberechnung (3)'!G19=\"\",\"\",'Futterberechnung (3)'!G19)","v":""},{"$f":"IF('Futterberechnung (3)'!H19=\"\",\"\",'Futterberechnung (3)'!H19)","v":" "},null,"pcv Lys","g",{"$f":"IF('Futterberechnung (3)'!$P$30=\"\",\"\",'Futterberechnung (3)'!$P$30)","v":7.5213734399999996},{"$f":"IF('Futterberechnung (3)'!$P$31=\"\",\"\",'Futterberechnung (3)'!$P$31)","v":7.5},{"$f":"IF('Futterberechnung (3)'!$P$33=\"\",\"\",'Futterberechnung (3)'!$P$33)","v":7.7},{"$f":"IF('Futterberechnung (3)'!$P$34=\"\",\"\",'Futterberechnung (3)'!$P$34)","v":-0.2}]
[null,{"$f":"IF('Futterberechnung (3)'!C20=\"\",\"\",'Futterberechnung (3)'!C20)","v":""},{"$f":"IF('Futterberechnung (3)'!E20=\"\",\"\",'Futterberechnung (3)'!E20)","v":""},{"$f":"IF('Futterberechnung (3)'!F20=\"\",\"\",'Futterberechnung (3)'!F20)","v":""},{"$f":"IF('Futterberechnung (3)'!G20=\"\",\"\",'Futterberechnung (3)'!G20)","v":""},{"$f":"IF('Futterberechnung (3)'!H20=\"\",\"\",'Futterberechnung (3)'!H20)","v":" "},null,"Met","g",{"$f":"IF('Futterberechnung (3)'!$G$63=\"\",\"\",'Futterberechnung (3)'!$G$63)","v":2.3437939999999999},{"$f":"IF('Futterberechnung (3)'!$G$64=\"\",\"\",'Futterberechnung (3)'!$G$64)","v":2.2999999999999998},{"$f":"IF('Futterberechnung (3)'!$G$66=\"\",\"\",'Futterberechnung (3)'!$G$66)","v":2.5},{"$f":"IF('Futterberechnung (3)'!$G67=\"\",\"\",'Futterberechnung (3)'!$G$67)","v":-0.2}]
[null,{"$f":"IF('Futterberechnung (3)'!C21=\"\",\"\",'Futterberechnung (3)'!C21)","v":""},{"$f":"IF('Futterberechnung (3)'!E21=\"\",\"\",'Futterberechnung (3)'!E21)","v":""},{"$f":"IF('Futterberechnung (3)'!F21=\"\",\"\",'Futterberechnung (3)'!F21)","v":""},{"$f":"IF('Futterberechnung (3)'!G21=\"\",\"\",'Futterberechnung (3)'!G21)","v":""},{"$f":"IF('Futterberechnung (3)'!H21=\"\",\"\",'Futterberechnung (3)'!H21)","v":" "},null,"pcv Met","g",{"$f":"IF('Futterberechnung (3)'!$H$63=\"\",\"\",'Futterberechnung (3)'!$H$63)","v":2.10364613},{"$f":"IF('Futterberechnung (3)'!$H$64=\"\",\"\",'Futterberechnung (3)'!$H$64)","v":2.1},{"$f":"IF('Futterberechnung (3)'!$H$66=\"\",\"\",'Futterberechnung (3)'!$H$66)","v":2.2000000000000002},{"$f":"IF('Futterberechnung (3)'!$H67=\"\",\"\",'Futterberechnung (3)'!$H$67)","v":-0.1}]
[null,{"$f":"IF('Futterberechnung (3)'!C22=\"\",\"\",'Futterberechnung (3)'!C22)","v":""},{"$f":"IF('Futterberechnung (3)'!E22=\"\",\"\",'Futterberechnung (3)'!E22)","v":""},{"$f":"IF('Futterberechnung (3)'!F22=\"\",\"\",'Futterberechnung (3)'!F22)","v":""},{"$f":"IF('Futterberechnung (3)'!G22=\"\",\"\",'Futterberechnung (3)'!G22)","v":""},{"$f":"IF('Futterberechnung (3)'!H22=\"\",\"\",'Futterberechnung (3)'!H22)","v":" "},null,"Met + Cys","g",{"$f":"IF('Futterberechnung (3)'!$Q$30=\"\",\"\",'Futterberechnung (3)'!$Q$30)","v":5.3309619999999995},{"$f":"IF('Futterberechnung (3)'!$Q$31=\"\",\"\",'Futterberechnung (3)'!$Q$31)","v":5.3},{"$f":"IF('Futterberechnung (3)'!$Q$33=\"\",\"\",'Futterberechnung (3)'!$Q$33)","v":4.7},{"$f":"IF('Futterberechnung (3)'!$Q$34=\"\",\"\",'Futterberechnung (3)'!$Q$34)","v":0.6}]
[null,{"$f":"IF('Futterberechnung (3)'!C23=\"\",\"\",'Futterberechnung (3)'!C23)","v":""},{"$f":"IF('Futterberechnung (3)'!E23=\"\",\"\",'Futterberechnung (3)'!E23)","v":""},{"$f":"IF('Futterberechnung (3)'!F23=\"\",\"\",'Futterberechnung (3)'!F23)","v":""},{"$f":"IF('Futterberechnung (3)'!G23=\"\",\"\",'Futterberechnung (3)'!G23)","v":""},{"$f":"IF('Futterberechnung (3)'!H23=\"\",\"\",'Futterberechnung (3)'!H23)","v":" "},null,"pcv Met + Cys","g",{"$f":"IF('Futterberechnung (3)'!$R$30=\"\",\"\",'Futterberechnung (3)'!$R$30)","v":4.6640744684008091},{"$f":"IF('Futterberechnung (3)'!$R$31=\"\",\"\",'Futterberechnung (3)'!$R$31)","v":4.5999999999999996},{"$f":"IF('Futterberechnung (3)'!$R$33=\"\",\"\",'Futterberechnung (3)'!$R$33)","v":4.2},{"$f":"IF('Futterberechnung (3)'!$R$34=\"\",\"\",'Futterberechnung (3)'!$R$34)","v":0.4}]
[null,{"$f":"IF('Futterberechnung (3)'!C24=\"\",\"\",'Futterberechnung (3)'!C24)","v":"Ergänzungsfutter "},{"$f":"IF('Futterberechnung (3)'!E24=\"\",\"\",'Futterberechnung (3)'!E24)","v":""},{"$f":"IF('Futterberechnung (3)'!F24=\"\",\"\",'Futterberechnung (3)'!F24)","v":""},{"$f":"IF('Futterberechnung (3)'!G24=\"\",\"\",'Futterberechnung (3)'!G24)","v":""},{"$f":"IF('Futterberechnung (3)'!H24=\"\",\"\",'Futterberechnung (3)'!H24)","v":""},null,"Thr","g",{"$f":"IF('Futterberechnung (3)'!$S$30=\"\",\"\",'Futterberechnung (3)'!$S$30)","v":5.5582394999999991},{"$f":"IF('Futterberechnung (3)'!$S$31=\"\",\"\",'Futterberechnung (3)'!$S$31)","v":5.5},{"$f":"IF('Futterberechnung (3)'!$S$33=\"\",\"\",'Futterberechnung (3)'!$S$33)","v":5.5},{"$f":"IF('Futterberechnung (3)'!$S$34=\"\",\"\",'Futterberechnung (3)'!$S$34)","v":0}]
[null,{"$f":"IF('Futterberechnung (3)'!C25=\"\",\"\",'Futterberechnung (3)'!C25)","v":""},{"$f":"IF('Futterberechnung (3)'!E25=\"\",\"\",'Futterberechnung (3)'!E25)","v":""},{"$f":"IF('Futterberechnung (3)'!F25=\"\",\"\",'Futterberechnung (3)'!F25)","v":""},{"$f":"IF('Futterberechnung (3)'!G25=\"\",\"\",'Futterberechnung (3)'!G25)","v":""},{"$f":"IF('Futterberechnung (3)'!H25=\"\",\"\",'Futterberechnung (3)'!H25)","v":" "},null,"pcv Thr","g",{"$f":"IF('Futterberechnung (3)'!$T$30=\"\",\"\",'Futterberechnung (3)'!$T$30)","v":4.7892274199999996},{"$f":"IF('Futterberechnung (3)'!$T$31=\"\",\"\",'Futterberechnung (3)'!$T$31)","v":4.8},{"$f":"IF('Futterberechnung (3)'!$T$33=\"\",\"\",'Futterberechnung (3)'!$T$33)","v":5},{"$f":"IF('Futterberechnung (3)'!$T$34=\"\",\"\",'Futterberechnung (3)'!$T$34)","v":-0.2}]
[null,{"$f":"IF('Futterberechnung (3)'!C26=\"\",\"\",'Futterberechnung (3)'!C26)","v":""},{"$f":"IF('Futterberechnung (3)'!E26=\"\",\"\",'Futterberechnung (3)'!E26)","v":""},{"$f":"IF('Futterberechnung (3)'!F26=\"\",\"\",'Futterberechnung (3)'!F26)","v":""},{"$f":"IF('Futterberechnung (3)'!G26=\"\",\"\",'Futterberechnung (3)'!G26)","v":""},{"$f":"IF('Futterberechnung (3)'!H26=\"\",\"\",'Futterberechnung (3)'!H26)","v":" "},null,"Trp","g",{"$f":"IF('Futterberechnung (3)'!$U$30=\"\",\"\",'Futterberechnung (3)'!$U$30)","v":1.7839315},{"$f":"IF('Futterberechnung (3)'!$U$31=\"\",\"\",'Futterberechnung (3)'!$U$31)","v":1.8},{"$f":"IF('Futterberechnung (3)'!$U$33=\"\",\"\",'Futterberechnung (3)'!$U$33)","v":1.6},{"$f":"IF('Futterberechnung (3)'!$U$34=\"\",\"\",'Futterberechnung (3)'!$U$34)","v":0.2}]
[null,{"$f":"IF('Futterberechnung (3)'!C27=\"\",\"\",'Futterberechnung (3)'!C27)","v":"Mineralfutter"},{"$f":"IF('Futterberechnung (3)'!E27=\"\",\"\",'Futterberechnung (3)'!E27)","v":""},{"$f":"IF('Futterberechnung (3)'!F27=\"\",\"\",'Futterberechnung (3)'!F27)","v":""},{"$f":"IF('Futterberechnung (3)'!G27=\"\",\"\",'Futterberechnung (3)'!G27)","v":""},{"$f":"IF('Futterberechnung (3)'!H27=\"\",\"\",'Futterberechnung (3)'!H27)","v":""},null,"pcv Trp","g",{"$f":"IF('Futterberechnung (3)'!$V$30=\"\",\"\",'Futterberechnung (3)'!$V$30)","v":1.49925704},{"$f":"IF('Futterberechnung (3)'!$V$31=\"\",\"\",'Futterberechnung (3)'!$V$31)","v":1.5},{"$f":"IF('Futterberechnung (3)'!$V$33=\"\",\"\",'Futterberechnung (3)'!$V$33)","v":1.4},{"$f":"IF('Futterberechnung (3)'!$V$34=\"\",\"\",'Futterberechnung (3)'!$V$34)","v":0.1}]
[null,{"$f":"IF('Futterberechnung (3)'!C28=\"\",\"\",'Futterberechnung (3)'!C28)","v":"Opti. MinFu MM 850g TZ 3,0% + Phytase 17/18"},{"$f":"IF('Futterberechnung (3)'!E28=\"\",\"\",'Futterberechnung (3)'!E28)","v":77},{"$f":"IF('Futterberechnung (3)'!F28=\"\",\"\",'Futterberechnung (3)'!F28)","v":0.03},{"$f":"IF('Futterberechnung (3)'!G28=\"\",\"\",'Futterberechnung (3)'!G28)","v":3.2575684739762127E-2},{"$f":"IF('Futterberechnung (3)'!H28=\"\",\"\",'Futterberechnung (3)'!H28)","v":30},null,"Rohfaser (XF)","g",{"$f":"IF('Futterberechnung (3)'!$L$30=\"\",\"\",'Futterberechnung (3)'!$L$30)","v":40.100450000000002},{"$f":"IF('Futterberechnung (3)'!$L$31=\"\",\"\",'Futterberechnung (3)'!$L$31)","v":40},{"$f":"IF('Futterberechnung (3)'!$L$33=\"\",\"\",'Futterberechnung (3)'!$L$33)","v":45},{"$f":"IF('Futterberechnung (3)'!$L$34=\"\",\"\",'Futterberechnung (3)'!$L$34)","v":-5}]
[null,{"$f":"IF('Futterberechnung (3)'!C29=\"\",\"\",'Futterberechnung (3)'!C29)","v":""},{"$f":"IF('Futterberechnung (3)'!E29=\"\",\"\",'Futterberechnung (3)'!E29)","v":""},{"$f":"IF('Futterberechnung (3)'!F29=\"\",\"\",'Futterberechnung (3)'!F29)","v":""},{"$f":"IF('Futterberechnung (3)'!G29=\"\",\"\",'Futterberechnung (3)'!G29)","v":""},{"$f":"IF('Futterberechnung (3)'!H29=\"\",\"\",'Futterberechnung (3)'!H29)","v":" "},null,"NDFom","g",{"$f":"IF('Futterberechnung (3)'!$W$63=\"\",\"\",'Futterberechnung (3)'!$W$63)","v":241.03019884236457},{"$f":"IF('Futterberechnung (3)'!$W$64=\"\",\"\",'Futterberechnung (3)'!$W$64)","v":239.9},{"$f":"IF('Futterberechnung (3)'!$W$66=0,\"\",'Futterberechnung (3)'!$W$66)","v":120},{"$f":"IF($L$31=\"\",\"\",'Futterberechnung (3)'!$W$67)","v":120}]
[null,"Futterkosten / Summe / Mischergröße",{"$f":"IF('Futterberechnung (3)'!E30=\"\",\"\",'Futterberechnung (3)'!E30)","v":21.45195},{"$f":"IF('Futterberechnung (3)'!F30=\"\",\"\",'Futterberechnung (3)'!F30)","v":1},null,{"$f":"IF(F15=\"\",\"\",SUM(F15:F31))","v":1000},null,"ADFom","g",{"$f":"IF('Futterberechnung (3)'!$X$63=\"\",\"\",'Futterberechnung (3)'!$X$63)","v":46.197379187192112},{"$f":"IF('Futterberechnung (3)'!$X$64=\"\",\"\",'Futterberechnung (3)'!$X$64)","v":46},{"$f":"IF('Futterberechnung (3)'!$X$66=0,\"\",'Futterberechnung (3)'!$X$66)","v":70},{"$f":"IF($L$32=\"\",\"\",'Futterberechnung (3)'!$X$67)","v":-24}]
[null,"Futterkosten auf 88% TM umgerechnet",{"$f":"IF('Futterberechnung (3)'!E31=\"\",\"\",'Futterberechnung (3)'!E31)","v":21.352587674401505},null,null,{"$f":"IF(Futterberechnung!H31=\"\",\"\",Futterberechnung!H31)","v":""},null,"BfS","g",{"$f":"IF('Futterberechnung (3)'!$V$63=\"\",\"\",'Futterberechnung (3)'!$V$63)","v":80.434962000000013},{"$f":"IF('Futterberechnung (3)'!$V$64=\"\",\"\",'Futterberechnung (3)'!$V$64)","v":80.099999999999994},{"$f":"IF('Futterberechnung (3)'!$V$66=0,\"\",'Futterberechnung (3)'!$V$66)","v":""},{"$f":"IF($L$33=\"\",\"\",'Futterberechnung (3)'!$V$67)","v":""}]
[null,null,null,null,null,null,null,"Ca","g",{"$f":"IF('Futterberechnung (3)'!$W$30=\"\",\"\",'Futterberechnung (3)'!$W$30)","v":5.189885935340425},{"$f":"IF('Futterberechnung (3)'!$W$31=\"\",\"\",'Futterberechnung (3)'!$W$31)","v":5.2},{"$f":"IF('Futterberechnung (3)'!$W$33=\"\",\"\",'Futterberechnung (3)'!$W$33)","v":5.0999999999999996},{"$f":"IF('Futterberechnung (3)'!$W$34=\"\",\"\",'Futterberechnung (3)'!$W$34)","v":0.1}]
[null,null,null,null,null,null,null,"P","g",{"$f":"IF('Futterberechnung (3)'!$X$30=\"\",\"\",'Futterberechnung (3)'!$X$30)","v":3.6398224351747461},{"$f":"IF('Futterberechnung (3)'!$X$31=\"\",\"\",'Futterberechnung (3)'!$X$31)","v":3.6},{"$f":"IF('Futterberechnung (3)'!$X$33=\"\",\"\",'Futterberechnung (3)'!$X$33)","v":4.0999999999999996},{"$f":"IF('Futterberechnung (3)'!$X$34=\"\",\"\",'Futterberechnung (3)'!$X$34)","v":-0.5}]
[null,null,null,null,null,null,null,"v.P","g",{"$f":"IF('Futterberechnung (3)'!$Y$30=\"\",\"\",'Futterberechnung (3)'!$Y$30)","v":1.8238039740698984},{"$f":"IF('Futterberechnung (3)'!$Y$31=\"\",\"\",'Futterberechnung (3)'!$Y$31)","v":1.8},{"$f":"IF('Futterberechnung (3)'!$Y$33=\"\",\"\",'Futterberechnung (3)'!$Y$33)","v":2.4},{"$f":"IF('Futterberechnung (3)'!$Y$34=\"\",\"\",'Futterberechnung (3)'!$Y$34)","v":-0.6}]
[null,null,null,null,null,null,null,"v.P + Phytase","g",{"$f":"IF('Futterberechnung (3)'!$Z$30=\"\",\"\",'Futterberechnung (3)'!$Z$30)","v":2.4396168263810596},{"$f":"IF('Futterberechnung (3)'!$Z$31=\"\",\"\",'Futterberechnung (3)'!$Z$31)","v":2.4},{"$f":"IF('Futterberechnung (3)'!$Z$33=\"\",\"\",'Futterberechnung (3)'!$Z$33)","v":2.4},{"$f":"IF('Futterberechnung (3)'!$Z$34=\"\",\"\",'Futterberechnung (3)'!$Z$34)","v":0}]
[null,null,null,null,null,null,null,"Na","g",{"$f":"IF('Futterberechnung (3)'!$AB$30=\"\",\"\",'Futterberechnung (3)'!$AB$30)","v":1.820049275862069},{"$f":"IF('Futterberechnung (3)'!$AB$31=\"\",\"\",'Futterberechnung (3)'!$AB$31)","v":1.8},{"$f":"IF('Futterberechnung (3)'!$AB$33=\"\",\"\",'Futterberechnung (3)'!$AB$33)","v":1.7},{"$f":"IF(Futterberechnung!$AB$34=\"\",\"\",'Futterberechnung (3)'!$AB$34)","v":0.1}]
[null,null,null,null,null,null,null,"Mg","g",{"$f":"IF('Futterberechnung (3)'!$AA$30=\"\",\"\",'Futterberechnung (3)'!$AA$30)","v":1.2508971574468086},{"$f":"IF('Futterberechnung (3)'!$AA$31=\"\",\"\",'Futterberechnung (3)'!$AA$31)","v":1.2},{"$f":"IF('Futterberechnung (3)'!$AA$33=\"\",\"\",'Futterberechnung (3)'!$AA$33)","v":1},{"$f":"IF('Futterberechnung (3)'!$AA$34=\"\",\"\",'Futterberechnung (3)'!$AA$34)","v":0.2}]
[null,null,null,null,null,null,null,"Polyensäuren","g",{"$f":"IF('Futterberechnung (3)'!$N$63=\"\",\"\",'Futterberechnung (3)'!$N$63)","v":13.551768965517242},{"$f":"IF('Futterberechnung (3)'!$N$64=\"\",\"\",'Futterberechnung (3)'!$N$64)","v":13.5},{"$f":"IF('Futterberechnung (3)'!$N$66=\"\",\"\",'Futterberechnung (3)'!$N$66)","v":17.5},{"$f":"IF('Futterberechnung (3)'!$N$67=\"\",\"\",'Futterberechnung (3)'!$N$67)","v":-4}]
[null,null,null,null,null,null,null,"Vit. A","IE",{"$f":"IF('Futterberechnung (3)'!$Q$63=\"\",\"\",'Futterberechnung (3)'!$Q$63)","v":5025},{"$f":"IF('Futterberechnung (3)'!$Q$64=\"\",\"\",'Futterberechnung (3)'!$Q$64)","v":5002},{"$f":"IF('Futterberechnung (3)'!$Q$66=\"\",\"\",'Futterberechnung (3)'!$Q$66)","v":5000},{"$f":"IF('Futterberechnung (3)'!$Q$67=\"\",\"\",'Futterberechnung (3)'!$Q$67)","v":2}]
[null,null,null,null,null,null,null,"Vit. D3","IE",{"$f":"IF('Futterberechnung (3)'!$R$63=\"\",\"\",'Futterberechnung (3)'!$R$63)","v":1005},{"$f":"IF('Futterberechnung (3)'!$R$64=\"\",\"\",'Futterberechnung (3)'!$R$64)","v":1000},{"$f":"IF('Futterberechnung (3)'!$R$66=\"\",\"\",'Futterberechnung (3)'!$R$66)","v":1000},{"$f":"IF('Futterberechnung (3)'!$R$67=\"\",\"\",'Futterberechnung (3)'!$R$67)","v":0}]
[null,null,null,null,null,null,null,"Vit. E","mg",{"$f":"IF('Futterberechnung (3)'!$S$63=\"\",\"\",'Futterberechnung (3)'!$S$63)","v":51},{"$f":"IF('Futterberechnung (3)'!$S$64=\"\",\"\",'Futterberechnung (3)'!$S$64)","v":51},{"$f":"IF('Futterberechnung (3)'!$S$66=\"\",\"\",'Futterberechnung (3)'!$S$66)","v":50},{"$f":"IF('Futterberechnung (3)'!$S$67=\"\",\"\",'Futterberechnung (3)'!$S$67)","v":1}]
[]
[null,"Aminosäurenverhältnis (AS-Verältnis)","pcv M + C","pcv Thr","pcv Trp",null,null,"Ca / P   ","/1",{"$f":"IF(K45=\"\",\"\",K45)","v":1.4258623951503999},{"$f":"IF('Futterberechnung (3)'!$T$40=\"\",\"\",'Futterberechnung (3)'!$T$40)","v":1.4258623951503999},{"$f":"IF('Futterberechnung (3)'!$T$41=\"\",\"\",'Futterberechnung (3)'!$T$41)","v":1.26},{"$f":"IF(K45=\"\",\"\",K45-L45)","v":0.16586239515039991}]
[null,"AS-Verhältnis in der Ration pcv Lysin 1 /",{"$f":"IF('Futterberechnung (3)'!N40=\"\",\"\",'Futterberechnung (3)'!N40)","v":0.62010941294264588},{"$f":"IF('Futterberechnung (3)'!P40=\"\",\"\",'Futterberechnung (3)'!P40)","v":0.63674905364092649},{"$f":"IF('Futterberechnung (3)'!R40=\"\",\"\",'Futterberechnung (3)'!R40)","v":0.19933288141587077},null,null,"Ca / vP          ","/1",2.8456380231253511,{"$f":"IF('Futterberechnung (3)'!$X$40=\"\",\"\",'Futterberechnung (3)'!$X$40)","v":2.8456380231253511},{"$f":"IF('Futterberechnung (3)'!$X$41=\"\",\"\",'Futterberechnung (3)'!$X$41)","v":2.12},0.72563802312535097]
[null,"Orientierungswert AS-Verhältnis pcv Lysin 1 /",{"$f":"IF('Futterberechnung (3)'!N41=\"\",\"\",'Futterberechnung (3)'!N41)","v":0.54},{"$f":"IF('Futterberechnung (3)'!P41=\"\",\"\",'Futterberechnung (3)'!P41)","v":0.63},{"$f":"IF('Futterberechnung (3)'!R41=\"\",\"\",'Futterberechnung (3)'!R41)","v":0.18},null,null,"Ca / vP + Phytase","/1",2.1273365059705416,{"$f":"IF('Futterberechnung (3)'!$X$39=\"\",\"\",'Futterberechnung (3)'!$X$39)","v":2.1273365059705416},{"$f":"IF('Futterberechnung (3)'!$X$41=\"\",\"\",'Futterberechnung (3)'!$X$41)","v":2.12},7.3365059705414737E-3]
[null,"Differenz",{"$f":"IF(C46=\"\",\"\",C46-C47)","v":8.0109412942645841E-2},{"$f":"IF(D46=\"\",\"\",D46-D47)","v":6.7490536409264834E-3},{"$f":"IF(E46=\"\",\"\",E46-E47)","v":1.9332881415870778E-2},null,null,"Lys / MES EFF*","g/MJ",0.6491499227202473,{"$f":"IF('Futterberechnung (3)'!$F$40=\"\",\"\",'Futterberechnung (3)'!$F$40)","v":0.6491499227202473},{"$f":"IF('Futterberechnung (3)'!$F$41=\"\",\"\",'Futterberechnung (3)'!$F$41)","v":0.67},-2.0850077279752743E-2]
[null,null,null,null,null,null,null,"pcv Lys / MES EFF*","g/MJ",0.57959814528593512,{"$f":"IF('Futterberechnung (3)'!$I$40=\"\",\"\",'Futterberechnung (3)'!$I$40)","v":0.57959814528593512},{"$f":"IF('Futterberechnung (3)'!$I$41=\"\",\"\",'Futterberechnung (3)'!$I$41)","v":0.59},-1.0401854714064851E-2]
[null,null,null,null,null,null,null,"Lys in 100g RP","g",5.3956834532374103,{"$f":"IF('Futterberechnung (3)'!$AA$40=\"\",\"\",'Futterberechnung (3)'!$AA$40)","v":5.3956834532374103},{"$f":"IF('Futterberechnung (3)'!$AA$41=\"\",\"\",'Futterberechnung (3)'!$AA$41)","v":5.13},0.26568345323741038]
[null,null,null,null,null,null,null,"Kosten / 10 MJ MES EFF*",null,{"$f":"IF('Futterberechnung (3)'!$M$31=\"\",\"\",$C$32/100/'Futterberechnung (3)'!$M$30*10)","v":0.16499690212407683},{"$f":"IF('Futterberechnung (3)'!$M$31=\"\",\"\",$C$33/100/'Futterberechnung (3)'!$M$31*10)","v":0.16501226950851242}]
[]
[null,null,null,null,null,null,null,"* EFF=Einzelfutterformel und MFF=Mischfutterformel (EFF ist genauer!)"]
[null,"KAB oder DCAB oder BE in 100% TM der Ration",{"$f":"IF('Futterberechnung (3)'!T64=\"\",\"\",'Futterberechnung (3)'!T64/88*100)","v":298.86363636363637}]
[null,"Harn-pH bei Fütterung dieser Ration",{"$f":"IF(C54=\"\",\"\",6.19+0.0031*C54+3*10^-6*C54^2)","v":7.3844356921487613}]
[]
[null,"Basenüberschuß (BE)",null,"Harn pH"]
[null,"100 % TM"," in 88 %TM"]
[null,500,{"$f":"B59*0.88","v":440},8.5]
[null,400,{"$f":"B60*0.88","v":352},7.9]
[null,300,264,7.4]
[null,200,176,6.9]
[null,100,88,6.5]
[null,0,0,6.2]
[null,-100,-88,5.9]
[null,-200,-176,5.7]
[null,-400,-352,5.4]

{"sheet":"Futterberechnung (4)","index":8,"n_rows":67,"n_cols":30,"rows_kept":67,"cut":false,"hidden":false,"merged":[[2,25,3,28],[4,7,4,17],[5,7,5,17],[5,25,5,28],[4,25,4,27],[3,1,3,3],[17,2,17,3],[6,7,6,14],[6,15,6,21],[6,25,6,28],[7,9,7,20],[7,25,7,28],[11,2,11,3],[11,8,11,11],[11,12,11,13],[11,14,11,27],[12,2,12,3],[13,2,13,3],[14,2,14,3],[15,2,15,3],[16,2,16,3],[31,11,31,12],[18,2,18,3],[19,2,19,3],[20,2,20,3],[21,2,21,3],[22,2,22,3],[26,2,26,3],[27,2,27,3],[28,2,28,3],[29,2,29,3],[30,2,30,3],[31,2,31,4],[32,2,32,3],[33,2,33,3],[34,1,34,4],[37,1,38,1],[37,23,37,24],[38,5,38,6],[38,8,38,9],[38,11,38,17],[38,19,38,20],[38,25,38,28],[39,2,39,3],[40,2,40,3],[44,2,44,3],[44,6,44,15],[44,16,44,20],[44,21,44,24],[44,25,44,26],[44,28,44,29],[59,2,59,3],[45,2,45,3],[46,2,46,3],[47,2,47,3],[48,2,48,3],[49,2,49,3],[50,2,50,3],[51,2,51,3],[52,2,52,3],[53,2,53,3],[54,2,54,3],[55,2,55,3],[66,2,66,3],[60,2,60,3],[61,2,61,3],[62,2,62,3],[63,2,63,3],[64,2,64,4],[65,2,65,3]]}
[]
[]
[null,null,null,null,null,null,null,null,null,null,null,null,null,null,null,null,null,null,null,null,null,null,null,null,null,"2018 Version 1"]
[null,"Rheinischer Erzeugerring für Mastschweine e.V."]
[null,null,null,null,"Betrieb:",null,null,"Mustermann",null,null,null,null,null,null,null,null,null,null,null,null,null,null,null,"Datum:",null,"2018-08-01"]
[null,null,null,null,"Berater:",null,null,{"$f":"Futterberechnung!H6","v":"………………………………………………………."},null,null,null,null,null,null,null,null,null,null,null,null,null,null,null,"Tel.Nr.:",null,{"$f":"Futterberechnung!Z6","v":"……………………………"}]
[null,null,null,null,"Futtermischung für:",null,null,{"$f":"C33&\" \"","v":"Endmast ab 90 Kg LM für 850 g TZ* "},null,null,null,null,null,null,null,"Getreide = Richtpreise Ernte 2017/18",null,null,null,null,null,null,null,"Tel.Nr.:",null,{"$f":"Futterberechnung!Z7","v":"……………………………"}]
[null,null,null,null,"Mischergröße in t:",null,null,{"$f":"Futterberechnung!H8","v":1},null,{"$f":"IF(OR(B10=\"m\",B10=\"w\",'Futterkurve Mast'!T6=\"HP\"),Orientierungswerte!D35,\"\")","v":""},null,null,null,null,null,null,null,null,null,null,null,null,null,"gültig bis:",null,{"$f":"Futterberechnung!Z8","v":"……………………………"}]
[]
[null,{"$f":"IF(Futterberechnung!B10=0,\"\",Futterberechnung!B10)","v":""},"Geschlecht"]
[null,null,null,null,"Netto-Preis ","Anteil in FM","Anteil bei 88% TM","in Mi-scher","TM","Roh-pro-tein XP","pcv XP","Roh-faser XF","ME EFF","ME MFF","Lys","pcv Lys","M&C","pcv M+C","Thr","pcv Thr","Trp","pcv Trp","Ca","P","v. P","v. P m. Phy","Mg","Na","€/dt"]
[null,"FM-Nr.","Futtermittel + % RP in der FM",null,"€/dt","%","%","kg","Anteil in g/kg",null,null,null,"MJ/kg",null,"Anteile in g je kg",null,null,null,null,null,null,null,null,null,null,null,null,null,"Anteil"]
[null,{"$f":"IF($C13=\"\",\" \",VLOOKUP($C13,Futtermittel!$A$8:$CG$171,2,FALSE))","v":49},{"$f":"IF(Futterberechnung!C13=\"\",\"\",Futterberechnung!C13)","v":"eigener Weizen 10% RP Ø 2018"},null,{"$f":"IF(Futterberechnung!E13=\"\",\"\",Futterberechnung!E13)","v":17.420000000000002},0.49,{"$f":"IF(F13=\"\",\"\",I13/I$30)","v":0.48805609475894313},{"$f":"IF(F13=\"\",\" \",$H$8*F13*1000)","v":490},{"$f":"IF($C13=\"\",\" \",VLOOKUP($C13,Futtermittel!$A$8:$CG$171,8,FALSE)*$F13)","v":431.2},{"$f":"IF($C13=\"\",\" \",VLOOKUP($C13,Futtermittel!$A$8:$CG$171,9,FALSE)*$F13)","v":48.529600000000002},{"$f":"IF($C13=\"\",\" \",VLOOKUP($C13,Futtermittel!$A$8:$CG$171,10,FALSE)*$F13)","v":43.676640000000006},{"$f":"IF($C13=\"\",\" \",VLOOKUP($C13,Futtermittel!$A$8:$CG$171,11,FALSE)*$F13)","v":12.9213},{"$f":"IF($C13=\"\",\" \",VLOOKUP($C13,Futtermittel!$A$8:$CG$171,12,FALSE)*$F13)","v":6.6773495600000006},{"$f":"IF($C13=\"\",\" \",VLOOKUP(C13,Futtermittel!$A$8:$CG$171,13,FALSE)*$F13)","v":6.7130156799999998},{"$f":"IF($C13=\"\",\" \",VLOOKUP($C13,Futtermittel!$A$8:$CG$171,14,FALSE)*$F13)","v":1.558592},{"$f":"IF($C13=\"\",\" \",VLOOKUP($C13,Futtermittel!$A$8:$CG$171,15,FALSE)*$F13)","v":1.3715609600000001},{"$f":"IF($C13=\"\",\" \",VLOOKUP($C13,Futtermittel!$A$8:$CG$171,16,FALSE)*$F13)","v":1.798888},{"$f":"IF($C13=\"\",\" \",VLOOKUP($C13,Futtermittel!$A$8:$CG$171,17,FALSE)*$F13)","v":1.6249954933333335},{"$f":"IF($C13=\"\",\" \",VLOOKUP($C13,Futtermittel!$A$8:$CG$171,18,FALSE)*$F13)","v":1.2645919999999999},{"$f":"IF($C13=\"\",\" \",VLOOKUP($C13,Futtermittel!$A$8:$CG$171,19,FALSE)*$F13)","v":1.1381327999999999},{"$f":"IF($C13=\"\",\" \",VLOOKUP($C13,Futtermittel!$A$8:$CG$171,20,FALSE)*$F13)","v":0.68129600000000001},{"$f":"IF($C13=\"\",\" \",VLOOKUP($C13,Futtermittel!$A$8:$CG$171,21,FALSE)*$F13)","v":0.59954047999999993},{"$f":"IF($C13=\"\",\" \",VLOOKUP($C13,Futtermittel!$A$8:$CG$171,22,FALSE)*$F13)","v":0.34299999999999997},{"$f":"IF($C13=\"\",\" \",VLOOKUP($C13,Futtermittel!$A$8:$CG$171,23,FALSE)*$F13)","v":1.617},{"$f":"IF($C13=\"\",\" \",VLOOKUP($C13,Futtermittel!$A$8:$CG$171,24,FALSE)*$F13)","v":0.97019999999999984},{"$f":"IF($C13=\"\",\" \",VLOOKUP($C13,Futtermittel!$A$8:$CG$171,25,FALSE)*$F13)","v":1.05105},{"$f":"IF($C13=\"\",\" \",VLOOKUP($C13,Futtermittel!$A$8:$CG$171,26,FALSE)*$F13)","v":0.53900000000000003},{"$f":"IF($C13=\"\",\" \",VLOOKUP($C13,Futtermittel!$A$8:$CG$171,27,FALSE)*$F13)","v":9.8000000000000004E-2},{"$f":"IFERROR(IF(E13*F13=0,\" \",E13*F13),\"\")","v":8.5358000000000001}]
[null,{"$f":"IF($C14=\"\",\" \",VLOOKUP($C14,Futtermittel!$A$8:$CG$171,2,FALSE))","v":11},{"$f":"IF(Futterberechnung!C14=\"\",\"\",Futterberechnung!C14)","v":"eigene Gerste 10% RP Ø 2018"},null,{"$f":"IF(Futterberechnung!E14=\"\",\"\",Futterberechnung!E14)","v":16.39},0.42399999999999999,{"$f":"IF(F14=\"\",\"\",I14/I$30)","v":0.42231792689345282},{"$f":"IF(F14=\"\",\" \",$H$8*F14*1000)","v":424},{"$f":"IF($C14=\"\",\" \",VLOOKUP($C14,Futtermittel!$A$8:$CG$171,8,FALSE)*$F14)","v":373.12},{"$f":"IF($C14=\"\",\" \",VLOOKUP($C14,Futtermittel!$A$8:$CG$171,9,FALSE)*$F14)","v":41.183119999999995},{"$f":"IF($C14=\"\",\" \",VLOOKUP($C14,Futtermittel!$A$8:$CG$171,10,FALSE)*$F14)","v":30.063677599999998},{"$f":"IF($C14=\"\",\" \",VLOOKUP($C14,Futtermittel!$A$8:$CG$171,11,FALSE)*$F14)","v":23.570160000000001},{"$f":"IF($C14=\"\",\" \",VLOOKUP($C14,Futtermittel!$A$8:$CG$171,12,FALSE)*$F14)","v":5.305318312559999},{"$f":"IF($C14=\"\",\" \",VLOOKUP(C14,Futtermittel!$A$8:$CG$171,13,FALSE)*$F14)","v":5.2970805140800001},{"$f":"IF($C14=\"\",\" \",VLOOKUP($C14,Futtermittel!$A$8:$CG$171,14,FALSE)*$F14)","v":1.3748624},{"$f":"IF($C14=\"\",\" \",VLOOKUP($C14,Futtermittel!$A$8:$CG$171,15,FALSE)*$F14)","v":1.0036495519999999},{"$f":"IF($C14=\"\",\" \",VLOOKUP($C14,Futtermittel!$A$8:$CG$171,16,FALSE)*$F14)","v":1.7018935999999998},{"$f":"IF($C14=\"\",\" \",VLOOKUP($C14,Futtermittel!$A$8:$CG$171,17,FALSE)*$F14)","v":1.4251119566315791},{"$f":"IF($C14=\"\",\" \",VLOOKUP($C14,Futtermittel!$A$8:$CG$171,18,FALSE)*$F14)","v":1.4898936},{"$f":"IF($C14=\"\",\" \",VLOOKUP($C14,Futtermittel!$A$8:$CG$171,19,FALSE)*$F14)","v":1.132319136},{"$f":"IF($C14=\"\",\" \",VLOOKUP($C14,Futtermittel!$A$8:$CG$171,20,FALSE)*$F14)","v":0.49663119999999999},{"$f":"IF($C14=\"\",\" \",VLOOKUP($C14,Futtermittel!$A$8:$CG$171,21,FALSE)*$F14)","v":0.37743971199999998},{"$f":"IF($C14=\"\",\" \",VLOOKUP($C14,Futtermittel!$A$8:$CG$171,22,FALSE)*$F14)","v":0.18282879999999999},{"$f":"IF($C14=\"\",\" \",VLOOKUP($C14,Futtermittel!$A$8:$CG$171,23,FALSE)*$F14)","v":1.484},{"$f":"IF($C14=\"\",\" \",VLOOKUP($C14,Futtermittel!$A$8:$CG$171,24,FALSE)*$F14)","v":0.66779999999999995},{"$f":"IF($C14=\"\",\" \",VLOOKUP($C14,Futtermittel!$A$8:$CG$171,25,FALSE)*$F14)","v":0.9645999999999999},{"$f":"IF($C14=\"\",\" \",VLOOKUP($C14,Futtermittel!$A$8:$CG$171,26,FALSE)*$F14)","v":0.46640000000000004},{"$f":"IF($C14=\"\",\" \",VLOOKUP($C14,Futtermittel!$A$8:$CG$171,27,FALSE)*$F14)","v":6.433103448275862E-2},6.9493600000000004]
[null,{"$f":"IF($C15=\"\",\" \",VLOOKUP($C15,Futtermittel!$A$8:$CG$171,2,FALSE))","v":100},{"$f":"IF(Futterberechnung!C15=\"\",\"\",Futterberechnung!C15)","v":"Sojaschrot HP 47% RP "},null,{"$f":"IF(Futterberechnung!E15=\"\",\"\",Futterberechnung!E15)","v":38},5.0999999999999997E-2,{"$f":"IF(F15=\"\",\"\",I15/I$30)","v":5.1374921477524184E-2},51,{"$f":"IF($C15=\"\",\" \",VLOOKUP($C15,Futtermittel!$A$8:$CG$171,8,FALSE)*$F15)","v":45.39},{"$f":"IF($C15=\"\",\" \",VLOOKUP($C15,Futtermittel!$A$8:$CG$171,9,FALSE)*$F15)","v":23.97},{"$f":"IF($C15=\"\",\" \",VLOOKUP($C15,Futtermittel!$A$8:$CG$171,10,FALSE)*$F15)","v":19.655399999999997},{"$f":"IF($C15=\"\",\" \",VLOOKUP($C15,Futtermittel!$A$8:$CG$171,11,FALSE)*$F15)","v":2.6519999999999997},{"$f":"IF($C15=\"\",\" \",VLOOKUP($C15,Futtermittel!$A$8:$CG$171,12,FALSE)*$F15)","v":0.70671327299999986},{"$f":"IF($C15=\"\",\" \",VLOOKUP(C15,Futtermittel!$A$8:$CG$171,13,FALSE)*$F15)","v":0.70591032899999995},{"$f":"IF($C15=\"\",\" \",VLOOKUP($C15,Futtermittel!$A$8:$CG$171,14,FALSE)*$F15)","v":1.4671703181818179},{"$f":"IF($C15=\"\",\" \",VLOOKUP($C15,Futtermittel!$A$8:$CG$171,15,FALSE)*$F15)","v":1.2764381768181816},{"$f":"IF($C15=\"\",\" \",VLOOKUP($C15,Futtermittel!$A$8:$CG$171,16,FALSE)*$F15)","v":0.67379924999999985},{"$f":"IF($C15=\"\",\" \",VLOOKUP($C15,Futtermittel!$A$8:$CG$171,17,FALSE)*$F15)","v":0.56122294453846133},{"$f":"IF($C15=\"\",\" \",VLOOKUP($C15,Futtermittel!$A$8:$CG$171,18,FALSE)*$F15)","v":1.0310113636363634},{"$f":"IF($C15=\"\",\" \",VLOOKUP($C15,Futtermittel!$A$8:$CG$171,19,FALSE)*$F15)","v":0.88666977272727254},{"$f":"IF($C15=\"\",\" \",VLOOKUP($C15,Futtermittel!$A$8:$CG$171,20,FALSE)*$F15)","v":0.31706931818181816},{"$f":"IF($C15=\"\",\" \",VLOOKUP($C15,Futtermittel!$A$8:$CG$171,21,FALSE)*$F15)","v":0.27267961363636362},{"$f":"IF($C15=\"\",\" \",VLOOKUP($C15,Futtermittel!$A$8:$CG$171,22,FALSE)*$F15)","v":0.16238860638510641},{"$f":"IF($C15=\"\",\" \",VLOOKUP($C15,Futtermittel!$A$8:$CG$171,23,FALSE)*$F15)","v":0.34184949267192777},{"$f":"IF($C15=\"\",\" \",VLOOKUP($C15,Futtermittel!$A$8:$CG$171,24,FALSE)*$F15)","v":0.13673979706877112},{"$f":"IF($C15=\"\",\" \",VLOOKUP($C15,Futtermittel!$A$8:$CG$171,25,FALSE)*$F15)","v":0.25638711950394583},{"$f":"IF($C15=\"\",\" \",VLOOKUP($C15,Futtermittel!$A$8:$CG$171,26,FALSE)*$F15)","v":0.14391140936170213},{"$f":"IF($C15=\"\",\" \",VLOOKUP($C15,Futtermittel!$A$8:$CG$171,27,FALSE)*$F15)","v":8.6240999999999991E-3},1.9379999999999999]
[null,{"$f":"IF($C16=\"\",\" \",VLOOKUP($C16,Futtermittel!$A$8:$CG$171,2,FALSE))","v":140},{"$f":"IF(Futterberechnung!C16=\"\",\"\",Futterberechnung!C16)","v":"Rapsöl / Pflanzenöl DLG 2014"},null,{"$f":"IF(Futterberechnung!E16=\"\",\"\",Futterberechnung!E16)","v":97},5.0000000000000001E-3,5.6536182590930448E-3,5,{"$f":"IF($C16=\"\",\" \",VLOOKUP($C16,Futtermittel!$A$8:$CG$171,8,FALSE)*$F16)","v":4.9950000000000001},{"$f":"IF($C16=\"\",\" \",VLOOKUP($C16,Futtermittel!$A$8:$CG$171,9,FALSE)*$F16)","v":0},{"$f":"IF($C16=\"\",\" \",VLOOKUP($C16,Futtermittel!$A$8:$CG$171,10,FALSE)*$F16)","v":0},{"$f":"IF($C16=\"\",\" \",VLOOKUP($C16,Futtermittel!$A$8:$CG$171,11,FALSE)*$F16)","v":0},{"$f":"IF($C16=\"\",\" \",VLOOKUP($C16,Futtermittel!$A$8:$CG$171,12,FALSE)*$F16)","v":0.19462996000000002},{"$f":"IF($C16=\"\",\" \",VLOOKUP(C16,Futtermittel!$A$8:$CG$171,13,FALSE)*$F16)","v":0.16216003000000001},{"$f":"IF($C16=\"\",\" \",VLOOKUP($C16,Futtermittel!$A$8:$CG$171,14,FALSE)*$F16)","v":0},{"$f":"IF($C16=\"\",\" \",VLOOKUP($C16,Futtermittel!$A$8:$CG$171,15,FALSE)*$F16)","v":0},{"$f":"IF($C16=\"\",\" \",VLOOKUP($C16,Futtermittel!$A$8:$CG$171,16,FALSE)*$F16)","v":0},{"$f":"IF($C16=\"\",\" \",VLOOKUP($C16,Futtermittel!$A$8:$CG$171,17,FALSE)*$F16)","v":0},{"$f":"IF($C16=\"\",\" \",VLOOKUP($C16,Futtermittel!$A$8:$CG$171,18,FALSE)*$F16)","v":0},{"$f":"IF($C16=\"\",\" \",VLOOKUP($C16,Futtermittel!$A$8:$CG$171,19,FALSE)*$F16)","v":0},{"$f":"IF($C16=\"\",\" \",VLOOKUP($C16,Futtermittel!$A$8:$CG$171,20,FALSE)*$F16)","v":0},{"$f":"IF($C16=\"\",\" \",VLOOKUP($C16,Futtermittel!$A$8:$CG$171,21,FALSE)*$F16)","v":0},{"$f":"IF($C16=\"\",\" \",VLOOKUP($C16,Futtermittel!$A$8:$CG$171,22,FALSE)*$F16)","v":0},{"$f":"IF($C16=\"\",\" \",VLOOKUP($C16,Futtermittel!$A$8:$CG$171,23,FALSE)*$F16)","v":0},{"$f":"IF($C16=\"\",\" \",VLOOKUP($C16,Futtermittel!$A$8:$CG$171,24,FALSE)*$F16)","v":0},{"$f":"IF($C16=\"\",\" \",VLOOKUP($C16,Futtermittel!$A$8:$CG$171,25,FALSE)*$F16)","v":0},{"$f":"IF($C16=\"\",\" \",VLOOKUP($C16,Futtermittel!$A$8:$CG$171,26,FALSE)*$F16)","v":0},{"$f":"IF($C16=\"\",\" \",VLOOKUP($C16,Futtermittel!$A$8:$CG$171,27,FALSE)*$F16)","v":0},0.48499999999999999]
[null,{"$f":"IF($C17=\"\",\" \",VLOOKUP($C17,Futtermittel!$A$8:$CG$171,2,FALSE))","v":" "},{"$f":"IF(Futterberechnung!C17=\"\",\"\",Futterberechnung!C17)","v":""},null,{"$f":"IF(Futterberechnung!E17=\"\",\"\",Futterberechnung!E17)","v":""},null,""," ",{"$f":"IF($C17=\"\",\" \",VLOOKUP($C17,Futtermittel!$A$8:$CG$171,8,FALSE)*$F17)","v":" "},{"$f":"IF($C17=\"\",\" \",VLOOKUP($C17,Futtermittel!$A$8:$CG$171,9,FALSE)*$F17)","v":" "},{"$f":"IF($C17=\"\",\" \",VLOOKUP($C17,Futtermittel!$A$8:$CG$171,10,FALSE)*$F17)","v":" "},{"$f":"IF($C17=\"\",\" \",VLOOKUP($C17,Futtermittel!$A$8:$CG$171,11,FALSE)*$F17)","v":" "},{"$f":"IF($C17=\"\",\" \",VLOOKUP($C17,Futtermittel!$A$8:$CG$171,12,FALSE)*$F17)","v":" "},{"$f":"IF($C17=\"\",\" \",VLOOKUP(C17,Futtermittel!$A$8:$CG$171,13,FALSE)*$F17)","v":" "},{"$f":"IF($C17=\"\",\" \",VLOOKUP($C17,Futtermittel!$A$8:$CG$171,14,FALSE)*$F17)","v":" "},{"$f":"IF($C17=\"\",\" \",VLOOKUP($C17,Futtermittel!$A$8:$CG$171,15,FALSE)*$F17)","v":" "},{"$f":"IF($C17=\"\",\" \",VLOOKUP($C17,Futtermittel!$A$8:$CG$171,16,FALSE)*$F17)","v":" "},{"$f":"IF($C17=\"\",\" \",VLOOKUP($C17,Futtermittel!$A$8:$CG$171,17,FALSE)*$F17)","v":" "},{"$f":"IF($C17=\"\",\" \",VLOOKUP($C17,Futtermittel!$A$8:$CG$171,18,FALSE)*$F17)","v":" "},{"$f":"IF($C17=\"\",\" \",VLOOKUP($C17,Futtermittel!$A$8:$CG$171,19,FALSE)*$F17)","v":" "},{"$f":"IF($C17=\"\",\" \",VLOOKUP($C17,Futtermittel!$A$8:$CG$171,20,FALSE)*$F17)","v":" "},{"$f":"IF($C17=\"\",\" \",VLOOKUP($C17,Futtermittel!$A$8:$CG$171,21,FALSE)*$F17)","v":" "},{"$f":"IF($C17=\"\",\" \",VLOOKUP($C17,Futtermittel!$A$8:$CG$171,22,FALSE)*$F17)","v":" "},{"$f":"IF($C17=\"\",\" \",VLOOKUP($C17,Futtermittel!$A$8:$CG$171,23,FALSE)*$F17)","v":" "},{"$f":"IF($C17=\"\",\" \",VLOOKUP($C17,Futtermittel!$A$8:$CG$171,24,FALSE)*$F17)","v":" "},{"$f":"IF($C17=\"\",\" \",VLOOKUP($C17,Futtermittel!$A$8:$CG$171,25,FALSE)*$F17)","v":" "},{"$f":"IF($C17=\"\",\" \",VLOOKUP($C17,Futtermittel!$A$8:$CG$171,26,FALSE)*$F17)","v":" "},{"$f":"IF($C17=\"\",\" \",VLOOKUP($C17,Futtermittel!$A$8:$CG$171,27,FALSE)*$F17)","v":" "},{"$f":"IFERROR(IF(E17*F17=0,\" \",E17*F17),\"\")","v":""}]
[null,{"$f":"IF($C18=\"\",\" \",VLOOKUP($C18,Futtermittel!$A$8:$CG$171,2,FALSE))","v":" "},{"$f":"IF(Futterberechnung!C18=\"\",\"\",Futterberechnung!C18)","v":""},null,{"$f":"IF(Futterberechnung!E18=\"\",\"\",Futterberechnung!E18)","v":""},null,""," ",{"$f":"IF($C18=\"\",\" \",VLOOKUP($C18,Futtermittel!$A$8:$CG$171,8,FALSE)*$F18)","v":" "},{"$f":"IF($C18=\"\",\" \",VLOOKUP($C18,Futtermittel!$A$8:$CG$171,9,FALSE)*$F18)","v":" "},{"$f":"IF($C18=\"\",\" \",VLOOKUP($C18,Futtermittel!$A$8:$CG$171,10,FALSE)*$F18)","v":" "},{"$f":"IF($C18=\"\",\" \",VLOOKUP($C18,Futtermittel!$A$8:$CG$171,11,FALSE)*$F18)","v":" "},{"$f":"IF($C18=\"\",\" \",VLOOKUP($C18,Futtermittel!$A$8:$CG$171,12,FALSE)*$F18)","v":" "},{"$f":"IF($C18=\"\",\" \",VLOOKUP(C18,Futtermittel!$A$8:$CG$171,13,FALSE)*$F18)","v":" "},{"$f":"IF($C18=\"\",\" \",VLOOKUP($C18,Futtermittel!$A$8:$CG$171,14,FALSE)*$F18)","v":" "},{"$f":"IF($C18=\"\",\" \",VLOOKUP($C18,Futtermittel!$A$8:$CG$171,15,FALSE)*$F18)","v":" "},{"$f":"IF($C18=\"\",\" \",VLOOKUP($C18,Futtermittel!$A$8:$CG$171,16,FALSE)*$F18)","v":" "},{"$f":"IF($C18=\"\",\" \",VLOOKUP($C18,Futtermittel!$A$8:$CG$171,17,FALSE)*$F18)","v":" "},{"$f":"IF($C18=\"\",\" \",VLOOKUP($C18,Futtermittel!$A$8:$CG$171,18,FALSE)*$F18)","v":" "},{"$f":"IF($C18=\"\",\" \",VLOOKUP($C18,Futtermittel!$A$8:$CG$171,19,FALSE)*$F18)","v":" "},{"$f":"IF($C18=\"\",\" \",VLOOKUP($C18,Futtermittel!$A$8:$CG$171,20,FALSE)*$F18)","v":" "},{"$f":"IF($C18=\"\",\" \",VLOOKUP($C18,Futtermittel!$A$8:$CG$171,21,FALSE)*$F18)","v":" "},{"$f":"IF($C18=\"\",\" \",VLOOKUP($C18,Futtermittel!$A$8:$CG$171,22,FALSE)*$F18)","v":" "},{"$f":"IF($C18=\"\",\" \",VLOOKUP($C18,Futtermittel!$A$8:$CG$171,23,FALSE)*$F18)","v":" "},{"$f":"IF($C18=\"\",\" \",VLOOKUP($C18,Futtermittel!$A$8:$CG$171,24,FALSE)*$F18)","v":" "},{"$f":"IF($C18=\"\",\" \",VLOOKUP($C18,Futtermittel!$A$8:$CG$171,25,FALSE)*$F18)","v":" "},{"$f":"IF($C18=\"\",\" \",VLOOKUP($C18,Futtermittel!$A$8:$CG$171,26,FALSE)*$F18)","v":" "},{"$f":"IF($C18=\"\",\" \",VLOOKUP($C18,Futtermittel!$A$8:$CG$171,27,FALSE)*$F18)","v":" "},""]
[null,{"$f":"IF($C19=\"\",\" \",VLOOKUP($C19,Futtermittel!$A$8:$CG$171,2,FALSE))","v":" "},{"$f":"IF(Futterberechnung!C19=\"\",\"\",Futterberechnung!C19)","v":""},null,{"$f":"IF(Futterberechnung!E19=\"\",\"\",Futterberechnung!E19)","v":""},null,""," ",{"$f":"IF($C19=\"\",\" \",VLOOKUP($C19,Futtermittel!$A$8:$CG$171,8,FALSE)*$F19)","v":" "},{"$f":"IF($C19=\"\",\" \",VLOOKUP($C19,Futtermittel!$A$8:$CG$171,9,FALSE)*$F19)","v":" "},{"$f":"IF($C19=\"\",\" \",VLOOKUP($C19,Futtermittel!$A$8:$CG$171,10,FALSE)*$F19)","v":" "},{"$f":"IF($C19=\"\",\" \",VLOOKUP($C19,Futtermittel!$A$8:$CG$171,11,FALSE)*$F19)","v":" "},{"$f":"IF($C19=\"\",\" \",VLOOKUP($C19,Futtermittel!$A$8:$CG$171,12,FALSE)*$F19)","v":" "},{"$f":"IF($C19=\"\",\" \",VLOOKUP(C19,Futtermittel!$A$8:$CG$171,13,FALSE)*$F19)","v":" "},{"$f":"IF($C19=\"\",\" \",VLOOKUP($C19,Futtermittel!$A$8:$CG$171,14,FALSE)*$F19)","v":" "},{"$f":"IF($C19=\"\",\" \",VLOOKUP($C19,Futtermittel!$A$8:$CG$171,15,FALSE)*$F19)","v":" "},{"$f":"IF($C19=\"\",\" \",VLOOKUP($C19,Futtermittel!$A$8:$CG$171,16,FALSE)*$F19)","v":" "},{"$f":"IF($C19=\"\",\" \",VLOOKUP($C19,Futtermittel!$A$8:$CG$171,17,FALSE)*$F19)","v":" "},{"$f":"IF($C19=\"\",\" \",VLOOKUP($C19,Futtermittel!$A$8:$CG$171,18,FALSE)*$F19)","v":" "},{"$f":"IF($C19=\"\",\" \",VLOOKUP($C19,Futtermittel!$A$8:$CG$171,19,FALSE)*$F19)","v":" "},{"$f":"IF($C19=\"\",\" \",VLOOKUP($C19,Futtermittel!$A$8:$CG$171,20,FALSE)*$F19)","v":" "},{"$f":"IF($C19=\"\",\" \",VLOOKUP($C19,Futtermittel!$A$8:$CG$171,21,FALSE)*$F19)","v":" "},{"$f":"IF($C19=\"\",\" \",VLOOKUP($C19,Futtermittel!$A$8:$CG$171,22,FALSE)*$F19)","v":" "},{"$f":"IF($C19=\"\",\" \",VLOOKUP($C19,Futtermittel!$A$8:$CG$171,23,FALSE)*$F19)","v":" "},{"$f":"IF($C19=\"\",\" \",VLOOKUP($C19,Futtermittel!$A$8:$CG$171,24,FALSE)*$F19)","v":" "},{"$f":"IF($C19=\"\",\" \",VLOOKUP($C19,Futtermittel!$A$8:$CG$171,25,FALSE)*$F19)","v":" "},{"$f":"IF($C19=\"\",\" \",VLOOKUP($C19,Futtermittel!$A$8:$CG$171,26,FALSE)*$F19)","v":" "},{"$f":"IF($C19=\"\",\" \",VLOOKUP($C19,Futtermittel!$A$8:$CG$171,27,FALSE)*$F19)","v":" "},""]
[null,{"$f":"IF($C20=\"\",\" \",VLOOKUP($C20,Futtermittel!$A$8:$CG$171,2,FALSE))","v":" "},{"$f":"IF(Futterberechnung!C20=\"\",\"\",Futterberechnung!C20)","v":""},null,{"$f":"IF(Futterberechnung!E20=\"\",\"\",Futterberechnung!E20)","v":""},null,""," ",{"$f":"IF($C20=\"\",\" \",VLOOKUP($C20,Futtermittel!$A$8:$CG$171,8,FALSE)*$F20)","v":" "},{"$f":"IF($C20=\"\",\" \",VLOOKUP($C20,Futtermittel!$A$8:$CG$171,9,FALSE)*$F20)","v":" "},{"$f":"IF($C20=\"\",\" \",VLOOKUP($C20,Futtermittel!$A$8:$CG$171,10,FALSE)*$F20)","v":" "},{"$f":"IF($C20=\"\",\" \",VLOOKUP($C20,Futtermittel!$A$8:$CG$171,11,FALSE)*$F20)","v":" "},{"$f":"IF($C20=\"\",\" \",VLOOKUP($C20,Futtermittel!$A$8:$CG$171,12,FALSE)*$F20)","v":" "},{"$f":"IF($C20=\"\",\" \",VLOOKUP(C20,Futtermittel!$A$8:$CG$171,13,FALSE)*$F20)","v":" "},{"$f":"IF($C20=\"\",\" \",VLOOKUP($C20,Futtermittel!$A$8:$CG$171,14,FALSE)*$F20)","v":" "},{"$f":"IF($C20=\"\",\" \",VLOOKUP($C20,Futtermittel!$A$8:$CG$171,15,FALSE)*$F20)","v":" "},{"$f":"IF($C20=\"\",\" \",VLOOKUP($C20,Futtermittel!$A$8:$CG$171,16,FALSE)*$F20)","v":" "},{"$f":"IF($C20=\"\",\" \",VLOOKUP($C20,Futtermittel!$A$8:$CG$171,17,FALSE)*$F20)","v":" "},{"$f":"IF($C20=\"\",\" \",VLOOKUP($C20,Futtermittel!$A$8:$CG$171,18,FALSE)*$F20)","v":" "},{"$f":"IF($C20=\"\",\" \",VLOOKUP($C20,Futtermittel!$A$8:$CG$171,19,FALSE)*$F20)","v":" "},{"$f":"IF($C20=\"\",\" \",VLOOKUP($C20,Futtermittel!$A$8:$CG$171,20,FALSE)*$F20)","v":" "},{"$f":"IF($C20=\"\",\" \",VLOOKUP($C20,Futtermittel!$A$8:$CG$171,21,FALSE)*$F20)","v":" "},{"$f":"IF($C20=\"\",\" \",VLOOKUP($C20,Futtermittel!$A$8:$CG$171,22,FALSE)*$F20)","v":" "},{"$f":"IF($C20=\"\",\" \",VLOOKUP($C20,Futtermittel!$A$8:$CG$171,23,FALSE)*$F20)","v":" "},{"$f":"IF($C20=\"\",\" \",VLOOKUP($C20,Futtermittel!$A$8:$CG$171,24,FALSE)*$F20)","v":" "},{"$f":"IF($C20=\"\",\" \",VLOOKUP($C20,Futtermittel!$A$8:$CG$171,25,FALSE)*$F20)","v":" "},{"$f":"IF($C20=\"\",\" \",VLOOKUP($C20,Futtermittel!$A$8:$CG$171,26,FALSE)*$F20)","v":" "},{"$f":"IF($C20=\"\",\" \",VLOOKUP($C20,Futtermittel!$A$8:$CG$171,27,FALSE)*$F20)","v":" "},""]
[null,{"$f":"IF($C21=\"\",\" \",VLOOKUP($C21,Futtermittel!$A$8:$CG$171,2,FALSE))","v":" "},{"$f":"IF(Futterberechnung!C21=\"\",\"\",Futterberechnung!C21)","v":""},null,{"$f":"IF(Futterberechnung!E21=\"\",\"\",Futterberechnung!E21)","v":""},null,""," ",{"$f":"IF($C21=\"\",\" \",VLOOKUP($C21,Futtermittel!$A$8:$CG$171,8,FALSE)*$F21)","v":" "},{"$f":"IF($C21=\"\",\" \",VLOOKUP($C21,Futtermittel!$A$8:$CG$171,9,FALSE)*$F21)","v":" "},{"$f":"IF($C21=\"\",\" \",VLOOKUP($C21,Futtermittel!$A$8:$CG$171,10,FALSE)*$F21)","v":" "},{"$f":"IF($C21=\"\",\" \",VLOOKUP($C21,Futtermittel!$A$8:$CG$171,11,FALSE)*$F21)","v":" "},{"$f":"IF($C21=\"\",\" \",VLOOKUP($C21,Futtermittel!$A$8:$CG$171,12,FALSE)*$F21)","v":" "},{"$f":"IF($C21=\"\",\" \",VLOOKUP(C21,Futtermittel!$A$8:$CG$171,13,FALSE)*$F21)","v":" "},{"$f":"IF($C21=\"\",\" \",VLOOKUP($C21,Futtermittel!$A$8:$CG$171,14,FALSE)*$F21)","v":" "},{"$f":"IF($C21=\"\",\" \",VLOOKUP($C21,Futtermittel!$A$8:$CG$171,15,FALSE)*$F21)","v":" "},{"$f":"IF($C21=\"\",\" \",VLOOKUP($C21,Futtermittel!$A$8:$CG$171,16,FALSE)*$F21)","v":" "},{"$f":"IF($C21=\"\",\" \",VLOOKUP($C21,Futtermittel!$A$8:$CG$171,17,FALSE)*$F21)","v":" "},{"$f":"IF($C21=\"\",\" \",VLOOKUP($C21,Futtermittel!$A$8:$CG$171,18,FALSE)*$F21)","v":" "},{"$f":"IF($C21=\"\",\" \",VLOOKUP($C21,Futtermittel!$A$8:$CG$171,19,FALSE)*$F21)","v":" "},{"$f":"IF($C21=\"\",\" \",VLOOKUP($C21,Futtermittel!$A$8:$CG$171,20,FALSE)*$F21)","v":" "},{"$f":"IF($C21=\"\",\" \",VLOOKUP($C21,Futtermittel!$A$8:$CG$171,21,FALSE)*$F21)","v":" "},{"$f":"IF($C21=\"\",\" \",VLOOKUP($C21,Futtermittel!$A$8:$CG$171,22,FALSE)*$F21)","v":" "},{"$f":"IF($C21=\"\",\" \",VLOOKUP($C21,Futtermittel!$A$8:$CG$171,23,FALSE)*$F21)","v":" "},{"$f":"IF($C21=\"\",\" \",VLOOKUP($C21,Futtermittel!$A$8:$CG$171,24,FALSE)*$F21)","v":" "},{"$f":"IF($C21=\"\",\" \",VLOOKUP($C21,Futtermittel!$A$8:$CG$171,25,FALSE)*$F21)","v":" "},{"$f":"IF($C21=\"\",\" \",VLOOKUP($C21,Futtermittel!$A$8:$CG$171,26,FALSE)*$F21)","v":" "},{"$f":"IF($C21=\"\",\" \",VLOOKUP($C21,Futtermittel!$A$8:$CG$171,27,FALSE)*$F21)","v":" "},""]
[null,{"$f":"IF($C22=\"\",\" \",VLOOKUP($C22,Futtermittel!$A$8:$CG$171,2,FALSE))","v":" "},{"$f":"IF(Futterberechnung!C22=\"\",\"\",Futterberechnung!C22)","v":""},null,{"$f":"IF(Futterberechnung!E22=\"\",\"\",Futterberechnung!E22)","v":""},null,""," ",{"$f":"IF($C22=\"\",\" \",VLOOKUP($C22,Futtermittel!$A$8:$CG$171,8,FALSE)*$F22)","v":" "},{"$f":"IF($C22=\"\",\" \",VLOOKUP($C22,Futtermittel!$A$8:$CG$171,9,FALSE)*$F22)","v":" "},{"$f":"IF($C22=\"\",\" \",VLOOKUP($C22,Futtermittel!$A$8:$CG$171,10,FALSE)*$F22)","v":" "},{"$f":"IF($C22=\"\",\" \",VLOOKUP($C22,Futtermittel!$A$8:$CG$171,11,FALSE)*$F22)","v":" "},{"$f":"IF($C22=\"\",\" \",VLOOKUP($C22,Futtermittel!$A$8:$CG$171,12,FALSE)*$F22)","v":" "},{"$f":"IF($C22=\"\",\" \",VLOOKUP(C22,Futtermittel!$A$8:$CG$171,13,FALSE)*$F22)","v":" "},{"$f":"IF($C22=\"\",\" \",VLOOKUP($C22,Futtermittel!$A$8:$CG$171,14,FALSE)*$F22)","v":" "},{"$f":"IF($C22=\"\",\" \",VLOOKUP($C22,Futtermittel!$A$8:$CG$171,15,FALSE)*$F22)","v":" "},{"$f":"IF($C22=\"\",\" \",VLOOKUP($C22,Futtermittel!$A$8:$CG$171,16,FALSE)*$F22)","v":" "},{"$f":"IF($C22=\"\",\" \",VLOOKUP($C22,Futtermittel!$A$8:$CG$171,17,FALSE)*$F22)","v":" "},{"$f":"IF($C22=\"\",\" \",VLOOKUP($C22,Futtermittel!$A$8:$CG$171,18,FALSE)*$F22)","v":" "},{"$f":"IF($C22=\"\",\" \",VLOOKUP($C22,Futtermittel!$A$8:$CG$171,19,FALSE)*$F22)","v":" "},{"$f":"IF($C22=\"\",\" \",VLOOKUP($C22,Futtermittel!$A$8:$CG$171,20,FALSE)*$F22)","v":" "},{"$f":"IF($C22=\"\",\" \",VLOOKUP($C22,Futtermittel!$A$8:$CG$171,21,FALSE)*$F22)","v":" "},{"$f":"IF($C22=\"\",\" \",VLOOKUP($C22,Futtermittel!$A$8:$CG$171,22,FALSE)*$F22)","v":" "},{"$f":"IF($C22=\"\",\" \",VLOOKUP($C22,Futtermittel!$A$8:$CG$171,23,FALSE)*$F22)","v":" "},{"$f":"IF($C22=\"\",\" \",VLOOKUP($C22,Futtermittel!$A$8:$CG$171,24,FALSE)*$F22)","v":" "},{"$f":"IF($C22=\"\",\" \",VLOOKUP($C22,Futtermittel!$A$8:$CG$171,25,FALSE)*$F22)","v":" "},{"$f":"IF($C22=\"\",\" \",VLOOKUP($C22,Futtermittel!$A$8:$CG$171,26,FALSE)*$F22)","v":" "},{"$f":"IF($C22=\"\",\" \",VLOOKUP($C22,Futtermittel!$A$8:$CG$171,27,FALSE)*$F22)","v":" "},""]
[null,{"$f":"IF($C23=\"\",\" \",VLOOKUP($C23,Futtermittel!$A$8:$CG$171,2,FALSE))","v":" "},{"$f":"IF(Futterberechnung!C23=\"\",\"\",Futterberechnung!C23)","v":""},null,{"$f":"IF(Futterberechnung!E23=\"\",\"\",Futterberechnung!E23)","v":""},null,""," ",{"$f":"IF($C23=\"\",\" \",VLOOKUP($C23,Futtermittel!$A$8:$CG$171,8,FALSE)*$F23)","v":" "},{"$f":"IF($C23=\"\",\" \",VLOOKUP($C23,Futtermittel!$A$8:$CG$171,9,FALSE)*$F23)","v":" "},{"$f":"IF($C23=\"\",\" \",VLOOKUP($C23,Futtermittel!$A$8:$CG$171,10,FALSE)*$F23)","v":" "},{"$f":"IF($C23=\"\",\" \",VLOOKUP($C23,Futtermittel!$A$8:$CG$171,11,FALSE)*$F23)","v":" "},{"$f":"IF($C23=\"\",\" \",VLOOKUP($C23,Futtermittel!$A$8:$CG$171,12,FALSE)*$F23)","v":" "},{"$f":"IF($C23=\"\",\" \",VLOOKUP(C23,Futtermittel!$A$8:$CG$171,13,FALSE)*$F23)","v":" "},{"$f":"IF($C23=\"\",\" \",VLOOKUP($C23,Futtermittel!$A$8:$CG$171,14,FALSE)*$F23)","v":" "},{"$f":"IF($C23=\"\",\" \",VLOOKUP($C23,Futtermittel!$A$8:$CG$171,15,FALSE)*$F23)","v":" "},{"$f":"IF($C23=\"\",\" \",VLOOKUP($C23,Futtermittel!$A$8:$CG$171,16,FALSE)*$F23)","v":" "},{"$f":"IF($C23=\"\",\" \",VLOOKUP($C23,Futtermittel!$A$8:$CG$171,17,FALSE)*$F23)","v":" "},{"$f":"IF($C23=\"\",\" \",VLOOKUP($C23,Futtermittel!$A$8:$CG$171,18,FALSE)*$F23)","v":" "},{"$f":"IF($C23=\"\",\" \",VLOOKUP($C23,Futtermittel!$A$8:$CG$171,19,FALSE)*$F23)","v":" "},{"$f":"IF($C23=\"\",\" \",VLOOKUP($C23,Futtermittel!$A$8:$CG$171,20,FALSE)*$F23)","v":" "},{"$f":"IF($C23=\"\",\" \",VLOOKUP($C23,Futtermittel!$A$8:$CG$171,21,FALSE)*$F23)","v":" "},{"$f":"IF($C23=\"\",\" \",VLOOKUP($C23,Futtermittel!$A$8:$CG$171,22,FALSE)*$F23)","v":" "},{"$f":"IF($C23=\"\",\" \",VLOOKUP($C23,Futtermittel!$A$8:$CG$171,23,FALSE)*$F23)","v":" "},{"$f":"IF($C23=\"\",\" \",VLOOKUP($C23,Futtermittel!$A$8:$CG$171,24,FALSE)*$F23)","v":" "},{"$f":"IF($C23=\"\",\" \",VLOOKUP($C23,Futtermittel!$A$8:$CG$171,25,FALSE)*$F23)","v":" "},{"$f":"IF($C23=\"\",\" \",VLOOKUP($C23,Futtermittel!$A$8:$CG$171,26,FALSE)*$F23)","v":" "},{"$f":"IF($C23=\"\",\" \",VLOOKUP($C23,Futtermittel!$A$8:$CG$171,27,FALSE)*$F23)","v":" "},""]
[null,"EF-Nr.","Ergänzungsfutter ","VQ in %",null,null,{"$f":"IF(F24=\"\",\"\",I24/I$2941)","v":""},null,null,null,null,null,null,null,null,null,null,null,null,null,null,null,null,null,null,null,null,null," "]
[null,{"$f":"IF($C25=\"\",\" \",VLOOKUP($C25,Ergänzungsfutter!$A$11:$Q$35,3,FALSE))","v":" "},null,0.85,null,null,{"$f":"IF(F25=\"\",\"\",I25/I$30)","v":""}," ",{"$f":"IF($C25=\"\",\" \",VLOOKUP($C25,Ergänzungsfutter!$A$11:$BE$35,5,FALSE)*$F25)","v":" "},{"$f":"IF($C25=\"\",\" \",VLOOKUP($C25,Ergänzungsfutter!$A$11:$BE$35,6,FALSE)*$F25)","v":" "},{"$f":"IF($C25=\"\",\" \",VLOOKUP($C25,Ergänzungsfutter!$A$11:$BE$35,6,FALSE)*$F25*D25)","v":" "},{"$f":"IF($C25=\"\",\" \",VLOOKUP($C25,Ergänzungsfutter!$A$11:$BE$35,7,FALSE)*$F25)","v":" "},{"$f":"IF($C25=\"\",\" \",IF(VLOOKUP($C25,Ergänzungsfutter!$A$11:$BE$35,8,FALSE)=\" \",0,VLOOKUP($C25,Ergänzungsfutter!$A$11:$BE$35,8,FALSE)*$F25))","v":" "},{"$f":"IF($C25=\"\",\" \",IF(VLOOKUP($C25,Ergänzungsfutter!$A$11:$BE$35,8,FALSE)=\" \",0,VLOOKUP($C25,Ergänzungsfutter!$A$11:$BE$35,8,FALSE)*$F25))","v":" "},{"$f":"IF($C25=\"\",\" \",VLOOKUP($C25,Ergänzungsfutter!$A$11:$BE$35,9,FALSE)*$F25)","v":" "},{"$f":"IF($C25=\"\",\" \",VLOOKUP($C25,Ergänzungsfutter!$A$11:$BE$35,9,FALSE)*$F25*D25)","v":" "},{"$f":"IF($C25=\"\",\" \",VLOOKUP($C25,Ergänzungsfutter!$A$11:$BE$35,10,FALSE)*$F25)","v":" "},{"$f":"IF($C25=\"\",\" \",VLOOKUP($C25,Ergänzungsfutter!$A$11:$BE$35,10,FALSE)*$F25*D25)","v":" "},{"$f":"IF($C25=\"\",\" \",VLOOKUP($C25,Ergänzungsfutter!$A$11:$BE$35,11,FALSE)*$F25)","v":" "},{"$f":"IF($C25=\"\",\" \",VLOOKUP($C25,Ergänzungsfutter!$A$11:$BE$35,11,FALSE)*$F25*D25)","v":" "},{"$f":"IF($C25=\"\",\" \",VLOOKUP($C25,Ergänzungsfutter!$A$11:$BE$35,12,FALSE)*$F25)","v":" "},{"$f":"IF($C25=\"\",\" \",VLOOKUP($C25,Ergänzungsfutter!$A$11:$BE$35,12,FALSE)*$F25*D25)","v":" "},{"$f":"IF($C25=\"\",\" \",VLOOKUP($C25,Ergänzungsfutter!$A$11:$BE$35,13,FALSE)*$F25)","v":" "},{"$f":"IF($C25=\"\",\" \",VLOOKUP($C25,Ergänzungsfutter!$A$11:$BE$35,14,FALSE)*$F25)","v":" "},{"$f":"IF($C25=\"\",\" \",VLOOKUP($C25,Ergänzungsfutter!$A$11:$BE$35,15,FALSE)*$F25)","v":" "},{"$f":"IF($C25=\"\",\" \",IF(Y25>VLOOKUP($C25,Ergänzungsfutter!$A$11:$BE$35,14,FALSE)*$F25*0.65,Y25,VLOOKUP($C25,Ergänzungsfutter!$A$11:$BE$35,14,FALSE)*$F25*0.65))","v":" "},{"$f":"IF($C25=\"\",\" \",VLOOKUP($C25,Ergänzungsfutter!$A$11:$BE$35,16,FALSE)*$F25)","v":" "},{"$f":"IF($C25=\"\",\" \",VLOOKUP($C25,Ergänzungsfutter!$A$11:$BE$35,17,FALSE)*$F25)","v":" "}," "]
[null,{"$f":"IF($C26=\"\",\" \",VLOOKUP($C26,Ergänzungsfutter!$A$11:$Q$35,3,FALSE))","v":" "},null,null,null,null,{"$f":"IF(F26=\"\",\"\",I26/I$30)","v":""}," ",{"$f":"IF($C26=\"\",\" \",VLOOKUP($C26,Ergänzungsfutter!$A$11:$BE$35,5,FALSE)*$F26)","v":" "},{"$f":"IF($C26=\"\",\" \",VLOOKUP($C26,Ergänzungsfutter!$A$11:$BE$35,6,FALSE)*$F26)","v":" "},{"$f":"IF($C26=\"\",\" \",VLOOKUP($C26,Ergänzungsfutter!$A$11:$BE$35,6,FALSE)*$F26*D26)","v":" "},{"$f":"IF($C26=\"\",\" \",VLOOKUP($C26,Ergänzungsfutter!$A$11:$BE$35,7,FALSE)*$F26)","v":" "},{"$f":"IF($C26=\"\",\" \",IF(VLOOKUP($C26,Ergänzungsfutter!$A$11:$BE$35,8,FALSE)=\" \",0,VLOOKUP($C26,Ergänzungsfutter!$A$11:$BE$35,8,FALSE)*$F26))","v":" "},{"$f":"IF($C26=\"\",\" \",IF(VLOOKUP($C26,Ergänzungsfutter!$A$11:$BE$35,8,FALSE)=\" \",0,VLOOKUP($C26,Ergänzungsfutter!$A$11:$BE$35,8,FALSE)*$F26))","v":" "},{"$f":"IF($C26=\"\",\" \",VLOOKUP($C26,Ergänzungsfutter!$A$11:$BE$35,9,FALSE)*$F26)","v":" "},{"$f":"IF($C26=\"\",\" \",VLOOKUP($C26,Ergänzungsfutter!$A$11:$BE$35,9,FALSE)*$F26*D26)","v":" "},{"$f":"IF($C26=\"\",\" \",VLOOKUP($C26,Ergänzungsfutter!$A$11:$BE$35,10,FALSE)*$F26)","v":" "},{"$f":"IF($C26=\"\",\" \",VLOOKUP($C26,Ergänzungsfutter!$A$11:$BE$35,10,FALSE)*$F26*D26)","v":" "},{"$f":"IF($C26=\"\",\" \",VLOOKUP($C26,Ergänzungsfutter!$A$11:$BE$35,11,FALSE)*$F26)","v":" "},{"$f":"IF($C26=\"\",\" \",VLOOKUP($C26,Ergänzungsfutter!$A$11:$BE$35,11,FALSE)*$F26*D26)","v":" "},{"$f":"IF($C26=\"\",\" \",VLOOKUP($C26,Ergänzungsfutter!$A$11:$BE$35,12,FALSE)*$F26)","v":" "},{"$f":"IF($C26=\"\",\" \",VLOOKUP($C26,Ergänzungsfutter!$A$11:$BE$35,12,FALSE)*$F26*D26)","v":" "},{"$f":"IF($C26=\"\",\" \",VLOOKUP($C26,Ergänzungsfutter!$A$11:$BE$35,13,FALSE)*$F26)","v":" "},{"$f":"IF($C26=\"\",\" \",VLOOKUP($C26,Ergänzungsfutter!$A$11:$BE$35,14,FALSE)*$F26)","v":" "},{"$f":"IF($C26=\"\",\" \",VLOOKUP($C26,Ergänzungsfutter!$A$11:$BE$35,15,FALSE)*$F26)","v":" "},{"$f":"IF($C26=\"\",\" \",IF(Y26>VLOOKUP($C26,Ergänzungsfutter!$A$11:$BE$35,14,FALSE)*$F26*0.65,Y26,VLOOKUP($C26,Ergänzungsfutter!$A$11:$BE$35,14,FALSE)*$F26*0.65))","v":" "},{"$f":"IF($C26=\"\",\" \",VLOOKUP($C26,Ergänzungsfutter!$A$11:$BE$35,16,FALSE)*$F26)","v":" "},{"$f":"IF($C26=\"\",\" \",VLOOKUP($C26,Ergänzungsfutter!$A$11:$BE$35,17,FALSE)*$F26)","v":" "}," "]
[null,"Nr.","Mineralfutter",null,null,null,{"$f":"IF(F27=\"\",\"\",I27/I$2944)","v":""},null,null,null,null,null,null,null,null,null,null,null,null,null,null,null,null,null,null,null,null,null," "]
[2,{"$f":"IF($C28=\"\",\" \",VLOOKUP($C28,Mineralfutter!$A$11:$BE$25,3,FALSE))","v":8},"Opti. MinFu EM 850g TZ 3,0% + Phytase 17/18",null,72,0.03,{"$f":"IF(F28=\"\",\"\",I28/I$30)","v":3.259743861098692E-2},30,{"$f":"IF($C28=\"\",\" \",VLOOKUP($C28,Mineralfutter!$A$11:$BE$25,5,FALSE)*$F28)","v":28.799999999999997},{"$f":"IF($C28=\"\",\" \",VLOOKUP($C28,Mineralfutter!$A$11:$BE$25,6,FALSE)*$F28)","v":5.1902185909328766},{"$f":"IF($C28=\"\",\" \",VLOOKUP($C28,Mineralfutter!$A$11:$BE$25,6,FALSE)*$F28)","v":5.1902185909328766},{"$f":"IF($C28=\"\",\" \",VLOOKUP($C28,Mineralfutter!$A$11:$BE$25,7,FALSE)*$F28)","v":0.03},{"$f":"IF($C28=\"\",\" \",IF(VLOOKUP($C28,Mineralfutter!$A$11:$BE$25,8,FALSE)=\" \",0,VLOOKUP($C28,Mineralfutter!$A$11:$BE$25,8,FALSE)*$F28))","v":0.10641559155130582},{"$f":"IF($C28=\"\",\" \",IF(VLOOKUP($C28,Mineralfutter!$A$11:$BE$25,19,FALSE)=\" \",0,VLOOKUP($C28,Mineralfutter!$A$11:$BE$25,19,FALSE)*$F28))","v":0.11159297726083442},{"$f":"IF($C28=\"\",\" \",VLOOKUP($C28,Mineralfutter!$A$11:$BE$25,9,FALSE)*$F28)","v":3.15},{"$f":"IF($C28=\"\",\" \",VLOOKUP($C28,Mineralfutter!$A$11:$BE$25,9,FALSE)*$F28)","v":3.15},{"$f":"IF($C28=\"\",\" \",VLOOKUP($C28,Mineralfutter!$A$11:$BE$25,10,FALSE)*$F28)","v":0.75},{"$f":"IF($C28=\"\",\" \",VLOOKUP($C28,Mineralfutter!$A$11:$BE$25,10,FALSE)*$F28)","v":0.75},{"$f":"IF($C28=\"\",\" \",VLOOKUP($C28,Mineralfutter!$A$11:$BE$25,11,FALSE)*$F28)","v":1.2},{"$f":"IF($C28=\"\",\" \",VLOOKUP($C28,Mineralfutter!$A$11:$BE$25,11,FALSE)*$F28)","v":1.2},{"$f":"IF($C28=\"\",\" \",VLOOKUP($C28,Mineralfutter!$A$11:$BE$25,12,FALSE)*$F28)","v":0},{"$f":"IF($C28=\"\",\" \",VLOOKUP($C28,Mineralfutter!$A$11:$BE$25,12,FALSE)*$F28)","v":0},{"$f":"IF($C28=\"\",\" \",VLOOKUP($C28,Mineralfutter!$A$11:$BE$25,13,FALSE)*$F28)","v":3.9},{"$f":"IF($C28=\"\",\" \",VLOOKUP($C28,Mineralfutter!$A$11:$BE$25,14,FALSE)*$F28)","v":0},{"$f":"IF($C28=\"\",\" \",VLOOKUP($C28,Mineralfutter!$A$11:$BE$25,15,FALSE)*$F28)","v":0},{"$f":"IF($C28=\"\",\" \",VLOOKUP($C28,Mineralfutter!$A$11:$BE$25,15,FALSE)*$F28)","v":0},{"$f":"IF($C28=\"\",\" \",VLOOKUP($C28,Mineralfutter!$A$11:$BE$25,16,FALSE)*$F28)","v":0},{"$f":"IF($C28=\"\",\" \",VLOOKUP($C28,Mineralfutter!$A$11:$BE$25,17,FALSE)*$F28)","v":1.5},2.16]
[null,{"$f":"IF($C29=\"\",\" \",VLOOKUP($C29,Mineralfutter!$A$11:$BE$25,3,FALSE))","v":" "},null,null,null,null,{"$f":"IF(F29=\"\",\"\",I29/I$30)","v":""}," ",{"$f":"IF($C29=\"\",\" \",VLOOKUP($C29,Mineralfutter!$A$11:$BE$25,5,FALSE)*$F29)","v":" "},{"$f":"IF($C29=\"\",\" \",VLOOKUP($C29,Mineralfutter!$A$11:$BE$25,6,FALSE)*$F29)","v":" "},{"$f":"IF($C29=\"\",\" \",VLOOKUP($C29,Mineralfutter!$A$11:$BE$25,6,FALSE)*$F29)","v":" "},{"$f":"IF($C29=\"\",\" \",VLOOKUP($C29,Mineralfutter!$A$11:$BE$25,7,FALSE)*$F29)","v":" "},{"$f":"IF($C29=\"\",\" \",IF(VLOOKUP($C29,Mineralfutter!$A$11:$BE$25,8,FALSE)=\" \",0,VLOOKUP($C29,Mineralfutter!$A$11:$BE$25,8,FALSE)*$F29))","v":" "},{"$f":"IF($C29=\"\",\" \",IF(VLOOKUP($C29,Mineralfutter!$A$11:$BE$25,19,FALSE)=\" \",0,VLOOKUP($C29,Mineralfutter!$A$11:$BE$25,19,FALSE)*$F29))","v":" "},{"$f":"IF($C29=\"\",\" \",VLOOKUP($C29,Mineralfutter!$A$11:$BE$25,9,FALSE)*$F29)","v":" "},{"$f":"IF($C29=\"\",\" \",VLOOKUP($C29,Mineralfutter!$A$11:$BE$25,9,FALSE)*$F29)","v":" "},{"$f":"IF($C29=\"\",\" \",VLOOKUP($C29,Mineralfutter!$A$11:$BE$25,10,FALSE)*$F29)","v":" "},{"$f":"IF($C29=\"\",\" \",VLOOKUP($C29,Mineralfutter!$A$11:$BE$25,10,FALSE)*$F29)","v":" "},{"$f":"IF($C29=\"\",\" \",VLOOKUP($C29,Mineralfutter!$A$11:$BE$25,11,FALSE)*$F29)","v":" "},{"$f":"IF($C29=\"\",\" \",VLOOKUP($C29,Mineralfutter!$A$11:$BE$25,11,FALSE)*$F29)","v":" "},{"$f":"IF($C29=\"\",\" \",VLOOKUP($C29,Mineralfutter!$A$11:$BE$25,12,FALSE)*$F29)","v":" "},{"$f":"IF($C29=\"\",\" \",VLOOKUP($C29,Mineralfutter!$A$11:$BE$25,12,FALSE)*$F29)","v":" "},{"$f":"IF($C29=\"\",\" \",VLOOKUP($C29,Mineralfutter!$A$11:$BE$25,13,FALSE)*$F29)","v":" "},{"$f":"IF($C29=\"\",\" \",VLOOKUP($C29,Mineralfutter!$A$11:$BE$25,14,FALSE)*$F29)","v":" "},{"$f":"IF($C29=\"\",\" \",VLOOKUP($C29,Mineralfutter!$A$11:$BE$25,15,FALSE)*$F29)","v":" "},{"$f":"IF($C29=\"\",\" \",VLOOKUP($C29,Mineralfutter!$A$11:$BE$25,15,FALSE)*$F29)","v":" "},{"$f":"IF($C29=\"\",\" \",VLOOKUP($C29,Mineralfutter!$A$11:$BE$25,16,FALSE)*$F29)","v":" "},{"$f":"IF($C29=\"\",\" \",VLOOKUP($C29,Mineralfutter!$A$11:$BE$25,17,FALSE)*$F29)","v":" "}," "]
[null,null,"Summe",null,{"$f":"AC30","v":20.068159999999999},{"$f":"IF(SUM(F13:F29,F36:F37)=0,\" \",SUM(F13:F29,F36:F37))","v":1},null,null,{"$f":"IF(F30=\" \",\" \",SUM(I13:I29,I36*$F36,I37*$F37))","v":883.50499999999988},{"$f":"IF(I30=\" \",\" \",SUM(J13:J29,J36*$F36,J37*$F37))","v":118.87293859093286},98.58593619093287,39.173460000000006,{"$f":"IF(L30=\" \",\" \",SUM(M13:M29,N36*$F36,N37*$F37))","v":12.990426697111307},{"$f":"IF(F30=\" \",\" \",IF(N37=\"\",(0.021503*J30+0.032497*I63+0.016309*J63+0.014701*M63-0.02107*L30),IF(N36=\" \",(0.021503*J30+0.032497*I63+0.016309*J63+0.014701*M63-0.02107*L30),SUM(N13:N29)+N36*F36+N37*F37)))","v":12.989178866900831},{"$f":"IF(M30=\" \",\" \",SUM(O13:O29,O36*$F36,O37*$F37))","v":7.5506247181818171},6.8016486888181813,4.9245808499999999,4.3613303945033737,4.9854969636363631,4.3571217087272727,1.4949965181818183,1.2496598056363635,4.5882174063851062,3.442849492671928,1.7747397970687711,2.2720371195039459,1.1493114093617023,1.6709551344827587,{"$f":"IF(SUM(AC13:AC29,AC36:AC37)=0,\" \",SUM(AC13:AC29,AC36:AC37))","v":20.068159999999999}]
[null,null,"Summe auf 88% TM umgerechnet",null,{"$f":"AC31","v":19.988546527750266},{"$f":"F30","v":1},null,null,880,{"$f":"IF($F31=\" \",\" \",ROUND($I31*J30/$I30*$F31,0))","v":118},{"$f":"IF($F31=\" \",\" \",ROUND($I31*K30/$I30*$F31,0))","v":98},{"$f":"IF($F31=\" \",\" \",ROUND($I31*L30/$I30*$F31,0))","v":39},{"$f":"IF($F31=\" \",\" \",ROUND($I31*M30/$I30*$F31,2))","v":12.94},{"$f":"IF($F31=\" \",\" \",ROUND($I31*N30/$I30*$F31,2))","v":12.94},{"$f":"IF($F31=\" \",\" \",ROUND($I31*O30/$I30*$F31,1))","v":7.5},6.8,4.9000000000000004,4.3,5,4.3,1.5,1.2,4.5999999999999996,3.4,1.8,2.2999999999999998,1.1000000000000001,1.7,{"$f":"IF(AC30=\" \",\" \",AC30*I31/I30)","v":19.988546527750266}]
[null,"OW-Nr.","aus Tabelle Orientierungswerte in g"]
[null,{"$f":"IF($C33=\"\",\" \",VLOOKUP($C33,Orientierungswerte!A13:AZ126,2,FALSE))","v":28},"Endmast ab 90 Kg LM für 850 g TZ*",null,"-",{"$f":"F30","v":1},null,null,{"$f":"I31","v":880},{"$f":"IF($C33=\"\",\" \",ROUND(VLOOKUP($C$33,Orientierungswerte!$A$13:$AZ$126,5,FALSE)*$F$33,0))","v":130},{"$f":"IF($C33=\"\",\" \",ROUND(VLOOKUP($C$33,Orientierungswerte!$A$13:$AZ$126,6,FALSE)*$F$33,0))","v":112},{"$f":"IF($C33=\"\",\" \",ROUND(VLOOKUP($C33,Orientierungswerte!$A$13:$AZ$126,28,FALSE)*$F$33,0))","v":45},{"$f":"IF($C33=\"\",\" \",ROUND(VLOOKUP($C$33,Orientierungswerte!$A$13:$AZ$126,4,FALSE)*$F$33,2))","v":13},{"$f":"IF($C33=\"\",\" \",ROUND(VLOOKUP($C$33,Orientierungswerte!$A$13:$AZ$126,4,FALSE)*$F$33,2))","v":13},{"$f":"IF($C33=\"\",\" \",ROUND(VLOOKUP($C$33,Orientierungswerte!$A$13:$AZ$126,7,FALSE)*$F$33,1))","v":8},{"$f":"IF($C33=\"\",\" \",ROUND(VLOOKUP($C$33,Orientierungswerte!$A$13:$AZ$126,8,FALSE)*$F$33,1))","v":6.9},{"$f":"IF($C33=\"\",\" \",ROUND(VLOOKUP($C$33,Orientierungswerte!$A$13:$AZ$126,9,FALSE)*$F$33,1))","v":4.5},{"$f":"IF($C33=\"\",\" \",ROUND(VLOOKUP($C$33,Orientierungswerte!$A$13:$AZ$126,10,FALSE)*$F$33,1))","v":3.8},{"$f":"IF($C33=\"\",\" \",ROUND(VLOOKUP($C$33,Orientierungswerte!$A$13:$AZ$126,11,FALSE)*$F$33,1))","v":5.2},{"$f":"IF($C33=\"\",\" \",ROUND(VLOOKUP($C$33,Orientierungswerte!$A$13:$AZ$126,12,FALSE)*$F$33,1))","v":4.5},{"$f":"IF($C33=\"\",\" \",ROUND(VLOOKUP($C$33,Orientierungswerte!$A$13:$AZ$126,13,FALSE)*$F$33,1))","v":1.4},{"$f":"IF($C33=\"\",\" \",ROUND(VLOOKUP($C$33,Orientierungswerte!$A$13:$AZ$126,14,FALSE)*$F$33,1))","v":1.2},{"$f":"IF($C33=\"\",\" \",ROUND(VLOOKUP($C$33,Orientierungswerte!$A$13:$AZ$126,15,FALSE)*$F$33,1))","v":4.5},{"$f":"IF($C33=\"\",\" \",ROUND(VLOOKUP($C$33,Orientierungswerte!$A$13:$AZ$126,16,FALSE)*$F$33,1))","v":4},{"$f":"IF($C33=\"\",\" \",ROUND(VLOOKUP($C$33,Orientierungswerte!$A$13:$AZ$126,17,FALSE)*$F$33,1))","v":2},{"$f":"IF($C33=\"\",\" \",ROUND(VLOOKUP($C$33,Orientierungswerte!$A$13:$AZ$126,17,FALSE)*$F$33,1))","v":2},{"$f":"IF($C33=\"\",\" \",ROUND(VLOOKUP($C$33,Orientierungswerte!$A$13:$AZ$126,18,FALSE)*$F$33,1))","v":1},{"$f":"IF($C33=\"\",\" \",ROUND(VLOOKUP($C$33,Orientierungswerte!$A$13:$AZ$126,19,FALSE)*$F$33,1))","v":1.6},"-"]
[null,null,"Differenz Mischung zu Orientierungswert",null,"-",{"$f":"IF($C$33=\"\",\" \",ROUND((1-F31)*-1,4))","v":0},null,null,{"$f":"IF($C$33=\"\",\" \",ROUND(I31-I33,))","v":0},{"$f":"IF($C$33=\"\",\" \",ROUND(J31-J33,))","v":-12},{"$f":"IF($C$33=\"\",\" \",ROUND(K31-K33,0))","v":-14},{"$f":"IF($C$33=\"\",\" \",ROUND(L31-L33,0))","v":-6},{"$f":"IF($C$33=\"\",\" \",ROUND(M31-M33,2))","v":-0.06},{"$f":"IF($C$33=\"\",\" \",ROUND(N31-N33,2))","v":-0.06},{"$f":"IF($C$33=\"\",\" \",ROUND(O31-O33,1))","v":-0.5},-0.1,0.4,0.5,-0.2,-0.2,0.1,0,0.1,-0.6,-0.2,0.3,0.1,0.1,"-"]
[null,"erforderliches Mineral- oder Ergänzungsfutter",null,null,null,"Anteil %",null,null,null,{"$f":"IF(F$36=0,\" \",O35*954/780+Q35*584/990+S35*731/980+U35*853/980)","v":" "},{"$f":"IF(F$36=0,\" \",IF(J35>200,J35*0.8,J35))","v":" "},null,{"$f":"IF(F$36=0,\" \",O35*21.3/780+Q35*13/990+S35*16.3/980+U35*19/980)","v":" "}]
[null,null,"opt. Mineralfutter in g/kg:",null,null,null,{"$f":"IF(F36=\"\",\"\",I36*F36/I$30)","v":""},{"$f":"IF(F36=\"\",\" \",$H$8*F36*1000)","v":" "},{"$f":"IF($F36=0,0,960)","v":0},{"$f":"IF($F36=0,0,O36*954/780+Q36*584/990+S36*731/980+U36*853/980)","v":0},{"$f":"IF(F$36=0,0,J36)","v":0},null,{"$f":"IF($F36=0,0,O36*19.56/780+Q36*11.97/990+S36*14.99/980+U36*17.49/980)","v":0},{"$f":"IF($F36=0,0,O36*20.51/780+Q36*12.56/990+S36*15.72/980+U36*18.34/980)","v":0},105,{"$f":"O36","v":105},25,{"$f":"Q36","v":25},40,{"$f":"S36","v":40},null,{"$f":"U36","v":0},130,null,{"$f":"IF(F36=0,0,X36*0.8)","v":0},{"$f":"Y36","v":0},null,50,{"$f":"IF(F36*E36=0,0,F36*E36)","v":0}]
[null,null,"opt. Ergänzungsfutter in g/kg:",0.85,null,null,{"$f":"IF(F37=\"\",\"\",I37*F37/I$30)","v":""},{"$f":"IF(F37=\"\",\" \",$H$8*F37*1000)","v":" "},{"$f":"IF($F37=0,0,890)","v":0},null,{"$f":"IF(F37=0,0,J37*D37)","v":0},null,{"$f":"N37","v":0},null,null,{"$f":"IF(O37=0,0,O37*D37)","v":0},null,{"$f":"IF(Q37=0,0,Q37*D37)","v":0},null,{"$f":"IF(S37=0,0,S37*D37)","v":0},null,{"$f":"IF(U37=0,0,U37*D37)","v":0},null,null,{"$f":"IF(F37=0,0,X37*0.75)","v":0},{"$f":"IF(F37=0,0,X37*0.75)","v":0},null,null,{"$f":"IF(F37*E37=0,0,F37*E37)","v":0}]
[null,"pcv VQ Lys",null,null,null,null,null,null,null,null,null,null,null,null,null,null,null,null,null,null,null,null,null,"Ca / vP"]
[null,null,null,null,null,"Lys / ME",null,null," pcv Lys/ ME",null,null,"pcv. Lys. / pcv. M. & C. / pcv. Thr. / pcv. Trp.",null,null,null,null,null,null,null,"Ca / P",null,null,"mit Phytase",{"$f":"IF(F30=\" \",\" \",W30/Z30)","v":2.0194288935679237},{"$f":"IF(F30=0,\" \",1)","v":1},"Lys / 100g RP"]
[null,{"$f":"IF(F30=\" \",\" \",P31/O31)","v":0.90666666666666662},"in der Mischung",null,null,{"$f":"IF(F30=\" \",\" \",O31/M31)","v":0.57959814528593512},{"$f":"IF(F30<=0,\" \",1)","v":1},null,{"$f":"IF(F30=\" \",\" \",P31/M31)","v":0.5255023183925811},{"$f":"IF(L30<=0,\" \",1)","v":1},null,{"$f":"IF(F30<=0,\" \",1)","v":1},"/",{"$f":"IF(F30=\" \",\" \",R30/P30)","v":0.64121665114420601},"/",{"$f":"IF(F30=\" \",\" \",T30/P30)","v":0.64059787678983215},"/",{"$f":"IF(F30=\" \",\" \",V30/P30)","v":0.1837289549651083},null,{"$f":"IF(F30=\" \",\" \",W30/X30)","v":1.3326802162427032},{"$f":"IF(F30=0,\" \",1)","v":1},null,"ohne",{"$f":"IF(F30=\" \",\" \",W30/Y30)","v":2.5852902008301069},{"$f":"IF(F30=0,\" \",1)","v":1},null,{"$f":"IF(L30=\" \",\" \",P31*100/J31)","v":5.7627118644067794},{"$f":"IF(L30=0,\" \",100)","v":100}]
[null,{"$f":"IF(P33=\" \",\" \",P33/O33)","v":0.86250000000000004},"Orientierungswerte",null,null,{"$f":"IF($B$33=\" \",\" \",ROUND(VLOOKUP($B$33,Orientierungswerte!$B$13:$X$114,23,TRUE),2))","v":0.61},{"$f":"IF($B$33=\" \",1,ROUND(VLOOKUP($B$33,Orientierungswerte!$B$13:$X$114,19,TRUE),2))","v":1},null,{"$f":"IF($B$33=\" \",\" \",ROUND(VLOOKUP($B$33,Orientierungswerte!$B$13:$AB$114,24,TRUE),2))","v":0.53},{"$f":"IF($B$33=\" \",1,ROUND(VLOOKUP($B$33,Orientierungswerte!$B$13:$X$114,19,TRUE),2))","v":1},null,{"$f":"IF($B$33=\" \",1,ROUND(VLOOKUP($B$33,Orientierungswerte!$B$13:$X$114,19,TRUE),2))","v":1},"/",{"$f":"IF($B$33=\" \",\" \",ROUND(VLOOKUP($B$33,Orientierungswerte!$B$13:$X$114,20,TRUE),2))","v":0.56000000000000005},"/",{"$f":"IF($B$33=\" \",\" \",ROUND(VLOOKUP($B$33,Orientierungswerte!$B$13:$X$114,21,TRUE),2))","v":0.65},"/",{"$f":"IF($B$33=\" \",\" \",ROUND(VLOOKUP($B$33,Orientierungswerte!$B$13:$X$114,22,TRUE),2))","v":0.18},null,{"$f":"IF($B$33=\" \",\" \",ROUND(VLOOKUP($B$33,Orientierungswerte!$B$13:$AA$114,25,TRUE),2))","v":1.1200000000000001},{"$f":"IF($B$33=\" \",1,ROUND(VLOOKUP($B$33,Orientierungswerte!$B$13:$X$114,19,TRUE),2))","v":1},null,null,{"$f":"IF($B$33=\" \",\" \",ROUND(VLOOKUP($B$33,Orientierungswerte!$B$13:$AA$114,26,TRUE),2))","v":2.19},{"$f":"IF($B$33=\" \",1,ROUND(VLOOKUP($B$33,Orientierungswerte!$B$13:$X$114,19,TRUE),2))","v":1},null,{"$f":"IF($B$33=\" \",\" \",ROUND(P33*100/J33,2))","v":5.31},{"$f":"IF($B$33=\" \",1,ROUND(VLOOKUP($B$33,Orientierungswerte!$B$13:$X$114,19,TRUE)*100,0))","v":100}]
[]
[]
[null,null,null,null,"Preis","Anteil","Met","pcv Met","Roh-fett XL","Stär-ke     S","Zu-cker Z","Roh-asche XA","org. Rest","Poly-en-säure","Linol-säure","Lino-len-säure","Vit A in IE","Vit D in IE","Vit E in mg","KAB BE in mmol","SBK in meq","BfS","NDF               om","ADF               om","NfE","NE_GP","NE_S","Kali-um         K","DON","ZEA"]
[null,"FM-Nr.","Futtermittel + % RP in der FM",null,"€/dt","%","Anteil in g/kg",null,null,null,null,null,null,null,null,null,"pro kg ",null,null,null,null,"Anteil in g/kg",null,null,null,"MJ/kg",null,"g/kg","mg pro kg"]
[null,{"$f":"B13","v":49},{"$f":"IF(C13=\"\",\" \",C13)","v":"eigener Weizen 10% RP Ø 2018"},null,{"$f":"IF(E13=\"\",\" \",E13)","v":17.420000000000002},0.49,{"$f":"IF($C13=\"\",\" \",VLOOKUP(C13,Futtermittel!$A$8:$CG$171,29,FALSE)*$F13)","v":0.58329600000000004},{"$f":"IF($C13=\"\",\" \",VLOOKUP(C13,Futtermittel!$A$8:$CG$171,30,FALSE)*$F13)","v":0.51330048000000006},{"$f":"IF($C13=\"\",\" \",VLOOKUP(C13,Futtermittel!$A$8:$CG$171,31,FALSE)*$F13)","v":8.6533999999999995},{"$f":"IF($C13=\"\",\" \",VLOOKUP(C13,Futtermittel!$A$8:$CG$171,32,FALSE)*$F13)","v":293.31400000000002},{"$f":"IF($C13=\"\",\" \",VLOOKUP(C13,Futtermittel!$A$8:$CG$171,33,FALSE)*$F13)","v":13.719999999999999},{"$f":"IF($C13=\"\",\" \",VLOOKUP(C13,Futtermittel!$A$8:$CG$171,34,FALSE)*$F13)","v":8.1340000000000003},{"$f":"IF($C13=\"\",\" \",VLOOKUP(C13,Futtermittel!$A$8:$CG$171,36,FALSE)*$F13)","v":59.647700000000007},{"$f":"IF($C13=\"\",\" \",VLOOKUP($C13,Futtermittel!$A$8:$CG$171,37,FALSE)*$F13)","v":5.3164999999999996},{"$f":"IF($C13=\"\",\" \",VLOOKUP($C13,Futtermittel!$A$8:$CG$171,38,FALSE)*$F13)","v":4.8877499999999996},{"$f":"IF($C13=\"\",\" \",VLOOKUP($C13,Futtermittel!$A$8:$CG$171,39,FALSE)*$F13)","v":0.42874999999999996},{"$f":"IF($C13=\"\",\" \",VLOOKUP($C13,Futtermittel!$A$8:$CG$171,40,FALSE)*$F13)","v":0},{"$f":"IF($C13=\"\",\" \",VLOOKUP($C13,Futtermittel!$A$8:$CG$171,41,FALSE)*$F13)","v":0},{"$f":"IF($C13=\"\",\" \",VLOOKUP($C13,Futtermittel!$A$8:$CG$171,42,FALSE)*$F13)","v":0},{"$f":"IF($C13=\"\",\" \",VLOOKUP($C13,Futtermittel!$A$8:$CG$171,43,FALSE)*$F13)","v":-12.146119999999978},{"$f":"IF($C13=\"\",\" \",VLOOKUP($C13,Futtermittel!$A$8:$CG$171,44,FALSE)*$F13)","v":154.42742000000001},{"$f":"IF($C13=\"\",\" \",VLOOKUP($C13,Futtermittel!$A$8:$CG$171,45,FALSE)*$F13)","v":24.838345000000022},{"$f":"IF($C13=\"\",\" \",VLOOKUP($C13,Futtermittel!$A$8:$CG$171,54,FALSE)*$F13)","v":84.246876000000015},{"$f":"IF($C13=\"\",\" \",VLOOKUP($C13,Futtermittel!$A$8:$CG$171,53,FALSE)*$F13)","v":18.08982},{"$f":"IF($C13=\"\",\" \",VLOOKUP($C13,Futtermittel!$A$8:$CG$171,46,FALSE)*$F13)","v":352.96170000000001},{"$f":"IF($C13=\"\",\" \",VLOOKUP($C13,Futtermittel!$A$8:$CG$171,56,FALSE)*$F13)","v":4.9302128415298849},{"$f":"IF($C13=\"\",\" \",VLOOKUP($C13,Futtermittel!$A$8:$CG$171,57,FALSE)*$F13)","v":5.0580168506645711},{"$f":"IF($C13=\"\",\" \",VLOOKUP($C13,Futtermittel!$A$8:$CG$171,28,FALSE)*$F13)","v":1.8619999999999999},{"$f":"IF($C13=\"\",\" \",VLOOKUP($C13,Futtermittel!$A$8:$CG$171,58,FALSE)*$F13)","v":0},{"$f":"IF($C13=\"\",\" \",VLOOKUP($C13,Futtermittel!$A$8:$CG$171,59,FALSE)*$F13)","v":0}]
[null,11,"eigene Gerste 10% RP Ø 2018",null,16.39,0.42399999999999999,{"$f":"IF($C14=\"\",\" \",VLOOKUP(C14,Futtermittel!$A$8:$CG$171,29,FALSE)*$F14)","v":0.53903119999999993},{"$f":"IF($C14=\"\",\" \",VLOOKUP(C14,Futtermittel!$A$8:$CG$171,30,FALSE)*$F14)","v":0.44200558399999995},{"$f":"IF($C14=\"\",\" \",VLOOKUP(C14,Futtermittel!$A$8:$CG$171,31,FALSE)*$F14)","v":10.086959999999999},{"$f":"IF($C14=\"\",\" \",VLOOKUP(C14,Futtermittel!$A$8:$CG$171,32,FALSE)*$F14)","v":212.9752},{"$f":"IF($C14=\"\",\" \",VLOOKUP(C14,Futtermittel!$A$8:$CG$171,33,FALSE)*$F14)","v":9.7519999999999989},{"$f":"IF($C14=\"\",\" \",VLOOKUP(C14,Futtermittel!$A$8:$CG$171,34,FALSE)*$F14)","v":10.006400000000001},{"$f":"IF($C14=\"\",\" \",VLOOKUP(C14,Futtermittel!$A$8:$CG$171,36,FALSE)*$F14)","v":75.298159999999967},{"$f":"IF($C14=\"\",\" \",VLOOKUP($C14,Futtermittel!$A$8:$CG$171,37,FALSE)*$F14)","v":6.3816386206896549},{"$f":"IF($C14=\"\",\" \",VLOOKUP($C14,Futtermittel!$A$8:$CG$171,38,FALSE)*$F14)","v":5.8669903448275855},{"$f":"IF($C14=\"\",\" \",VLOOKUP($C14,Futtermittel!$A$8:$CG$171,39,FALSE)*$F14)","v":0.51464827586206896},{"$f":"IF($C14=\"\",\" \",VLOOKUP($C14,Futtermittel!$A$8:$CG$171,40,FALSE)*$F14)","v":0},{"$f":"IF($C14=\"\",\" \",VLOOKUP($C14,Futtermittel!$A$8:$CG$171,41,FALSE)*$F14)","v":0},{"$f":"IF($C14=\"\",\" \",VLOOKUP($C14,Futtermittel!$A$8:$CG$171,42,FALSE)*$F14)","v":0},{"$f":"IF($C14=\"\",\" \",VLOOKUP($C14,Futtermittel!$A$8:$CG$171,43,FALSE)*$F14)","v":-18.849699282758603},{"$f":"IF($C14=\"\",\" \",VLOOKUP($C14,Futtermittel!$A$8:$CG$171,44,FALSE)*$F14)","v":129.30701203199999},{"$f":"IF($C14=\"\",\" \",VLOOKUP($C14,Futtermittel!$A$8:$CG$171,45,FALSE)*$F14)","v":40.490049599999985},{"$f":"IF($C14=\"\",\" \",VLOOKUP($C14,Futtermittel!$A$8:$CG$171,54,FALSE)*$F14)","v":156.45709655172416},{"$f":"IF($C14=\"\",\" \",VLOOKUP($C14,Futtermittel!$A$8:$CG$171,53,FALSE)*$F14)","v":20.364257011494253},{"$f":"IF($C14=\"\",\" \",VLOOKUP($C14,Futtermittel!$A$8:$CG$171,46,FALSE)*$F14)","v":288.27335999999997},{"$f":"IF($C14=\"\",\" \",VLOOKUP($C14,Futtermittel!$A$8:$CG$171,56,FALSE)*$F14)","v":3.2337033248716152},{"$f":"IF($C14=\"\",\" \",VLOOKUP($C14,Futtermittel!$A$8:$CG$171,57,FALSE)*$F14)","v":3.3708004501912585},{"$f":"IF($C14=\"\",\" \",VLOOKUP($C14,Futtermittel!$A$8:$CG$171,28,FALSE)*$F14)","v":1.8656000000000001},{"$f":"IF($C14=\"\",\" \",VLOOKUP($C14,Futtermittel!$A$8:$CG$171,58,FALSE)*$F14)","v":0},{"$f":"IF($C14=\"\",\" \",VLOOKUP($C14,Futtermittel!$A$8:$CG$171,59,FALSE)*$F14)","v":0}]
[null,100,"Sojaschrot HP 47% RP ",null,38,5.0999999999999997E-2,{"$f":"IF($C15=\"\",\" \",VLOOKUP(C15,Futtermittel!$A$8:$CG$171,29,FALSE)*$F15)","v":0.32141011363636357},{"$f":"IF($C15=\"\",\" \",VLOOKUP(C15,Futtermittel!$A$8:$CG$171,30,FALSE)*$F15)","v":0.28284089999999995},{"$f":"IF($C15=\"\",\" \",VLOOKUP(C15,Futtermittel!$A$8:$CG$171,31,FALSE)*$F15)","v":0.96899999999999997},{"$f":"IF($C15=\"\",\" \",VLOOKUP(C15,Futtermittel!$A$8:$CG$171,32,FALSE)*$F15)","v":2.1419999999999999},{"$f":"IF($C15=\"\",\" \",VLOOKUP(C15,Futtermittel!$A$8:$CG$171,33,FALSE)*$F15)","v":4.641},{"$f":"IF($C15=\"\",\" \",VLOOKUP(C15,Futtermittel!$A$8:$CG$171,34,FALSE)*$F15)","v":3.4169999999999998},{"$f":"IF($C15=\"\",\" \",VLOOKUP(C15,Futtermittel!$A$8:$CG$171,36,FALSE)*$F15)","v":12.239999999999998},{"$f":"IF($C15=\"\",\" \",VLOOKUP($C15,Futtermittel!$A$8:$CG$171,37,FALSE)*$F15)","v":0.52325999999999995},{"$f":"IF($C15=\"\",\" \",VLOOKUP($C15,Futtermittel!$A$8:$CG$171,38,FALSE)*$F15)","v":0.48449999999999999},{"$f":"IF($C15=\"\",\" \",VLOOKUP($C15,Futtermittel!$A$8:$CG$171,39,FALSE)*$F15)","v":3.8759999999999996E-2},{"$f":"IF($C15=\"\",\" \",VLOOKUP($C15,Futtermittel!$A$8:$CG$171,40,FALSE)*$F15)","v":0},{"$f":"IF($C15=\"\",\" \",VLOOKUP($C15,Futtermittel!$A$8:$CG$171,41,FALSE)*$F15)","v":0},{"$f":"IF($C15=\"\",\" \",VLOOKUP($C15,Futtermittel!$A$8:$CG$171,42,FALSE)*$F15)","v":0},{"$f":"IF($C15=\"\",\" \",VLOOKUP($C15,Futtermittel!$A$8:$CG$171,43,FALSE)*$F15)","v":18.169850978632848},{"$f":"IF($C15=\"\",\" \",VLOOKUP($C15,Futtermittel!$A$8:$CG$171,44,FALSE)*$F15)","v":70.189601027574753},{"$f":"IF($C15=\"\",\" \",VLOOKUP($C15,Futtermittel!$A$8:$CG$171,45,FALSE)*$F15)","v":8.7852599999999992},{"$f":"IF($C15=\"\",\" \",VLOOKUP($C15,Futtermittel!$A$8:$CG$171,54,FALSE)*$F15)","v":6.590392207792207},{"$f":"IF($C15=\"\",\" \",VLOOKUP($C15,Futtermittel!$A$8:$CG$171,53,FALSE)*$F15)","v":4.6978285714285706},{"$f":"IF($C15=\"\",\" \",VLOOKUP($C15,Futtermittel!$A$8:$CG$171,46,FALSE)*$F15)","v":14.382},{"$f":"IF($C15=\"\",\" \",VLOOKUP($C15,Futtermittel!$A$8:$CG$171,56,FALSE)*$F15)","v":0.44569728692427224},{"$f":"IF($C15=\"\",\" \",VLOOKUP($C15,Futtermittel!$A$8:$CG$171,57,FALSE)*$F15)","v":0.46292195564990535},{"$f":"IF($C15=\"\",\" \",VLOOKUP($C15,Futtermittel!$A$8:$CG$171,28,FALSE)*$F15)","v":1.053048},{"$f":"IF($C15=\"\",\" \",VLOOKUP($C15,Futtermittel!$A$8:$CG$171,58,FALSE)*$F15)","v":0},{"$f":"IF($C15=\"\",\" \",VLOOKUP($C15,Futtermittel!$A$8:$CG$171,59,FALSE)*$F15)","v":0}]
[null,140,"Rapsöl / Pflanzenöl DLG 2014",null,97,5.0000000000000001E-3,{"$f":"IF($C16=\"\",\" \",VLOOKUP(C16,Futtermittel!$A$8:$CG$171,29,FALSE)*$F16)","v":0},{"$f":"IF($C16=\"\",\" \",VLOOKUP(C16,Futtermittel!$A$8:$CG$171,30,FALSE)*$F16)","v":0},{"$f":"IF($C16=\"\",\" \",VLOOKUP(C16,Futtermittel!$A$8:$CG$171,31,FALSE)*$F16)","v":4.99},{"$f":"IF($C16=\"\",\" \",VLOOKUP(C16,Futtermittel!$A$8:$CG$171,32,FALSE)*$F16)","v":0},{"$f":"IF($C16=\"\",\" \",VLOOKUP(C16,Futtermittel!$A$8:$CG$171,33,FALSE)*$F16)","v":0},{"$f":"IF($C16=\"\",\" \",VLOOKUP(C16,Futtermittel!$A$8:$CG$171,34,FALSE)*$F16)","v":0},{"$f":"IF($C16=\"\",\" \",VLOOKUP(C16,Futtermittel!$A$8:$CG$171,36,FALSE)*$F16)","v":0},{"$f":"IF($C16=\"\",\" \",VLOOKUP($C16,Futtermittel!$A$8:$CG$171,37,FALSE)*$F16)","v":1.4450000000000001},{"$f":"IF($C16=\"\",\" \",VLOOKUP($C16,Futtermittel!$A$8:$CG$171,38,FALSE)*$F16)","v":0.998},{"$f":"IF($C16=\"\",\" \",VLOOKUP($C16,Futtermittel!$A$8:$CG$171,39,FALSE)*$F16)","v":0.4491},{"$f":"IF($C16=\"\",\" \",VLOOKUP($C16,Futtermittel!$A$8:$CG$171,40,FALSE)*$F16)","v":0},{"$f":"IF($C16=\"\",\" \",VLOOKUP($C16,Futtermittel!$A$8:$CG$171,41,FALSE)*$F16)","v":0},{"$f":"IF($C16=\"\",\" \",VLOOKUP($C16,Futtermittel!$A$8:$CG$171,42,FALSE)*$F16)","v":0},{"$f":"IF($C16=\"\",\" \",VLOOKUP($C16,Futtermittel!$A$8:$CG$171,43,FALSE)*$F16)","v":0},{"$f":"IF($C16=\"\",\" \",VLOOKUP($C16,Futtermittel!$A$8:$CG$171,44,FALSE)*$F16)","v":0},{"$f":"IF($C16=\"\",\" \",VLOOKUP($C16,Futtermittel!$A$8:$CG$171,45,FALSE)*$F16)","v":0},{"$f":"IF($C16=\"\",\" \",VLOOKUP($C16,Futtermittel!$A$8:$CG$171,54,FALSE)*$F16)","v":0},{"$f":"IF($C16=\"\",\" \",VLOOKUP($C16,Futtermittel!$A$8:$CG$171,53,FALSE)*$F16)","v":0},{"$f":"IF($C16=\"\",\" \",VLOOKUP($C16,Futtermittel!$A$8:$CG$171,46,FALSE)*$F16)","v":0},{"$f":"IF($C16=\"\",\" \",VLOOKUP($C16,Futtermittel!$A$8:$CG$171,56,FALSE)*$F16)","v":0.151560724932432},{"$f":"IF($C16=\"\",\" \",VLOOKUP($C16,Futtermittel!$A$8:$CG$171,57,FALSE)*$F16)","v":0.15322678903626971},{"$f":"IF($C16=\"\",\" \",VLOOKUP($C16,Futtermittel!$A$8:$CG$171,28,FALSE)*$F16)","v":0},{"$f":"IF($C16=\"\",\" \",VLOOKUP($C16,Futtermittel!$A$8:$CG$171,58,FALSE)*$F16)","v":0},{"$f":"IF($C16=\"\",\" \",VLOOKUP($C16,Futtermittel!$A$8:$CG$171,59,FALSE)*$F16)","v":0}]
[null," "," ",null," "," ",{"$f":"IF($C17=\"\",\" \",VLOOKUP(C17,Futtermittel!$A$8:$CG$171,29,FALSE)*$F17)","v":" "},{"$f":"IF($C17=\"\",\" \",VLOOKUP(C17,Futtermittel!$A$8:$CG$171,30,FALSE)*$F17)","v":" "},{"$f":"IF($C17=\"\",\" \",VLOOKUP(C17,Futtermittel!$A$8:$CG$171,31,FALSE)*$F17)","v":" "},{"$f":"IF($C17=\"\",\" \",VLOOKUP(C17,Futtermittel!$A$8:$CG$171,32,FALSE)*$F17)","v":" "},{"$f":"IF($C17=\"\",\" \",VLOOKUP(C17,Futtermittel!$A$8:$CG$171,33,FALSE)*$F17)","v":" "},{"$f":"IF($C17=\"\",\" \",VLOOKUP(C17,Futtermittel!$A$8:$CG$171,34,FALSE)*$F17)","v":" "},{"$f":"IF($C17=\"\",\" \",VLOOKUP(C17,Futtermittel!$A$8:$CG$171,36,FALSE)*$F17)","v":" "},{"$f":"IF($C17=\"\",\" \",VLOOKUP($C17,Futtermittel!$A$8:$CG$171,37,FALSE)*$F17)","v":" "},{"$f":"IF($C17=\"\",\" \",VLOOKUP($C17,Futtermittel!$A$8:$CG$171,38,FALSE)*$F17)","v":" "},{"$f":"IF($C17=\"\",\" \",VLOOKUP($C17,Futtermittel!$A$8:$CG$171,39,FALSE)*$F17)","v":" "},{"$f":"IF($C17=\"\",\" \",VLOOKUP($C17,Futtermittel!$A$8:$CG$171,40,FALSE)*$F17)","v":" "},{"$f":"IF($C17=\"\",\" \",VLOOKUP($C17,Futtermittel!$A$8:$CG$171,41,FALSE)*$F17)","v":" "},{"$f":"IF($C17=\"\",\" \",VLOOKUP($C17,Futtermittel!$A$8:$CG$171,42,FALSE)*$F17)","v":" "},{"$f":"IF($C17=\"\",\" \",VLOOKUP($C17,Futtermittel!$A$8:$CG$171,43,FALSE)*$F17)","v":" "},{"$f":"IF($C17=\"\",\" \",VLOOKUP($C17,Futtermittel!$A$8:$CG$171,44,FALSE)*$F17)","v":" "},{"$f":"IF($C17=\"\",\" \",VLOOKUP($C17,Futtermittel!$A$8:$CG$171,45,FALSE)*$F17)","v":" "},{"$f":"IF($C17=\"\",\" \",VLOOKUP($C17,Futtermittel!$A$8:$CG$171,54,FALSE)*$F17)","v":" "},{"$f":"IF($C17=\"\",\" \",VLOOKUP($C17,Futtermittel!$A$8:$CG$171,53,FALSE)*$F17)","v":" "},{"$f":"IF($C17=\"\",\" \",VLOOKUP($C17,Futtermittel!$A$8:$CG$171,46,FALSE)*$F17)","v":" "},{"$f":"IF($C17=\"\",\" \",VLOOKUP($C17,Futtermittel!$A$8:$CG$171,56,FALSE)*$F17)","v":" "},{"$f":"IF($C17=\"\",\" \",VLOOKUP($C17,Futtermittel!$A$8:$CG$171,57,FALSE)*$F17)","v":" "},{"$f":"IF($C17=\"\",\" \",VLOOKUP($C17,Futtermittel!$A$8:$CG$171,28,FALSE)*$F17)","v":" "},{"$f":"IF($C17=\"\",\" \",VLOOKUP($C17,Futtermittel!$A$8:$CG$171,58,FALSE)*$F17)","v":" "},{"$f":"IF($C17=\"\",\" \",VLOOKUP($C17,Futtermittel!$A$8:$CG$171,59,FALSE)*$F17)","v":" "}]
[null," "," ",null," "," ",{"$f":"IF($C18=\"\",\" \",VLOOKUP(C18,Futtermittel!$A$8:$CG$171,29,FALSE)*$F18)","v":" "},{"$f":"IF($C18=\"\",\" \",VLOOKUP(C18,Futtermittel!$A$8:$CG$171,30,FALSE)*$F18)","v":" "},{"$f":"IF($C18=\"\",\" \",VLOOKUP(C18,Futtermittel!$A$8:$CG$171,31,FALSE)*$F18)","v":" "},{"$f":"IF($C18=\"\",\" \",VLOOKUP(C18,Futtermittel!$A$8:$CG$171,32,FALSE)*$F18)","v":" "},{"$f":"IF($C18=\"\",\" \",VLOOKUP(C18,Futtermittel!$A$8:$CG$171,33,FALSE)*$F18)","v":" "},{"$f":"IF($C18=\"\",\" \",VLOOKUP(C18,Futtermittel!$A$8:$CG$171,34,FALSE)*$F18)","v":" "},{"$f":"IF($C18=\"\",\" \",VLOOKUP(C18,Futtermittel!$A$8:$CG$171,36,FALSE)*$F18)","v":" "},{"$f":"IF($C18=\"\",\" \",VLOOKUP($C18,Futtermittel!$A$8:$CG$171,37,FALSE)*$F18)","v":" "},{"$f":"IF($C18=\"\",\" \",VLOOKUP($C18,Futtermittel!$A$8:$CG$171,38,FALSE)*$F18)","v":" "},{"$f":"IF($C18=\"\",\" \",VLOOKUP($C18,Futtermittel!$A$8:$CG$171,39,FALSE)*$F18)","v":" "},{"$f":"IF($C18=\"\",\" \",VLOOKUP($C18,Futtermittel!$A$8:$CG$171,40,FALSE)*$F18)","v":" "},{"$f":"IF($C18=\"\",\" \",VLOOKUP($C18,Futtermittel!$A$8:$CG$171,41,FALSE)*$F18)","v":" "},{"$f":"IF($C18=\"\",\" \",VLOOKUP($C18,Futtermittel!$A$8:$CG$171,42,FALSE)*$F18)","v":" "},{"$f":"IF($C18=\"\",\" \",VLOOKUP($C18,Futtermittel!$A$8:$CG$171,43,FALSE)*$F18)","v":" "},{"$f":"IF($C18=\"\",\" \",VLOOKUP($C18,Futtermittel!$A$8:$CG$171,44,FALSE)*$F18)","v":" "},{"$f":"IF($C18=\"\",\" \",VLOOKUP($C18,Futtermittel!$A$8:$CG$171,45,FALSE)*$F18)","v":" "},{"$f":"IF($C18=\"\",\" \",VLOOKUP($C18,Futtermittel!$A$8:$CG$171,54,FALSE)*$F18)","v":" "},{"$f":"IF($C18=\"\",\" \",VLOOKUP($C18,Futtermittel!$A$8:$CG$171,53,FALSE)*$F18)","v":" "},{"$f":"IF($C18=\"\",\" \",VLOOKUP($C18,Futtermittel!$A$8:$CG$171,46,FALSE)*$F18)","v":" "},{"$f":"IF($C18=\"\",\" \",VLOOKUP($C18,Futtermittel!$A$8:$CG$171,56,FALSE)*$F18)","v":" "},{"$f":"IF($C18=\"\",\" \",VLOOKUP($C18,Futtermittel!$A$8:$CG$171,57,FALSE)*$F18)","v":" "},{"$f":"IF($C18=\"\",\" \",VLOOKUP($C18,Futtermittel!$A$8:$CG$171,28,FALSE)*$F18)","v":" "},{"$f":"IF($C18=\"\",\" \",VLOOKUP($C18,Futtermittel!$A$8:$CG$171,58,FALSE)*$F18)","v":" "},{"$f":"IF($C18=\"\",\" \",VLOOKUP($C18,Futtermittel!$A$8:$CG$171,59,FALSE)*$F18)","v":" "}]
[null," "," ",null," "," ",{"$f":"IF($C19=\"\",\" \",VLOOKUP(C19,Futtermittel!$A$8:$CG$171,29,FALSE)*$F19)","v":" "},{"$f":"IF($C19=\"\",\" \",VLOOKUP(C19,Futtermittel!$A$8:$CG$171,30,FALSE)*$F19)","v":" "},{"$f":"IF($C19=\"\",\" \",VLOOKUP(C19,Futtermittel!$A$8:$CG$171,31,FALSE)*$F19)","v":" "},{"$f":"IF($C19=\"\",\" \",VLOOKUP(C19,Futtermittel!$A$8:$CG$171,32,FALSE)*$F19)","v":" "},{"$f":"IF($C19=\"\",\" \",VLOOKUP(C19,Futtermittel!$A$8:$CG$171,33,FALSE)*$F19)","v":" "},{"$f":"IF($C19=\"\",\" \",VLOOKUP(C19,Futtermittel!$A$8:$CG$171,34,FALSE)*$F19)","v":" "},{"$f":"IF($C19=\"\",\" \",VLOOKUP(C19,Futtermittel!$A$8:$CG$171,36,FALSE)*$F19)","v":" "},{"$f":"IF($C19=\"\",\" \",VLOOKUP($C19,Futtermittel!$A$8:$CG$171,37,FALSE)*$F19)","v":" "},{"$f":"IF($C19=\"\",\" \",VLOOKUP($C19,Futtermittel!$A$8:$CG$171,38,FALSE)*$F19)","v":" "},{"$f":"IF($C19=\"\",\" \",VLOOKUP($C19,Futtermittel!$A$8:$CG$171,39,FALSE)*$F19)","v":" "},{"$f":"IF($C19=\"\",\" \",VLOOKUP($C19,Futtermittel!$A$8:$CG$171,40,FALSE)*$F19)","v":" "},{"$f":"IF($C19=\"\",\" \",VLOOKUP($C19,Futtermittel!$A$8:$CG$171,41,FALSE)*$F19)","v":" "},{"$f":"IF($C19=\"\",\" \",VLOOKUP($C19,Futtermittel!$A$8:$CG$171,42,FALSE)*$F19)","v":" "},{"$f":"IF($C19=\"\",\" \",VLOOKUP($C19,Futtermittel!$A$8:$CG$171,43,FALSE)*$F19)","v":" "},{"$f":"IF($C19=\"\",\" \",VLOOKUP($C19,Futtermittel!$A$8:$CG$171,44,FALSE)*$F19)","v":" "},{"$f":"IF($C19=\"\",\" \",VLOOKUP($C19,Futtermittel!$A$8:$CG$171,45,FALSE)*$F19)","v":" "},{"$f":"IF($C19=\"\",\" \",VLOOKUP($C19,Futtermittel!$A$8:$CG$171,54,FALSE)*$F19)","v":" "},{"$f":"IF($C19=\"\",\" \",VLOOKUP($C19,Futtermittel!$A$8:$CG$171,53,FALSE)*$F19)","v":" "},{"$f":"IF($C19=\"\",\" \",VLOOKUP($C19,Futtermittel!$A$8:$CG$171,46,FALSE)*$F19)","v":" "},{"$f":"IF($C19=\"\",\" \",VLOOKUP($C19,Futtermittel!$A$8:$CG$171,56,FALSE)*$F19)","v":" "},{"$f":"IF($C19=\"\",\" \",VLOOKUP($C19,Futtermittel!$A$8:$CG$171,57,FALSE)*$F19)","v":" "},{"$f":"IF($C19=\"\",\" \",VLOOKUP($C19,Futtermittel!$A$8:$CG$171,28,FALSE)*$F19)","v":" "},{"$f":"IF($C19=\"\",\" \",VLOOKUP($C19,Futtermittel!$A$8:$CG$171,58,FALSE)*$F19)","v":" "},{"$f":"IF($C19=\"\",\" \",VLOOKUP($C19,Futtermittel!$A$8:$CG$171,59,FALSE)*$F19)","v":" "}]
[null," "," ",null," "," ",{"$f":"IF($C20=\"\",\" \",VLOOKUP(C20,Futtermittel!$A$8:$CG$171,29,FALSE)*$F20)","v":" "},{"$f":"IF($C20=\"\",\" \",VLOOKUP(C20,Futtermittel!$A$8:$CG$171,30,FALSE)*$F20)","v":" "},{"$f":"IF($C20=\"\",\" \",VLOOKUP(C20,Futtermittel!$A$8:$CG$171,31,FALSE)*$F20)","v":" "},{"$f":"IF($C20=\"\",\" \",VLOOKUP(C20,Futtermittel!$A$8:$CG$171,32,FALSE)*$F20)","v":" "},{"$f":"IF($C20=\"\",\" \",VLOOKUP(C20,Futtermittel!$A$8:$CG$171,33,FALSE)*$F20)","v":" "},{"$f":"IF($C20=\"\",\" \",VLOOKUP(C20,Futtermittel!$A$8:$CG$171,34,FALSE)*$F20)","v":" "},{"$f":"IF($C20=\"\",\" \",VLOOKUP(C20,Futtermittel!$A$8:$CG$171,36,FALSE)*$F20)","v":" "},{"$f":"IF($C20=\"\",\" \",VLOOKUP($C20,Futtermittel!$A$8:$CG$171,37,FALSE)*$F20)","v":" "},{"$f":"IF($C20=\"\",\" \",VLOOKUP($C20,Futtermittel!$A$8:$CG$171,38,FALSE)*$F20)","v":" "},{"$f":"IF($C20=\"\",\" \",VLOOKUP($C20,Futtermittel!$A$8:$CG$171,39,FALSE)*$F20)","v":" "},{"$f":"IF($C20=\"\",\" \",VLOOKUP($C20,Futtermittel!$A$8:$CG$171,40,FALSE)*$F20)","v":" "},{"$f":"IF($C20=\"\",\" \",VLOOKUP($C20,Futtermittel!$A$8:$CG$171,41,FALSE)*$F20)","v":" "},{"$f":"IF($C20=\"\",\" \",VLOOKUP($C20,Futtermittel!$A$8:$CG$171,42,FALSE)*$F20)","v":" "},{"$f":"IF($C20=\"\",\" \",VLOOKUP($C20,Futtermittel!$A$8:$CG$171,43,FALSE)*$F20)","v":" "},{"$f":"IF($C20=\"\",\" \",VLOOKUP($C20,Futtermittel!$A$8:$CG$171,44,FALSE)*$F20)","v":" "},{"$f":"IF($C20=\"\",\" \",VLOOKUP($C20,Futtermittel!$A$8:$CG$171,45,FALSE)*$F20)","v":" "},{"$f":"IF($C20=\"\",\" \",VLOOKUP($C20,Futtermittel!$A$8:$CG$171,54,FALSE)*$F20)","v":" "},{"$f":"IF($C20=\"\",\" \",VLOOKUP($C20,Futtermittel!$A$8:$CG$171,53,FALSE)*$F20)","v":" "},{"$f":"IF($C20=\"\",\" \",VLOOKUP($C20,Futtermittel!$A$8:$CG$171,46,FALSE)*$F20)","v":" "},{"$f":"IF($C20=\"\",\" \",VLOOKUP($C20,Futtermittel!$A$8:$CG$171,56,FALSE)*$F20)","v":" "},{"$f":"IF($C20=\"\",\" \",VLOOKUP($C20,Futtermittel!$A$8:$CG$171,57,FALSE)*$F20)","v":" "},{"$f":"IF($C20=\"\",\" \",VLOOKUP($C20,Futtermittel!$A$8:$CG$171,28,FALSE)*$F20)","v":" "},{"$f":"IF($C20=\"\",\" \",VLOOKUP($C20,Futtermittel!$A$8:$CG$171,58,FALSE)*$F20)","v":" "},{"$f":"IF($C20=\"\",\" \",VLOOKUP($C20,Futtermittel!$A$8:$CG$171,59,FALSE)*$F20)","v":" "}]
[null," "," ",null," ",{"$f":"IF(F21=\"\",\" \",F21)","v":" "},{"$f":"IF($C21=\"\",\" \",VLOOKUP(C21,Futtermittel!$A$8:$CG$171,29,FALSE)*$F21)","v":" "},{"$f":"IF($C21=\"\",\" \",VLOOKUP(C21,Futtermittel!$A$8:$CG$171,30,FALSE)*$F21)","v":" "},{"$f":"IF($C21=\"\",\" \",VLOOKUP(C21,Futtermittel!$A$8:$CG$171,31,FALSE)*$F21)","v":" "},{"$f":"IF($C21=\"\",\" \",VLOOKUP(C21,Futtermittel!$A$8:$CG$171,32,FALSE)*$F21)","v":" "},{"$f":"IF($C21=\"\",\" \",VLOOKUP(C21,Futtermittel!$A$8:$CG$171,33,FALSE)*$F21)","v":" "},{"$f":"IF($C21=\"\",\" \",VLOOKUP(C21,Futtermittel!$A$8:$CG$171,34,FALSE)*$F21)","v":" "},{"$f":"IF($C21=\"\",\" \",VLOOKUP(C21,Futtermittel!$A$8:$CG$171,36,FALSE)*$F21)","v":" "},{"$f":"IF($C21=\"\",\" \",VLOOKUP($C21,Futtermittel!$A$8:$CG$171,37,FALSE)*$F21)","v":" "},{"$f":"IF($C21=\"\",\" \",VLOOKUP($C21,Futtermittel!$A$8:$CG$171,38,FALSE)*$F21)","v":" "},{"$f":"IF($C21=\"\",\" \",VLOOKUP($C21,Futtermittel!$A$8:$CG$171,39,FALSE)*$F21)","v":" "},{"$f":"IF($C21=\"\",\" \",VLOOKUP($C21,Futtermittel!$A$8:$CG$171,40,FALSE)*$F21)","v":" "},{"$f":"IF($C21=\"\",\" \",VLOOKUP($C21,Futtermittel!$A$8:$CG$171,41,FALSE)*$F21)","v":" "},{"$f":"IF($C21=\"\",\" \",VLOOKUP($C21,Futtermittel!$A$8:$CG$171,42,FALSE)*$F21)","v":" "},{"$f":"IF($C21=\"\",\" \",VLOOKUP($C21,Futtermittel!$A$8:$CG$171,43,FALSE)*$F21)","v":" "},{"$f":"IF($C21=\"\",\" \",VLOOKUP($C21,Futtermittel!$A$8:$CG$171,44,FALSE)*$F21)","v":" "},{"$f":"IF($C21=\"\",\" \",VLOOKUP($C21,Futtermittel!$A$8:$CG$171,45,FALSE)*$F21)","v":" "},{"$f":"IF($C21=\"\",\" \",VLOOKUP($C21,Futtermittel!$A$8:$CG$171,54,FALSE)*$F21)","v":" "},{"$f":"IF($C21=\"\",\" \",VLOOKUP($C21,Futtermittel!$A$8:$CG$171,53,FALSE)*$F21)","v":" "},{"$f":"IF($C21=\"\",\" \",VLOOKUP($C21,Futtermittel!$A$8:$CG$171,46,FALSE)*$F21)","v":" "},{"$f":"IF($C21=\"\",\" \",VLOOKUP($C21,Futtermittel!$A$8:$CG$171,56,FALSE)*$F21)","v":" "},{"$f":"IF($C21=\"\",\" \",VLOOKUP($C21,Futtermittel!$A$8:$CG$171,57,FALSE)*$F21)","v":" "},{"$f":"IF($C21=\"\",\" \",VLOOKUP($C21,Futtermittel!$A$8:$CG$171,28,FALSE)*$F21)","v":" "},{"$f":"IF($C21=\"\",\" \",VLOOKUP($C21,Futtermittel!$A$8:$CG$171,58,FALSE)*$F21)","v":" "},{"$f":"IF($C21=\"\",\" \",VLOOKUP($C21,Futtermittel!$A$8:$CG$171,59,FALSE)*$F21)","v":" "}]
[null," "," ",null," ",{"$f":"IF(F22=\"\",\" \",F22)","v":" "},{"$f":"IF($C22=\"\",\" \",VLOOKUP(C22,Futtermittel!$A$8:$CG$171,29,FALSE)*$F22)","v":" "},{"$f":"IF($C22=\"\",\" \",VLOOKUP(C22,Futtermittel!$A$8:$CG$171,30,FALSE)*$F22)","v":" "},{"$f":"IF($C22=\"\",\" \",VLOOKUP(C22,Futtermittel!$A$8:$CG$171,31,FALSE)*$F22)","v":" "},{"$f":"IF($C22=\"\",\" \",VLOOKUP(C22,Futtermittel!$A$8:$CG$171,32,FALSE)*$F22)","v":" "},{"$f":"IF($C22=\"\",\" \",VLOOKUP(C22,Futtermittel!$A$8:$CG$171,33,FALSE)*$F22)","v":" "},{"$f":"IF($C22=\"\",\" \",VLOOKUP(C22,Futtermittel!$A$8:$CG$171,34,FALSE)*$F22)","v":" "},{"$f":"IF($C22=\"\",\" \",VLOOKUP(C22,Futtermittel!$A$8:$CG$171,36,FALSE)*$F22)","v":" "},{"$f":"IF($C22=\"\",\" \",VLOOKUP($C22,Futtermittel!$A$8:$CG$171,37,FALSE)*$F22)","v":" "},{"$f":"IF($C22=\"\",\" \",VLOOKUP($C22,Futtermittel!$A$8:$CG$171,38,FALSE)*$F22)","v":" "},{"$f":"IF($C22=\"\",\" \",VLOOKUP($C22,Futtermittel!$A$8:$CG$171,39,FALSE)*$F22)","v":" "},{"$f":"IF($C22=\"\",\" \",VLOOKUP($C22,Futtermittel!$A$8:$CG$171,40,FALSE)*$F22)","v":" "},{"$f":"IF($C22=\"\",\" \",VLOOKUP($C22,Futtermittel!$A$8:$CG$171,41,FALSE)*$F22)","v":" "},{"$f":"IF($C22=\"\",\" \",VLOOKUP($C22,Futtermittel!$A$8:$CG$171,42,FALSE)*$F22)","v":" "},{"$f":"IF($C22=\"\",\" \",VLOOKUP($C22,Futtermittel!$A$8:$CG$171,43,FALSE)*$F22)","v":" "},{"$f":"IF($C22=\"\",\" \",VLOOKUP($C22,Futtermittel!$A$8:$CG$171,44,FALSE)*$F22)","v":" "},{"$f":"IF($C22=\"\",\" \",VLOOKUP($C22,Futtermittel!$A$8:$CG$171,45,FALSE)*$F22)","v":" "},{"$f":"IF($C22=\"\",\" \",VLOOKUP($C22,Futtermittel!$A$8:$CG$171,54,FALSE)*$F22)","v":" "},{"$f":"IF($C22=\"\",\" \",VLOOKUP($C22,Futtermittel!$A$8:$CG$171,53,FALSE)*$F22)","v":" "},{"$f":"IF($C22=\"\",\" \",VLOOKUP($C22,Futtermittel!$A$8:$CG$171,46,FALSE)*$F22)","v":" "},{"$f":"IF($C22=\"\",\" \",VLOOKUP($C22,Futtermittel!$A$8:$CG$171,56,FALSE)*$F22)","v":" "},{"$f":"IF($C22=\"\",\" \",VLOOKUP($C22,Futtermittel!$A$8:$CG$171,57,FALSE)*$F22)","v":" "},{"$f":"IF($C22=\"\",\" \",VLOOKUP($C22,Futtermittel!$A$8:$CG$171,28,FALSE)*$F22)","v":" "},{"$f":"IF($C22=\"\",\" \",VLOOKUP($C22,Futtermittel!$A$8:$CG$171,58,FALSE)*$F22)","v":" "},{"$f":"IF($C22=\"\",\" \",VLOOKUP($C22,Futtermittel!$A$8:$CG$171,59,FALSE)*$F22)","v":" "}]
[null," "," ",null," ",{"$f":"IF(F23=\"\",\" \",F23)","v":" "},{"$f":"IF($C23=\"\",\" \",VLOOKUP(C23,Futtermittel!$A$8:$CG$171,29,FALSE)*$F23)","v":" "},{"$f":"IF($C23=\"\",\" \",VLOOKUP(C23,Futtermittel!$A$8:$CG$171,30,FALSE)*$F23)","v":" "},{"$f":"IF($C23=\"\",\" \",VLOOKUP(C23,Futtermittel!$A$8:$CG$171,31,FALSE)*$F23)","v":" "},{"$f":"IF($C23=\"\",\" \",VLOOKUP(C23,Futtermittel!$A$8:$CG$171,32,FALSE)*$F23)","v":" "},{"$f":"IF($C23=\"\",\" \",VLOOKUP(C23,Futtermittel!$A$8:$CG$171,33,FALSE)*$F23)","v":" "},{"$f":"IF($C23=\"\",\" \",VLOOKUP(C23,Futtermittel!$A$8:$CG$171,34,FALSE)*$F23)","v":" "},{"$f":"IF($C23=\"\",\" \",VLOOKUP(C23,Futtermittel!$A$8:$CG$171,36,FALSE)*$F23)","v":" "},{"$f":"IF($C23=\"\",\" \",VLOOKUP($C23,Futtermittel!$A$8:$CG$171,37,FALSE)*$F23)","v":" "},{"$f":"IF($C23=\"\",\" \",VLOOKUP($C23,Futtermittel!$A$8:$CG$171,38,FALSE)*$F23)","v":" "},{"$f":"IF($C23=\"\",\" \",VLOOKUP($C23,Futtermittel!$A$8:$CG$171,39,FALSE)*$F23)","v":" "},{"$f":"IF($C23=\"\",\" \",VLOOKUP($C23,Futtermittel!$A$8:$CG$171,40,FALSE)*$F23)","v":" "},{"$f":"IF($C23=\"\",\" \",VLOOKUP($C23,Futtermittel!$A$8:$CG$171,41,FALSE)*$F23)","v":" "},{"$f":"IF($C23=\"\",\" \",VLOOKUP($C23,Futtermittel!$A$8:$CG$171,42,FALSE)*$F23)","v":" "},{"$f":"IF($C23=\"\",\" \",VLOOKUP($C23,Futtermittel!$A$8:$CG$171,43,FALSE)*$F23)","v":" "},{"$f":"IF($C23=\"\",\" \",VLOOKUP($C23,Futtermittel!$A$8:$CG$171,44,FALSE)*$F23)","v":" "},{"$f":"IF($C23=\"\",\" \",VLOOKUP($C23,Futtermittel!$A$8:$CG$171,45,FALSE)*$F23)","v":" "},{"$f":"IF($C23=\"\",\" \",VLOOKUP($C23,Futtermittel!$A$8:$CG$171,54,FALSE)*$F23)","v":" "},{"$f":"IF($C23=\"\",\" \",VLOOKUP($C23,Futtermittel!$A$8:$CG$171,53,FALSE)*$F23)","v":" "},{"$f":"IF($C23=\"\",\" \",VLOOKUP($C23,Futtermittel!$A$8:$CG$171,46,FALSE)*$F23)","v":" "},{"$f":"IF($C23=\"\",\" \",VLOOKUP($C23,Futtermittel!$A$8:$CG$171,56,FALSE)*$F23)","v":" "},{"$f":"IF($C23=\"\",\" \",VLOOKUP($C23,Futtermittel!$A$8:$CG$171,57,FALSE)*$F23)","v":" "},{"$f":"IF($C23=\"\",\" \",VLOOKUP($C23,Futtermittel!$A$8:$CG$171,28,FALSE)*$F23)","v":" "},{"$f":"IF($C23=\"\",\" \",VLOOKUP($C23,Futtermittel!$A$8:$CG$171,58,FALSE)*$F23)","v":" "},{"$f":"IF($C23=\"\",\" \",VLOOKUP($C23,Futtermittel!$A$8:$CG$171,59,FALSE)*$F23)","v":" "}]
[null,"EF-Nr.","Ergänzungsfutter ","VQ in %"]
[null," ",{"$f":"IF(C25=\"\",\" \",C25)","v":" "},0.85," "," ",{"$f":"IF($C25=\"\",\" \",VLOOKUP($C25,Ergänzungsfutter!$A$11:$BE$35,20,FALSE)*$F25)","v":" "},{"$f":"IF($C25=\"\",\" \",VLOOKUP($C25,Ergänzungsfutter!$A$11:$BE$35,20,FALSE)*$F25*D25)","v":" "},{"$f":"IF($C25=\"\",\" \",VLOOKUP($C25,Ergänzungsfutter!$A$11:$BE$35,21,FALSE)*$F25)","v":" "},{"$f":"IF($C25=\"\",\" \",VLOOKUP($C25,Ergänzungsfutter!$A$11:$BE$35,22,FALSE)*$F25)","v":" "},{"$f":"IF($C25=\"\",\" \",VLOOKUP($C25,Ergänzungsfutter!$A$11:$BE$35,23,FALSE)*$F25)","v":" "},{"$f":"IF($C25=\"\",\" \",VLOOKUP($C25,Ergänzungsfutter!$A$11:$BE$35,24,FALSE)*$F25)","v":" "},{"$f":"IF($C25=\"\",\" \",VLOOKUP($C25,Ergänzungsfutter!$A$11:$BE$35,24,FALSE)*$F25)","v":" "},{"$f":"IF($C25=\"\",\" \",VLOOKUP($C25,Ergänzungsfutter!$A$11:$BE$35,27,FALSE)*$F25)","v":" "},{"$f":"IF($C25=\"\",\" \",VLOOKUP($C25,Ergänzungsfutter!$A$11:$BE$35,28,FALSE)*$F25)","v":" "},{"$f":"IF($C25=\"\",\" \",VLOOKUP($C25,Ergänzungsfutter!$A$11:$BE$35,29,FALSE)*$F25)","v":" "},{"$f":"IF($C25=\"\",\" \",VLOOKUP($C25,Ergänzungsfutter!$A$11:$BE$35,30,FALSE)*$F25)","v":" "},{"$f":"IF($C25=\"\",\" \",VLOOKUP($C25,Ergänzungsfutter!$A$11:$BE$35,31,FALSE)*$F25)","v":" "},{"$f":"IF($C25=\"\",\" \",VLOOKUP($C25,Ergänzungsfutter!$A$11:$BE$35,32,FALSE)*$F25)","v":" "},{"$f":"IF($C25=\"\",\" \",VLOOKUP($C25,Ergänzungsfutter!$A$11:$BE$35,33,FALSE)*$F25)","v":" "},{"$f":"IF($C25=\"\",\" \",VLOOKUP($C25,Ergänzungsfutter!$A$11:$BE$35,34,FALSE)*$F25)","v":" "},{"$f":"IF($C25=\"\",\" \",VLOOKUP($C25,Ergänzungsfutter!$A$11:$BE$35,35,FALSE)*$F25)","v":" "},{"$f":"IF($C25=\"\",\" \",VLOOKUP($C25,Ergänzungsfutter!$A$11:$BE$35,36,FALSE)*$F25)","v":" "},{"$f":"IF($C25=\"\",\" \",VLOOKUP($C25,Ergänzungsfutter!$A$11:$BE$35,35,FALSE)*$F25)","v":" "},{"$f":"IF($C25=\"\",\" \",VLOOKUP($C25,Ergänzungsfutter!$A$11:$BE$35,37,FALSE)*$F25)","v":" "},{"$f":"IF($C25=\"\",\" \",VLOOKUP($C25,Ergänzungsfutter!$A$11:$BE$35,38,FALSE)*$F25)","v":" "},{"$f":"IF($C25=\"\",\" \",VLOOKUP($C25,Ergänzungsfutter!$A$11:$BE$35,39,FALSE)*$F25)","v":" "},{"$f":"IF($C25=\"\",\" \",VLOOKUP($C25,Ergänzungsfutter!$A$11:$BE$35,37,FALSE)*$F25)","v":" "},{"$f":"IF($C25=\"\",\" \",VLOOKUP($C25,Ergänzungsfutter!$A$11:$BE$35,40,FALSE)*$F25)","v":" "},{"$f":"IF($C25=\"\",\" \",VLOOKUP($C25,Ergänzungsfutter!$A$11:$BE$35,41,FALSE)*$F25)","v":" "}]
[null," ",{"$f":"IF(C26=\"\",\" \",C26)","v":" "}," "," "," ",{"$f":"IF($C26=\"\",\" \",VLOOKUP($C26,Ergänzungsfutter!$A$11:$BE$35,20,FALSE)*$F26)","v":" "},{"$f":"IF($C26=\"\",\" \",VLOOKUP($C26,Ergänzungsfutter!$A$11:$BE$35,20,FALSE)*$F26*D26)","v":" "},{"$f":"IF($C26=\"\",\" \",VLOOKUP($C26,Ergänzungsfutter!$A$11:$BE$35,21,FALSE)*$F26)","v":" "},{"$f":"IF($C26=\"\",\" \",VLOOKUP($C26,Ergänzungsfutter!$A$11:$BE$35,22,FALSE)*$F26)","v":" "},{"$f":"IF($C26=\"\",\" \",VLOOKUP($C26,Ergänzungsfutter!$A$11:$BE$35,23,FALSE)*$F26)","v":" "},{"$f":"IF($C26=\"\",\" \",VLOOKUP($C26,Ergänzungsfutter!$A$11:$BE$35,24,FALSE)*$F26)","v":" "},{"$f":"IF($C26=\"\",\" \",VLOOKUP($C26,Ergänzungsfutter!$A$11:$BE$35,24,FALSE)*$F26)","v":" "},{"$f":"IF($C26=\"\",\" \",VLOOKUP($C26,Ergänzungsfutter!$A$11:$BE$35,27,FALSE)*$F26)","v":" "},{"$f":"IF($C26=\"\",\" \",VLOOKUP($C26,Ergänzungsfutter!$A$11:$BE$35,28,FALSE)*$F26)","v":" "},{"$f":"IF($C26=\"\",\" \",VLOOKUP($C26,Ergänzungsfutter!$A$11:$BE$35,29,FALSE)*$F26)","v":" "},{"$f":"IF($C26=\"\",\" \",VLOOKUP($C26,Ergänzungsfutter!$A$11:$BE$35,30,FALSE)*$F26)","v":" "},{"$f":"IF($C26=\"\",\" \",VLOOKUP($C26,Ergänzungsfutter!$A$11:$BE$35,31,FALSE)*$F26)","v":" "},{"$f":"IF($C26=\"\",\" \",VLOOKUP($C26,Ergänzungsfutter!$A$11:$BE$35,32,FALSE)*$F26)","v":" "},{"$f":"IF($C26=\"\",\" \",VLOOKUP($C26,Ergänzungsfutter!$A$11:$BE$35,33,FALSE)*$F26)","v":" "},{"$f":"IF($C26=\"\",\" \",VLOOKUP($C26,Ergänzungsfutter!$A$11:$BE$35,34,FALSE)*$F26)","v":" "},{"$f":"IF($C26=\"\",\" \",VLOOKUP($C26,Ergänzungsfutter!$A$11:$BE$35,35,FALSE)*$F26)","v":" "},{"$f":"IF($C26=\"\",\" \",VLOOKUP($C26,Ergänzungsfutter!$A$11:$BE$35,36,FALSE)*$F26)","v":" "},{"$f":"IF($C26=\"\",\" \",VLOOKUP($C26,Ergänzungsfutter!$A$11:$BE$35,35,FALSE)*$F26)","v":" "},{"$f":"IF($C26=\"\",\" \",VLOOKUP($C26,Ergänzungsfutter!$A$11:$BE$35,37,FALSE)*$F26)","v":" "},{"$f":"IF($C26=\"\",\" \",VLOOKUP($C26,Ergänzungsfutter!$A$11:$BE$35,38,FALSE)*$F26)","v":" "},{"$f":"IF($C26=\"\",\" \",VLOOKUP($C26,Ergänzungsfutter!$A$11:$BE$35,39,FALSE)*$F26)","v":" "},{"$f":"IF($C26=\"\",\" \",VLOOKUP($C26,Ergänzungsfutter!$A$11:$BE$35,37,FALSE)*$F26)","v":" "},{"$f":"IF($C26=\"\",\" \",VLOOKUP($C26,Ergänzungsfutter!$A$11:$BE$35,40,FALSE)*$F26)","v":" "},{"$f":"IF($C26=\"\",\" \",VLOOKUP($C26,Ergänzungsfutter!$A$11:$BE$35,41,FALSE)*$F26)","v":" "}]
[null,"Nr.","Mineralfutter"]
[null,{"$f":"B28","v":8},{"$f":"IF(C28=\"\",\" \",C28)","v":"Opti. MinFu EM 850g TZ 3,0% + Phytase 17/18"},null,{"$f":"IF(E28=\"\",\" \",E28)","v":72},{"$f":"IF(F28=\"\",\" \",F28)","v":0.03},{"$f":"IF($C28=\"\",\" \",VLOOKUP($C28,Mineralfutter!$A$11:$BE$25,10,FALSE)*$F28)","v":0.75},{"$f":"IF($C28=\"\",\" \",VLOOKUP($C28,Mineralfutter!$A$11:$BE$25,10,FALSE)*$F28)","v":0.75},{"$f":"IF($C28=\"\",\" \",VLOOKUP($C28,Mineralfutter!$A$11:$BE$25,21,FALSE)*$F28)","v":0},{"$f":"IF($C28=\"\",\" \",VLOOKUP($C28,Mineralfutter!$A$11:$BE$25,22,FALSE)*$F28)","v":0},{"$f":"IF($C28=\"\",\" \",VLOOKUP($C28,Mineralfutter!$A$11:$BE$25,23,FALSE)*$F28)","v":0},{"$f":"IF($C28=\"\",\" \",VLOOKUP($C28,Mineralfutter!$A$11:$BE$25,24,FALSE)*$F28)","v":21},null,{"$f":"IF($C28=\"\",\" \",VLOOKUP($C28,Mineralfutter!$A$11:$BE$25,27,FALSE)*$F28)","v":0},{"$f":"IF($C28=\"\",\" \",VLOOKUP($C28,Mineralfutter!$A$11:$BE$25,28,FALSE)*$F28)","v":0},{"$f":"IF($C28=\"\",\" \",VLOOKUP($C28,Mineralfutter!$A$11:$BE$25,29,FALSE)*$F28)","v":0},{"$f":"IF($C28=\"\",\" \",VLOOKUP($C28,Mineralfutter!$A$11:$BE$25,30,FALSE)*$F28)","v":6030},{"$f":"IF($C28=\"\",\" \",VLOOKUP($C28,Mineralfutter!$A$11:$BE$25,31,FALSE)*$F28)","v":1206},{"$f":"IF($C28=\"\",\" \",VLOOKUP($C28,Mineralfutter!$A$11:$BE$25,32,FALSE)*$F28)","v":61.199999999999996},{"$f":"IF($C28=\"\",\" \",VLOOKUP($C28,Mineralfutter!$A$11:$BE$25,33,FALSE)*$F28)","v":225.94352112676054},{"$f":"IF($C28=\"\",\" \",VLOOKUP($C28,Mineralfutter!$A$11:$BE$25,34,FALSE)*$F28)","v":91.521546477332194},null,null,null,null,{"$f":"IF($C28=\"\",\" \",VLOOKUP($C28,Mineralfutter!$A$11:$BE$25,35,FALSE)*$F28)","v":8.1867065077779355E-2},{"$f":"IF($C28=\"\",\" \",VLOOKUP($C28,Mineralfutter!$A$11:$BE$25,36,FALSE)*$F28)","v":8.2857745825602944E-2},{"$f":"IF($C28=\"\",\" \",VLOOKUP($C28,Mineralfutter!$A$11:$BE$25,37,FALSE)*$F28)","v":0},{"$f":"IF($C28=\"\",\" \",VLOOKUP($C28,Mineralfutter!$A$11:$BE$25,37,FALSE)*$F28)","v":0},{"$f":"IF($C28=\"\",\" \",VLOOKUP($C28,Mineralfutter!$A$11:$BE$25,38,FALSE)*$F28)","v":0}]
[null,{"$f":"B29","v":" "},{"$f":"IF(C29=\"\",\" \",C29)","v":" "},null,{"$f":"IF(E29=\"\",\" \",E29)","v":" "},{"$f":"IF(F29=\"\",\" \",F29)","v":" "},{"$f":"IF($C29=\"\",\" \",VLOOKUP($C29,Mineralfutter!$A$11:$BE$25,10,FALSE)*$F29)","v":" "},{"$f":"IF($C29=\"\",\" \",VLOOKUP($C29,Mineralfutter!$A$11:$BE$25,10,FALSE)*$F29)","v":" "},{"$f":"IF($C29=\"\",\" \",VLOOKUP($C29,Mineralfutter!$A$11:$BE$25,21,FALSE)*$F29)","v":" "},{"$f":"IF($C29=\"\",\" \",VLOOKUP($C29,Mineralfutter!$A$11:$BE$25,22,FALSE)*$F29)","v":" "},{"$f":"IF($C29=\"\",\" \",VLOOKUP($C29,Mineralfutter!$A$11:$BE$25,23,FALSE)*$F29)","v":" "},{"$f":"IF($C29=\"\",\" \",VLOOKUP($C29,Mineralfutter!$A$11:$BE$25,24,FALSE)*$F29)","v":" "},null,{"$f":"IF($C29=\"\",\" \",VLOOKUP($C29,Mineralfutter!$A$11:$BE$25,27,FALSE)*$F29)","v":" "},{"$f":"IF($C29=\"\",\" \",VLOOKUP($C29,Mineralfutter!$A$11:$BE$25,28,FALSE)*$F29)","v":" "},{"$f":"IF($C29=\"\",\" \",VLOOKUP($C29,Mineralfutter!$A$11:$BE$25,29,FALSE)*$F29)","v":" "},{"$f":"IF($C29=\"\",\" \",VLOOKUP($C29,Mineralfutter!$A$11:$BE$25,30,FALSE)*$F29)","v":" "},{"$f":"IF($C29=\"\",\" \",VLOOKUP($C29,Mineralfutter!$A$11:$BE$25,31,FALSE)*$F29)","v":" "},{"$f":"IF($C29=\"\",\" \",VLOOKUP($C29,Mineralfutter!$A$11:$BE$25,32,FALSE)*$F29)","v":" "},{"$f":"IF($C29=\"\",\" \",VLOOKUP($C29,Mineralfutter!$A$11:$BE$25,33,FALSE)*$F29)","v":" "},{"$f":"IF($C29=\"\",\" \",VLOOKUP($C29,Mineralfutter!$A$11:$BE$25,34,FALSE)*$F29)","v":" "},null,null,null,null,{"$f":"IF($C29=\"\",\" \",VLOOKUP($C29,Mineralfutter!$A$11:$BE$25,35,FALSE)*$F29)","v":" "},{"$f":"IF($C29=\"\",\" \",VLOOKUP($C29,Mineralfutter!$A$11:$BE$25,36,FALSE)*$F29)","v":" "},{"$f":"IF($C29=\"\",\" \",VLOOKUP($C29,Mineralfutter!$A$11:$BE$25,37,FALSE)*$F29)","v":" "},{"$f":"IF($C29=\"\",\" \",VLOOKUP($C29,Mineralfutter!$A$11:$BE$25,37,FALSE)*$F29)","v":" "},{"$f":"IF($C29=\"\",\" \",VLOOKUP($C29,Mineralfutter!$A$11:$BE$25,38,FALSE)*$F29)","v":" "}]
[null,null,"Summe",null,{"$f":"AC30","v":20.068159999999999},{"$f":"IF(SUM(F13:F29,F36:F37)=0,\" \",SUM(F13:F29,F36:F37))","v":1},{"$f":"IF(F30=\" \",\" \",SUM(G46:G62,Q36*$F36,Q37*$F37*0.525))","v":2.1937373136363636},{"$f":"IF(F30=\" \",\" \",SUM(H46:H62,R36*$F36,R37*$F37*0.525))","v":1.9881469639999998},{"$f":"IF(F30=\" \",\" \",SUM(I46:I62))","v":24.699359999999999},{"$f":"IF(F30=\" \",\" \",SUM(J46:J62))","v":508.43120000000005},{"$f":"IF(F30=\" \",\" \",SUM(K46:K62))","v":28.113},{"$f":"IF(F30=\" \",\" \",SUM(L46:L62,F36*650))","v":42.557400000000001},{"$f":"IF(G30=\" \",\" \",SUM(M46:M62))","v":147.18585999999999},{"$f":"IF(F30=\" \",\" \",SUM(N46:N62))","v":13.666398620689655},{"$f":"IF(F30=\" \",\" \",SUM(O46:O62))","v":12.237240344827585},{"$f":"IF(F30=\" \",\" \",SUM(P46:P62))","v":1.4312582758620689},{"$f":"IF(F30=\" \",\" \",SUM(Q46:Q62))","v":6030},{"$f":"IF(F30=\" \",\" \",SUM(R46:R62))","v":1206},{"$f":"IF(F30=\" \",\" \",SUM(S46:S62))","v":61.199999999999996},{"$f":"IF(F30=\" \",\" \",SUM(T46:T62))","v":213.11755282263482},{"$f":"IF(F30=\" \",\" \",SUM(U46:U62))","v":445.44557953690696},{"$f":"IF(F30=\" \",\" \",SUM(V46:V62))","v":74.113654600000004},{"$f":"IF(H30=\" \",\" \",SUM(W46:W62))","v":247.29436475951638},{"$f":"IF(I30=\" \",\" \",SUM(X46:X62))","v":43.151905582922822},{"$f":"IF(H30=\" \",\" \",SUM(Y46:Y62))","v":655.61705999999992},{"$f":"IF(K30=\" \",\" \",SUM(Z46:Z62))","v":8.843041243335982},{"$f":"IF(J30=\" \",\" \",SUM(AA46:AA62))","v":9.1278237913676072},{"$f":"IF(AA30=\" \",\" \",SUM(AB46:AB62,AK36*$F36,AK37*$F37*0.525))","v":4.7806479999999993},{"$f":"IF(N30=\" \",\" \",SUM(AC46:AC62))","v":0},{"$f":"IF(M30=\" \",\" \",SUM(AD46:AD62))","v":0}]
[null,null,"Summe auf 88% TM umgerechnet",null,{"$f":"AC31","v":19.988546527750266},{"$f":"F30","v":1},{"$f":"IF($F31=\" \",\" \",ROUND($I31*G63/$I30*$F31,1))","v":2.2000000000000002},{"$f":"IF($F31=\" \",\" \",ROUND($I31*H63/$I30*$F31,1))","v":2},{"$f":"IF($F31=\" \",\" \",ROUND($I31*I63/$I30*$F31,0))","v":25},{"$f":"IF($F31=\" \",\" \",ROUND($I31*J63/$I30*$F31,0))","v":506},{"$f":"IF($F31=\" \",\" \",ROUND($I31*K63/$I30*$F31,0))","v":28},{"$f":"IF($F31=\" \",\" \",ROUND($I31*L63/$I30*$F31,0))","v":42},{"$f":"IF($F31=\" \",\" \",ROUND($I31*M63/$I30*$F31,0))","v":147},{"$f":"IF($F31=\" \",\" \",ROUND($I31*N63/$I30*$F31,1))","v":13.6},{"$f":"IF($F31=\" \",\" \",ROUND($I31*O63/$I30*$F31,1))","v":12.2},{"$f":"IF($F31=\" \",\" \",ROUND($I31*P63/$I30*$F31,1))","v":1.4},{"$f":"IF($F31=\" \",\" \",ROUND($I31*Q63/$I30*$F31,0))","v":6006},{"$f":"IF($F31=\" \",\" \",ROUND($I31*R63/$I30*$F31,0))","v":1201},{"$f":"IF($F31=\" \",\" \",ROUND($I31*S63/$I30*$F31,0))","v":61},{"$f":"IF($F31=\" \",\" \",ROUND($I31*T63/$I30*$F31,0))","v":212},{"$f":"IF($F31=\" \",\" \",ROUND($I31*U63/$I30*$F31,0))","v":444},{"$f":"IF($F31=\" \",\" \",ROUND($I31*V63/$I30*$F31,1))","v":73.8},246.3,43,653,8.8000000000000007,9.1,4.8,{"$f":"IF($F31=\" \",\" \",ROUND($I31*AC63/$I30*$F31,2))","v":0},{"$f":"IF($F31=\" \",\" \",ROUND($I31*AD63/$I30*$F31,2))","v":0}]
[null,"OW-Nr.","aus Tabelle Orientierungswerte in g"]
[null,{"$f":"B33","v":28},{"$f":"IF(C33=\"\",\" \",C33)","v":"Endmast ab 90 Kg LM für 850 g TZ*"},null,"-",{"$f":"F30","v":1},{"$f":"IF($C33=\"\",\" \",ROUND(VLOOKUP($C$33,Orientierungswerte!$A$13:$AZ$126,30,FALSE)*$F$33,1))","v":2.2999999999999998},{"$f":"IF($C33=\"\",\" \",ROUND(VLOOKUP($C$33,Orientierungswerte!$A$13:$AZ$126,31,FALSE)*$F$33,1))","v":2},{"$f":"IF($C33=\"\",\" \",ROUND(VLOOKUP($C$33,Orientierungswerte!$A$13:$AZ$126,33,FALSE)*$F$33,0))","v":0},{"$f":"IF($C33=\"\",\" \",ROUND(VLOOKUP($C$33,Orientierungswerte!$A$13:$AZ$126,34,FALSE)*$F$33,0))","v":0},{"$f":"IF($C33=\"\",\" \",ROUND(VLOOKUP($C$33,Orientierungswerte!$A$13:$AZ$126,35,FALSE)*$F$33,0))","v":0},{"$f":"IF($C33=\"\",\" \",ROUND(VLOOKUP($C$33,Orientierungswerte!$A$13:$AZ$126,36,FALSE)*$F$33,0))","v":0},{"$f":"IF($C33=\"\",\" \",ROUND(VLOOKUP($C$33,Orientierungswerte!$A$13:$AZ$126,36,FALSE)*$F$33,0))","v":0},{"$f":"IF($C33=\"\",\" \",ROUND(VLOOKUP($C$33,Orientierungswerte!$A$13:$AZ$126,37,FALSE)*$F$33,1))","v":18},{"$f":"IF($C33=\"\",\" \",ROUND(VLOOKUP($C$33,Orientierungswerte!$A$13:$AZ$126,38,FALSE)*$F$33,1))","v":10},{"$f":"IF($C33=\"\",\" \",ROUND(VLOOKUP($C$33,Orientierungswerte!$A$13:$AZ$126,39,FALSE)*$F$33,1))","v":0},{"$f":"IF($C33=\"\",\" \",ROUND(VLOOKUP($C$33,Orientierungswerte!$A$13:$AZ$126,40,FALSE)*$F$33,0))","v":5000},{"$f":"IF($C33=\"\",\" \",ROUND(VLOOKUP($C$33,Orientierungswerte!$A$13:$AZ$126,41,FALSE)*$F$33,0))","v":1000},{"$f":"IF($C33=\"\",\" \",ROUND(VLOOKUP($C$33,Orientierungswerte!$A$13:$AZ$126,42,FALSE)*$F$33,0))","v":50},{"$f":"IF($C33=\"\",\" \",ROUND(VLOOKUP($C$33,Orientierungswerte!$A$13:$AZ$126,43,FALSE)*$F$33,1))","v":0},{"$f":"IF($C33=\"\",\" \",ROUND(VLOOKUP($C$33,Orientierungswerte!$A$13:$AZ$126,44,FALSE)*$F$33,1))","v":0},{"$f":"IF($C33=\"\",\" \",ROUND(VLOOKUP($C$33,Orientierungswerte!$A$13:$AZ$126,47,FALSE)*$F$33,1))","v":0},{"$f":"IF($C33=\"\",\" \",ROUND(VLOOKUP($C$33,Orientierungswerte!$A$13:$AZ$126,46,FALSE)*$F$33,1))","v":120},{"$f":"IF($C33=\"\",\" \",ROUND(VLOOKUP($C$33,Orientierungswerte!$A$13:$AZ$126,45,FALSE)*$F$33,1))","v":70},{"$f":"IF($C33=\"\",\" \",ROUND(VLOOKUP($C$33,Orientierungswerte!$A$13:$AZ$126,49,FALSE)*$F$33,1))","v":0},{"$f":"IF($C33=\"\",\" \",ROUND(VLOOKUP($C$33,Orientierungswerte!$A$13:$AZ$126,48,FALSE)*$F$33,1))","v":9.6},{"$f":"IF($C33=\"\",\" \",ROUND(VLOOKUP($C$33,Orientierungswerte!$A$13:$AZ$126,49,FALSE)*$F$33,1))","v":0},null,{"$f":"IF($C33=\"\",\" \",ROUND(VLOOKUP($C$33,Orientierungswerte!$A$13:$AZ$126,50,FALSE)*$F$33,2))","v":1},{"$f":"IF($C33=\"\",\" \",ROUND(VLOOKUP($C$33,Orientierungswerte!$A$13:$AZ$126,51,FALSE)*$F$33,2))","v":0.25}]
[null,null,"Differenz Mischung zu Orientierungswert",null,"-",{"$f":"IF($C$33=\"\",\" \",ROUND((1-F31)*-1,4))","v":0},{"$f":"IF($C$33=\"\",\" \",ROUND(G64-G66,1))","v":-0.1},{"$f":"IF($C$33=\"\",\" \",ROUND(H64-H66,1))","v":0},{"$f":"IF($C$33=\"\",\" \",ROUND(I64-I66,0))","v":25},{"$f":"IF($C$33=\"\",\" \",ROUND(J64-J66,0))","v":506},{"$f":"IF($C$33=\"\",\" \",ROUND(K64-K66,0))","v":28},{"$f":"IF($C$33=\"\",\" \",ROUND(L64-L66,0))","v":42},{"$f":"IF($C$33=\"\",\" \",ROUND(M64-M66,0))","v":147},{"$f":"IF($C$33=\"\",\" \",ROUND(N64-N66,1))","v":-4.4000000000000004},{"$f":"IF($C$33=\"\",\" \",ROUND(O64-O66,1))","v":2.2000000000000002},{"$f":"IF($C$33=\"\",\" \",ROUND(P64-P66,1))","v":1.4},{"$f":"IF($C$33=\"\",\" \",ROUND(Q64-Q66,0))","v":1006},201,11,212,444,74,126,{"$f":"IF($C$33=\"\",\" \",ROUND(X64-X66,0))","v":-27},{"$f":"IF($C$33=\"\",\" \",ROUND(Y64-Y66,0))","v":653},{"$f":"IF($C$33=\"\",\" \",Z64-Z66)","v":-0.79999999999999893},{"$f":"IF($C$33=\"\",\" \",AA64-AA66)","v":9.1},{"$f":"IF($C$33=\"\",\" \",ROUND(AB64-AB66,1))","v":4.8},{"$f":"IF($C$33=\"\",\" \",ROUND(AC64-AC66,2))","v":-1},{"$f":"IF($C$33=\"\",\" \",ROUND(AD64-AD66,2))","v":-0.25}]

{"sheet":"Ausdruck (4)","index":9,"n_rows":67,"n_cols":13,"rows_kept":67,"cut":false,"hidden":false,"merged":[[56,1,56,2],[9,2,9,6],[9,7,9,11],[10,2,10,6],[10,7,10,12],[11,2,11,11],[13,7,13,10]]}
[]
[]
[]
[]
[]
[]
[]
[]
[null,null,null,null,null,null,null,null,null,null,null,"Datum:",{"$f":"Futterberechnung!$Z$5","v":"2018-08-01"}]
[null,"Betrieb:",{"$f":"'Futterberechnung (4)'!H5","v":"Mustermann"}]
[null,"Futtermischung für:",{"$f":"IF('Futterberechnung (4)'!H7=\"\",\"\",'Futterberechnung (4)'!H7)","v":"Endmast ab 90 Kg LM für 850 g TZ* "},null,null,null,null,{"$f":"IF('Futterberechnung (4)'!P7=\"\",\"\",'Futterberechnung (4)'!P7)","v":"Getreide = Richtpreise Ernte 2017/18"}]
[null,null,{"$f":"'Futterberechnung (4)'!J8","v":""}]
[]
[null,"Futtermittel","Preis / dt","Anteile                       in % FM","Anteile                       bei 88% TM","in Mischer",null,"Inhaltsstoffe                                                                       in 1 kg Futtermittel",null,null,null,"Soll","Differenz"]
[null,{"$f":"IF('Futterberechnung (4)'!C13=\"\",\"\",'Futterberechnung (4)'!C13)","v":"eigener Weizen 10% RP Ø 2018"},{"$f":"IF('Futterberechnung (4)'!E13=\"\",\"\",'Futterberechnung (4)'!E13)","v":17.420000000000002},{"$f":"IF('Futterberechnung (4)'!F13=\"\",\"\",'Futterberechnung (4)'!F13)","v":0.49},{"$f":"IF('Futterberechnung (4)'!G13=\"\",\"\",'Futterberechnung (4)'!G13)","v":0.48805609475894313},{"$f":"IF('Futterberechnung (4)'!H13=\"\",\"\",'Futterberechnung (4)'!H13)","v":490},null,null,"in","in der FM","in 88% TM","in 88% TM"]
[null,{"$f":"IF('Futterberechnung (4)'!C14=\"\",\"\",'Futterberechnung (4)'!C14)","v":"eigene Gerste 10% RP Ø 2018"},{"$f":"IF('Futterberechnung (4)'!E14=\"\",\"\",'Futterberechnung (4)'!E14)","v":16.39},{"$f":"IF('Futterberechnung (4)'!F14=\"\",\"\",'Futterberechnung (4)'!F14)","v":0.42399999999999999},{"$f":"IF('Futterberechnung (4)'!G14=\"\",\"\",'Futterberechnung (4)'!G14)","v":0.42231792689345282},{"$f":"IF('Futterberechnung (4)'!H14=\"\",\"\",'Futterberechnung (4)'!H14)","v":424},null,"TM","g",{"$f":"IF('Futterberechnung (4)'!I30=\"\",\"\",'Futterberechnung (4)'!I30)","v":883.50499999999988},{"$f":"IF('Futterberechnung (4)'!I31=\"\",\"\",'Futterberechnung (4)'!I31)","v":880}]
[null,{"$f":"IF('Futterberechnung (4)'!C15=\"\",\"\",'Futterberechnung (4)'!C15)","v":"Sojaschrot HP 47% RP "},{"$f":"IF('Futterberechnung (4)'!E15=\"\",\"\",'Futterberechnung (4)'!E15)","v":38},{"$f":"IF('Futterberechnung (4)'!F15=\"\",\"\",'Futterberechnung (4)'!F15)","v":5.0999999999999997E-2},{"$f":"IF('Futterberechnung (4)'!G15=\"\",\"\",'Futterberechnung (4)'!G15)","v":5.1374921477524184E-2},{"$f":"IF('Futterberechnung (4)'!H15=\"\",\"\",'Futterberechnung (4)'!H15)","v":51},null,"MES EFF*","MJ",{"$f":"IF('Futterberechnung (4)'!$M$30=\"\",\"\",'Futterberechnung (4)'!$M$30)","v":12.990426697111307},{"$f":"IF('Futterberechnung (4)'!$M$31=\"\",\"\",'Futterberechnung (4)'!$M$31)","v":12.94},{"$f":"IF('Futterberechnung (4)'!$M$33=\"\",\"\",'Futterberechnung (4)'!$M$33)","v":13},{"$f":"IF('Futterberechnung (4)'!$M$34=\"\",\"\",'Futterberechnung (4)'!$M$34)","v":-0.06}]
[null,{"$f":"IF('Futterberechnung (4)'!C16=\"\",\"\",'Futterberechnung (4)'!C16)","v":"Rapsöl / Pflanzenöl DLG 2014"},{"$f":"IF('Futterberechnung (4)'!E16=\"\",\"\",'Futterberechnung (4)'!E16)","v":97},{"$f":"IF('Futterberechnung (4)'!F16=\"\",\"\",'Futterberechnung (4)'!F16)","v":5.0000000000000001E-3},{"$f":"IF('Futterberechnung (4)'!G16=\"\",\"\",'Futterberechnung (4)'!G16)","v":5.6536182590930448E-3},{"$f":"IF('Futterberechnung (4)'!H16=\"\",\"\",'Futterberechnung (4)'!H16)","v":5},null,"MES MFF*","MJ",{"$f":"IF('Futterberechnung (4)'!$N$30=\"\",\"\",'Futterberechnung (4)'!$N$30)","v":12.989178866900831},{"$f":"IF('Futterberechnung (4)'!$N$31=\"\",\"\",'Futterberechnung (4)'!$N$31)","v":12.94},{"$f":"IF('Futterberechnung (4)'!$N$33=\"\",\"\",'Futterberechnung (4)'!$N$33)","v":13},{"$f":"IF('Futterberechnung (4)'!$N$34=\"\",\"\",'Futterberechnung (4)'!$N$34)","v":-0.06}]
[null,{"$f":"IF('Futterberechnung (4)'!C17=\"\",\"\",'Futterberechnung (4)'!C17)","v":""},{"$f":"IF('Futterberechnung (4)'!E17=\"\",\"\",'Futterberechnung (4)'!E17)","v":""},{"$f":"IF('Futterberechnung (4)'!F17=\"\",\"\",'Futterberechnung (4)'!F17)","v":""},{"$f":"IF('Futterberechnung (4)'!G17=\"\",\"\",'Futterberechnung (4)'!G17)","v":""},{"$f":"IF('Futterberechnung (4)'!H17=\"\",\"\",'Futterberechnung (4)'!H17)","v":" "},null,"Rohprotein (XP)","g",{"$f":"IF('Futterberechnung (4)'!$J$30=\"\",\"\",'Futterberechnung (4)'!$J$30)","v":118.87293859093286},{"$f":"IF('Futterberechnung (4)'!$J$31=\"\",\"\",'Futterberechnung (4)'!$J$31)","v":118},{"$f":"IF('Futterberechnung (4)'!$J$33=\"\",\"\",'Futterberechnung (4)'!$J$33)","v":130},{"$f":"IF('Futterberechnung (4)'!$J$34=\"\",\"\",'Futterberechnung (4)'!$J$34)","v":-12}]
[null,{"$f":"IF('Futterberechnung (4)'!C18=\"\",\"\",'Futterberechnung (4)'!C18)","v":""},{"$f":"IF('Futterberechnung (4)'!E18=\"\",\"\",'Futterberechnung (4)'!E18)","v":""},{"$f":"IF('Futterberechnung (4)'!F18=\"\",\"\",'Futterberechnung (4)'!F18)","v":""},{"$f":"IF('Futterberechnung (4)'!G18=\"\",\"\",'Futterberechnung (4)'!G18)","v":""},{"$f":"IF('Futterberechnung (4)'!H18=\"\",\"\",'Futterberechnung (4)'!H18)","v":" "},null,"Lys","g",{"$f":"IF('Futterberechnung (4)'!$O$30=\"\",\"\",'Futterberechnung (4)'!$O$30)","v":7.5506247181818171},{"$f":"IF('Futterberechnung (4)'!$O$31=\"\",\"\",'Futterberechnung (4)'!$O$31)","v":7.5},{"$f":"IF('Futterberechnung (4)'!$O$33=\"\",\"\",'Futterberechnung (4)'!$O$33)","v":8},{"$f":"IF('Futterberechnung (4)'!$O$34=\"\",\"\",'Futterberechnung (4)'!$O$34)","v":-0.5}]
[null,{"$f":"IF('Futterberechnung (4)'!C19=\"\",\"\",'Futterberechnung (4)'!C19)","v":""},{"$f":"IF('Futterberechnung (4)'!E19=\"\",\"\",'Futterberechnung (4)'!E19)","v":""},{"$f":"IF('Futterberechnung (4)'!F19=\"\",\"\",'Futterberechnung (4)'!F19)","v":""},{"$f":"IF('Futterberechnung (4)'!G19=\"\",\"\",'Futterberechnung (4)'!G19)","v":""},{"$f":"IF('Futterberechnung (4)'!H19=\"\",\"\",'Futterberechnung (4)'!H19)","v":" "},null,"pcv Lys","g",{"$f":"IF('Futterberechnung (4)'!$P$30=\"\",\"\",'Futterberechnung (4)'!$P$30)","v":6.8016486888181813},{"$f":"IF('Futterberechnung (4)'!$P$31=\"\",\"\",'Futterberechnung (4)'!$P$31)","v":6.8},{"$f":"IF('Futterberechnung (4)'!$P$33=\"\",\"\",'Futterberechnung (4)'!$P$33)","v":6.9},{"$f":"IF('Futterberechnung (4)'!$P$34=\"\",\"\",'Futterberechnung (4)'!$P$34)","v":-0.1}]
[null,{"$f":"IF('Futterberechnung (4)'!C20=\"\",\"\",'Futterberechnung (4)'!C20)","v":""},{"$f":"IF('Futterberechnung (4)'!E20=\"\",\"\",'Futterberechnung (4)'!E20)","v":""},{"$f":"IF('Futterberechnung (4)'!F20=\"\",\"\",'Futterberechnung (4)'!F20)","v":""},{"$f":"IF('Futterberechnung (4)'!G20=\"\",\"\",'Futterberechnung (4)'!G20)","v":""},{"$f":"IF('Futterberechnung (4)'!H20=\"\",\"\",'Futterberechnung (4)'!H20)","v":" "},null,"Met","g",{"$f":"IF('Futterberechnung (4)'!$G$63=\"\",\"\",'Futterberechnung (4)'!$G$63)","v":2.1937373136363636},{"$f":"IF('Futterberechnung (4)'!$G$64=\"\",\"\",'Futterberechnung (4)'!$G$64)","v":2.2000000000000002},{"$f":"IF('Futterberechnung (4)'!$G$66=\"\",\"\",'Futterberechnung (4)'!$G$66)","v":2.2999999999999998},{"$f":"IF('Futterberechnung (4)'!$G67=\"\",\"\",'Futterberechnung (4)'!$G$67)","v":-0.1}]
[null,{"$f":"IF('Futterberechnung (4)'!C21=\"\",\"\",'Futterberechnung (4)'!C21)","v":""},{"$f":"IF('Futterberechnung (4)'!E21=\"\",\"\",'Futterberechnung (4)'!E21)","v":""},{"$f":"IF('Futterberechnung (4)'!F21=\"\",\"\",'Futterberechnung (4)'!F21)","v":""},{"$f":"IF('Futterberechnung (4)'!G21=\"\",\"\",'Futterberechnung (4)'!G21)","v":""},{"$f":"IF('Futterberechnung (4)'!H21=\"\",\"\",'Futterberechnung (4)'!H21)","v":" "},null,"pcv Met","g",{"$f":"IF('Futterberechnung (4)'!$H$63=\"\",\"\",'Futterberechnung (4)'!$H$63)","v":1.9881469639999998},{"$f":"IF('Futterberechnung (4)'!$H$64=\"\",\"\",'Futterberechnung (4)'!$H$64)","v":2},{"$f":"IF('Futterberechnung (4)'!$H$66=\"\",\"\",'Futterberechnung (4)'!$H$66)","v":2},{"$f":"IF('Futterberechnung (4)'!$H67=\"\",\"\",'Futterberechnung (4)'!$H$67)","v":0}]
[null,{"$f":"IF('Futterberechnung (4)'!C22=\"\",\"\",'Futterberechnung (4)'!C22)","v":""},{"$f":"IF('Futterberechnung (4)'!E22=\"\",\"\",'Futterberechnung (4)'!E22)","v":""},{"$f":"IF('Futterberechnung (4)'!F22=\"\",\"\",'Futterberechnung (4)'!F22)","v":""},{"$f":"IF('Futterberechnung (4)'!G22=\"\",\"\",'Futterberechnung (4)'!G22)","v":""},{"$f":"IF('Futterberechnung (4)'!H22=\"\",\"\",'Futterberechnung (4)'!H22)","v":" "},null,"Met + Cys","g",{"$f":"IF('Futterberechnung (4)'!$Q$30=\"\",\"\",'Futterberechnung (4)'!$Q$30)","v":4.9245808499999999},{"$f":"IF('Futterberechnung (4)'!$Q$31=\"\",\"\",'Futterberechnung (4)'!$Q$31)","v":4.9000000000000004},{"$f":"IF('Futterberechnung (4)'!$Q$33=\"\",\"\",'Futterberechnung (4)'!$Q$33)","v":4.5},{"$f":"IF('Futterberechnung (4)'!$Q$34=\"\",\"\",'Futterberechnung (4)'!$Q$34)","v":0.4}]
[null,{"$f":"IF('Futterberechnung (4)'!C23=\"\",\"\",'Futterberechnung (4)'!C23)","v":""},{"$f":"IF('Futterberechnung (4)'!E23=\"\",\"\",'Futterberechnung (4)'!E23)","v":""},{"$f":"IF('Futterberechnung (4)'!F23=\"\",\"\",'Futterberechnung (4)'!F23)","v":""},{"$f":"IF('Futterberechnung (4)'!G23=\"\",\"\",'Futterberechnung (4)'!G23)","v":""},{"$f":"IF('Futterberechnung (4)'!H23=\"\",\"\",'Futterberechnung (4)'!H23)","v":" "},null,"pcv Met + Cys","g",{"$f":"IF('Futterberechnung (4)'!$R$30=\"\",\"\",'Futterberechnung (4)'!$R$30)","v":4.3613303945033737},{"$f":"IF('Futterberechnung (4)'!$R$31=\"\",\"\",'Futterberechnung (4)'!$R$31)","v":4.3},{"$f":"IF('Futterberechnung (4)'!$R$33=\"\",\"\",'Futterberechnung (4)'!$R$33)","v":3.8},{"$f":"IF('Futterberechnung (4)'!$R$34=\"\",\"\",'Futterberechnung (4)'!$R$34)","v":0.5}]
[null,{"$f":"IF('Futterberechnung (4)'!C24=\"\",\"\",'Futterberechnung (4)'!C24)","v":"Ergänzungsfutter "},{"$f":"IF('Futterberechnung (4)'!E24=\"\",\"\",'Futterberechnung (4)'!E24)","v":""},{"$f":"IF('Futterberechnung (4)'!F24=\"\",\"\",'Futterberechnung (4)'!F24)","v":""},{"$f":"IF('Futterberechnung (4)'!G24=\"\",\"\",'Futterberechnung (4)'!G24)","v":""},{"$f":"IF('Futterberechnung (4)'!H24=\"\",\"\",'Futterberechnung (4)'!H24)","v":""},null,"Thr","g",{"$f":"IF('Futterberechnung (4)'!$S$30=\"\",\"\",'Futterberechnung (4)'!$S$30)","v":4.9854969636363631},{"$f":"IF('Futterberechnung (4)'!$S$31=\"\",\"\",'Futterberechnung (4)'!$S$31)","v":5},{"$f":"IF('Futterberechnung (4)'!$S$33=\"\",\"\",'Futterberechnung (4)'!$S$33)","v":5.2},{"$f":"IF('Futterberechnung (4)'!$S$34=\"\",\"\",'Futterberechnung (4)'!$S$34)","v":-0.2}]
[null,{"$f":"IF('Futterberechnung (4)'!C25=\"\",\"\",'Futterberechnung (4)'!C25)","v":""},{"$f":"IF('Futterberechnung (4)'!E25=\"\",\"\",'Futterberechnung (4)'!E25)","v":""},{"$f":"IF('Futterberechnung (4)'!F25=\"\",\"\",'Futterberechnung (4)'!F25)","v":""},{"$f":"IF('Futterberechnung (4)'!G25=\"\",\"\",'Futterberechnung (4)'!G25)","v":""},{"$f":"IF('Futterberechnung (4)'!H25=\"\",\"\",'Futterberechnung (4)'!H25)","v":" "},null,"pcv Thr","g",{"$f":"IF('Futterberechnung (4)'!$T$30=\"\",\"\",'Futterberechnung (4)'!$T$30)","v":4.3571217087272727},{"$f":"IF('Futterberechnung (4)'!$T$31=\"\",\"\",'Futterberechnung (4)'!$T$31)","v":4.3},{"$f":"IF('Futterberechnung (4)'!$T$33=\"\",\"\",'Futterberechnung (4)'!$T$33)","v":4.5},{"$f":"IF('Futterberechnung (4)'!$T$34=\"\",\"\",'Futterberechnung (4)'!$T$34)","v":-0.2}]
[null,{"$f":"IF('Futterberechnung (4)'!C26=\"\",\"\",'Futterberechnung (4)'!C26)","v":""},{"$f":"IF('Futterberechnung (4)'!E26=\"\",\"\",'Futterberechnung (4)'!E26)","v":""},{"$f":"IF('Futterberechnung (4)'!F26=\"\",\"\",'Futterberechnung (4)'!F26)","v":""},{"$f":"IF('Futterberechnung (4)'!G26=\"\",\"\",'Futterberechnung (4)'!G26)","v":""},{"$f":"IF('Futterberechnung (4)'!H26=\"\",\"\",'Futterberechnung (4)'!H26)","v":" "},null,"Trp","g",{"$f":"IF('Futterberechnung (4)'!$U$30=\"\",\"\",'Futterberechnung (4)'!$U$30)","v":1.4949965181818183},{"$f":"IF('Futterberechnung (4)'!$U$31=\"\",\"\",'Futterberechnung (4)'!$U$31)","v":1.5},{"$f":"IF('Futterberechnung (4)'!$U$33=\"\",\"\",'Futterberechnung (4)'!$U$33)","v":1.4},{"$f":"IF('Futterberechnung (4)'!$U$34=\"\",\"\",'Futterberechnung (4)'!$U$34)","v":0.1}]
[null,{"$f":"IF('Futterberechnung (4)'!C27=\"\",\"\",'Futterberechnung (4)'!C27)","v":"Mineralfutter"},{"$f":"IF('Futterberechnung (4)'!E27=\"\",\"\",'Futterberechnung (4)'!E27)","v":""},{"$f":"IF('Futterberechnung (4)'!F27=\"\",\"\",'Futterberechnung (4)'!F27)","v":""},{"$f":"IF('Futterberechnung (4)'!G27=\"\",\"\",'Futterberechnung (4)'!G27)","v":""},{"$f":"IF('Futterberechnung (4)'!H27=\"\",\"\",'Futterberechnung (4)'!H27)","v":""},null,"pcv Trp","g",{"$f":"IF('Futterberechnung (4)'!$V$30=\"\",\"\",'Futterberechnung (4)'!$V$30)","v":1.2496598056363635},{"$f":"IF('Futterberechnung (4)'!$V$31=\"\",\"\",'Futterberechnung (4)'!$V$31)","v":1.2},{"$f":"IF('Futterberechnung (4)'!$V$33=\"\",\"\",'Futterberechnung (4)'!$V$33)","v":1.2},{"$f":"IF('Futterberechnung (4)'!$V$34=\"\",\"\",'Futterberechnung (4)'!$V$34)","v":0}]
[null,{"$f":"IF('Futterberechnung (4)'!C28=\"\",\"\",'Futterberechnung (4)'!C28)","v":"Opti. MinFu EM 850g TZ 3,0% + Phytase 17/18"},{"$f":"IF('Futterberechnung (4)'!E28=\"\",\"\",'Futterberechnung (4)'!E28)","v":72},{"$f":"IF('Futterberechnung (4)'!F28=\"\",\"\",'Futterberechnung (4)'!F28)","v":0.03},{"$f":"IF('Futterberechnung (4)'!G28=\"\",\"\",'Futterberechnung (4)'!G28)","v":3.259743861098692E-2},{"$f":"IF('Futterberechnung (4)'!H28=\"\",\"\",'Futterberechnung (4)'!H28)","v":30},null,"Rohfaser (XF)","g",{"$f":"IF('Futterberechnung (4)'!$L$30=\"\",\"\",'Futterberechnung (4)'!$L$30)","v":39.173460000000006},{"$f":"IF('Futterberechnung (4)'!$L$31=\"\",\"\",'Futterberechnung (4)'!$L$31)","v":39},{"$f":"IF('Futterberechnung (4)'!$L$33=\"\",\"\",'Futterberechnung (4)'!$L$33)","v":45},{"$f":"IF('Futterberechnung (4)'!$L$34=\"\",\"\",'Futterberechnung (4)'!$L$34)","v":-6}]
[null,{"$f":"IF('Futterberechnung (4)'!C29=\"\",\"\",'Futterberechnung (4)'!C29)","v":""},{"$f":"IF('Futterberechnung (4)'!E29=\"\",\"\",'Futterberechnung (4)'!E29)","v":""},{"$f":"IF('Futterberechnung (4)'!F29=\"\",\"\",'Futterberechnung (4)'!F29)","v":""},{"$f":"IF('Futterberechnung (4)'!G29=\"\",\"\",'Futterberechnung (4)'!G29)","v":""},{"$f":"IF('Futterberechnung (4)'!H29=\"\",\"\",'Futterberechnung (4)'!H29)","v":" "},null,"NDFom","g",{"$f":"IF('Futterberechnung (4)'!$W$63=\"\",\"\",'Futterberechnung (4)'!$W$63)","v":247.29436475951638},{"$f":"IF('Futterberechnung (4)'!$W$64=\"\",\"\",'Futterberechnung (4)'!$W$64)","v":246.3},{"$f":"IF('Futterberechnung (4)'!$W$66=0,\"\",'Futterberechnung (4)'!$W$66)","v":120},{"$f":"IF($L$31=\"\",\"\",'Futterberechnung (4)'!$W$67)","v":126}]
[null,"Futterkosten / Summe / Mischergröße",{"$f":"IF('Futterberechnung (4)'!E30=\"\",\"\",'Futterberechnung (4)'!E30)","v":20.068159999999999},{"$f":"IF('Futterberechnung (4)'!F30=\"\",\"\",'Futterberechnung (4)'!F30)","v":1},null,{"$f":"IF(F15=\"\",\"\",SUM(F15:F31))","v":1000},null,"ADFom","g",{"$f":"IF('Futterberechnung (4)'!$X$63=\"\",\"\",'Futterberechnung (4)'!$X$63)","v":43.151905582922822},{"$f":"IF('Futterberechnung (4)'!$X$64=\"\",\"\",'Futterberechnung (4)'!$X$64)","v":43},{"$f":"IF('Futterberechnung (4)'!$X$66=0,\"\",'Futterberechnung (4)'!$X$66)","v":70},{"$f":"IF($L$32=\"\",\"\",'Futterberechnung (4)'!$X$67)","v":-27}]
[null,"Futterkosten auf 88% TM umgerechnet",{"$f":"IF('Futterberechnung (4)'!E31=\"\",\"\",'Futterberechnung (4)'!E31)","v":19.988546527750266},null,null,{"$f":"IF(Futterberechnung!H31=\"\",\"\",Futterberechnung!H31)","v":""},null,"BfS","g",{"$f":"IF('Futterberechnung (4)'!$V$63=\"\",\"\",'Futterberechnung (4)'!$V$63)","v":74.113654600000004},{"$f":"IF('Futterberechnung (4)'!$V$64=\"\",\"\",'Futterberechnung (4)'!$V$64)","v":73.8},{"$f":"IF('Futterberechnung (4)'!$V$66=0,\"\",'Futterberechnung (4)'!$V$66)","v":""},{"$f":"IF($L$33=\"\",\"\",'Futterberechnung (4)'!$V$67)","v":""}]
[null,null,null,null,null,null,null,"Ca","g",{"$f":"IF('Futterberechnung (4)'!$W$30=\"\",\"\",'Futterberechnung (4)'!$W$30)","v":4.5882174063851062},{"$f":"IF('Futterberechnung (4)'!$W$31=\"\",\"\",'Futterberechnung (4)'!$W$31)","v":4.5999999999999996},{"$f":"IF('Futterberechnung (4)'!$W$33=\"\",\"\",'Futterberechnung (4)'!$W$33)","v":4.5},{"$f":"IF('Futterberechnung (4)'!$W$34=\"\",\"\",'Futterberechnung (4)'!$W$34)","v":0.1}]
[null,null,null,null,null,null,null,"P","g",{"$f":"IF('Futterberechnung (4)'!$X$30=\"\",\"\",'Futterberechnung (4)'!$X$30)","v":3.442849492671928},{"$f":"IF('Futterberechnung (4)'!$X$31=\"\",\"\",'Futterberechnung (4)'!$X$31)","v":3.4},{"$f":"IF('Futterberechnung (4)'!$X$33=\"\",\"\",'Futterberechnung (4)'!$X$33)","v":4},{"$f":"IF('Futterberechnung (4)'!$X$34=\"\",\"\",'Futterberechnung (4)'!$X$34)","v":-0.6}]
[null,null,null,null,null,null,null,"v.P","g",{"$f":"IF('Futterberechnung (4)'!$Y$30=\"\",\"\",'Futterberechnung (4)'!$Y$30)","v":1.7747397970687711},{"$f":"IF('Futterberechnung (4)'!$Y$31=\"\",\"\",'Futterberechnung (4)'!$Y$31)","v":1.8},{"$f":"IF('Futterberechnung (4)'!$Y$33=\"\",\"\",'Futterberechnung (4)'!$Y$33)","v":2},{"$f":"IF('Futterberechnung (4)'!$Y$34=\"\",\"\",'Futterberechnung (4)'!$Y$34)","v":-0.2}]
[null,null,null,null,null,null,null,"v.P + Phytase","g",{"$f":"IF('Futterberechnung (4)'!$Z$30=\"\",\"\",'Futterberechnung (4)'!$Z$30)","v":2.2720371195039459},{"$f":"IF('Futterberechnung (4)'!$Z$31=\"\",\"\",'Futterberechnung (4)'!$Z$31)","v":2.2999999999999998},{"$f":"IF('Futterberechnung (4)'!$Z$33=\"\",\"\",'Futterberechnung (4)'!$Z$33)","v":2},{"$f":"IF('Futterberechnung (4)'!$Z$34=\"\",\"\",'Futterberechnung (4)'!$Z$34)","v":0.3}]
[null,null,null,null,null,null,null,"Na","g",{"$f":"IF('Futterberechnung (4)'!$AB$30=\"\",\"\",'Futterberechnung (4)'!$AB$30)","v":1.6709551344827587},{"$f":"IF('Futterberechnung (4)'!$AB$31=\"\",\"\",'Futterberechnung (4)'!$AB$31)","v":1.7},{"$f":"IF('Futterberechnung (4)'!$AB$33=\"\",\"\",'Futterberechnung (4)'!$AB$33)","v":1.6},{"$f":"IF(Futterberechnung!$AB$34=\"\",\"\",'Futterberechnung (4)'!$AB$34)","v":0.1}]
[null,null,null,null,null,null,null,"Mg","g",{"$f":"IF('Futterberechnung (4)'!$AA$30=\"\",\"\",'Futterberechnung (4)'!$AA$30)","v":1.1493114093617023},{"$f":"IF('Futterberechnung (4)'!$AA$31=\"\",\"\",'Futterberechnung (4)'!$AA$31)","v":1.1000000000000001},{"$f":"IF('Futterberechnung (4)'!$AA$33=\"\",\"\",'Futterberechnung (4)'!$AA$33)","v":1},{"$f":"IF('Futterberechnung (4)'!$AA$34=\"\",\"\",'Futterberechnung (4)'!$AA$34)","v":0.1}]
[null,null,null,null,null,null,null,"Polyensäuren","g",{"$f":"IF('Futterberechnung (4)'!$N$63=\"\",\"\",'Futterberechnung (4)'!$N$63)","v":13.666398620689655},{"$f":"IF('Futterberechnung (4)'!$N$64=\"\",\"\",'Futterberechnung (4)'!$N$64)","v":13.6},{"$f":"IF('Futterberechnung (4)'!$N$66=\"\",\"\",'Futterberechnung (4)'!$N$66)","v":18},{"$f":"IF('Futterberechnung (4)'!$N$67=\"\",\"\",'Futterberechnung (4)'!$N$67)","v":-4.4000000000000004}]
[null,null,null,null,null,null,null,"Vit. A","IE",{"$f":"IF('Futterberechnung (4)'!$Q$63=\"\",\"\",'Futterberechnung (4)'!$Q$63)","v":6030},{"$f":"IF('Futterberechnung (4)'!$Q$64=\"\",\"\",'Futterberechnung (4)'!$Q$64)","v":6006},{"$f":"IF('Futterberechnung (4)'!$Q$66=\"\",\"\",'Futterberechnung (4)'!$Q$66)","v":5000},{"$f":"IF('Futterberechnung (4)'!$Q$67=\"\",\"\",'Futterberechnung (4)'!$Q$67)","v":1006}]
[null,null,null,null,null,null,null,"Vit. D3","IE",{"$f":"IF('Futterberechnung (4)'!$R$63=\"\",\"\",'Futterberechnung (4)'!$R$63)","v":1206},{"$f":"IF('Futterberechnung (4)'!$R$64=\"\",\"\",'Futterberechnung (4)'!$R$64)","v":1201},{"$f":"IF('Futterberechnung (4)'!$R$66=\"\",\"\",'Futterberechnung (4)'!$R$66)","v":1000},{"$f":"IF('Futterberechnung (4)'!$R$67=\"\",\"\",'Futterberechnung (4)'!$R$67)","v":201}]
[null,null,null,null,null,null,null,"Vit. E","mg",{"$f":"IF('Futterberechnung (4)'!$S$63=\"\",\"\",'Futterberechnung (4)'!$S$63)","v":61.199999999999996},{"$f":"IF('Futterberechnung (4)'!$S$64=\"\",\"\",'Futterberechnung (4)'!$S$64)","v":61},{"$f":"IF('Futterberechnung (4)'!$S$66=\"\",\"\",'Futterberechnung (4)'!$S$66)","v":50},{"$f":"IF('Futterberechnung (4)'!$S$67=\"\",\"\",'Futterberechnung (4)'!$S$67)","v":11}]
[]
[null,"Aminosäurenverhältnis (AS-Verältnis)","pcv M + C","pcv Thr","pcv Trp",null,null,"Ca / P   ","/1",{"$f":"IF(K45=\"\",\"\",K45)","v":1.3326802162427032},{"$f":"IF('Futterberechnung (4)'!$T$40=\"\",\"\",'Futterberechnung (4)'!$T$40)","v":1.3326802162427032},{"$f":"IF('Futterberechnung (4)'!$T$41=\"\",\"\",'Futterberechnung (4)'!$T$41)","v":1.1200000000000001},{"$f":"IF(K45=\"\",\"\",K45-L45)","v":0.21268021624270306}]
[null,"AS-Verhältnis in der Ration pcv Lysin 1 /",{"$f":"IF('Futterberechnung (4)'!N40=\"\",\"\",'Futterberechnung (4)'!N40)","v":0.64121665114420601},{"$f":"IF('Futterberechnung (4)'!P40=\"\",\"\",'Futterberechnung (4)'!P40)","v":0.64059787678983215},{"$f":"IF('Futterberechnung (4)'!R40=\"\",\"\",'Futterberechnung (4)'!R40)","v":0.1837289549651083},null,null,"Ca / vP          ","/1",2.5852902008301069,{"$f":"IF('Futterberechnung (4)'!$X$40=\"\",\"\",'Futterberechnung (4)'!$X$40)","v":2.5852902008301069},{"$f":"IF('Futterberechnung (4)'!$X$41=\"\",\"\",'Futterberechnung (4)'!$X$41)","v":2.19},0.39529020083010691]
[null,"Orientierungswert AS-Verhältnis pcv Lysin 1 /",{"$f":"IF('Futterberechnung (4)'!N41=\"\",\"\",'Futterberechnung (4)'!N41)","v":0.56000000000000005},{"$f":"IF('Futterberechnung (4)'!P41=\"\",\"\",'Futterberechnung (4)'!P41)","v":0.65},{"$f":"IF('Futterberechnung (4)'!R41=\"\",\"\",'Futterberechnung (4)'!R41)","v":0.18},null,null,"Ca / vP + Phytase","/1",2.0194288935679237,{"$f":"IF('Futterberechnung (4)'!$X$39=\"\",\"\",'Futterberechnung (4)'!$X$39)","v":2.0194288935679237},{"$f":"IF('Futterberechnung (4)'!$X$41=\"\",\"\",'Futterberechnung (4)'!$X$41)","v":2.19},-0.17057110643207629]
[null,"Differenz",{"$f":"IF(C46=\"\",\"\",C46-C47)","v":8.1216651144205954E-2},{"$f":"IF(D46=\"\",\"\",D46-D47)","v":-9.4021232101678676E-3},{"$f":"IF(E46=\"\",\"\",E46-E47)","v":3.7289549651083054E-3},null,null,"Lys / MES EFF*","g/MJ",0.57959814528593512,{"$f":"IF('Futterberechnung (4)'!$F$40=\"\",\"\",'Futterberechnung (4)'!$F$40)","v":0.57959814528593512},{"$f":"IF('Futterberechnung (4)'!$F$41=\"\",\"\",'Futterberechnung (4)'!$F$41)","v":0.61},-3.0401854714064869E-2]
[null,null,null,null,null,null,null,"pcv Lys / MES EFF*","g/MJ",0.5255023183925811,{"$f":"IF('Futterberechnung (4)'!$I$40=\"\",\"\",'Futterberechnung (4)'!$I$40)","v":0.5255023183925811},{"$f":"IF('Futterberechnung (4)'!$I$41=\"\",\"\",'Futterberechnung (4)'!$I$41)","v":0.53},-4.4976816074189241E-3]
[null,null,null,null,null,null,null,"Lys in 100g RP","g",5.7627118644067794,{"$f":"IF('Futterberechnung (4)'!$AA$40=\"\",\"\",'Futterberechnung (4)'!$AA$40)","v":5.7627118644067794},{"$f":"IF('Futterberechnung (4)'!$AA$41=\"\",\"\",'Futterberechnung (4)'!$AA$41)","v":5.31},0.4527118644067798]
[null,null,null,null,null,null,null,"Kosten / 10 MJ MES EFF*",null,{"$f":"IF('Futterberechnung (4)'!$M$31=\"\",\"\",$C$32/100/'Futterberechnung (4)'!$M$30*10)","v":0.15448422494437825},{"$f":"IF('Futterberechnung (4)'!$M$31=\"\",\"\",$C$33/100/'Futterberechnung (4)'!$M$31*10)","v":0.15447099325927563}]
[]
[null,null,null,null,null,null,null,"* EFF=Einzelfutterformel und MFF=Mischfutterformel (EFF ist genauer!)"]
[null,"KAB oder DCAB oder BE in 100% TM der Ration",{"$f":"IF('Futterberechnung (4)'!T64=\"\",\"\",'Futterberechnung (4)'!T64/88*100)","v":240.90909090909091}]
[null,"Harn-pH bei Fütterung dieser Ration",{"$f":"IF(C54=\"\",\"\",6.19+0.0031*C54+3*10^-6*C54^2)","v":7.1109297520661165}]
[]
[null,"Basenüberschuß (BE)",null,"Harn pH"]
[null,"100 % TM"," in 88 %TM"]
[null,500,{"$f":"B59*0.88","v":440},8.5]
[null,400,{"$f":"B60*0.88","v":352},7.9]
[null,300,264,7.4]
[null,200,176,6.9]
[null,100,88,6.5]
[null,0,0,6.2]
[null,-100,-88,5.9]
[null,-200,-176,5.7]
[null,-400,-352,5.4]

{"sheet":"Ausdruck Vergleich (3)","index":10,"n_rows":55,"n_cols":7,"rows_kept":55,"cut":false,"hidden":true,"merged":[[8,2,8,4],[16,3,16,6],[13,1,13,6],[9,1,9,5],[10,1,10,6],[11,1,11,5],[14,3,14,6]]}
[]
[]
[]
[]
[]
[]
[]
[]
[null,"Betrieb:",{"$f":"IF(Futterberechnung!$H$5=\"\",\"\",Futterberechnung!$H$5)","v":"Mustermann"},null,null,"Datum:",{"$f":"IF(Futterberechnung!$Z$5=\"\",\"\",Futterberechnung!$Z$5)","v":"2018-08-01"}]
[null,"Rationsvergleich"]
[null,{"$f":"IF('Futterberechnung (2)'!P7=\"\",\"\",'Futterberechnung (2)'!P7)","v":"Getreide = Richtpreise Ernte 2017/18"}]
[]
[]
[null,"Inhaltsstoffe                                                                             in 1 kg Futtermittel mit 88% TM"]
[null,null,null,{"$f":"IF(Orientierungswerte!D35=\"\",\"\",Orientierungswerte!D35)","v":"Mast beider Geschlechter"}]
[null,"Ration",null,{"$f":"IF(Futterberechnung!$C$33=\"\",\"\",Futterberechnung!$C$33)","v":"Vormast 28 - 40 Kg LM für 850 g TZ*"},{"$f":"IF('Futterberechnung (2)'!$C$33=\"\",\"\",'Futterberechnung (2)'!$C$33)","v":"Anfangsmast ab 40 Kg LM für 850 g TZ*"},{"$f":"IF('Futterberechnung (3)'!$C$33=\"\",\"\",'Futterberechnung (3)'!$C$33)","v":"Mittelmast ab 60 Kg LM für 850 g TZ*"},{"$f":"IF('Futterberechnung (4)'!$C$33=\"\",\"\",'Futterberechnung (4)'!$C$33)","v":"Endmast ab 90 Kg LM für 850 g TZ*"}]
[null,null,"in","in 88% TM"]
[null,"MES EFF*","MJ",{"$f":"IF(Futterberechnung!$M$31=\"\",\"\",Futterberechnung!$M$31)","v":13.35},{"$f":"IF('Futterberechnung (2)'!$M$31=\"\",\"\",'Futterberechnung (2)'!$M$31)","v":13.15},{"$f":"IF('Futterberechnung (3)'!$M$31=\"\",\"\",'Futterberechnung (3)'!$M$31)","v":12.94},{"$f":"IF('Futterberechnung (4)'!$M$31=\"\",\"\",'Futterberechnung (4)'!$M$31)","v":12.94}]
[null,"MES MFF*","MJ",{"$f":"IF(Futterberechnung!$N$31=\"\",\"\",Futterberechnung!$N$31)","v":13.29},{"$f":"IF('Futterberechnung (2)'!$N$31=\"\",\"\",'Futterberechnung (2)'!$N$31)","v":13.11},{"$f":"IF('Futterberechnung (3)'!$N$31=\"\",\"\",'Futterberechnung (3)'!$N$31)","v":12.94},{"$f":"IF('Futterberechnung (4)'!$N$31=\"\",\"\",'Futterberechnung (4)'!$N$31)","v":12.94}]
[null,"Rohprotein (XP)","g",{"$f":"IF(Futterberechnung!$J$31=\"\",\"\",Futterberechnung!$J$31)","v":159},{"$f":"IF('Futterberechnung (2)'!$J$31=\"\",\"\",'Futterberechnung (2)'!$J$31)","v":147},{"$f":"IF('Futterberechnung (3)'!$J$31=\"\",\"\",'Futterberechnung (3)'!$J$31)","v":139},{"$f":"IF('Futterberechnung (4)'!$J$31=\"\",\"\",'Futterberechnung (4)'!$J$31)","v":118}]
[null,"Lys","g",{"$f":"IF(Futterberechnung!$O$31=\"\",\"\",Futterberechnung!$O$31)","v":11.1},{"$f":"IF('Futterberechnung (2)'!$O$31=\"\",\"\",'Futterberechnung (2)'!$O$31)","v":9.6},{"$f":"IF('Futterberechnung (3)'!$O$31=\"\",\"\",'Futterberechnung (3)'!$O$31)","v":8.4},{"$f":"IF('Futterberechnung (4)'!$O$31=\"\",\"\",'Futterberechnung (4)'!$O$31)","v":7.5}]
[null,"pcv Lys","g",{"$f":"IF(Futterberechnung!$P$31=\"\",\"\",Futterberechnung!$P$31)","v":10.1},{"$f":"IF('Futterberechnung (2)'!$P$31=\"\",\"\",'Futterberechnung (2)'!$P$31)","v":8.6999999999999993},{"$f":"IF('Futterberechnung (3)'!$P$31=\"\",\"\",'Futterberechnung (3)'!$P$31)","v":7.5},{"$f":"IF('Futterberechnung (4)'!$P$31=\"\",\"\",'Futterberechnung (4)'!$P$31)","v":6.8}]
[null,"Met","g",{"$f":"IF(Futterberechnung!$G$64=\"\",\"\",Futterberechnung!$G$64)","v":3.2},{"$f":"IF('Futterberechnung (2)'!$G$64=\"\",\"\",'Futterberechnung (2)'!$G$64)","v":2.9},{"$f":"IF('Futterberechnung (3)'!$G$64=\"\",\"\",'Futterberechnung (3)'!$G$64)","v":2.2999999999999998},{"$f":"IF('Futterberechnung (4)'!$G$64=\"\",\"\",'Futterberechnung (4)'!$G$64)","v":2.2000000000000002}]
[null,"pcv Met","g",{"$f":"IF(Futterberechnung!$H$64=\"\",\"\",Futterberechnung!$H$64)","v":2.9},{"$f":"IF('Futterberechnung (2)'!$H$64=\"\",\"\",'Futterberechnung (2)'!$H$64)","v":2.6},{"$f":"IF('Futterberechnung (3)'!$H$64=\"\",\"\",'Futterberechnung (3)'!$H$64)","v":2.1},{"$f":"IF('Futterberechnung (4)'!$H$64=\"\",\"\",'Futterberechnung (4)'!$H$64)","v":2}]
[null,"Met + Cys","g",{"$f":"IF(Futterberechnung!$Q$31=\"\",\"\",Futterberechnung!$Q$31)","v":6.3},{"$f":"IF('Futterberechnung (2)'!$Q$31=\"\",\"\",'Futterberechnung (2)'!$Q$31)","v":5.9},{"$f":"IF('Futterberechnung (3)'!$Q$31=\"\",\"\",'Futterberechnung (3)'!$Q$31)","v":5.3},{"$f":"IF('Futterberechnung (4)'!$Q$31=\"\",\"\",'Futterberechnung (4)'!$Q$31)","v":4.9000000000000004}]
[null,"pcv Met + Cys","g",{"$f":"IF(Futterberechnung!$R$31=\"\",\"\",Futterberechnung!$R$31)","v":5.6},{"$f":"IF('Futterberechnung (2)'!$R$31=\"\",\"\",'Futterberechnung (2)'!$R$31)","v":5.2},{"$f":"IF('Futterberechnung (3)'!$R$31=\"\",\"\",'Futterberechnung (3)'!$R$31)","v":4.5999999999999996},{"$f":"IF('Futterberechnung (4)'!$R$31=\"\",\"\",'Futterberechnung (4)'!$R$31)","v":4.3}]
[null,"Thr","g",{"$f":"IF(Futterberechnung!$S$31=\"\",\"\",Futterberechnung!$S$31)","v":7.2},{"$f":"IF('Futterberechnung (2)'!$S$31=\"\",\"\",'Futterberechnung (2)'!$S$31)","v":6.4},{"$f":"IF('Futterberechnung (3)'!$S$31=\"\",\"\",'Futterberechnung (3)'!$S$31)","v":5.5},{"$f":"IF('Futterberechnung (4)'!$S$31=\"\",\"\",'Futterberechnung (4)'!$S$31)","v":5}]
[null,"pcv Thr","g",{"$f":"IF(Futterberechnung!$T$31=\"\",\"\",Futterberechnung!$T$31)","v":6.4},{"$f":"IF('Futterberechnung (2)'!$T$31=\"\",\"\",'Futterberechnung (2)'!$T$31)","v":5.6},{"$f":"IF('Futterberechnung (3)'!$T$31=\"\",\"\",'Futterberechnung (3)'!$T$31)","v":4.8},{"$f":"IF('Futterberechnung (4)'!$T$31=\"\",\"\",'Futterberechnung (4)'!$T$31)","v":4.3}]
[null,"Trp","g",{"$f":"IF(Futterberechnung!$U$31=\"\",\"\",Futterberechnung!$U$31)","v":2},{"$f":"IF('Futterberechnung (2)'!$U$31=\"\",\"\",'Futterberechnung (2)'!$U$31)","v":1.9},{"$f":"IF('Futterberechnung (3)'!$U$31=\"\",\"\",'Futterberechnung (3)'!$U$31)","v":1.8},{"$f":"IF('Futterberechnung (4)'!$U$31=\"\",\"\",'Futterberechnung (4)'!$U$31)","v":1.5}]
[null,"pcv Trp","g",{"$f":"IF(Futterberechnung!$V$31=\"\",\"\",Futterberechnung!$V$31)","v":1.7},{"$f":"IF('Futterberechnung (2)'!$V$31=\"\",\"\",'Futterberechnung (2)'!$V$31)","v":1.6},{"$f":"IF('Futterberechnung (3)'!$V$31=\"\",\"\",'Futterberechnung (3)'!$V$31)","v":1.5},{"$f":"IF('Futterberechnung (4)'!$V$31=\"\",\"\",'Futterberechnung (4)'!$V$31)","v":1.2}]
[null,"Rohfaser (XF)","g",{"$f":"IF(Futterberechnung!$L$31=\"\",\"\",Futterberechnung!$L$31)","v":36},{"$f":"IF('Futterberechnung (2)'!$L$31=\"\",\"\",'Futterberechnung (2)'!$L$31)","v":37},{"$f":"IF('Futterberechnung (3)'!$L$31=\"\",\"\",'Futterberechnung (3)'!$L$31)","v":40},{"$f":"IF('Futterberechnung (4)'!$L$31=\"\",\"\",'Futterberechnung (4)'!$L$31)","v":39}]
[null,"NDFom","g",{"$f":"IF(Futterberechnung!$W$64=\"\",\"\",Futterberechnung!$W$64)","v":204.2},{"$f":"IF('Futterberechnung (2)'!$W$64=\"\",\"\",'Futterberechnung (2)'!$W$64)","v":219},{"$f":"IF('Futterberechnung (3)'!$W$64=\"\",\"\",'Futterberechnung (3)'!$W$64)","v":239.9},{"$f":"IF('Futterberechnung (4)'!$W$64=\"\",\"\",'Futterberechnung (4)'!$W$64)","v":246.3}]
[null,"ADFom","g",{"$f":"IF(Futterberechnung!$X$64=\"\",\"\",Futterberechnung!$X$64)","v":46.4},{"$f":"IF('Futterberechnung (2)'!$X$64=\"\",\"\",'Futterberechnung (2)'!$X$64)","v":45.6},{"$f":"IF('Futterberechnung (3)'!$X$64=\"\",\"\",'Futterberechnung (3)'!$X$64)","v":46},{"$f":"IF('Futterberechnung (4)'!$X$64=\"\",\"\",'Futterberechnung (4)'!$X$64)","v":43}]
[null,"BfS","g",{"$f":"IF(Futterberechnung!$V$64=\"\",\"\",Futterberechnung!$V$64)","v":78.3},{"$f":"IF('Futterberechnung (2)'!$V$64=\"\",\"\",'Futterberechnung (2)'!$V$64)","v":77.8},{"$f":"IF('Futterberechnung (3)'!$V$64=\"\",\"\",'Futterberechnung (3)'!$V$64)","v":80.099999999999994},{"$f":"IF('Futterberechnung (4)'!$V$64=\"\",\"\",'Futterberechnung (4)'!$V$64)","v":73.8}]
[null,"Ca","g",{"$f":"IF(Futterberechnung!$W$31=\"\",\"\",Futterberechnung!$W$31)","v":6.6},{"$f":"IF('Futterberechnung (2)'!$W$31=\"\",\"\",'Futterberechnung (2)'!$W$31)","v":5.9},{"$f":"IF('Futterberechnung (3)'!$W$31=\"\",\"\",'Futterberechnung (3)'!$W$31)","v":5.2},{"$f":"IF('Futterberechnung (4)'!$W$31=\"\",\"\",'Futterberechnung (4)'!$W$31)","v":4.5999999999999996}]
[null,"P","g",{"$f":"IF(Futterberechnung!$X$31=\"\",\"\",Futterberechnung!$X$31)","v":4.4000000000000004},{"$f":"IF('Futterberechnung (2)'!$X$31=\"\",\"\",'Futterberechnung (2)'!$X$31)","v":4.2},{"$f":"IF('Futterberechnung (3)'!$X$31=\"\",\"\",'Futterberechnung (3)'!$X$31)","v":3.6},{"$f":"IF('Futterberechnung (4)'!$X$31=\"\",\"\",'Futterberechnung (4)'!$X$31)","v":3.4}]
[null,"v.P","g",{"$f":"IF(Futterberechnung!$Y$31=\"\",\"\",Futterberechnung!$Y$31)","v":2.4},{"$f":"IF('Futterberechnung (2)'!$Y$31=\"\",\"\",'Futterberechnung (2)'!$Y$31)","v":2.2999999999999998},{"$f":"IF('Futterberechnung (3)'!$Y$31=\"\",\"\",'Futterberechnung (3)'!$Y$31)","v":1.8},{"$f":"IF('Futterberechnung (4)'!$Y$31=\"\",\"\",'Futterberechnung (4)'!$Y$31)","v":1.8}]
[null,"v.P + Phytase","g",{"$f":"IF(Futterberechnung!$Z$31=\"\",\"\",Futterberechnung!$Z$31)","v":3.1},{"$f":"IF('Futterberechnung (2)'!$Z$31=\"\",\"\",'Futterberechnung (2)'!$Z$31)","v":2.9},{"$f":"IF('Futterberechnung (3)'!$Z$31=\"\",\"\",'Futterberechnung (3)'!$Z$31)","v":2.4},{"$f":"IF('Futterberechnung (4)'!$Z$31=\"\",\"\",'Futterberechnung (4)'!$Z$31)","v":2.2999999999999998}]
[null,"Na","g",{"$f":"IF(Futterberechnung!$AB$31=\"\",\"\",Futterberechnung!$AB$31)","v":2.1},{"$f":"IF('Futterberechnung (2)'!$AB$31=\"\",\"\",'Futterberechnung (2)'!$AB$31)","v":1.9},{"$f":"IF('Futterberechnung (3)'!$AB$31=\"\",\"\",'Futterberechnung (3)'!$AB$31)","v":1.8},{"$f":"IF('Futterberechnung (4)'!$AB$31=\"\",\"\",'Futterberechnung (4)'!$AB$31)","v":1.7}]
[null,"Mg","g",{"$f":"IF(Futterberechnung!$AA$31=\"\",\"\",Futterberechnung!$AA$31)","v":1.3},{"$f":"IF('Futterberechnung (2)'!$AA$31=\"\",\"\",'Futterberechnung (2)'!$AA$31)","v":1.3},{"$f":"IF('Futterberechnung (3)'!$AA$31=\"\",\"\",'Futterberechnung (3)'!$AA$31)","v":1.2},{"$f":"IF('Futterberechnung (4)'!$AA$31=\"\",\"\",'Futterberechnung (4)'!$AA$31)","v":1.1000000000000001}]
[null,"Polyensäuren","g",{"$f":"IF(Futterberechnung!$N$64=\"\",\"\",Futterberechnung!$N$64)","v":15.6},{"$f":"IF('Futterberechnung (2)'!$N$64=\"\",\"\",'Futterberechnung (2)'!$N$64)","v":14.7},{"$f":"IF('Futterberechnung (3)'!$N$64=\"\",\"\",'Futterberechnung (3)'!$N$64)","v":13.5},{"$f":"IF('Futterberechnung (4)'!$N$64=\"\",\"\",'Futterberechnung (4)'!$N$64)","v":13.6}]
[null,"Vit. A","IE",{"$f":"IF(Futterberechnung!$Q$64=\"\",\"\",Futterberechnung!$Q$64)","v":6012},{"$f":"IF('Futterberechnung (2)'!$Q$64=\"\",\"\",'Futterberechnung (2)'!$Q$64)","v":6018},{"$f":"IF('Futterberechnung (3)'!$Q$64=\"\",\"\",'Futterberechnung (3)'!$Q$64)","v":5002},{"$f":"IF('Futterberechnung (4)'!$Q$64=\"\",\"\",'Futterberechnung (4)'!$Q$64)","v":6006}]
[null,"Vit. D3","IE",{"$f":"IF(Futterberechnung!$R$64=\"\",\"\",Futterberechnung!$R$64)","v":1503},{"$f":"IF('Futterberechnung (2)'!$R$64=\"\",\"\",'Futterberechnung (2)'!$R$64)","v":1505},{"$f":"IF('Futterberechnung (3)'!$R$64=\"\",\"\",'Futterberechnung (3)'!$R$64)","v":1000},{"$f":"IF('Futterberechnung (4)'!$R$64=\"\",\"\",'Futterberechnung (4)'!$R$64)","v":1201}]
[null,"Vit. E","mg",{"$f":"IF(Futterberechnung!$S$64=\"\",\"\",Futterberechnung!$S$64)","v":61},{"$f":"IF('Futterberechnung (2)'!$S$64=\"\",\"\",'Futterberechnung (2)'!$S$64)","v":61},{"$f":"IF('Futterberechnung (3)'!$S$64=\"\",\"\",'Futterberechnung (3)'!$S$64)","v":51},{"$f":"IF('Futterberechnung (4)'!$S$64=\"\",\"\",'Futterberechnung (4)'!$S$64)","v":61}]
[]
[null,"Ca / P   ","/1",{"$f":"IF(Futterberechnung!$T$40=\"\",\"\",Futterberechnung!$T$40)","v":1.4888418249301032},{"$f":"IF('Futterberechnung (2)'!$T$40=\"\",\"\",'Futterberechnung (2)'!$T$40)","v":1.4314942692471919},{"$f":"IF('Futterberechnung (3)'!$T$40=\"\",\"\",'Futterberechnung (3)'!$T$40)","v":1.4258623951503999},{"$f":"IF('Futterberechnung (4)'!$T$40=\"\",\"\",'Futterberechnung (4)'!$T$40)","v":1.3326802162427032}]
[null,"Ca / vP          ","/1",{"$f":"IF(Futterberechnung!$X$40=\"\",\"\",Futterberechnung!$X$40)","v":2.6910006928363446},{"$f":"IF('Futterberechnung (2)'!$X$40=\"\",\"\",'Futterberechnung (2)'!$X$40)","v":2.6315817515389477},{"$f":"IF('Futterberechnung (3)'!$X$40=\"\",\"\",'Futterberechnung (3)'!$X$40)","v":2.8456380231253511},{"$f":"IF('Futterberechnung (4)'!$X$40=\"\",\"\",'Futterberechnung (4)'!$X$40)","v":2.5852902008301069}]
[null,"Ca / vP + Phytase","/1",{"$f":"IF(Futterberechnung!$X$39=\"\",\"\",Futterberechnung!$X$39)","v":2.1328605099086393},{"$f":"IF('Futterberechnung (2)'!$X$39=\"\",\"\",'Futterberechnung (2)'!$X$39)","v":2.0755271874024483},{"$f":"IF('Futterberechnung (3)'!$X$39=\"\",\"\",'Futterberechnung (3)'!$X$39)","v":2.1273365059705416},{"$f":"IF('Futterberechnung (4)'!$X$39=\"\",\"\",'Futterberechnung (4)'!$X$39)","v":2.0194288935679237}]
[null,"Lys / MES EFF*","g/MJ",{"$f":"IF(Futterberechnung!$F$40=\"\",\"\",Futterberechnung!$F$40)","v":0.8314606741573034},{"$f":"IF('Futterberechnung (2)'!$F$40=\"\",\"\",'Futterberechnung (2)'!$F$40)","v":0.73003802281368813},{"$f":"IF('Futterberechnung (3)'!$F$40=\"\",\"\",'Futterberechnung (3)'!$F$40)","v":0.6491499227202473},{"$f":"IF('Futterberechnung (4)'!$F$40=\"\",\"\",'Futterberechnung (4)'!$F$40)","v":0.57959814528593512}]
[null,"pcv Lys / MES EFF*","g/MJ",{"$f":"IF(Futterberechnung!$I$40=\"\",\"\",Futterberechnung!$I$40)","v":0.75655430711610483},{"$f":"IF('Futterberechnung (2)'!$I$40=\"\",\"\",'Futterberechnung (2)'!$I$40)","v":0.66159695817490483},{"$f":"IF('Futterberechnung (3)'!$I$40=\"\",\"\",'Futterberechnung (3)'!$I$40)","v":0.57959814528593512},{"$f":"IF('Futterberechnung (4)'!$I$40=\"\",\"\",'Futterberechnung (4)'!$I$40)","v":0.5255023183925811}]
[null,"Lys in 100g RP","g",{"$f":"IF(Futterberechnung!$AA$40=\"\",\"\",Futterberechnung!$AA$40)","v":6.3522012578616351},{"$f":"IF('Futterberechnung (2)'!$AA$40=\"\",\"\",'Futterberechnung (2)'!$AA$40)","v":5.9183673469387745},{"$f":"IF('Futterberechnung (3)'!$AA$40=\"\",\"\",'Futterberechnung (3)'!$AA$40)","v":5.3956834532374103},{"$f":"IF('Futterberechnung (4)'!$AA$40=\"\",\"\",'Futterberechnung (4)'!$AA$40)","v":5.7627118644067794}]
[null,"Kosten / 10 MJ MES EFF*",null,{"$f":"IF(Futterberechnung!$M$31=\"\",\"\",Futterberechnung!$E$31/100/Futterberechnung!$M$31*10)","v":0.17880162224518731},{"$f":"IF('Futterberechnung (2)'!$M$31=\"\",\"\",'Futterberechnung (2)'!$E$31/100/'Futterberechnung (2)'!$M$31*10)","v":0.17287399223766181},{"$f":"IF('Futterberechnung (3)'!$M$31=\"\",\"\",'Futterberechnung (3)'!$E$31/100/'Futterberechnung (3)'!$M$31*10)","v":0.16501226950851242},{"$f":"IF('Futterberechnung (4)'!$M$31=\"\",\"\",'Futterberechnung (4)'!$E$31/100/'Futterberechnung (4)'!$M$31*10)","v":0.15447099325927563}]
[null,"Kosten Ration pro dt",null,{"$f":"IF(Futterberechnung!E31=\"\",\"\",Futterberechnung!E31)","v":23.870016569732506},{"$f":"IF('Futterberechnung (2)'!$E$31=\"\",\"\",'Futterberechnung (2)'!$E$31)","v":22.732929979252528},{"$f":"IF('Futterberechnung (3)'!$E$31=\"\",\"\",'Futterberechnung (3)'!$E$31)","v":21.352587674401505},{"$f":"IF('Futterberechnung (4)'!$E$31=\"\",\"\",'Futterberechnung (4)'!$E$31)","v":19.988546527750266}]
[]
[null,"* EFF=Einzelfutterformel und MFF=Mischfutterformel (EFF ist genauer!)"]

{"sheet":" Ausdruck Vergleich","index":11,"n_rows":55,"n_cols":11,"rows_kept":55,"cut":false,"hidden":false,"merged":[[15,3,15,10],[8,2,8,4],[13,3,13,6],[10,1,10,10],[8,5,8,8],[14,3,14,4],[14,5,14,6],[14,7,14,8],[14,9,14,10],[12,1,12,10],[9,1,9,10]]}
[]
[]
[]
[]
[]
[]
[]
[]
[null,"Betrieb:",{"$f":"IF(Futterberechnung!$H$5=\"\",\"\",Futterberechnung!$H$5)","v":"Mustermann"},null,null,null,null,null,null,"Datum:",{"$f":"IF(Futterberechnung!$Z$5=\"\",\"\",Futterberechnung!$Z$5)","v":"2018-08-01"}]
[null,"Rationsvergleich"]
[null,{"$f":"IF('Futterberechnung (2)'!P7=\"\",\"\",'Futterberechnung (2)'!P7)","v":"Getreide = Richtpreise Ernte 2017/18"}]
[]
[null,"Inhaltsstoffe                                                                                                                                                        in 1 kg Futtermittel mit 88% TM"]
[null,null,null,{"$f":"IF(Orientierungswerte!D35=\"\",\"\",Orientierungswerte!D35)","v":"Mast beider Geschlechter"}]
[null,"Ration",null,{"$f":"IF(Futterberechnung!$C$33=\"\",\"\",Futterberechnung!$C$33)","v":"Vormast 28 - 40 Kg LM für 850 g TZ*"},null,{"$f":"IF('Futterberechnung (2)'!$C$33=\"\",\"\",'Futterberechnung (2)'!$C$33)","v":"Anfangsmast ab 40 Kg LM für 850 g TZ*"},null,{"$f":"IF('Futterberechnung (3)'!$C$33=\"\",\"\",'Futterberechnung (3)'!$C$33)","v":"Mittelmast ab 60 Kg LM für 850 g TZ*"},null,{"$f":"IF('Futterberechnung (4)'!$C$33=\"\",\"\",'Futterberechnung (4)'!$C$33)","v":"Endmast ab 90 Kg LM für 850 g TZ*"}]
[null,null,"in","in 88% TM"]
[null,null,null,"ist","soll","ist","soll","ist","soll","ist","soll"]
[null,"MES EFF*","MJ",{"$f":"IF(Futterberechnung!$M$31=\"\",\"\",Futterberechnung!$M$31)","v":13.35},{"$f":"Ausdruck!L17","v":13.4},{"$f":"IF('Futterberechnung (2)'!$M$31=\"\",\"\",'Futterberechnung (2)'!$M$31)","v":13.15},{"$f":"'Ausdruck (2)'!L17","v":13.2},{"$f":"IF('Futterberechnung (3)'!$M$31=\"\",\"\",'Futterberechnung (3)'!$M$31)","v":12.94},{"$f":"'Ausdruck (3)'!L17","v":13},{"$f":"IF('Futterberechnung (4)'!$M$31=\"\",\"\",'Futterberechnung (4)'!$M$31)","v":12.94},{"$f":"'Ausdruck (4)'!L17","v":13}]
[null,"MES MFF*","MJ",{"$f":"IF(Futterberechnung!$N$31=\"\",\"\",Futterberechnung!$N$31)","v":13.29},{"$f":"Ausdruck!L18","v":13.4},{"$f":"IF('Futterberechnung (2)'!$N$31=\"\",\"\",'Futterberechnung (2)'!$N$31)","v":13.11},{"$f":"'Ausdruck (2)'!L18","v":13.2},{"$f":"IF('Futterberechnung (3)'!$N$31=\"\",\"\",'Futterberechnung (3)'!$N$31)","v":12.94},{"$f":"'Ausdruck (3)'!L18","v":13},{"$f":"IF('Futterberechnung (4)'!$N$31=\"\",\"\",'Futterberechnung (4)'!$N$31)","v":12.94},{"$f":"'Ausdruck (4)'!L18","v":13}]
[null,"Rohprotein (XP)","g",{"$f":"IF(Futterberechnung!$J$31=\"\",\"\",Futterberechnung!$J$31)","v":159},{"$f":"Ausdruck!L19","v":170},{"$f":"IF('Futterberechnung (2)'!$J$31=\"\",\"\",'Futterberechnung (2)'!$J$31)","v":147},{"$f":"'Ausdruck (2)'!L19","v":158},{"$f":"IF('Futterberechnung (3)'!$J$31=\"\",\"\",'Futterberechnung (3)'!$J$31)","v":139},{"$f":"'Ausdruck (3)'!L19","v":150},{"$f":"IF('Futterberechnung (4)'!$J$31=\"\",\"\",'Futterberechnung (4)'!$J$31)","v":118},{"$f":"'Ausdruck (4)'!L19","v":130}]
[null,"Lys","g",{"$f":"IF(Futterberechnung!$O$31=\"\",\"\",Futterberechnung!$O$31)","v":11.1},{"$f":"Ausdruck!L20","v":11.4},{"$f":"IF('Futterberechnung (2)'!$O$31=\"\",\"\",'Futterberechnung (2)'!$O$31)","v":9.6},{"$f":"'Ausdruck (2)'!L20","v":10.199999999999999},{"$f":"IF('Futterberechnung (3)'!$O$31=\"\",\"\",'Futterberechnung (3)'!$O$31)","v":8.4},{"$f":"'Ausdruck (3)'!L20","v":8.8000000000000007},{"$f":"IF('Futterberechnung (4)'!$O$31=\"\",\"\",'Futterberechnung (4)'!$O$31)","v":7.5},{"$f":"'Ausdruck (4)'!L20","v":8}]
[null,"pcv Lys","g",{"$f":"IF(Futterberechnung!$P$31=\"\",\"\",Futterberechnung!$P$31)","v":10.1},{"$f":"Ausdruck!L21","v":10.199999999999999},{"$f":"IF('Futterberechnung (2)'!$P$31=\"\",\"\",'Futterberechnung (2)'!$P$31)","v":8.6999999999999993},{"$f":"'Ausdruck (2)'!L21","v":8.9},{"$f":"IF('Futterberechnung (3)'!$P$31=\"\",\"\",'Futterberechnung (3)'!$P$31)","v":7.5},{"$f":"'Ausdruck (3)'!L21","v":7.7},{"$f":"IF('Futterberechnung (4)'!$P$31=\"\",\"\",'Futterberechnung (4)'!$P$31)","v":6.8},{"$f":"'Ausdruck (4)'!L21","v":6.9}]
[null,"Met","g",{"$f":"IF(Futterberechnung!$G$64=\"\",\"\",Futterberechnung!$G$64)","v":3.2},{"$f":"Ausdruck!L22","v":3.2},{"$f":"IF('Futterberechnung (2)'!$G$64=\"\",\"\",'Futterberechnung (2)'!$G$64)","v":2.9},{"$f":"'Ausdruck (2)'!L22","v":2.9},{"$f":"IF('Futterberechnung (3)'!$G$64=\"\",\"\",'Futterberechnung (3)'!$G$64)","v":2.2999999999999998},{"$f":"'Ausdruck (3)'!L22","v":2.5},{"$f":"IF('Futterberechnung (4)'!$G$64=\"\",\"\",'Futterberechnung (4)'!$G$64)","v":2.2000000000000002},{"$f":"'Ausdruck (4)'!L22","v":2.2999999999999998}]
[null,"pcv Met","g",{"$f":"IF(Futterberechnung!$H$64=\"\",\"\",Futterberechnung!$H$64)","v":2.9},{"$f":"Ausdruck!L23","v":2.9},{"$f":"IF('Futterberechnung (2)'!$H$64=\"\",\"\",'Futterberechnung (2)'!$H$64)","v":2.6},{"$f":"'Ausdruck (2)'!L23","v":2.6},{"$f":"IF('Futterberechnung (3)'!$H$64=\"\",\"\",'Futterberechnung (3)'!$H$64)","v":2.1},{"$f":"'Ausdruck (3)'!L23","v":2.2000000000000002},{"$f":"IF('Futterberechnung (4)'!$H$64=\"\",\"\",'Futterberechnung (4)'!$H$64)","v":2},{"$f":"'Ausdruck (4)'!L23","v":2}]
[null,"Met + Cys","g",{"$f":"IF(Futterberechnung!$Q$31=\"\",\"\",Futterberechnung!$Q$31)","v":6.3},{"$f":"Ausdruck!L24","v":6.2},{"$f":"IF('Futterberechnung (2)'!$Q$31=\"\",\"\",'Futterberechnung (2)'!$Q$31)","v":5.9},{"$f":"'Ausdruck (2)'!L24","v":5.5},{"$f":"IF('Futterberechnung (3)'!$Q$31=\"\",\"\",'Futterberechnung (3)'!$Q$31)","v":5.3},{"$f":"'Ausdruck (3)'!L24","v":4.7},{"$f":"IF('Futterberechnung (4)'!$Q$31=\"\",\"\",'Futterberechnung (4)'!$Q$31)","v":4.9000000000000004},{"$f":"'Ausdruck (4)'!L24","v":4.5}]
[null,"pcv Met + Cys","g",{"$f":"IF(Futterberechnung!$R$31=\"\",\"\",Futterberechnung!$R$31)","v":5.6},{"$f":"Ausdruck!L25","v":5.6},{"$f":"IF('Futterberechnung (2)'!$R$31=\"\",\"\",'Futterberechnung (2)'!$R$31)","v":5.2},{"$f":"'Ausdruck (2)'!L25","v":4.9000000000000004},{"$f":"IF('Futterberechnung (3)'!$R$31=\"\",\"\",'Futterberechnung (3)'!$R$31)","v":4.5999999999999996},{"$f":"'Ausdruck (3)'!L25","v":4.2},{"$f":"IF('Futterberechnung (4)'!$R$31=\"\",\"\",'Futterberechnung (4)'!$R$31)","v":4.3},{"$f":"'Ausdruck (4)'!L25","v":3.8}]
[null,"Thr","g",{"$f":"IF(Futterberechnung!$S$31=\"\",\"\",Futterberechnung!$S$31)","v":7.2},{"$f":"Ausdruck!L26","v":7.2},{"$f":"IF('Futterberechnung (2)'!$S$31=\"\",\"\",'Futterberechnung (2)'!$S$31)","v":6.4},{"$f":"'Ausdruck (2)'!L26","v":6.4},{"$f":"IF('Futterberechnung (3)'!$S$31=\"\",\"\",'Futterberechnung (3)'!$S$31)","v":5.5},{"$f":"'Ausdruck (3)'!L26","v":5.5},{"$f":"IF('Futterberechnung (4)'!$S$31=\"\",\"\",'Futterberechnung (4)'!$S$31)","v":5},{"$f":"'Ausdruck (4)'!L26","v":5.2}]
[null,"pcv Thr","g",{"$f":"IF(Futterberechnung!$T$31=\"\",\"\",Futterberechnung!$T$31)","v":6.4},{"$f":"Ausdruck!L27","v":6.6},{"$f":"IF('Futterberechnung (2)'!$T$31=\"\",\"\",'Futterberechnung (2)'!$T$31)","v":5.6},{"$f":"'Ausdruck (2)'!L27","v":5.8},{"$f":"IF('Futterberechnung (3)'!$T$31=\"\",\"\",'Futterberechnung (3)'!$T$31)","v":4.8},{"$f":"'Ausdruck (3)'!L27","v":5},{"$f":"IF('Futterberechnung (4)'!$T$31=\"\",\"\",'Futterberechnung (4)'!$T$31)","v":4.3},{"$f":"'Ausdruck (4)'!L27","v":4.5}]
[null,"Trp","g",{"$f":"IF(Futterberechnung!$U$31=\"\",\"\",Futterberechnung!$U$31)","v":2},{"$f":"Ausdruck!L28","v":2.1},{"$f":"IF('Futterberechnung (2)'!$U$31=\"\",\"\",'Futterberechnung (2)'!$U$31)","v":1.9},{"$f":"'Ausdruck (2)'!L28","v":1.8},{"$f":"IF('Futterberechnung (3)'!$U$31=\"\",\"\",'Futterberechnung (3)'!$U$31)","v":1.8},{"$f":"'Ausdruck (3)'!L28","v":1.6},{"$f":"IF('Futterberechnung (4)'!$U$31=\"\",\"\",'Futterberechnung (4)'!$U$31)","v":1.5},{"$f":"'Ausdruck (4)'!L28","v":1.4}]
[null,"pcv Trp","g",{"$f":"IF(Futterberechnung!$V$31=\"\",\"\",Futterberechnung!$V$31)","v":1.7},{"$f":"Ausdruck!L29","v":1.8},{"$f":"IF('Futterberechnung (2)'!$V$31=\"\",\"\",'Futterberechnung (2)'!$V$31)","v":1.6},{"$f":"'Ausdruck (2)'!L29","v":1.6},{"$f":"IF('Futterberechnung (3)'!$V$31=\"\",\"\",'Futterberechnung (3)'!$V$31)","v":1.5},{"$f":"'Ausdruck (3)'!L29","v":1.4},{"$f":"IF('Futterberechnung (4)'!$V$31=\"\",\"\",'Futterberechnung (4)'!$V$31)","v":1.2},{"$f":"'Ausdruck (4)'!L29","v":1.2}]
[null,"Rohfaser (XF)","g",{"$f":"IF(Futterberechnung!$L$31=\"\",\"\",Futterberechnung!$L$31)","v":36},{"$f":"Ausdruck!L30","v":40},{"$f":"IF('Futterberechnung (2)'!$L$31=\"\",\"\",'Futterberechnung (2)'!$L$31)","v":37},{"$f":"'Ausdruck (2)'!L30","v":40},{"$f":"IF('Futterberechnung (3)'!$L$31=\"\",\"\",'Futterberechnung (3)'!$L$31)","v":40},{"$f":"'Ausdruck (3)'!L30","v":45},{"$f":"IF('Futterberechnung (4)'!$L$31=\"\",\"\",'Futterberechnung (4)'!$L$31)","v":39},{"$f":"'Ausdruck (4)'!L30","v":45}]
[null,"NDFom","g",{"$f":"IF(Futterberechnung!$W$64=\"\",\"\",Futterberechnung!$W$64)","v":204.2},{"$f":"Ausdruck!L31","v":120},{"$f":"IF('Futterberechnung (2)'!$W$64=\"\",\"\",'Futterberechnung (2)'!$W$64)","v":219},{"$f":"'Ausdruck (2)'!L31","v":120},{"$f":"IF('Futterberechnung (3)'!$W$64=\"\",\"\",'Futterberechnung (3)'!$W$64)","v":239.9},{"$f":"'Ausdruck (3)'!L31","v":120},{"$f":"IF('Futterberechnung (4)'!$W$64=\"\",\"\",'Futterberechnung (4)'!$W$64)","v":246.3},{"$f":"'Ausdruck (4)'!L31","v":120}]
[null,"ADFom","g",{"$f":"IF(Futterberechnung!$X$64=\"\",\"\",Futterberechnung!$X$64)","v":46.4},{"$f":"Ausdruck!L32","v":70},{"$f":"IF('Futterberechnung (2)'!$X$64=\"\",\"\",'Futterberechnung (2)'!$X$64)","v":45.6},{"$f":"'Ausdruck (2)'!L32","v":70},{"$f":"IF('Futterberechnung (3)'!$X$64=\"\",\"\",'Futterberechnung (3)'!$X$64)","v":46},{"$f":"'Ausdruck (3)'!L32","v":70},{"$f":"IF('Futterberechnung (4)'!$X$64=\"\",\"\",'Futterberechnung (4)'!$X$64)","v":43},{"$f":"'Ausdruck (4)'!L32","v":70}]
[null,"BfS","g",{"$f":"IF(Futterberechnung!$V$64=\"\",\"\",Futterberechnung!$V$64)","v":78.3},{"$f":"Ausdruck!L33","v":""},{"$f":"IF('Futterberechnung (2)'!$V$64=\"\",\"\",'Futterberechnung (2)'!$V$64)","v":77.8},{"$f":"'Ausdruck (2)'!L33","v":""},{"$f":"IF('Futterberechnung (3)'!$V$64=\"\",\"\",'Futterberechnung (3)'!$V$64)","v":80.099999999999994},{"$f":"'Ausdruck (3)'!L33","v":""},{"$f":"IF('Futterberechnung (4)'!$V$64=\"\",\"\",'Futterberechnung (4)'!$V$64)","v":73.8},{"$f":"'Ausdruck (4)'!L33","v":""}]
[null,"Ca","g",{"$f":"IF(Futterberechnung!$W$31=\"\",\"\",Futterberechnung!$W$31)","v":6.6},{"$f":"Ausdruck!L34","v":6.5},{"$f":"IF('Futterberechnung (2)'!$W$31=\"\",\"\",'Futterberechnung (2)'!$W$31)","v":5.9},{"$f":"'Ausdruck (2)'!L34","v":5.9},{"$f":"IF('Futterberechnung (3)'!$W$31=\"\",\"\",'Futterberechnung (3)'!$W$31)","v":5.2},{"$f":"'Ausdruck (3)'!L34","v":5.0999999999999996},{"$f":"IF('Futterberechnung (4)'!$W$31=\"\",\"\",'Futterberechnung (4)'!$W$31)","v":4.5999999999999996},{"$f":"'Ausdruck (4)'!L34","v":4.5}]
[null,"P","g",{"$f":"IF(Futterberechnung!$X$31=\"\",\"\",Futterberechnung!$X$31)","v":4.4000000000000004},{"$f":"Ausdruck!L35","v":4.5},{"$f":"IF('Futterberechnung (2)'!$X$31=\"\",\"\",'Futterberechnung (2)'!$X$31)","v":4.2},{"$f":"'Ausdruck (2)'!L35","v":4.4000000000000004},{"$f":"IF('Futterberechnung (3)'!$X$31=\"\",\"\",'Futterberechnung (3)'!$X$31)","v":3.6},{"$f":"'Ausdruck (3)'!L35","v":4.0999999999999996},{"$f":"IF('Futterberechnung (4)'!$X$31=\"\",\"\",'Futterberechnung (4)'!$X$31)","v":3.4},{"$f":"'Ausdruck (4)'!L35","v":4}]
[null,"v.P","g",{"$f":"IF(Futterberechnung!$Y$31=\"\",\"\",Futterberechnung!$Y$31)","v":2.4},{"$f":"Ausdruck!L36","v":3},{"$f":"IF('Futterberechnung (2)'!$Y$31=\"\",\"\",'Futterberechnung (2)'!$Y$31)","v":2.2999999999999998},{"$f":"'Ausdruck (2)'!L36","v":2.7},{"$f":"IF('Futterberechnung (3)'!$Y$31=\"\",\"\",'Futterberechnung (3)'!$Y$31)","v":1.8},{"$f":"'Ausdruck (3)'!L36","v":2.4},{"$f":"IF('Futterberechnung (4)'!$Y$31=\"\",\"\",'Futterberechnung (4)'!$Y$31)","v":1.8},{"$f":"'Ausdruck (4)'!L36","v":2}]
[null,"v.P + Phytase","g",{"$f":"IF(Futterberechnung!$Z$31=\"\",\"\",Futterberechnung!$Z$31)","v":3.1},{"$f":"Ausdruck!L37","v":3},{"$f":"IF('Futterberechnung (2)'!$Z$31=\"\",\"\",'Futterberechnung (2)'!$Z$31)","v":2.9},{"$f":"'Ausdruck (2)'!L37","v":2.7},{"$f":"IF('Futterberechnung (3)'!$Z$31=\"\",\"\",'Futterberechnung (3)'!$Z$31)","v":2.4},{"$f":"'Ausdruck (3)'!L37","v":2.4},{"$f":"IF('Futterberechnung (4)'!$Z$31=\"\",\"\",'Futterberechnung (4)'!$Z$31)","v":2.2999999999999998},{"$f":"'Ausdruck (4)'!L37","v":2}]
[null,"Na","g",{"$f":"IF(Futterberechnung!$AB$31=\"\",\"\",Futterberechnung!$AB$31)","v":2.1},{"$f":"Ausdruck!L38","v":2},{"$f":"IF('Futterberechnung (2)'!$AB$31=\"\",\"\",'Futterberechnung (2)'!$AB$31)","v":1.9},{"$f":"'Ausdruck (2)'!L38","v":1.8},{"$f":"IF('Futterberechnung (3)'!$AB$31=\"\",\"\",'Futterberechnung (3)'!$AB$31)","v":1.8},{"$f":"'Ausdruck (3)'!L38","v":1.7},{"$f":"IF('Futterberechnung (4)'!$AB$31=\"\",\"\",'Futterberechnung (4)'!$AB$31)","v":1.7},{"$f":"'Ausdruck (4)'!L38","v":1.6}]
[null,"Mg","g",{"$f":"IF(Futterberechnung!$AA$31=\"\",\"\",Futterberechnung!$AA$31)","v":1.3},{"$f":"Ausdruck!L39","v":1},{"$f":"IF('Futterberechnung (2)'!$AA$31=\"\",\"\",'Futterberechnung (2)'!$AA$31)","v":1.3},{"$f":"'Ausdruck (2)'!L39","v":1},{"$f":"IF('Futterberechnung (3)'!$AA$31=\"\",\"\",'Futterberechnung (3)'!$AA$31)","v":1.2},{"$f":"'Ausdruck (3)'!L39","v":1},{"$f":"IF('Futterberechnung (4)'!$AA$31=\"\",\"\",'Futterberechnung (4)'!$AA$31)","v":1.1000000000000001},{"$f":"'Ausdruck (4)'!L39","v":1}]
[null,"Polyensäuren","g",{"$f":"IF(Futterberechnung!$N$64=\"\",\"\",Futterberechnung!$N$64)","v":15.6},{"$f":"Ausdruck!L40","v":18},{"$f":"IF('Futterberechnung (2)'!$N$64=\"\",\"\",'Futterberechnung (2)'!$N$64)","v":14.7},{"$f":"'Ausdruck (2)'!L40","v":17.7},{"$f":"IF('Futterberechnung (3)'!$N$64=\"\",\"\",'Futterberechnung (3)'!$N$64)","v":13.5},{"$f":"'Ausdruck (3)'!L40","v":17.5},{"$f":"IF('Futterberechnung (4)'!$N$64=\"\",\"\",'Futterberechnung (4)'!$N$64)","v":13.6},{"$f":"'Ausdruck (4)'!L40","v":18}]
[null,"Vit. A","IE",{"$f":"IF(Futterberechnung!$Q$64=\"\",\"\",Futterberechnung!$Q$64)","v":6012},{"$f":"Ausdruck!L41","v":6000},{"$f":"IF('Futterberechnung (2)'!$Q$64=\"\",\"\",'Futterberechnung (2)'!$Q$64)","v":6018},{"$f":"'Ausdruck (2)'!L41","v":6000},{"$f":"IF('Futterberechnung (3)'!$Q$64=\"\",\"\",'Futterberechnung (3)'!$Q$64)","v":5002},{"$f":"'Ausdruck (3)'!L41","v":5000},{"$f":"IF('Futterberechnung (4)'!$Q$64=\"\",\"\",'Futterberechnung (4)'!$Q$64)","v":6006},{"$f":"'Ausdruck (4)'!L41","v":5000}]
[null,"Vit. D3","IE",{"$f":"IF(Futterberechnung!$R$64=\"\",\"\",Futterberechnung!$R$64)","v":1503},{"$f":"Ausdruck!L42","v":1500},{"$f":"IF('Futterberechnung (2)'!$R$64=\"\",\"\",'Futterberechnung (2)'!$R$64)","v":1505},{"$f":"'Ausdruck (2)'!L42","v":1500},{"$f":"IF('Futterberechnung (3)'!$R$64=\"\",\"\",'Futterberechnung (3)'!$R$64)","v":1000},{"$f":"'Ausdruck (3)'!L42","v":1000},{"$f":"IF('Futterberechnung (4)'!$R$64=\"\",\"\",'Futterberechnung (4)'!$R$64)","v":1201},{"$f":"'Ausdruck (4)'!L42","v":1000}]
[null,"Vit. E","mg",{"$f":"IF(Futterberechnung!$S$64=\"\",\"\",Futterberechnung!$S$64)","v":61},{"$f":"Ausdruck!L43","v":60},{"$f":"IF('Futterberechnung (2)'!$S$64=\"\",\"\",'Futterberechnung (2)'!$S$64)","v":61},{"$f":"'Ausdruck (2)'!L43","v":60},{"$f":"IF('Futterberechnung (3)'!$S$64=\"\",\"\",'Futterberechnung (3)'!$S$64)","v":51},{"$f":"'Ausdruck (3)'!L43","v":50},{"$f":"IF('Futterberechnung (4)'!$S$64=\"\",\"\",'Futterberechnung (4)'!$S$64)","v":61},{"$f":"'Ausdruck (4)'!L43","v":50}]
[null,null,null,null,{"$f":"Ausdruck!L44","v":0},null,{"$f":"'Ausdruck (2)'!L44","v":0},null,{"$f":"'Ausdruck (3)'!L44","v":0},null,{"$f":"'Ausdruck (4)'!L44","v":0}]
[null,"Ca / P   ","/1",{"$f":"IF(Futterberechnung!$T$40=\"\",\"\",Futterberechnung!$T$40)","v":1.4888418249301032},{"$f":"Ausdruck!L45","v":1.45},{"$f":"IF('Futterberechnung (2)'!$T$40=\"\",\"\",'Futterberechnung (2)'!$T$40)","v":1.4314942692471919},{"$f":"'Ausdruck (2)'!L45","v":1.35},{"$f":"IF('Futterberechnung (3)'!$T$40=\"\",\"\",'Futterberechnung (3)'!$T$40)","v":1.4258623951503999},{"$f":"'Ausdruck (3)'!L45","v":1.26},{"$f":"IF('Futterberechnung (4)'!$T$40=\"\",\"\",'Futterberechnung (4)'!$T$40)","v":1.3326802162427032},{"$f":"'Ausdruck (4)'!L45","v":1.1200000000000001}]
[null,"Ca / vP          ","/1",{"$f":"IF(Futterberechnung!$X$40=\"\",\"\",Futterberechnung!$X$40)","v":2.6910006928363446},{"$f":"Ausdruck!L46","v":2.1800000000000002},{"$f":"IF('Futterberechnung (2)'!$X$40=\"\",\"\",'Futterberechnung (2)'!$X$40)","v":2.6315817515389477},{"$f":"'Ausdruck (2)'!L46","v":2.2000000000000002},{"$f":"IF('Futterberechnung (3)'!$X$40=\"\",\"\",'Futterberechnung (3)'!$X$40)","v":2.8456380231253511},{"$f":"'Ausdruck (3)'!L46","v":2.12},{"$f":"IF('Futterberechnung (4)'!$X$40=\"\",\"\",'Futterberechnung (4)'!$X$40)","v":2.5852902008301069},{"$f":"'Ausdruck (4)'!L46","v":2.19}]
[null,"Ca / vP + Phytase","/1",{"$f":"IF(Futterberechnung!$X$39=\"\",\"\",Futterberechnung!$X$39)","v":2.1328605099086393},{"$f":"Ausdruck!L47","v":2.1800000000000002},{"$f":"IF('Futterberechnung (2)'!$X$39=\"\",\"\",'Futterberechnung (2)'!$X$39)","v":2.0755271874024483},{"$f":"'Ausdruck (2)'!L47","v":2.2000000000000002},{"$f":"IF('Futterberechnung (3)'!$X$39=\"\",\"\",'Futterberechnung (3)'!$X$39)","v":2.1273365059705416},{"$f":"'Ausdruck (3)'!L47","v":2.12},{"$f":"IF('Futterberechnung (4)'!$X$39=\"\",\"\",'Futterberechnung (4)'!$X$39)","v":2.0194288935679237},{"$f":"'Ausdruck (4)'!L47","v":2.19}]
[null,"Lys / MES EFF*","g/MJ",{"$f":"IF(Futterberechnung!$F$40=\"\",\"\",Futterberechnung!$F$40)","v":0.8314606741573034},{"$f":"Ausdruck!L48","v":0.85},{"$f":"IF('Futterberechnung (2)'!$F$40=\"\",\"\",'Futterberechnung (2)'!$F$40)","v":0.73003802281368813},{"$f":"'Ausdruck (2)'!L48","v":0.77},{"$f":"IF('Futterberechnung (3)'!$F$40=\"\",\"\",'Futterberechnung (3)'!$F$40)","v":0.6491499227202473},{"$f":"'Ausdruck (3)'!L48","v":0.67},{"$f":"IF('Futterberechnung (4)'!$F$40=\"\",\"\",'Futterberechnung (4)'!$F$40)","v":0.57959814528593512},{"$f":"'Ausdruck (4)'!L48","v":0.61}]
[null,"pcv Lys / MES EFF*","g/MJ",{"$f":"IF(Futterberechnung!$I$40=\"\",\"\",Futterberechnung!$I$40)","v":0.75655430711610483},{"$f":"Ausdruck!L49","v":0.76},{"$f":"IF('Futterberechnung (2)'!$I$40=\"\",\"\",'Futterberechnung (2)'!$I$40)","v":0.66159695817490483},{"$f":"'Ausdruck (2)'!L49","v":0.68},{"$f":"IF('Futterberechnung (3)'!$I$40=\"\",\"\",'Futterberechnung (3)'!$I$40)","v":0.57959814528593512},{"$f":"'Ausdruck (3)'!L49","v":0.59},{"$f":"IF('Futterberechnung (4)'!$I$40=\"\",\"\",'Futterberechnung (4)'!$I$40)","v":0.5255023183925811},{"$f":"'Ausdruck (4)'!L49","v":0.53}]
[null,"Lys in 100g RP","g",{"$f":"IF(Futterberechnung!$AA$40=\"\",\"\",Futterberechnung!$AA$40)","v":6.3522012578616351},{"$f":"Ausdruck!L50","v":6},{"$f":"IF('Futterberechnung (2)'!$AA$40=\"\",\"\",'Futterberechnung (2)'!$AA$40)","v":5.9183673469387745},{"$f":"'Ausdruck (2)'!L50","v":5.63},{"$f":"IF('Futterberechnung (3)'!$AA$40=\"\",\"\",'Futterberechnung (3)'!$AA$40)","v":5.3956834532374103},{"$f":"'Ausdruck (3)'!L50","v":5.13},{"$f":"IF('Futterberechnung (4)'!$AA$40=\"\",\"\",'Futterberechnung (4)'!$AA$40)","v":5.7627118644067794},{"$f":"'Ausdruck (4)'!L50","v":5.31}]
[null,"Kosten / 10 MJ MES EFF*",null,{"$f":"IF(Futterberechnung!$M$31=\"\",\"\",Futterberechnung!$E$31/100/Futterberechnung!$M$31*10)","v":0.17880162224518731},null,{"$f":"IF('Futterberechnung (2)'!$M$31=\"\",\"\",'Futterberechnung (2)'!$E$31/100/'Futterberechnung (2)'!$M$31*10)","v":0.17287399223766181},null,{"$f":"IF('Futterberechnung (3)'!$M$31=\"\",\"\",'Futterberechnung (3)'!$E$31/100/'Futterberechnung (3)'!$M$31*10)","v":0.16501226950851242},null,{"$f":"IF('Futterberechnung (4)'!$M$31=\"\",\"\",'Futterberechnung (4)'!$E$31/100/'Futterberechnung (4)'!$M$31*10)","v":0.15447099325927563}]
[null,"Kosten Ration pro dt",null,{"$f":"IF(Futterberechnung!E31=\"\",\"\",Futterberechnung!E31)","v":23.870016569732506},null,{"$f":"IF('Futterberechnung (2)'!$E$31=\"\",\"\",'Futterberechnung (2)'!$E$31)","v":22.732929979252528},null,{"$f":"IF('Futterberechnung (3)'!$E$31=\"\",\"\",'Futterberechnung (3)'!$E$31)","v":21.352587674401505},null,{"$f":"IF('Futterberechnung (4)'!$E$31=\"\",\"\",'Futterberechnung (4)'!$E$31)","v":19.988546527750266}]
[]
[null,"* EFF=Einzelfutterformel und MFF=Mischfutterformel (EFF ist genauer!)"]

{"sheet":"Futtermittel","index":12,"n_rows":175,"n_cols":59,"rows_kept":175,"cut":false,"hidden":false,"merged":[[5,28,5,42],[5,15,5,27],[5,3,5,14]]}
[]
[]
[]
["Futtermittel zusammengefasst","Nr.",null,"Futtermittel","Roh-protein             in der FM","Qualität","Anteil Proben","Trocken-masse                        (TM)","Rohprotein                  (XP)","vd. Roh-protein                     (XP)","Rohfaser         (XF)","ME ** nach Einzelfutter-formel","ME ** nach  neuer Mischfutter-formel","Lysin                              (Lys)","verdaul. Lysin        (pcv Lys)","Methionin & Cystin                  (M & C)","verdaul.            M. & C.                  (pcv M & C)","Threonin             (Thr) ","verdaul. Threonin                (pcv Thr)","Tryptophan              (Trp)","verdaul. Tryptophan (pcv Trp)","Calcium          (Ca)","Phosphor            (P)","verdaul. Phosphor               (v. P)","verdaul. P. mit Phytase (vPm.Phyt.)","Magnesium            (Mg)","Natrium               (Na)","Kalium               (K)","Methionin                   (Met)","verdaul.            Methionin                  (pcv Met)","Rohfett                  (XL)","Stärke                     (S)","Zucker         (Z)","Rohasche                  (XA)","organischer Rest Einzelfutter-formel             (OR)                       ","organischer Rest neu Mischfutter-formel                  (OR)","Polyensäure-gehalt","Linolsäure-gehalt","Linolensäure-gehalt","Vitamin A            (Vit A)","Vitamin D            (Vit D)","Vitamin E           (Vit E)","Kationen / Anionen-Bilanz = Basenüber-schuß (BE)","Säurebin-dungs-kapazität                  SBK","Bakteriell fermentier-bare Substanz (BfS)","N-freie Extraktstoffe                           (NfE)","Verdaulich-keit                                   organische Masse","Verdaulich-keit                                   Roprotein","Verdaulich-keit                                   Rohfett","Verdaulich-keit                                   Rohfaser","Verdaulich-keit                                   NfE","Chlor               (Cl)","Säure-Detergenz-Faser                                                             (ADFom)","Neutrale-Detergenz-Faser                                           (NDFom)","Nettoenergie (NE 7) Basis Mischfutter-formel","Nettoenergie wachsende Schweine (NE_GP)","Nettoenergie Sau (NE_S)","Deoxy-nivalenol (DON)","Zearalenon                                           (ZEA)"]
[null,null,null,null,"in %",null,"in % *","g","g","g","g","MJ","MJ","g","g","g","g","g","g","g","g","g","g","g","g","g","g","g","g","g","g","g","g","g","g","g","g","g","g","IE","IE","mg","mmol","meq","g","g","%","%","%","%","%","g","g","g","MJ NE","MJ NE","MJ NE","mg","mg"]
["Getreide",null,null,"G E H A L T E     J E     K G     F U T T E R M I T T E L",null,null,null,null,null,null,null,null,null,null,null,"G E H A L T E     J E     K G     F U T T E R M I T T E L",null,null,null,null,null,null,null,null,null,null,null,null,"G E H A L T E     J E     K G     F U T T E R M I T T E L",null,null,null,null,null,null,null,null,null,null,null,null,null,null,"bei ph 3","in 1 kg FM","in 1 kg FM",null,null,null,null,null,"in 1 kg FM","in 1 kg FM","in 1 kg FM","in 1 kg FM","in 1 kg FM","in 1 kg FM","in 1 kg FM","in 1 kg FM"]
[null,null,null,"Getreide"]
[{"$f":"IF(E8=\" \",D8&\" \"&F8,D8&\" \"&E8&\"% RP \"&F8)","v":"CCM, 65 % TM bis 3 % XF auf 88 % TM 9% RP DLG 2014"},{"$f":"IF(D8=\"\",\" \",COUNTA($D$8:D8))","v":1},null,"CCM, 65 % TM bis 3 % XF auf 88 % TM",{"$f":"IF(I8=0,\" \",ROUND(I8/10,0))","v":9},"DLG 2014",null,880,88,{"$f":"I8*0.81","v":71.28},{"$f":"K9/65*88","v":21.661538461538463},{"$f":"I8*0.0205*AV8+0.0398*AW8*AE8+0.0173*AF8+0.016*$AG8+0.0147*AI8","v":13.412773169230768},{"$f":"$I8*0.021503+0.032497*$AE8+0.016309*$AF8+0.014701*$AJ8-0.021071*$K8","v":14.108834215384613},{"$f":"IF(I8=0,\" \",(I8/H8*550*0.0171+0.51)/550*H8)","v":2.3208000000000002},{"$f":"IF(N8=\" \",\" \",N8*0.7)","v":1.62456},{"$f":"IF(N8=\" \",\" \",(I8/H8*550*0.0215+1.04)/550*H8)","v":3.5560000000000005},{"$f":"IF(N8=\" \",\" \",P8*(0.88*1.3+1.4*0.85)/2.7)","v":3.0739644444444449},{"$f":"IF(N8=\" \",\" \",(I8/H8*1000*0.02+1.1)/1000*H8)","v":2.7279999999999998},{"$f":"IF(N8=\" \",\" \",R8*0.85)","v":2.3187999999999995},{"$f":"T9/650*880","v":0.67692307692307696},{"$f":"T8*0.71","v":0.48061538461538461},{"$f":"0.3/65*88","v":0.40615384615384609},2.8,{"$f":"W8*55%","v":1.54},{"$f":"W8*0.65","v":1.8199999999999998},{"$f":"0.8/65*88","v":1.083076923076923},{"$f":"AA9/65*88","v":0.13538461538461538},4.3,{"$f":"AC9/650*880","v":1.76},{"$f":"AC8*0.88","v":1.5488},{"$f":"26/$H$9*880","v":35.200000000000003},{"$f":"423/$H$9*880","v":572.67692307692312},{"$f":"5/$H$9*880","v":6.7692307692307701},{"$f":"10/$H$9*880","v":13.53846153846154},{"$f":"(H8-AH8)*AU8-I8*AV8-AE8*AW8-AF8-AG8","v":72.606769230769203},{"$f":"$H8-($AE8+$AF8+$AH8+$I8+$K8)","v":148.92307692307679},{"$f":"15/58*H8/10","v":22.758620689655174},{"$f":"$AL$23*AK8/$AK$23","v":20.923248053392662},{"$f":"AK8-AL8","v":1.8353726362625125},null,null,null,{"$f":"IF(H8=\"\",\"\",50*V8+83*Z8+26*AB8+44*AA8-59*W8-13*P8-28*AZ8)","v":-15.499999999999986},{"$f":"IF(H8=\"\",\"\",V8/1000*20140+Z8/1000*48600+1100/440*I8)","v":280.81747692307692},{"$f":"AX8*K8+AY8*AT8-AF8-AG8","v":77.14215384615369},{"$f":"IF(H8=\"\",\" \",H8-I8-AE8-AH8-K8)","v":721.59999999999991},0.86,0.81,0.62,0.33,0.9,{"$f":"1.3*880/1000","v":1.1439999999999999},{"$f":"BA9*88/65","v":18.953846153846154},{"$f":"BB9*88/65","v":59.569230769230771},{"$f":"IF(H8=\"\",\"\",0.73*M8+0.055*AE8+0.015*AF8-0.028*I8-0.041*K8)","v":17.473479746461539},{"$f":"IF(H8=\"\",\"\",((((0.703*(4168-(91*AH8/10/H8*1000)+(19*I8/10/H8*1000)+(39*AE8/10/H8*1000)-(36*BB8/10/H8*1000))+(15.8*AE8/10/H8*1000)+(4.7*AF8/10/H8*1000)-(9.7*I8/10/H8*1000)-(9.8*K8/10/H8*1000))*0.0041868)+((0.7*(4168-(91*AH7/10/H8*1000)+(19*I8/10/H8*1000)+(39*AE8/10/H8*1000)-(36*BB8/10/H8*1000))+(16.1*AE8/10/H8*1000)+(4.8*AF8/10/H8*1000)-(9.1*I8/10/H8*1000)-(8.7*BA8/10/H8*1000))*0.0041868))/2)/1000*H8)","v":11.804381176164924},{"$f":"IF(H8=\"\",\"\",((0.703*((((4168-(91*AH8/10/H8*1000)+(19*I8/10/H8*1000)+(39*AE8/10/H8*1000)-(36*BB8/10/H8*1000))*0.0041868*1.014)+(0.066*K8/10/H8*1000))/0.0041868)+(15.8*AE8/10/H8*1000)+(4.7*AF8/10/H8*1000)-(9.7*I8/10/H8*1000)-(9.8*K8/10/H8*1000))*0.0041868)/1000*H8)","v":11.861778337904433}]
[{"$f":"IF(E9=\" \",D9&\" \"&F9,D9&\" \"&E9&\"% RP \"&F9)","v":"CCM, 65 % TM bis 3 % XF in TM 7% RP DLG 2014"},{"$f":"IF(D9=\"\",\" \",COUNTA($D$8:D9))","v":2},null,"CCM, 65 % TM bis 3 % XF in TM",7,"DLG 2014",null,650,65,{"$f":"I9*0.81","v":52.650000000000006},16,{"$f":"I9*0.0205*AV9+0.0398*AW9*AE9+0.0173*AF9+0.016*$AG9+0.0147*AI9","v":9.9071619999999996},{"$f":"$I9*0.021503+0.032497*$AE9+0.016309*$AF9+0.014701*$AJ9-0.021071*$K9","v":10.421298000000002},{"$f":"IF(I9=0,\" \",(I9/H9*550*0.0171+0.51)/550*H9)","v":1.7142272727272727},{"$f":"IF(N9=\" \",\" \",N9*0.7)","v":1.1999590909090909},{"$f":"IF(N9=\" \",\" \",(I9/H9*550*0.0215+1.04)/550*H9)","v":2.6265909090909094},{"$f":"IF(N9=\" \",\" \",P9*(0.88*1.3+1.4*0.85)/2.7)","v":2.2705419191919192},{"$f":"IF(N9=\" \",\" \",(I9/H9*1000*0.02+1.1)/1000*H9)","v":2.0150000000000001},{"$f":"IF(N9=\" \",\" \",R9*0.85)","v":1.71275},{"$f":"IF(N9=\" \",\" \",0.5)","v":0.5},{"$f":"IF(N9=\" \",\" \",T9*0.71)","v":0.35499999999999998},{"$f":"V8/88*65","v":0.3},2.2999999999999998,{"$f":"W9*55%","v":1.2649999999999999},{"$f":"W9*0.65","v":1.4949999999999999},{"$f":"Z8/88*60","v":0.7384615384615385},0.1,{"$f":"AB8/88*61","v":2.980681818181818},1.3,{"$f":"AC9*0.88","v":1.1440000000000001},26,423,5,10,{"$f":"(H9-AH9)*AU9-I9*AV9-AE9*AW9-AF9-AG9","v":53.629999999999995},{"$f":"$H9-($AE9+$AF9+$AH9+$I9+$K9)","v":110},{"$f":"15/58*H9/10","v":16.81034482758621},{"$f":"$AL$23*AK9/$AK$23","v":15.45467185761958},{"$f":"AK9-AL9","v":1.3556729699666299},null,null,null,-35.315646853146831,{"$f":"IF(H9=\"\",\"\",V9/1000*20140+Z9/1000*48600+1100/440*I9)","v":204.43123076923078},{"$f":"AX9*K9+AY9*AT9-AF9-AG9","v":56.979999999999961},{"$f":"IF(H9=\"\",\" \",H9-I9-AE9-AH9-K9)","v":533},0.86,0.81,0.62,0.33,0.9,{"$f":"1.3*H9/1000","v":0.84499999999999997},14,44,{"$f":"IF(H9=\"\",\"\",0.73*M9+0.055*AE9+0.015*AF9-0.028*I9-0.041*K9)","v":12.90654754},8.5386103709400007,8.7615408177703191]
[{"$f":"IF(E10=\" \",D10&\" \"&F10,D10&\" \"&E10&\"% RP \"&F10)","v":"CCM, 61 % TM über 3 % XF auf 88 % TM 9% RP DLG 2014"},{"$f":"IF(D10=\"\",\" \",COUNTA($D$8:D10))","v":3},null,"CCM, 61 % TM über 3 % XF auf 88 % TM",{"$f":"IF(I10=0,\" \",ROUND(I10/10,0))","v":9},"DLG 2014",null,880,88,{"$f":"I10*0.81","v":71.28},{"$f":"K11/61*88","v":34.622950819672127},{"$f":"I10*0.0205*AV10+0.0398*AW10*AE10+0.0173*AF10+0.016*$AG10+0.0147*AI10","v":13.243585723076921},{"$f":"$I10*0.021503+0.032497*$AE10+0.016309*$AF10+0.014701*$AJ10-0.021071*$K10","v":13.645178572509456},2.3208000000000002,{"$f":"IF(N10=\" \",\" \",N10*0.67)","v":1.5549360000000003},{"$f":"IF(N10=\" \",\" \",(I10/H10*550*0.0215+1.04)/550*H10)","v":3.5560000000000005},{"$f":"IF(N10=\" \",\" \",P10*(0.88*1.3+1.4*0.85)/2.7)","v":3.0739644444444449},{"$f":"IF(N10=\" \",\" \",(I10/H10*1000*0.02+1.1)/1000*H10)","v":2.7279999999999998},{"$f":"IF(N10=\" \",\" \",R10*0.72)","v":1.9641599999999997},{"$f":"T11/610*880","v":0.57704918032786889},{"$f":"IF(N10=\" \",\" \",T10*0.65)","v":0.37508196721311482},{"$f":"0.2/61*88","v":0.28852459016393445},{"$f":"W11/61*88","v":2.8852459016393444},{"$f":"W10*55%","v":1.5868852459016396},{"$f":"W10*0.65","v":1.875409836065574},{"$f":"0.8/61*88","v":1.1540983606557378},{"$f":"AA11/61*88","v":0.14426229508196722},4.3,{"$f":"AC11/610*880","v":1.7311475409836066},{"$f":"AC10*0.84","v":1.4541639344262294},{"$f":"26/$H$9*880","v":35.200000000000003},{"$f":"423/$H$9*880","v":572.67692307692312},{"$f":"5/$H$9*880","v":6.7692307692307701},{"$f":"10/$H$9*880","v":13.53846153846154},{"$f":"(H10-AH10)*AU10-I10*AV10-AE10*AW10-AF10-AG10","v":67.638153846153784},{"$f":"$H10-($AE10+$AF10+$AH10+$I10+$K10)","v":135.96166456494313},{"$f":"15/58*H10/10","v":22.758620689655174},{"$f":"$AL$23*AK10/$AK$23","v":20.923248053392662},{"$f":"AK10-AL10","v":1.8353726362625125},null,null,null,{"$f":"IF(H10=\"\",\"\",50*V10+83*Z10+26*AB10+44*AA10-59*W10-13*P10-28*AZ10)","v":-20.125573770491812},{"$f":"IF(H10=\"\",\"\",V10/1000*20140+Z10/1000*48600+1100/440*I10)","v":281.90006557377052},{"$f":"AX10*K10+AY10*AT10-AF10-AG10","v":69.754148802017596},708.63858764186625,0.85,0.78,0.59,0.33,0.9,{"$f":"1.3*880/1000","v":1.1439999999999999},{"$f":"BA11*88/61","v":28.852459016393443},{"$f":"BB11*88/61","v":77.901639344262293},16.603593220479194,11.432578040670506,11.67176635595594]
[{"$f":"IF(E11=\" \",D11&\" \"&F11,D11&\" \"&E11&\"% RP \"&F11)","v":"CCM, 61 % TM über 3 % XF in TM 6% RP DLG 2014"},{"$f":"IF(D11=\"\",\" \",COUNTA($D$8:D11))","v":4},null,"CCM, 61 % TM über 3 % XF in TM",{"$f":"IF(I11=0,\" \",ROUND(I11/10,0))","v":6},"DLG 2014",null,610,61,{"$f":"I11*0.78","v":47.58},24,{"$f":"I11*0.0205*AV11+0.0398*AW11*AE11+0.0173*AF11+0.016*$AG11+0.0147*AI11","v":9.1966980000000014},{"$f":"$I11*0.021503+0.032497*$AE11+0.016309*$AF11+0.014701*$AJ11-0.021071*$K11","v":9.4780660000000001},1.6087363636363636,{"$f":"IF(N11=\" \",\" \",N11*0.67)","v":1.0778533636363636},{"$f":"IF(N11=\" \",\" \",(I11/H11*550*0.0215+1.04)/550*H11)","v":2.4649545454545456},{"$f":"IF(N11=\" \",\" \",P11*(0.84*2+2.2*0.76)/4.2)","v":1.9672684848484852},{"$f":"IF(N11=\" \",\" \",(I11/H11*1000*0.02+1.1)/1000*H11)","v":1.891},{"$f":"IF(N11=\" \",\" \",R11*0.72)","v":1.3615200000000001},0.4,{"$f":"IF(N11=\" \",\" \",T11*0.65)","v":0.26},0.2,2,{"$f":"W11*55%","v":1.1000000000000001},{"$f":"W11*0.65","v":1.3},{"$f":"Z10/88*60","v":0.78688524590163944},0.1,{"$f":"AB10/88*61","v":2.980681818181818},1.2,{"$f":"AC11*0.84","v":1.008},26,397,5,10,{"$f":"(H11-AH11)*AU11-I11*AV11-AE11*AW11-AF11-AG11","v":45.080000000000041},{"$f":"$H11-($AE11+$AF11+$AH11+$I11+$K11)","v":92},{"$f":"15/58*H11/10","v":15.775862068965518},{"$f":"$AL$23*AK11/$AK$23","v":14.503615127919913},{"$f":"AK11-AL11","v":1.272246941045605},null,null,null,{"$f":"IF(H11=\"\",\"\",50*V11+83*Z11+26*AB11+44*AA11-59*W11-13*P11-28*AZ11)","v":-15.039206408345734},{"$f":"IF(H11=\"\",\"\",V11/1000*20140+Z11/1000*48600+1100/440*I11)","v":194.77062295081967},{"$f":"AX11*K11+AY11*AT11-AF11-AG11","v":46.020000000000039},489,0.85,0.78,0.59,0.33,0.9,{"$f":"1.3*H11/1000","v":0.79300000000000004},20,54,11.611988179999999,7.857587660075998,8.1032110991909274]
[{"$f":"IF(E12=\" \",D12&\" \"&F12,D12&\" \"&E12&\"% RP \"&F12)","v":"eigenes CCM 6% RP Ø 2017"},{"$f":"IF(D12=\"\",\" \",COUNTA($D$8:D12))","v":5},null,"eigenes CCM",{"$f":"IF(I12=0,\" \",ROUND(I12/10,0))","v":6},{"$f":"IF(I12=91/1000*H12,\"Ø 2017\",\"\")","v":"Ø 2017"},null,632,{"$f":"91/1000*H12","v":57.512},{"$f":"IF(I12=0,\" \",I12*0.81)","v":46.584720000000004},{"$f":"27/1000*H12","v":17.064},{"$f":"IF($I12=\"\",\" \",I12*0.0205*AV12+0.0398*AW12*AE12+0.0173*AF12+0.016*$AG12+0.0147*AI12)","v":9.7846894239999997},{"$f":"IF(I12=\"\",\" \",$I12*0.021503+0.032497*$AE12+0.016309*$AF12+0.014701*$AJ12-0.021071*$K12)","v":10.191692872000001},{"$f":"IF(I12=0,\" \",(I12/H12*550*0.0171+0.51)/550*H12)","v":1.5694915636363638},{"$f":"IF(N12=\" \",\" \",N12*0.7)","v":1.0986440945454545},{"$f":"IF(N12=\" \",\" \",(I12/H12*550*0.0215+1.04)/550*H12)","v":2.4315625454545451},{"$f":"IF(N12=\" \",\" \",P12*(0.88*1.3+1.4*0.85)/2.7)","v":2.1019507337373735},{"$f":"IF(N12=\" \",\" \",(I12/H12*1000*0.02+1.1)/1000*H12)","v":1.84544},{"$f":"IF(N12=\" \",\" \",R12*0.85)","v":1.568624},{"$f":"IF(N12=\" \",\" \",0.5*H12/H9)","v":0.48615384615384616},{"$f":"IF(N12=\" \",\" \",T12*0.71)","v":0.34516923076923073},{"$f":"IF($I12=0,\" \",V9*$H12/$H9)","v":0.2916923076923077},2.2363076923076921,1.2299692307692307,1.4535999999999998,0.71801183431952675,9.7230769230769232E-2,2.8981398601398602,{"$f":"IF($I12=0,\" \",AC9/H9*H12)","v":1.264},{"$f":"IF($N12=\" \",\" \",AC12*0.88)","v":1.11232},{"$f":"47/1000*H12","v":29.704000000000001},{"$f":"712*H12/1000","v":449.98399999999998},{"$f":"AG9/650*H12","v":4.861538461538462},9,{"$f":"IF($I12=\"\",\" \",(H12-AH12)*AU12-I12*AV12-AE12*AW12-AF12-AG12)","v":15.933261538461547},{"$f":"IF($I12=\"\",\" \",$H12-($AE12+$AF12+$AH12+$I12+$K12))","v":68.73599999999999},{"$f":"IF($I12=0,\" \",AK9*$H12/$H9)","v":16.3448275862069},15.026696329254731,1.3181312569521693,0,0,0,{"$f":"IF(H12=\"\",\"\",50*V12+83*Z12+26*AB12+44*AA12-59*W12-13*P12-28*AZ12)","v":-32.747879094136607},{"$f":"IF(H12=\"\",\"\",V12/1000*20140+Z12/1000*48600+1100/440*I12)","v":184.55005822485208},{"$f":"IF($I12=0,\" \",AX12*K12+AY12*AT12-AF12-AG12)","v":17.633581538461694},518.72000000000014,{"$f":"IF($I12=0,\" \",AU9)","v":0.86},{"$f":"IF($I12=0,\" \",AV9)","v":0.81},{"$f":"IF($I12=0,\" \",AW9)","v":0.62},0.33,0.9,{"$f":"IF($I12=0,\" \",AZ9*$H12/$H9)","v":0.8216},{"$f":"IF($I12=0,\" \",37/1000*H12)","v":23.384},{"$f":"IF($I12=0,\" \",102/1000*H12)","v":64.463999999999999},13.513455796559999,8.2517029341048005,8.4541522219549368]
[{"$f":"IF(E13=\" \",D13&\" \"&F13,D13&\" \"&E13&\"% RP \"&F13)","v":"Gerste  14% RP "},{"$f":"IF(D13=\"\",\" \",COUNTA($D$8:D13))","v":6},null,"Gerste ",14,null,1,880,138.4,{"$f":"I13*0.73","v":101.032},49.4,{"$f":"I13*0.0205*AV13+0.0398*AW13*AE13+0.0173*AF13+0.016*$AG13+0.0147*AI13","v":12.668151399999999},{"$f":"$I13*0.021503+0.032497*$AE13+0.016309*$AF13+0.014701*$AJ13-0.021071*$K13","v":12.976837000000002},{"$f":"IF(I13=0,\" \",(I13/H13*880*0.02+1.3)/880*H13)","v":4.0680000000000005},{"$f":"IF(N13=\" \",\" \",N13*0.73)","v":2.9696400000000005},{"$f":"IF(N13=\" \",\" \",(I13/H13*880*0.03+1.1)/880*H13)","v":5.2520000000000007},{"$f":"IF(N13=\" \",\" \",P13*(1.6*0.82+2.2*0.85)/3.8)","v":4.3978589473684231},{"$f":"IF(N13=\" \",\" \",(I13/H13*880*0.03+0.6)/880*H13)","v":4.7519999999999998},{"$f":"IF(N13=\" \",\" \",R13*0.76)","v":3.6115200000000001},{"$f":"IF(N13=\" \",\" \",(I13/H13*880*0.01+0.2)/880*H13)","v":1.5840000000000001},{"$f":"IF(N13=\" \",\" \",T13*0.76)","v":1.20384},{"$f":"0.49*H13/1000","v":0.43119999999999997},3.5,{"$f":"0.45*W13","v":1.575},{"$f":"W13*0.65","v":2.2749999999999999},1.1000000000000001,0.15,4.4000000000000004,{"$f":"IF($I13=\"\",\" \",($I13/H13*880*0.01+0.3)/880*H13)","v":1.6840000000000002},{"$f":"AC13*0.82","v":1.3808800000000001},23.2,499.2,22.4,23.8,{"$f":"(H13-AH13)*AU13-I13*AV13-AE13*AW13-AF13-AG13","v":75.717999999999876},{"$f":"$H13-($AE13+$AF13+$AH13+$I13+$K13)","v":146.00000000000011},{"$f":"AL13+AM13","v":14.383999999999999},{"$f":"57*AE13/100","v":13.223999999999998},{"$f":"5*AE13/100","v":1.1599999999999999},null,null,null,-60.628,408.14436799999999,{"$f":"AX13*K13+AY13*AT13-AF13-AG13","v":66.984000000000066},{"$f":"IF(H13=\"\",\" \",H13-I13-AE13-AH13-K13)","v":645.20000000000005},0.83,0.73,0.53,0.16,0.9,{"$f":"0.8*H13/1000","v":0.70399999999999996},{"$f":"$BA$17/$H$17*H13*K13/$K$17","v":42.680842911877392},{"$f":"$BB$17/$H$17*H13*K13/$K$17","v":327.91379310344831},12.336491010000001,8.3287065774144828,8.4322666636075745]
["Gerste  13% RP ",{"$f":"IF(D14=\"\",\" \",COUNTA($D$8:D14))","v":7},null,"Gerste ",13,null,"7",880,128,{"$f":"I14*0.73","v":93.44},52.2,{"$f":"I14*0.0205*AV14+0.0398*AW14*AE14+0.0173*AF14+0.016*$AG14+0.0147*AI14","v":12.638889899999999},{"$f":"$I14*0.021503+0.032497*$AE14+0.016309*$AF14+0.014701*$AJ14-0.021071*$K14","v":12.822090200000002},3.8600000000000008,2.8178000000000005,4.9399999999999995,4.1366000000000005,4.4399999999999995,3.3743999999999996,1.48,1.1248,{"$f":"0.49*H14/1000","v":0.43119999999999997},3.5,{"$f":"0.45*W14","v":1.575},{"$f":"W14*0.65","v":2.2749999999999999},1.1000000000000001,0.15,4.4000000000000004,1.58,{"$f":"AC14*0.82","v":1.2956000000000001},23.9,501.5,22,23.8,{"$f":"(H14-AH14)*AU14-I14*AV14-AE14*AW14-AF14-AG14","v":81.038999999999874},{"$f":"$H14-($AE14+$AF14+$AH14+$I14+$K14)","v":150.60000000000002},{"$f":"AL14+AM14","v":14.818},{"$f":"57*AE14/100","v":13.622999999999999},{"$f":"5*AE14/100","v":1.1950000000000001},null,null,null,-56.571999999999989,382.14436799999999,{"$f":"AX14*K14+AY14*AT14-AF14-AG14","v":71.741999999999962},652.1,0.83,0.73,0.53,0.16,0.9,{"$f":"0.8*H14/1000","v":0.70399999999999996},{"$f":"$BA$17/$H$17*H14*K14/$K$17","v":45.1},{"$f":"$BB$17/$H$17*H14*K14/$K$17","v":346.50000000000006},12.472925846000003,7.9248416310540017,8.2346402784831145]
["Gerste  12% RP ",{"$f":"IF(D15=\"\",\" \",COUNTA($D$8:D15))","v":8},null,"Gerste ",12,null,"19",880,119.3,{"$f":"I15*0.73","v":87.088999999999999},53.3,{"$f":"I15*0.0205*AV15+0.0398*AW15*AE15+0.0173*AF15+0.016*$AG15+0.0147*AI15","v":12.621783799999999},{"$f":"$I15*0.021503+0.032497*$AE15+0.016309*$AF15+0.014701*$AJ15-0.021071*$K15","v":12.734326400000002},3.6860000000000004,2.6907800000000002,4.6790000000000003,3.9180468421052641,4.1789999999999994,3.1760399999999995,1.393,1.0586800000000001,{"$f":"0.49*H15/1000","v":0.43119999999999997},3.5,{"$f":"0.45*W15","v":1.575},{"$f":"W15*0.65","v":2.2749999999999999},1.1000000000000001,0.15,4.4000000000000004,1.4930000000000001,{"$f":"AC15*0.82","v":1.2242599999999999},23.8,509.3,22.6,23.8,{"$f":"(H15-AH15)*AU15-I15*AV15-AE15*AW15-AF15-AG15","v":79.042999999999978},{"$f":"$H15-($AE15+$AF15+$AH15+$I15+$K15)","v":150.50000000000011},{"$f":"AL15+AM15","v":14.756},{"$f":"57*AE15/100","v":13.566000000000001},{"$f":"5*AE15/100","v":1.19},null,null,null,-53.178999999999988,360.39436799999999,{"$f":"AX15*K15+AY15*AT15-AF15-AG15","v":70.448000000000178},659.80000000000018,0.83,0.73,0.53,0.16,0.9,{"$f":"0.8*H15/1000","v":0.70399999999999996},46.050383141762445,353.80172413793099,12.718858272,7.8430396362093111,8.1563003015755573]
["Gerste  11% RP ",{"$f":"IF(D16=\"\",\" \",COUNTA($D$8:D16))","v":9},null,"Gerste ",11,null,"41",880,109.8,{"$f":"I16*0.73","v":80.153999999999996},55.3,{"$f":"I16*0.0205*AV16+0.0398*AW16*AE16+0.0173*AF16+0.016*$AG16+0.0147*AI16","v":12.5864011},{"$f":"$I16*0.021503+0.032497*$AE16+0.016309*$AF16+0.014701*$AJ16-0.021071*$K16","v":12.601872600000004},3.4960000000000009,2.5520800000000006,4.3940000000000001,3.6793968421052643,3.8939999999999992,2.9594399999999994,1.298,0.98648000000000002,{"$f":"0.49*H16/1000","v":0.43119999999999997},3.5,{"$f":"0.45*W16","v":1.575},{"$f":"W16*0.65","v":2.2749999999999999},1.1000000000000001,0.15,4.4000000000000004,1.3980000000000001,{"$f":"AC16*0.82","v":1.14636},23.9,510.5,22.9,23.8,{"$f":"(H16-AH16)*AU16-I16*AV16-AE16*AW16-AF16-AG16","v":84.424999999999926},{"$f":"$H16-($AE16+$AF16+$AH16+$I16+$K16)","v":156.70000000000016},{"$f":"AL16+AM16","v":14.818},{"$f":"57*AE16/100","v":13.622999999999999},{"$f":"5*AE16/100","v":1.1950000000000001},null,null,null,-49.47399999999999,336.64436799999999,{"$f":"AX16*K16+AY16*AT16-AF16-AG16","v":75.928000000000083},667.20000000000016,0.83,0.73,0.53,0.16,0.9,{"$f":"0.8*H16/1000","v":0.70399999999999996},47.778352490421447,367.07758620689657,12.829666998000002,7.6839934927669642,8.0036314581882184]
["Gerste  10% RP  DLG 2014",{"$f":"IF(D17=\"\",\" \",COUNTA($D$8:D17))","v":10},null,"Gerste ",10," DLG 2014",null,870,104,{"$f":"I17*0.73","v":75.92},48,{"$f":"I17*0.0205*AV17+0.0398*AW17*AE17+0.0173*AF17+0.016*$AG17+0.0147*AI17","v":12.47168224},{"$f":"$I17*0.021503+0.032497*$AE17+0.016309*$AF17+0.014701*$AJ17-0.021071*$K17","v":12.697406240000001},3.3652272727272723,2.4566159090909085,4.2074999999999996,3.5232276315789477,3.7131818181818175,2.8220181818181813,1.2377272727272726,0.9406727272727271,{"$f":"0.49*H17/1000","v":0.42630000000000001},3.5,{"$f":"0.45*W17","v":1.575},{"$f":"W17*0.65","v":2.2749999999999999},1.1000000000000001,0.15,4.4000000000000004,1.3365909090909089,{"$f":"AC17*0.82","v":1.0960045454545453},24,522,23,{"$f":"27*0.88","v":23.76},{"$f":"(H17-AH17)*AU17-I17*AV17-AE17*AW17-AF17-AG17","v":68.739199999999983},{"$f":"$H17-($AE17+$AF17+$AH17+$I17+$K17)","v":148.24},{"$f":"AL17+AM17","v":14.879999999999999},{"$f":"57*AE17/100","v":13.68},{"$f":"5*AE17/100","v":1.2},null,null,null,-47.070499999999981,322.045682,{"$f":"AX17*K17+AY17*AT17-AF17-AG17","v":65.895999999999958},670.24,0.83,0.73,0.53,0.16,0.9,{"$f":"0.8*H17/1000","v":0.69599999999999995},41,315,13.539106555200004,8.1552128108688002,8.4510621992067261]
["eigene Gerste 10% RP Ø 2018",{"$f":"IF(D18=\"\",\" \",COUNTA($D$8:D18))","v":11},null,"eigene Gerste",10,{"$f":"IF(I18=97.13,\"Ø 2018\",\"\")","v":"Ø 2018"},null,880,97.13,{"$f":"IF(I18=0,\" \",I18*0.73)","v":70.904899999999998},55.59,{"$f":"IF($I18=\"\",\" \",I18*0.0205*AV18+0.0398*AW18*AE18+0.0173*AF18+0.016*$AG18+0.0147*AI18)","v":12.512543189999999},{"$f":"IF(I18=\"\",\" \",$I18*0.021503+0.032497*$AE18+0.016309*$AF18+0.014701*$AJ18-0.021071*$K18)","v":12.493114420000001},3.2425999999999999,2.3670979999999999,4.0138999999999996,3.3611131052631582,3.5139,2.6705640000000002,1.1713,0.89018799999999998,{"$f":"IF($I18=0,\" \",V$16*$H18/$H$16)","v":0.43119999999999997},3.5,1.575,2.2749999999999999,1.1000000000000001,{"$f":"IF($I18=0,\" \",AA17*$H18/$H17)","v":0.15172413793103448},{"$f":"IF($I18=0,\" \",AB$16*$H18/$H$16)","v":4.4000000000000004},1.2712999999999999,{"$f":"IF($N18=\" \",\" \",AC18*0.82)","v":1.0424659999999999},23.79,502.3,23,23.6,{"$f":"IF($I18=\"\",\" \",(H18-AH18)*AU18-I18*AV18-AE18*AW18-AF18-AG18)","v":101.99839999999989},{"$f":"IF($I18=\"\",\" \",$H18-($AE18+$AF18+$AH18+$I18+$K18))","v":177.58999999999992},{"$f":"IF($I18=0,\" \",AK17*$H18/$H17)","v":15.05103448275862},13.837241379310344,1.2137931034482758,null,null,null,-44.456837931034443,304.96936799999997,{"$f":"IF($I18=0,\" \",AX18*K18+AY18*AT18-AF18-AG18)","v":95.495399999999961},679.89,{"$f":"IF($I18=0,\" \",83%)","v":0.83},{"$f":"IF($I18=0,\" \",73%)","v":0.73},{"$f":"IF($I18=0,\" \",53%)","v":0.53},{"$f":"IF($I18=0,\" \",AX17)","v":0.16},{"$f":"IF($I18=0,\" \",AY17)","v":0.9},{"$f":"IF($I18=0,\" \",AZ17*$H18/$H17)","v":0.70399999999999985},{"$f":"IF(I18=0,\" \",$BA$17/$H$17*H18*K18/$K$17)","v":48.028908045977012},{"$f":"IF(I18=0,\" \",$BB$17/$H$17*H18*K18/$K$17)","v":369.00258620689664},12.964093526600001,7.6266587850745644,7.950001061771836]
["eigene Gerste 2 11% RP Ø 2017",{"$f":"IF(D19=\"\",\" \",COUNTA($D$8:D19))","v":12},null,"eigene Gerste 2",{"$f":"IF(I19=0,\" \",ROUND(I19/10,0))","v":11},{"$f":"IF(I19=106.8,\"Ø 2017\",\"\")","v":"Ø 2017"},null,880,106.8,{"$f":"IF(I19=0,\" \",I19*0.73)","v":77.963999999999999},53.8,{"$f":"IF($I19=\"\",\" \",I19*0.0205*AV19+0.0398*AW19*AE19+0.0173*AF19+0.016*$AG19+0.0147*AI19)","v":12.565658899999999},{"$f":"IF(I19=\"\",\" \",$I19*0.021503+0.032497*$AE19+0.016309*$AF19+0.014701*$AJ19-0.021071*$K19)","v":12.6299911},3.4359999999999999,2.5082800000000001,4.3040000000000003,3.6040336842105267,3.8039999999999998,2.8910399999999998,1.268,0.96367999999999998,0.43119999999999997,3.5,1.575,2.2749999999999999,1.1000000000000001,{"$f":"IF($I19=0,\" \",AA18*$H19/$H18)","v":0.15172413793103448},{"$f":"IF($I19=0,\" \",AB$16*$H19/$H$16)","v":4.4000000000000004},1.3680000000000001,{"$f":"IF($N19=\" \",\" \",AC19*0.82)","v":1.1217600000000001},23.8,507.5,22.8,23.7,{"$f":"IF($I19=\"\",\" \",(H19-AH19)*AU19-I19*AV19-AE19*AW19-AF19-AG19)","v":89.850999999999843},{"$f":"IF($I19=\"\",\" \",$H19-($AE19+$AF19+$AH19+$I19+$K19))","v":164.40000000000009},15.05103448275862,13.837241379310344,1.2137931034482758,null,null,null,{"$f":"IF(H19=\"\",\"\",50*V19+83*Z19+26*AB19+44*AA19-59*W19-13*P19-28*AZ19)","v":-48.228137931034453},{"$f":"IF(H19=\"\",\"\",V19/1000*20140+Z19/1000*48600+1100/440*I19)","v":329.14436799999999},{"$f":"IF($I19=0,\" \",AX19*K19+AY19*AT19-AF19-AG19)","v":83.0180000000001},671.90000000000009,{"$f":"IF($I19=0,\" \",83%)","v":0.83},{"$f":"IF($I19=0,\" \",73%)","v":0.73},{"$f":"IF($I19=0,\" \",53%)","v":0.53},{"$f":"IF($I19=0,\" \",AX18)","v":0.16},{"$f":"IF($I19=0,\" \",AY18)","v":0.9},{"$f":"IF($I19=0,\" \",AZ18*$H19/$H18)","v":0.70399999999999985},{"$f":"IF(I19=0,\" \",$BA$17/$H$17*H19*K19/$K$17)","v":46.482375478927196},{"$f":"IF(I19=0,\" \",$BB$17/$H$17*H19*K19/$K$17)","v":357.12068965517238},12.945193502999999,7.7860012178137268,8.0999650421615463]
["Gerste  10% RP ",{"$f":"IF(D20=\"\",\" \",COUNTA($D$8:D20))","v":13},null,"Gerste ",10,null,"23",880,100.7,{"$f":"I20*0.73","v":73.510999999999996},54,{"$f":"I20*0.0205*AV20+0.0398*AW20*AE20+0.0173*AF20+0.016*$AG20+0.0147*AI20","v":12.555051500000001},{"$f":"$I20*0.021503+0.032497*$AE20+0.016309*$AF20+0.014701*$AJ20-0.021071*$K20","v":12.589487399999999},3.3140000000000001,2.4192200000000001,4.1210000000000004,3.4507952631578958,3.621,2.75196,1.2070000000000001,0.91732000000000002,{"$f":"0.49*H20/1000","v":0.43119999999999997},3.5,{"$f":"0.45*W20","v":1.575},{"$f":"W20*0.65","v":2.2749999999999999},1.1000000000000001,0.15,4.4000000000000004,1.3070000000000002,{"$f":"AC20*0.82","v":1.0717400000000001},23.9,514.20000000000005,22.9,24,{"$f":"(H20-AH20)*AU20-I20*AV20-AE20*AW20-AF20-AG20","v":87.20199999999997},{"$f":"$H20-($AE20+$AF20+$AH20+$I20+$K20)","v":163.19999999999993},{"$f":"AL20+AM20","v":14.818},{"$f":"57*AE20/100","v":13.622999999999999},{"$f":"5*AE20/100","v":1.1950000000000001},null,null,null,-45.924999999999997,313.89436799999999,{"$f":"AX20*K20+AY20*AT20-AF20-AG20","v":81.199999999999903},677.4,0.83,0.73,0.53,0.16,0.9,{"$f":"0.8*H20/1000","v":0.70399999999999996},46.655172413793103,358.44827586206901,13.184225801999998,7.7709925954166907,8.082852992826373]
["Gerste  9% RP ",{"$f":"IF(D21=\"\",\" \",COUNTA($D$8:D21))","v":14},null,"Gerste ",9,null,"9",880,90.6,{"$f":"I21*0.73","v":66.137999999999991},52.3,12.574137799999999,12.618894400000002,3.1120000000000001,2.27176,3.8179999999999996,3.1970726315789473,3.3179999999999996,2.5216799999999999,1.1059999999999999,0.84055999999999986,{"$f":"0.49*H21/1000","v":0.43119999999999997},3.5,{"$f":"0.45*W21","v":1.575},2.2749999999999999,1.1000000000000001,0.15,4.4000000000000004,1.206,{"$f":"AC21*0.82","v":0.98891999999999991},23.8,538.5,22.9,24,70.327999999999946,150.80000000000007,{"$f":"AL21+AM21","v":14.756},{"$f":"57*AE21/100","v":13.566000000000001},{"$f":"5*AE21/100","v":1.19},null,null,null,-41.985999999999976,288.64436799999999,67.338000000000164,689.30000000000007,0.83,0.73,0.53,0.16,0.9,{"$f":"0.8*H21/1000","v":0.70399999999999996},45.186398467432944,347.16379310344831,13.917192912000003,7.9223700313944825,8.232921345065817]
["Gerste öko 9% RP Ø Hessen",{"$f":"IF(D22=\"\",\" \",COUNTA($D$8:D22))","v":15},null,"Gerste öko",9,"Ø Hessen","100",880,87.3,{"$f":"I22*0.73","v":63.728999999999999},58.7,12.560165599999998,12.367507000000002,3.0460000000000003,2.2235800000000001,3.7189999999999999,3.1141731578947374,3.2189999999999999,2.4464399999999999,1.073,0.81547999999999998,{"$f":"0.49*H22/1000","v":0.43119999999999997},3.5,{"$f":"0.45*W22","v":1.575},2.2749999999999999,1.1000000000000001,0.15,4.4000000000000004,1.173,{"$f":"AC22*0.82","v":0.96185999999999994},23.8,538.5,22.9,24,72.736999999999938,147.70000000000005,{"$f":"AL22+AM22","v":14.756},{"$f":"57*AE22/100","v":13.566000000000001},{"$f":"5*AE22/100","v":1.19},null,null,null,-40.698999999999984,280.39436799999999,65.572000000000088,686.2,0.83,0.73,0.53,0.16,0.9,{"$f":"0.8*H22/1000","v":0.70399999999999996},50.715900383141765,389.64655172413796,13.563680110000002,7.444556936987377,7.7745980516926485]
["Gerste Sommer 10% RP Ø Hessen",{"$f":"IF(D23=\"\",\" \",COUNTA($D$8:D23))","v":16},null,"Gerste Sommer",10,"Ø Hessen","100",880,99.4,{"$f":"I23*0.73","v":72.561999999999998},49.9,12.698748999999998,12.740806400000002,{"$f":"IF(I23=0,\" \",(I23/H23*880*0.0241+1.3)/880*H23)","v":3.6955400000000003},2.6977442000000003,{"$f":"IF(N23=\" \",\" \",(I23/H23*880*0.031+0.86)/880*H23)","v":3.9414000000000002},{"$f":"IF(N23=\" \",\" \",P23*(1.8*0.82+2.3*0.85)/3.8)","v":3.5586693157894742},{"$f":"IF(N23=\" \",\" \",(I23/H23*880*0.0293+0.48)/880*H23)","v":3.39242},2.5782392000000001,{"$f":"IF(N23=\" \",\" \",(I23/H23*880*0.0126+0.02)/880*H23)","v":1.27244},0.96705439999999998,{"$f":"0.8*H23/1000","v":0.70399999999999996},3.5,{"$f":"0.45*W23","v":1.575},2.2749999999999999,{"$f":"1.3*H23/1000","v":1.1439999999999999},0.15,{"$f":"5*H23/1000","v":4.4000000000000004},{"$f":"IF($I23=\"\",\" \",($I23/H23*880*0.015+0.18)/880*H23)","v":1.671},{"$f":"AC23*0.82","v":1.37022},23.8,523.70000000000005,22.9,24,87.263999999999868,159.20000000000005,{"$f":"AL23+AM23","v":14.756},{"$f":"57*AE23/100","v":13.566000000000001},{"$f":"5*AE23/100","v":1.19},null,null,null,-43.54620000000002,318.27695999999997,77.990000000000094,682.90000000000009,0.84,0.73,0.53,0.2,0.9,{"$f":"1.5*H23/1000","v":1.32},43.112835249042142,331.23275862068971,13.636188671999999,8.0845554196708989,8.3878403252182192]
[null,{"$f":"IF(D24=\"\",\" \",COUNTA($D$8:D24))","v":17},null,"Gerste Sommer",10," DLG 2014",null,870,98,{"$f":"I24*0.73","v":71.539999999999992},44,12.527112999999998,12.748956000000002,{"$f":"IF(I24=0,\" \",(I24/H24*880*0.0241+1.3)/880*H24)","v":3.6470272727272732},2.6623299090909094,{"$f":"IF(N24=\" \",\" \",(I24/H24*880*0.031+0.86)/880*H24)","v":3.8882272727272729},{"$f":"IF(N24=\" \",\" \",P24*(1.8*0.82+2.3*0.85)/3.8)","v":3.5106599401913878},{"$f":"IF(N24=\" \",\" \",(I24/H24*880*0.0293+0.48)/880*H24)","v":3.3459454545454546},2.5429185454545453,{"$f":"IF(N24=\" \",\" \",(I24/H24*880*0.0126+0.02)/880*H24)","v":1.2545727272727274},0.95347527272727284,{"$f":"0.8*H24/1000","v":0.69599999999999995},3.5,{"$f":"0.45*W24","v":1.575},2.2749999999999999,{"$f":"1.3*H24/1000","v":1.131},0.15,{"$f":"5*H24/1000","v":4.3499999999999996},{"$f":"IF($I24=\"\",\" \",($I24/H24*880*0.015+0.18)/880*H24)","v":1.6479545454545452},{"$f":"AC24*0.82","v":1.3513227272727271},23,522,21,26,82.229999999999905,157,{"$f":"AL24+AM24","v":14.26},{"$f":"57*AE24/100","v":13.11},{"$f":"5*AE24/100","v":1.1499999999999999},null,null,null,{"$f":"IF(H24=\"\",\"\",50*V24+83*Z24+26*AB24+44*AA24-59*W24-13*P24-28*AZ24)","v":-45.213954545454556},{"$f":"IF(H24=\"\",\"\",V24/1000*20140+Z24/1000*48600+1100/440*I24)","v":313.98403999999999},76.899999999999977,679,0.84,0.73,0.53,0.2,0.9,{"$f":"1.5*H24/1000","v":1.3049999999999999},37.583333333333336,288.75,13.853737879999999,8.3865254470920014,8.642205220510176]
["Hafer  11% RP DLG 2014",{"$f":"IF(D25=\"\",\" \",COUNTA($D$8:D25))","v":18},null,"Hafer ",11,"DLG 2014",null,880,108,{"$f":"I25*0.88","v":95.04},97,11.675204000000001,11.256732,{"$f":"IF(I25=0,\" \",(I25/H25*880*0.04+0.4)/880*H25)","v":4.7200000000000006},{"$f":"IF(N25=\" \",\" \",N25*0.95)","v":4.484},{"$f":"IF(N25=\" \",\" \",(I25/H25*880*0.04+0.4)/880*H25)","v":4.7200000000000006},{"$f":"IF(N25=\" \",\" \",P25*(1.6*0.88+2.6*0.82)/4.2)","v":3.9782857142857151},{"$f":"IF(N25=\" \",\" \",(I25/H25*880*0.03+0.1)/880*H25)","v":3.34},{"$f":"IF(N25=\" \",\" \",R25*0.9)","v":3.0059999999999998},{"$f":"IF(N25=\" \",\" \",(I25/H25*880*0.01)/880*H25)","v":1.08},{"$f":"IF(N25=\" \",\" \",T25*0.77)","v":0.83160000000000012},1.1000000000000001,3.2,{"$f":"W25*0.25","v":0.8},2.08,1.1000000000000001,0.16,4.4000000000000004,{"$f":"IF($I25=\"\",\" \",($I25/H25*880*0.01+0.1)/880*H25)","v":1.1800000000000002},{"$f":"AC25*0.88","v":1.0384000000000002},47,392,14,28,83.32000000000005,208,14,{"$f":"$AL$23*AK25/$AK$23","v":12.870967741935484},{"$f":"AK25-AL25","v":1.129032258064516},null,null,null,-7.0599999999999525,345.61400000000003,67.639999999999986,600,0.73,0.88,0.8,0.12,0.77,{"$f":"1*H25/1000","v":0.88},143,334,9.681414359999998,7.8694117694280026,8.4529452334383848]
["eigener Hafer 11% RP Ø 2016",{"$f":"IF(D26=\"\",\" \",COUNTA($D$8:D26))","v":19},null,"eigener Hafer",11,{"$f":"IF(I26=110.75,\"Ø 2016\",\"\")","v":"Ø 2016"},null,880,110.75,{"$f":"IF(I26=0,\" \",I26*0.88)","v":97.46},102.39,{"$f":"IF($I26=\"\",\" \",I26*0.0205*AV26+0.0398*AW26*AE26+0.0173*AF26+0.016*$AG26+0.0147*AI26)","v":11.254695379999998},{"$f":"IF(I26=\"\",\" \",$I26*0.021503+0.032497*$AE26+0.016309*$AF26+0.014701*$AJ26-0.021071*$K26)","v":10.66271972},{"$f":"IF(I26=0,\" \",(I26/H26*880*0.04+0.4)/880*H26)","v":4.83},{"$f":"IF(N26=\" \",\" \",N26*0.95)","v":4.5884999999999998},{"$f":"IF(N26=\" \",\" \",(I26/H26*880*0.04+0.4)/880*H26)","v":4.83},{"$f":"IF(N26=\" \",\" \",P26*(1.6*0.88+2.6*0.82)/4.2)","v":4.0710000000000006},{"$f":"IF(N26=\" \",\" \",(I26/H26*880*0.03+0.1)/880*H26)","v":3.4224999999999999},{"$f":"IF(N26=\" \",\" \",R26*0.9)","v":3.0802499999999999},{"$f":"IF(N26=\" \",\" \",(I26/H26*880*0.01)/880*H26)","v":1.1074999999999999},{"$f":"IF(N26=\" \",\" \",T26*0.77)","v":0.85277499999999995},{"$f":"IF($I26=0,\" \",1.093*H26/1000)","v":0.96183999999999992},{"$f":"IF($I26=0,\" \",3.827*H26/1000)","v":3.3677599999999996},{"$f":"W26*0.25","v":0.84193999999999991},{"$f":"IF($I26=0,\" \",Y25*$H26/$H25)","v":2.08},{"$f":"IF($I26=0,\" \",Z25*$H26/$H25)","v":1.1000000000000001},{"$f":"IF($I26=0,\" \",AA25*$H26/$H25)","v":0.16},{"$f":"IF($I26=0,\" \",AB25*$H26/$H25)","v":4.4000000000000004},{"$f":"IF($I26=\"\",\" \",($I26/H26*880*0.01+0.1)/880*H26)","v":1.2075},{"$f":"IF($N26=\" \",\" \",AC26*0.88)","v":1.0626},32.409999999999997,372.97,15.96,36.82,{"$f":"IF($I26=\"\",\" \",(H26-AH26)*AU26-I26*AV26-AE26*AW26-AF26-AG26)","v":103.2033999999999},{"$f":"IF($I26=\"\",\" \",$H26-($AE26+$AF26+$AH26+$I26+$K26))","v":224.65999999999997},{"$f":"IF($I26=0,\" \",AK25*$H26/$H25)","v":14},12.870967741935484,1.129032258064516,0,0,0,-25.295839999999991,349.70645760000002,{"$f":"IF($I26=0,\" \",AX26*K26+AY26*AT26-AF26-AG26)","v":83.531899999999979},597.63,{"$f":"IF($I26=0,\" \",AU25)","v":0.73},{"$f":"IF($I26=0,\" \",AV25)","v":0.88},{"$f":"IF($I26=0,\" \",AW25)","v":0.8},{"$f":"IF($I26=0,\" \",AX25)","v":0.12},{"$f":"IF($I26=0,\" \",AY25)","v":0.77},{"$f":"IF($I26=0,\" \",AZ25*$H26/$H25)","v":0.88},{"$f":"IF($I26=0,\" \",BA25*$H25/$H25*K26/K25)","v":150.94608247422681},{"$f":"IF($I26=0,\" \",334*$H26/$H25*K26/$K25)","v":352.559381443299},7.8618953955999986,7.204984969495583,7.7175278319746168]
["Hafer  11% RP Ø Hessen",{"$f":"IF(D27=\"\",\" \",COUNTA($D$8:D27))","v":20},null,"Hafer ",11,"Ø Hessen","100",880,112.1,{"$f":"I27*0.88","v":98.647999999999996},98.6,{"$f":"I27*0.0205*AV27+0.0398*AW27*AE27+0.0173*AF27+0.016*$AG27+0.0147*AI27","v":11.50815016},{"$f":"$I27*0.021503+0.032497*$AE27+0.016309*$AF27+0.014701*$AJ27-0.021071*$K27","v":11.054343960000001},{"$f":"IF(I27=0,\" \",(I27/H27*880*0.04+0.4)/880*H27)","v":4.8840000000000003},{"$f":"IF(N27=\" \",\" \",N27*0.95)","v":4.6398000000000001},{"$f":"IF(N27=\" \",\" \",(I27/H27*880*0.04+0.4)/880*H27)","v":4.8840000000000003},{"$f":"IF(N27=\" \",\" \",P27*(1.6*0.88+2.6*0.82)/4.2)","v":4.1165142857142865},{"$f":"IF(N27=\" \",\" \",(I27/H27*880*0.03+0.1)/880*H27)","v":3.4629999999999996},{"$f":"IF(N27=\" \",\" \",R27*0.9)","v":3.1166999999999998},{"$f":"IF(N27=\" \",\" \",(I27/H27*880*0.01)/880*H27)","v":1.121},{"$f":"IF(N27=\" \",\" \",T27*0.77)","v":0.86316999999999999},1.1000000000000001,3.2,{"$f":"W27*0.25","v":0.8},{"$f":"W27*0.65","v":2.08},1.1000000000000001,0.16,4.4000000000000004,{"$f":"IF($I27=\"\",\" \",($I27/H27*880*0.01+0.1)/880*H27)","v":1.2210000000000001},{"$f":"AC27*0.88","v":1.0744800000000001},38,393.5,14,{"$f":"33*0.88","v":29.04},{"$f":"(H27-AH27)*AU27-I27*AV27-AE27*AW27-AF27-AG27","v":84.652799999999957},{"$f":"$H27-($AE27+$AF27+$AH27+$I27+$K27)","v":208.76},14,{"$f":"$AL$23*AK27/$AK$23","v":12.870967741935484},{"$f":"AK27-AL27","v":1.129032258064516},null,null,null,-9.1919999999999504,355.86400000000003,{"$f":"AX27*K27+AY27*AT27-AF27-AG27","v":68.072200000000009},602.26,0.73,0.88,0.8,0.12,0.77,{"$f":"1*H27/1000","v":0.88},{"$f":"IF($I27=0,\" \",BA25*$H27/$H25*K27/K25)","v":145.35876288659793},{"$f":"IF($I27=0,\" \",BB25*$H27/$H25*K27/K25)","v":339.5092783505155},8.8807710907999997,7.4919049515374478,8.2116221920608066]
["Hirse - Sorghum 10% RP DLG 2014",{"$f":"IF(D28=\"\",\" \",COUNTA($D$8:D28))","v":21},null,"Hirse - Sorghum",{"$f":"IF(I28=0,\" \",ROUND(I28/10,0))","v":10},"DLG 2014",null,880,97,{"$f":"I28*0.74","v":71.78},26,{"$f":"I28*0.0205*AV28+0.0398*AW28*AE28+0.0173*AF28+0.016*$AG28+0.0147*AI28","v":13.747688000000002},{"$f":"$I28*0.021503+0.032497*$AE28+0.016309*$AF28+0.014701*$AJ28-0.021071*$K28","v":14.073718000000001},{"$f":"IF(I28=0,\" \",(I28/H28*880*0.02+0.4)/880*H28)","v":2.34},{"$f":"IF(N28=\" \",\" \",N28*0.8)","v":1.8719999999999999},{"$f":"IF(N28=\" \",\" \",(I28/H28*880*0.04+0.1)/880*H28)","v":3.98},{"$f":"IF(N28=\" \",\" \",P28*(1.6*0.89+1.7*0.86)/3.3)","v":3.4806909090909093},{"$f":"IF(N28=\" \",\" \",(I28/H28*880*0.04-0.3)/880*H28)","v":3.58},{"$f":"IF(N28=\" \",\" \",R28*0.86)","v":3.0788000000000002},{"$f":"IF(N28=\" \",\" \",(I28/H28*880*0.02-0.9)/880*H28)","v":1.04},{"$f":"IF(N28=\" \",\" \",T28*0.86)","v":0.89439999999999997},0.4,2.6,{"$f":"W28*0.3","v":0.78},{"$f":"W28*0.65","v":1.6900000000000002},1.1000000000000001,0.2,3.3,{"$f":"IF($I28=\"\",\" \",($I28/H28*880*0.02-0.3)/880*H28)","v":1.64},{"$f":"AC28*0.89","v":1.4596},35,634,11,16,{"$f":"(H28-AH28)*AU28-I28*AV28-AE28*AW28-AF28-AG28","v":23.940000000000055},{"$f":"$H28-($AE28+$AF28+$AH28+$I28+$K28)","v":72},{"$f":"(AK25-AK23)/2+AK23","v":14.378},{"$f":"$AL$23*AK28/$AK$23","v":13.218483870967743},{"$f":"AK28-AL28","v":1.1595161290322569},null,null,null,-16.487999999999975,304.01600000000002,{"$f":"AX28*K28+AY28*AT28-AF28-AG28","v":43.119999999999891},706,0.88,0.74,0.56000000000000005,0.67,0.95,{"$f":"0.7*H28/1000","v":0.61599999999999999},41,183,17.926814140000001,10.163172130128,10.602581718202941]
["eigene Hirse - Sorghum 10% RP ",{"$f":"IF(D29=\"\",\" \",COUNTA($D$8:D29))","v":22},null,"eigene Hirse - Sorghum",{"$f":"IF(I29=0,\" \",ROUND(I29/10,0))","v":10},null,null,880,100,{"$f":"IF(I29=0,\" \",I29*0.74)","v":74},56,{"$f":"IF($I29=\"\",\" \",I29*0.0205*AV29+0.0398*AW29*AE29+0.0173*AF29+0.016*$AG29+0.0147*AI29)","v":13.510816},{"$f":"IF(I29=\"\",\" \",$I29*0.021503+0.032497*$AE29+0.016309*$AF29+0.014701*$AJ29-0.021071*$K29)","v":12.747324000000001},{"$f":"IF(I29=0,\" \",(I29/H29*880*0.02+0.4)/880*H29)","v":2.4},{"$f":"IF(N29=\" \",\" \",N29*0.8)","v":1.92},{"$f":"IF(N29=\" \",\" \",(I29/H29*880*0.04+0.1)/880*H29)","v":4.0999999999999996},{"$f":"IF(N29=\" \",\" \",P29*(1.6*0.89+1.7*0.86)/3.3)","v":3.5856363636363637},{"$f":"IF(N29=\" \",\" \",(I29/H29*880*0.04-0.3)/880*H29)","v":3.7},{"$f":"IF(N29=\" \",\" \",R29*0.86)","v":3.1819999999999999},{"$f":"IF(N29=\" \",\" \",(I29/H29*880*0.02-0.9)/880*H29)","v":1.1000000000000001},{"$f":"IF(N29=\" \",\" \",T29*0.86)","v":0.94600000000000006},{"$f":"IF($I29=0,\" \",V28*$H29/$H28)","v":0.4},2.6,0.78,1.69,1.1000000000000001,0.2,3.3,{"$f":"IF($I29=\"\",\" \",($I29/H29*880*0.02-0.3)/880*H29)","v":1.7},{"$f":"IF($N29=\" \",\" \",AC29*0.89)","v":1.5129999999999999},26,600,24,20,{"$f":"IF($I29=\"\",\" \",(H29-AH29)*AU29-I29*AV29-AE29*AW29-AF29-AG29)","v":44.240000000000009},{"$f":"IF($I29=\"\",\" \",$H29-($AE29+$AF29+$AH29+$I29+$K29))","v":78},{"$f":"IF($I29=0,\" \",AK28*$H29/$H28)","v":14.378},13.218483870967743,1.1595161290322569,0,0,0,-18.04799999999997,311.51600000000002,{"$f":"IF($I29=0,\" \",AX29*K29+AY29*AT29-AF29-AG29)","v":57.620000000000005},678,{"$f":"IF($I29=0,\" \",AU28)","v":0.88},{"$f":"IF($I29=0,\" \",AV28)","v":0.74},{"$f":"IF($I29=0,\" \",AW28)","v":0.56000000000000005},{"$f":"IF($I29=0,\" \",AX28)","v":0.67},{"$f":"IF($I29=0,\" \",AY28)","v":0.95},{"$f":"IF($I29=0,\" \",AZ28*$H29/$H28)","v":0.61599999999999999},{"$f":"IF($I29=0,\" \",BA28*$H28/$H29*K29/K28)","v":88.307692307692307},{"$f":"IF($I29=0,\" \",BB28*$H29/$H28*K29/K28)","v":394.15384615384613},14.63954652,7.6773095818726134,8.0149773900920636]
["Mais, Körner 9% RP DLG 2014",{"$f":"IF(D30=\"\",\" \",COUNTA($D$8:D30))","v":23},null,"Mais, Körner",9,"DLG 2014",null,880,92,{"$f":"I30*0.82","v":75.44},23,{"$f":"IF($I30=\"\",\" \",I30*0.0205*AV30+0.0398*AW30*AE30+0.0173*AF30+0.016*$AG30+0.0147*AI30)","v":14.186431199999998},{"$f":"$I30*0.021503+0.032497*$AE30+0.016309*$AF30+0.014701*$AJ30-0.021071*$K30","v":14.207877039999998},{"$f":"IF(I30=0,\" \",I30*0.0186+0.85)","v":2.5611999999999999},{"$f":"IF(N30=\" \",\" \",N30*0.85)","v":2.1770199999999997},{"$f":"IF(N30=\" \",\" \",(I30/H30*880*0.03+1)/880*H30)","v":3.76},{"$f":"IF(N30=\" \",\" \",P30*(1.8*0.85+1.8*0.86)/3.6)","v":3.2147999999999999},{"$f":"IF(N30=\" \",\" \",(I30/H30*880*0.03+0.4)/880*H30)","v":3.1599999999999997},{"$f":"IF(N30=\" \",\" \",R30*0.83)","v":2.6227999999999998},{"$f":"IF(N30=\" \",\" \",I30*0.0047+0.24)","v":0.6724},{"$f":"IF(N30=\" \",\" \",T30*0.82)","v":0.55136799999999997},0.4,2.8,{"$f":"W30*0.2","v":0.55999999999999994},{"$f":"W30*0.65","v":1.8199999999999998},1.1000000000000001,0.2,3,{"$f":"IF($I30=\"\",\" \",($I30/H30*880*0.0159+0.37)/880*H30)","v":1.8328000000000002},{"$f":"IF($N30=\" \",\" \",AC30*0.85)","v":1.5578800000000002},40,607,18,{"$f":"17*0.88","v":14.96},{"$f":"(H30-AH30)*AU30-I30*AV30-AE30*AW30-AF30-AG30","v":50.096000000000004},{"$f":"$H30-($AE30+$AF30+$AH30+$I30+$K30)","v":103.03999999999996},{"$f":"56*AE30/100","v":22.4},{"$f":"$AL$23*AK30/$AK$23","v":20.593548387096774},{"$f":"AK30-AL30","v":1.8064516129032242},null,null,null,-28.299999999999962,291.51600000000002,{"$f":"AX30*K30+AY30*AT30-AF30-AG30","v":54.167599999999993},710.04,0.9,0.82,0.7,0.51,0.94,{"$f":"0.5*H30/1000","v":0.44},33,136,18.157750239199999,10.8440621864208,11.16429549854778]
["eigener Mais, Körner ",{"$f":"IF(D31=\"\",\" \",COUNTA($D$8:D31))","v":24},null,"eigener Mais, Körner"," ",null,null,null,null,{"$f":"IF(I31=0,\" \",I31*0.82)","v":" "},null,{"$f":"IF($I31=\"\",\" \",I31*0.0205*AV31+0.0398*AW31*AE31+0.0173*AF31+0.016*$AG31+0.0147*AI31)","v":" "},{"$f":"IF(I31=\"\",\" \",$I31*0.021503+0.032497*$AE31+0.016309*$AF31+0.014701*$AJ31-0.021071*$K31)","v":" "},{"$f":"IF(I31=0,\" \",(I31/H31*880*0.0186+0.85)/880*H31)","v":" "},{"$f":"IF(N31=\" \",\" \",N31*0.85)","v":" "},{"$f":"IF(N31=\" \",\" \",(I31/H31*880*0.03+1)/880*H31)","v":" "},{"$f":"IF(N31=\" \",\" \",P31*(1.8*0.85+1.8*0.86)/3.6)","v":" "},{"$f":"IF(N31=\" \",\" \",(I31/H31*880*0.03+0.4)/880*H31)","v":" "},{"$f":"IF(N31=\" \",\" \",R31*0.83)","v":" "},{"$f":"IF(N31=\" \",\" \",(I31/H31*880*0.0047+0.24)/880*H31)","v":" "},{"$f":"IF(N31=\" \",\" \",T31*0.82)","v":" "},{"$f":"IF($I31=0,\" \",V30*$H31/$H30)","v":" "}," "," "," "," "," "," ",{"$f":"IF($I31=\"\",\" \",($I31/H31*880*0.0159+0.37)/880*H31)","v":" "},{"$f":"IF($N31=\" \",\" \",AC31*0.85)","v":" "},null,null,null,null,{"$f":"IF($I31=\"\",\" \",(H31-AH31)*AU31-I31*AV31-AE31*AW31-AF31-AG31)","v":" "},{"$f":"IF($I31=\"\",\" \",$H31-($AE31+$AF31+$AH31+$I31+$K31))","v":" "},{"$f":"IF($I31=0,\" \",AK30*$H31/$H30)","v":" "}," "," "," "," "," ","","",{"$f":"IF($I31=0,\" \",AX31*K31+AY31*AT31-AF31-AG31)","v":" "}," ",{"$f":"IF($I31=0,\" \",AU30)","v":" "},{"$f":"IF($I31=0,\" \",AV30)","v":" "},{"$f":"IF($I31=0,\" \",AW30)","v":" "},{"$f":"IF($I31=0,\" \",AX30)","v":" "},{"$f":"IF($I31=0,\" \",AY30)","v":" "},{"$f":"IF($I31=0,\" \",AZ30*$H31/$H30)","v":" "},{"$f":"IF($I31=0,\" \",BA30*$H31/$H30*K31/K30)","v":" "},{"$f":"IF($I31=0,\" \",BB30*$H31/$H30*K31/K30)","v":" "},"","",""]
["Mais, Körner siliert Ganzkorn 7% RP DLG 2014",{"$f":"IF(D32=\"\",\" \",COUNTA($D$8:D32))","v":25},null,"Mais, Körner siliert Ganzkorn",7,"DLG 2014",null,650,65,{"$f":"I32*0.89","v":57.85},16,{"$f":"I32*0.0205*AV32+0.0398*AW32*AE32+0.0173*AF32+0.016*$AG32+0.0147*AI32","v":10.723715000000002},{"$f":"$I32*0.021503+0.032497*$AE32+0.016309*$AF32+0.014701*$AJ32-0.021071*$K32","v":10.526142},{"$f":"IF(I32=0,\" \",(I32/H32*880*0.0186+0.85)/880*H32)","v":1.836840909090909},{"$f":"IF(N32=\" \",\" \",N32*0.85)","v":1.5613147727272727},{"$f":"IF(N32=\" \",\" \",(I32/H32*880*0.03+1)/880*H32)","v":2.6886363636363635},{"$f":"IF(N32=\" \",\" \",P32*(1.8*0.85+1.8*0.86)/3.6)","v":2.2987840909090909},{"$f":"IF(N32=\" \",\" \",(I32/H32*880*0.03+0.4)/880*H32)","v":2.2454545454545451},{"$f":"IF(N32=\" \",\" \",R32*0.83)","v":1.8637272727272725},{"$f":"IF(N32=\" \",\" \",(I32/H32*880*0.0047+0.24)/880*H32)","v":0.4827727272727273},{"$f":"IF(N32=\" \",\" \",T32*0.82)","v":0.39587363636363637},0.3,2.1,{"$f":"W32*0.5","v":1.05},{"$f":"W32*0.65","v":1.3650000000000002},0.8,0.1,3,{"$f":"IF($I32=\"\",\" \",($I32/H32*880*0.0159+0.37)/880*H32)","v":1.3067954545454548},{"$f":"AC32*0.88","v":1.1499800000000002},29,455,3,10,{"$f":"(H32-AH32)*AU32-I32*AV32-AE32*AW32-AF32-AG32","v":51.200000000000045},{"$f":"$H32-($AE32+$AF32+$AH32+$I32+$K32)","v":75},{"$f":"56*AE32/100","v":16.239999999999998},{"$f":"$AL$23*AK32/$AK$23","v":14.930322580645161},{"$f":"AK32-AL32","v":1.3096774193548377},null,null,null,{"$f":"IF(H32=\"\",\"\",50*V32+83*Z32+26*AB32+44*AA32-59*W32-13*P32-28*AZ32)","v":-4.152272727272722},{"$f":"IF(H32=\"\",\"\",V32/1000*20140+Z32/1000*48600+1100/440*I32)","v":207.422},{"$f":"AX32*K32+AY32*AT32-AF32-AG32","v":48.360000000000014},530,0.92,0.89,0.75,0.51,0.94,{"$f":"0.5*H32/1000","v":0.32500000000000001},21,131,13.62808366,7.9045519586400008,7.9445208657619206]
["Mais, Körner siliert geschrotet 6% RP DLG 2014",{"$f":"IF(D33=\"\",\" \",COUNTA($D$8:D33))","v":26},null,"Mais, Körner siliert geschrotet",6,"DLG 2014",null,650,60,{"$f":"I33*0.9","v":54},14,{"$f":"I33*0.0205*AV33+0.0398*AW33*AE33+0.0173*AF33+0.016*$AG33+0.0147*AI33","v":10.964799999999999},{"$f":"$I33*0.021503+0.032497*$AE33+0.016309*$AF33+0.014701*$AJ33-0.021071*$K33","v":10.58962},{"$f":"IF(I33=0,\" \",(I33/H33*880*0.0186+0.85)/880*H33)","v":1.7438409090909091},{"$f":"IF(N33=\" \",\" \",N33*0.85)","v":1.4822647727272726},{"$f":"IF(N33=\" \",\" \",(I33/H33*880*0.03+1)/880*H33)","v":2.5386363636363636},{"$f":"IF(N33=\" \",\" \",P33*(1.8*0.85+1.8*0.86)/3.6)","v":2.1705340909090909},{"$f":"IF(N33=\" \",\" \",(I33/H33*880*0.03+0.4)/880*H33)","v":2.0954545454545457},{"$f":"IF(N33=\" \",\" \",R33*0.83)","v":1.7392272727272728},{"$f":"IF(N33=\" \",\" \",(I33/H33*880*0.0047+0.24)/880*H33)","v":0.45927272727272728},{"$f":"IF(N33=\" \",\" \",T33*0.71)","v":0.32608363636363635},0.3,2.1,{"$f":"W33*0.5","v":1.05},{"$f":"W33*0.65","v":1.3650000000000002},0.8,0.1,3,{"$f":"IF($I33=\"\",\" \",($I33/H33*880*0.0159+0.37)/880*H33)","v":1.2272954545454546},{"$f":"AC33*0.88","v":1.08002},31,449,14,10,{"$f":"(H33-AH33)*AU33-I33*AV33-AE33*AW33-AF33-AG33","v":59.799999999999955},{"$f":"$H33-($AE33+$AF33+$AH33+$I33+$K33)","v":86},{"$f":"56*AE33/100","v":17.36},{"$f":"$AL$23*AK33/$AK$23","v":15.96},{"$f":"AK33-AL33","v":1.3999999999999986},null,null,null,{"$f":"IF(H33=\"\",\"\",50*V33+83*Z33+26*AB33+44*AA33-59*W33-13*P33-28*AZ33)","v":-2.2022727272727192},{"$f":"IF(H33=\"\",\"\",V33/1000*20140+Z33/1000*48600+1100/440*I33)","v":194.922},{"$f":"AX33*K33+AY33*AT33-AF33-AG33","v":47.039999999999964},{"$f":"IF(H33=\"\",\" \",H33-I33-AE33-AH33-K33)","v":535},0.94,0.9,0.8,0.51,0.94,{"$f":"0.5*H33/1000","v":0.32500000000000001},21,131,13.916422599999999,7.7914139463000005,7.960103190056401]
[{"$f":"IF(E34=\" \",D34&\" \"&F34,D34&\" \"&E34&\"% RP \"&F34)","v":"Mais, siliert  3% RP DLG 2014"},{"$f":"IF(D34=\"\",\" \",COUNTA($D$8:D34))","v":27},null,"Mais, siliert ",{"$f":"IF(I34=0,\" \",ROUND(I34/10,0))","v":3},"DLG 2014",null,350,30,{"$f":"I34*0.59","v":17.7},56,{"$f":"I34*0.0205*AV34+0.0398*AW34*AE34+0.0173*AF34+0.016*$AG34+0.0147*AI34","v":3.7464999999999997},{"$f":"$I34*0.021503+0.032497*$AE34+0.016309*$AF34+0.014701*$AJ34-0.021071*$K34","v":3.5227560000000002},{"$f":"IF(I34=0,\" \",(I34/H34*550*0.0171+0.51)/550*H34)","v":0.8375454545454547},{"$f":"IF(N34=\" \",\" \",N34*0.73)","v":0.61140818181818191},{"$f":"IF(N34=\" \",\" \",(I34/H34*1000*0.04-0.9)/1000*H34)","v":0.88500000000000001},{"$f":"IF(N34=\" \",\" \",P34*(0.92*1.3+0.9*0.88)/2.1)","v":0.83779999999999999},{"$f":"IF(N34=\" \",\" \",(I34/H34*1000*0.03+0.1)/1000*H34)","v":0.93499999999999994},{"$f":"IF(N34=\" \",\" \",R34*0.88)","v":0.82279999999999998},{"$f":"IF(N34=\" \",\" \",0.2)","v":0.2},{"$f":"IF(N34=\" \",\" \",T34*0.76)","v":0.15200000000000002},0.9,0.8,{"$f":"W34*55%","v":0.44000000000000006},{"$f":"W34*0.65","v":0.52},{"$f":"Z33/88*60","v":0.54545454545454553},{"$f":"AA33/88*60","v":6.8181818181818191E-2},13.1,{"$f":"IF($I34=\"\",\" \",($I34/H34*880*0.02-0.3)/880*H34)","v":0.48068181818181821},{"$f":"AC34*0.76","v":0.36531818181818182},12,105,4,14,{"$f":"(H34-AH34)*AU34-I34*AV34-AE34*AW34-AF34-AG34","v":64.45999999999998},{"$f":"$H34-($AE34+$AF34+$AH34+$I34+$K34)","v":133},{"$f":"AL34+AM34","v":6.9600000000000009},{"$f":"54*AE34/100","v":6.48},{"$f":"4*AE34/100","v":0.48},null,null,null,{"$f":"IF(H34=\"\",\"\",50*V34+83*Z34+26*AB34+44*AA34-59*W34-13*P34-28*AZ34)","v":362.42772727272728},{"$f":"IF(H34=\"\",\"\",V34/1000*20140+Z34/1000*48600+1100/440*I34)","v":119.63509090909091},{"$f":"AX34*K34+AY34*AT34-AF34-AG34","v":123.68},{"$f":"IF(H34=\"\",\" \",H34-I34-AE34-AH34-K34)","v":238},0.62,0.81,0.88,0.33,0.9,{"$f":"1.3*H34/1000","v":0.45500000000000002},95,175,1.67061188,2.3012235410399997,2.5973626922851203]
[{"$f":"IF(E35=\" \",D35&\" \"&F35,D35&\" \"&E35&\"% RP \"&F35)","v":"eigener Mais, siliert "},{"$f":"IF(D35=\"\",\" \",COUNTA($D$8:D35))","v":28},null,"eigener Mais, siliert",{"$f":"IF(I35=0,\" \",ROUND(I35/10,0))","v":" "},null,null,null,null,{"$f":"IF(I35=0,\" \",I35*0.59)","v":" "},null,{"$f":"IF($I35=\"\",\" \",I35*0.0205*AV35+0.0398*AW35*AE35+0.0173*AF35+0.016*$AG35+0.0147*AI35)","v":" "},{"$f":"IF(I35=\"\",\" \",$I35*0.021503+0.032497*$AE35+0.016309*$AF35+0.014701*$AJ35-0.021071*$K35)","v":" "},{"$f":"IF(I35=0,\" \",(I35/H35*550*0.0171+0.51)/550*H35)","v":" "},{"$f":"IF(N35=\" \",\" \",N35*0.73)","v":" "},{"$f":"IF(N35=\" \",\" \",(I35/H35*550*0.04-0.9)/550*H35)","v":" "},{"$f":"IF(N35=\" \",\" \",P35*(0.92*1.3+0.9*0.88)/2.1)","v":" "},{"$f":"IF(N35=\" \",\" \",(I35/H35*550*0.03+0.1)/550*H35)","v":" "},{"$f":"IF(N35=\" \",\" \",R35*0.88)","v":" "},{"$f":"IF(N35=\" \",\" \",0.2)","v":" "},{"$f":"IF(N35=\" \",\" \",T35*0.76)","v":" "},{"$f":"IF($I35=0,\" \",V34*$H35/$H34)","v":" "}," "," "," "," "," "," ",{"$f":"IF($I35=\"\",\" \",($I35/H35*880*0.02-0.3)/880*H35)","v":" "},{"$f":"IF($N35=\" \",\" \",AC35*0.85)","v":" "},null,null,null,null,{"$f":"IF($I35=\"\",\" \",(H35-AH35)*AU35-I35*AV35-AE35*AW35-AF35-AG35)","v":" "},{"$f":"IF($I35=\"\",\" \",$H35-($AE35+$AF35+$AH35+$I35+$K35))","v":" "},{"$f":"IF($I35=0,\" \",AK34*$H35/$H34)","v":" "},{"$f":"IF($I35=0,\" \",AL34*$H35/$H34)","v":" "},{"$f":"IF($I35=0,\" \",AM34*$H35/$H34)","v":" "},null,null,null,{"$f":"IF(H35=\"\",\"\",50*V35+83*Z35+26*AB35+44*AA35-59*W35-13*P35-28*AZ35)","v":""},{"$f":"IF(H35=\"\",\"\",V35/1000*20140+Z35/1000*48600+1100/440*I35)","v":""},{"$f":"IF($I35=0,\" \",AX35*K35+AY35*AT35-AF35-AG35)","v":" "},{"$f":"IF(H35=\"\",\" \",H35-I35-AE35-AH35-K35)","v":" "},{"$f":"IF($I35=0,\" \",AU34)","v":" "},{"$f":"IF($I35=0,\" \",AV34)","v":" "},{"$f":"IF($I35=0,\" \",AW34)","v":" "},{"$f":"IF($I35=0,\" \",AX34)","v":" "},{"$f":"IF($I35=0,\" \",AY34)","v":" "},{"$f":"IF($I35=0,\" \",AZ34*$H35/$H34)","v":" "},{"$f":"IF($I35=0,\" \",BA34*$H35/$H34*K35/K34)","v":" "},{"$f":"IF($I35=0,\" \",BB34*$H35/$H34*K35/K34)","v":" "},"","",""]
["Roggen  11% RP ",{"$f":"IF(D36=\"\",\" \",COUNTA($D$8:D36))","v":29},null,"Roggen ",11,null,"4",880,112.1,{"$f":"I36*0.78","v":87.438000000000002},24.1,{"$f":"I36*0.0205*AV36+0.0398*AW36*AE36+0.0173*AF36+0.016*$AG36+0.0147*AI36","v":13.350051919999999},{"$f":"$I36*0.021503+0.032497*$AE36+0.016309*$AF36+0.014701*$AJ36-0.021071*$K36","v":13.692944840000001},{"$f":"IF(I36=0,\" \",(I36/H36*880*0.03+1)/880*H36)","v":4.3629999999999995},{"$f":"IF(N36=\" \",\" \",N36*0.7)","v":3.0540999999999996},{"$f":"IF(N36=\" \",\" \",(I36/H36*880*0.03+1)/880*H36)","v":4.3629999999999995},{"$f":"IF(N36=\" \",\" \",P36*(1.3*0.88+1.3*0.85)/2.6)","v":3.7739949999999998},{"$f":"IF(N36=\" \",\" \",(I36/H36*880*0.03+0.6)/880*H36)","v":3.9630000000000001},{"$f":"IF(N36=\" \",\" \",R36*0.85)","v":3.3685499999999999},{"$f":"IF(N36=\" \",\" \",(I36/H36*880*0.01+0.3)/880*H36)","v":1.421},{"$f":"IF(N36=\" \",\" \",T36*0.71)","v":1.00891},0.5,3,{"$f":"W36*0.45","v":1.35},{"$f":"W36*0.65","v":1.9500000000000002},1,0.06,4.9000000000000004,{"$f":"IF($I36=\"\",\" \",($I36/H36*880*0.01+0.4)/880*H36)","v":1.5209999999999999},{"$f":"AC36*0.85","v":1.2928499999999998},15.3,539.79999999999995,55.5,{"$f":"22*0.88","v":19.36},{"$f":"(H36-AH36)*AU36-I36*AV36-AE36*AW36-AF36-AG36","v":78.947600000000079},{"$f":"$H36-($AE36+$AF36+$AH36+$I36+$K36)","v":169.34000000000003},{"$f":"AL36+AM36","v":9.9450000000000003},{"$f":"58*AE36/100","v":8.8740000000000006},{"$f":"7*AE36/100","v":1.0710000000000002},null,null,null,-0.60700000000000198,338.92,{"$f":"AX36*K36+AY36*AT36-AF36-AG36","v":71.912200000000098},{"$f":"IF(H36=\"\",\" \",H36-I36-AE36-AH36-K36)","v":709.14},0.89,0.78,0.28000000000000003,0.32,0.93,{"$f":"0.2*H36/1000","v":0.17599999999999999},{"$f":"35/$H$38*$H36*$K36/$K$38","v":37.095452273863067},{"$f":"235/$H$38*$H36*$K36/$K$38","v":249.06946526736635},14.807449733200002,9.298145239389477,9.2797531784084413]
["Roggen  10% RP ",{"$f":"IF(D37=\"\",\" \",COUNTA($D$8:D37))","v":30},null,"Roggen ",10,null,"30",880,98.8,{"$f":"I37*0.78","v":77.064000000000007},24.6,{"$f":"I37*0.0205*AV37+0.0398*AW37*AE37+0.0173*AF37+0.016*$AG37+0.0147*AI37","v":13.257126720000002},{"$f":"$I37*0.021503+0.032497*$AE37+0.016309*$AF37+0.014701*$AJ37-0.021071*$K37","v":13.57113904},3.964,{"$f":"IF(N37=\" \",\" \",N37*0.8)","v":3.1712000000000002},3.964,{"$f":"IF(N37=\" \",\" \",P37*(1.5*0.85+2.1*0.9)/3.6)","v":3.4850166666666667},3.5639999999999996,{"$f":"IF(N37=\" \",\" \",R37*0.75)","v":2.6729999999999996},1.288,{"$f":"IF(N37=\" \",\" \",T37*0.78)","v":1.00464},0.5,3,{"$f":"W37*0.45","v":1.35},{"$f":"W37*0.65","v":1.9500000000000002},1,0.06,4.9000000000000004,1.3879999999999999,{"$f":"AC37*0.85","v":1.1798},15.8,525.9,55.4,19.36,{"$f":"(H37-AH37)*AU37-I37*AV37-AE37*AW37-AF37-AG37","v":103.18160000000009},{"$f":"$H37-($AE37+$AF37+$AH37+$I37+$K37)","v":195.54000000000008},{"$f":"AL37+AM37","v":10.270000000000001},{"$f":"58*AE37/100","v":9.1640000000000015},{"$f":"7*AE37/100","v":1.1060000000000001},null,null,null,4.5799999999999956,305.67,{"$f":"AX37*K37+AY37*AT37-AF37-AG37","v":97.511200000000116},{"$f":"IF(H37=\"\",\" \",H37-I37-AE37-AH37-K37)","v":721.44},0.89,0.78,0.28000000000000003,0.32,0.93,{"$f":"0.2*H37/1000","v":0.17599999999999999},{"$f":"35/$H$38*$H37*$K37/$K$38","v":37.865067466266865},{"$f":"235/$H$38*$H37*$K37/$K$38","v":254.23688155922039},14.889431499199999,8.9424633670538736,9.1848712395685972]
["Roggen  9% RP DLG 2014",{"$f":"IF(D38=\"\",\" \",COUNTA($D$8:D38))","v":31},null,"Roggen ",9,"DLG 2014",null,870,91,{"$f":"I38*0.78","v":70.98},23,{"$f":"I38*0.0205*AV38+0.0398*AW38*AE38+0.0173*AF38+0.016*$AG38+0.0147*AI38","v":13.159755120000002},{"$f":"$I38*0.021503+0.032497*$AE38+0.016309*$AF38+0.014701*$AJ38-0.021071*$K38","v":13.47383664},3.7186363636363642,{"$f":"IF(N38=\" \",\" \",N38*0.8)","v":2.9749090909090916},3.7186363636363642,{"$f":"IF(N38=\" \",\" \",P38*(1.5*0.85+2.1*0.9)/3.6)","v":3.2693011363636364},3.3231818181818187,{"$f":"IF(N38=\" \",\" \",R38*0.75)","v":2.4923863636363639},1.2065909090909093,{"$f":"IF(N38=\" \",\" \",T38*0.78)","v":0.94114090909090931},0.5,3,{"$f":"W38*0.45","v":1.35},{"$f":"W38*0.65","v":1.9500000000000002},1,0.06,4.9000000000000004,1.3054545454545454,{"$f":"AC38*0.85","v":1.1096363636363635},16,552,55,19.36,{"$f":"(H38-AH38)*AU38-I38*AV38-AE38*AW38-AF38-AG38","v":74.6096},{"$f":"$H38-($AE38+$AF38+$AH38+$I38+$K38)","v":168.64},{"$f":"AL38+AM38","v":10.399999999999999},{"$f":"58*AE38/100","v":9.2799999999999994},{"$f":"7*AE38/100","v":1.1200000000000001},null,null,null,7.8257272727272564,286.17,{"$f":"AX38*K38+AY38*AT38-AF38-AG38","v":70.555200000000013},720.64,0.89,0.78,0.28000000000000003,0.32,0.93,{"$f":"0.2*H38/1000","v":0.17399999999999999},35,235,15.504900747200002,9.0746492052168026,9.30876122185391]
["eigener Roggen 9% RP Ø 2018",{"$f":"IF(D39=\"\",\" \",COUNTA($D$8:D39))","v":32},null,"eigener Roggen",9,{"$f":"IF(I39=89.66,\"Ø 2018\",\"\")","v":"Ø 2018"},null,880,89.66,{"$f":"IF(I39=0,\" \",I39*0.78)","v":69.934799999999996},20.53,{"$f":"IF($I39=\"\",\" \",I39*0.0205*AV39+0.0398*AW39*AE39+0.0173*AF39+0.016*$AG39+0.0147*AI39)","v":13.258454460000003},{"$f":"IF(I39=\"\",\" \",$I39*0.021503+0.032497*$AE39+0.016309*$AF39+0.014701*$AJ39-0.021071*$K39)","v":13.6647941},3.6898000000000004,{"$f":"IF(N39=\" \",\" \",N39*0.8)","v":2.9518400000000007},3.6898000000000004,{"$f":"IF(N39=\" \",\" \",P39*(1.5*0.85+2.1*0.9)/3.6)","v":3.2439491666666669},3.2898000000000001,{"$f":"IF(N39=\" \",\" \",R39*0.75)","v":2.4673500000000002},1.1965999999999999,{"$f":"IF(N39=\" \",\" \",T39*0.78)","v":0.93334799999999996},{"$f":"IF($I39=0,\" \",V38*$H39/$H38)","v":0.50574712643678166},3.0344827586206895,1.3655172413793104,1.9724137931034484,1.0114942528735633,6.0689655172413787E-2,4.9563218390804602,1.2966,{"$f":"IF($N39=\" \",\" \",AC39*0.85)","v":1.1021099999999999},15.84,558.70000000000005,52,22.3,{"$f":"IF($I39=\"\",\" \",(H39-AH39)*AU39-I39*AV39-AE39*AW39-AF39-AG39)","v":78.283000000000015},{"$f":"IF($I39=\"\",\" \",$H39-($AE39+$AF39+$AH39+$I39+$K39))","v":172.97000000000003},{"$f":"IF($I39=0,\" \",AK38*$H39/$H38)","v":10.519540229885056},9.3866666666666667,1.1328735632183911,0,0,0,8.8462091954023574,283.49436781609194,{"$f":"IF($I39=0,\" \",AX39*K39+AY39*AT39-AF39-AG39)","v":76.322700000000054},731.67000000000007,{"$f":"IF($I39=0,\" \",AU38)","v":0.89},{"$f":"IF($I39=0,\" \",AV38)","v":0.78},{"$f":"IF($I39=0,\" \",AW38)","v":0.28000000000000003},{"$f":"IF($I39=0,\" \",AX38)","v":0.32},{"$f":"IF($I39=0,\" \",AY38)","v":0.93},{"$f":"IF($I39=0,\" \",AZ38*$H39/$H38)","v":0.17599999999999996},{"$f":"IF($I39=0,\" \",BA38/$H$37*H37*K37/$K$38)","v":37.434782608695649},{"$f":"IF($I39=0,\" \",BB38/$H$38*$H37*$K37/$K$38)","v":254.23688155922039},15.874789692999999,8.9631462759202041,9.1534026300500777]
["Roggen  9% RP ",{"$f":"IF(D40=\"\",\" \",COUNTA($D$8:D40))","v":33},null,"Roggen ",9,null,"37",880,90.2,{"$f":"I40*0.78","v":70.356000000000009},24.6,{"$f":"I40*0.0205*AV40+0.0398*AW40*AE40+0.0173*AF40+0.016*$AG40+0.0147*AI40","v":13.222380320000001},{"$f":"$I40*0.021503+0.032497*$AE40+0.016309*$AF40+0.014701*$AJ40-0.021071*$K40","v":13.515214640000002},3.706,{"$f":"IF(N40=\" \",\" \",N40*0.8)","v":2.9648000000000003},3.706,{"$f":"IF(N40=\" \",\" \",P40*(1.5*0.85+2.1*0.9)/3.6)","v":3.2581916666666668},3.306,{"$f":"IF(N40=\" \",\" \",R40*0.75)","v":2.4794999999999998},1.202,{"$f":"IF(N40=\" \",\" \",T40*0.78)","v":0.93755999999999995},0.5,3,{"$f":"W40*0.45","v":1.35},{"$f":"W40*0.65","v":1.9500000000000002},1,0.06,4.9000000000000004,1.302,{"$f":"AC40*0.85","v":1.1067},15.8,527.5,55.4,19.36,{"$f":"(H40-AH40)*AU40-I40*AV40-AE40*AW40-AF40-AG40","v":108.28960000000004},{"$f":"$H40-($AE40+$AF40+$AH40+$I40+$K40)","v":202.53999999999996},{"$f":"AL40+AM40","v":10.270000000000001},{"$f":"58*AE40/100","v":9.1640000000000015},{"$f":"7*AE40/100","v":1.1060000000000001},null,null,null,7.9339999999999948,284.17,{"$f":"AX40*K40+AY40*AT40-AF40-AG40","v":103.90919999999991},730.04,0.89,0.78,0.28000000000000003,0.32,0.93,{"$f":"0.2*H40/1000","v":0.17599999999999999},{"$f":"35/$H$38*H40*K40/$K$38","v":37.865067466266865},{"$f":"235/$H$38*$H40*$K40/$K$38","v":254.23688155922039},15.113406687199999,{"$f":"IF(H40=\"\",\"\",((((0.703*(4168-(91*AH40/10/H40*1000)+(19*I40/10/H40*1000)+(39*AE40/10/H40*1000)-(36*BB40/10/H40*1000))+(15.8*AE40/10/H40*1000)+(4.7*AF40/10/H40*1000)-(9.7*I40/10/H40*1000)-(9.8*K40/10/H40*1000))*0.0041868)+((0.7*(4168-(91*AH39/10/H40*1000)+(19*I40/10/H40*1000)+(39*AE40/10/H40*1000)-(36*BB40/10/H40*1000))+(16.1*AE40/10/H40*1000)+(4.8*AF40/10/H40*1000)-(9.1*I40/10/H40*1000)-(8.7*BA40/10/H40*1000))*0.0041868))/2)/1000*H40)","v":8.892295412865872},{"$f":"IF(H40=\"\",\"\",((0.703*((((4168-(91*AH40/10/H40*1000)+(19*I40/10/H40*1000)+(39*AE40/10/H40*1000)-(36*BB40/10/H40*1000))*0.0041868*1.014)+(0.066*K40/10/H40*1000))/0.0041868)+(15.8*AE40/10/H40*1000)+(4.7*AF40/10/H40*1000)-(9.7*I40/10/H40*1000)-(9.8*K40/10/H40*1000))*0.0041868)/1000*H40)","v":9.1741788294578939}]
["Roggen  8% RP ",{"$f":"IF(D41=\"\",\" \",COUNTA($D$8:D41))","v":34},null,"Roggen ",8,null,"29",880,80.099999999999994,{"$f":"I41*0.78","v":62.477999999999994},24.6,{"$f":"I41*0.0205*AV41+0.0398*AW41*AE41+0.0173*AF41+0.016*$AG41+0.0147*AI41","v":13.198007920000002},{"$f":"$I41*0.021503+0.032497*$AE41+0.016309*$AF41+0.014701*$AJ41-0.021071*$K41","v":13.45970004},3.4029999999999996,{"$f":"IF(N41=\" \",\" \",N41*0.8)","v":2.7223999999999999},3.4029999999999996,{"$f":"IF(N41=\" \",\" \",P41*(1.5*0.85+2.1*0.9)/3.6)","v":2.9918041666666664},3.0029999999999997,{"$f":"IF(N41=\" \",\" \",R41*0.75)","v":2.2522499999999996},1.101,{"$f":"IF(N41=\" \",\" \",T41*0.78)","v":0.85877999999999999},0.5,3,{"$f":"W41*0.45","v":1.35},{"$f":"W41*0.65","v":1.9500000000000002},1,0.06,4.9000000000000004,1.2010000000000001,{"$f":"AC41*0.85","v":1.02085},15.8,535.70000000000005,55.4,19.36,{"$f":"(H41-AH41)*AU41-I41*AV41-AE41*AW41-AF41-AG41","v":107.96760000000003},{"$f":"$H41-($AE41+$AF41+$AH41+$I41+$K41)","v":204.43999999999994},{"$f":"AL41+AM41","v":10.270000000000001},{"$f":"58*AE41/100","v":9.1640000000000015},{"$f":"7*AE41/100","v":1.1060000000000001},null,null,null,11.872999999999994,258.92,{"$f":"AX41*K41+AY41*AT41-AF41-AG41","v":105.1021999999999},740.14,0.89,0.78,0.28000000000000003,0.32,0.93,{"$f":"0.2*H41/1000","v":0.17599999999999999},{"$f":"35/$H$38*H41*K41/$K$38","v":37.865067466266865},{"$f":"235/$H$38*$H41*$K41/$K$38","v":254.23688155922039},15.478681029200002,8.9311954531478754,9.1740597653232285]
[{"$f":"IF(E42=\" \",D42&\" \"&F42,D42&\" \"&E42&\"% RP \"&F42)","v":"Triticale 12% RP "},{"$f":"IF(D42=\"\",\" \",COUNTA($D$8:D42))","v":35},null,"Triticale",{"$f":"IF(I42=0,\" \",ROUND(I42/10,0))","v":12},null,"5",880,119.4,{"$f":"I42*0.84","v":100.29600000000001},26.4,{"$f":"I42*0.0205*AV42+0.0398*AW42*AE42+0.0173*AF42+0.016*$AG42+0.0147*AI42","v":13.552366879999999},{"$f":"$I42*0.021503+0.032497*$AE42+0.016309*$AF42+0.014701*$AJ42-0.021071*$K42","v":13.702595360000002},{"$f":"IF(I42=0,\" \",(I42/H42*880*0.02+1.1)/880*H42)","v":3.4880000000000009},{"$f":"IF(N42=\" \",\" \",N42*0.84)","v":2.9299200000000005},{"$f":"IF(N42=\" \",\" \",(I42/H42*880*0.04+0.4)/880*H42)","v":5.176000000000001},{"$f":"IF(N42=\" \",\" \",P42*(1.8*0.88+2.6*0.87)/4.4)","v":4.5242945454545458},{"$f":"IF(N42=\" \",\" \",(I42/H42*880*0.03+0.4)/880*H42)","v":3.9819999999999998},{"$f":"IF(N42=\" \",\" \",R42*0.81)","v":3.2254200000000002},{"$f":"IF(N42=\" \",\" \",(I42/H42*880*0.01+0.4)/880*H42)","v":1.5940000000000003},{"$f":"IF(N42=\" \",\" \",T42*0.77)","v":1.2273800000000004},0.4,3.2,{"$f":"W42*0.5","v":1.6},{"$f":"W42*0.65","v":2.08},1.1000000000000001,0.1,4.7,{"$f":"IF($I42=\"\",\" \",($I42/H42*880*0.01+0.1)/880*H42)","v":1.2940000000000003},{"$f":"AC42*0.88","v":1.1387200000000002},15.8,568.6,35.200000000000003,{"$f":"23*0.88","v":20.239999999999998},{"$f":"(H42-AH42)*AU42-I42*AV42-AE42*AW42-AF42-AG42","v":53.190399999999997},{"$f":"$H42-($AE42+$AF42+$AH42+$I42+$K42)","v":129.56000000000006},{"$f":"AL42+AM42","v":10.033000000000001},{"$f":"57.5*AE42/100","v":9.0850000000000009},{"$f":"6*AE42/100","v":0.94800000000000006},null,null,null,{"$f":"IF(H42=\"\",\"\",50*V42+83*Z42+26*AB42+44*AA42-59*W42-13*P42-28*AZ42)","v":-30.508000000000017},{"$f":"IF(H42=\"\",\"\",V42/1000*20140+Z42/1000*48600+1100/440*I42)","v":360.01600000000002},{"$f":"AX42*K42+AY42*AT42-AF42-AG42","v":52.616800000000168},698.16000000000008,0.89,0.84,0.5,0.27,0.93,{"$f":"0.5*H42/1000","v":0.44},{"$f":"IF($I42=0,\" \",$BA$43*H42/$H$43*K42/$K$43)","v":38.94252873563218},{"$f":"IF($I42=0,\" \",$BB$43*H42/$H$43*K42/$K$43)","v":174.68505747126434},14.975294612800003,9.8849534080305119,10.13384431501159]
["Triticale 11% RP DLG 2014",{"$f":"IF(D43=\"\",\" \",COUNTA($D$8:D43))","v":36},null,"Triticale",11,"DLG 2014",null,870,109,{"$f":"I43*0.84","v":91.56},24,{"$f":"I43*0.0205*AV43+0.0398*AW43*AE43+0.0173*AF43+0.016*$AG43+0.0147*AI43","v":13.375314000000001},{"$f":"$I43*0.021503+0.032497*$AE43+0.016309*$AF43+0.014701*$AJ43-0.021071*$K43","v":13.577170000000001},3.2675000000000001,2.7446999999999999,4.7554545454545449,4.1566995867768588,3.6654545454545455,2.969018181818182,1.4854545454545456,1.1438000000000001,0.4,3.2,1.6,{"$f":"W43*0.65","v":2.08},1.1000000000000001,0.1,4.7,1.1888636363636362,{"$f":"AC43*0.88","v":1.0461999999999998},15,561,39,18,{"$f":"(H43-AH43)*AU43-I43*AV43-AE43*AW43-AF43-AG43","v":59.220000000000027},{"$f":"$H43-($AE43+$AF43+$AH43+$I43+$K43)","v":143},{"$f":"AL43+AM43","v":9.5250000000000004},{"$f":"57.5*AE43/100","v":8.625},{"$f":"6*AE43/100","v":0.9},null,null,null,-24.900909090909089,334.01600000000002,{"$f":"AX43*K43+AY43*AT43-AF43-AG43","v":61.200000000000045},704,0.89,0.84,0.5,0.27,0.93,{"$f":"0.5*H43/1000","v":0.435},35,157,15.1153341,9.9331693510319994,10.212714268700255]
["eigene Triticale 10% RP Ø 2018",{"$f":"IF(D44=\"\",\" \",COUNTA($D$8:D44))","v":37},null,"eigene Triticale",10,{"$f":"IF(I44=97.73,\"Ø 2018\",\"\")","v":"Ø 2018"},null,880,97.73,{"$f":"IF(I44=0,\" \",I44*0.84)","v":82.093199999999996},26.4,{"$f":"IF($I44=\"\",\" \",I44*0.0205*AV44+0.0398*AW44*AE44+0.0173*AF44+0.016*$AG44+0.0147*AI44)","v":13.529855959999997},{"$f":"IF(I44=\"\",\" \",$I44*0.021503+0.032497*$AE44+0.016309*$AF44+0.014701*$AJ44-0.021071*$K44)","v":13.61140252},3.0546000000000002,2.5658639999999999,4.3092000000000006,3.7666325454545455,3.3319000000000001,2.6988390000000004,1.3773,1.060521,{"$f":"IF($I44=0,\" \",V$41*$H44/$H$41)","v":0.5},{"$f":"IF($I44=0,\" \",W$41*$H44/$H$41)","v":3},1.5,{"$f":"IF($I44=0,\" \",Y$41*$H44/$H$41)","v":1.9500000000000002},1,0.06,4.9000000000000004,1.0773000000000001,{"$f":"IF($N44=\" \",\" \",AC44*0.88)","v":0.94802400000000009},15.91,597.4,35,19.7,{"$f":"IF($I44=\"\",\" \",(H44-AH44)*AU44-I44*AV44-AE44*AW44-AF44-AG44)","v":43.218799999999874},{"$f":"IF($I44=\"\",\" \",$H44-($AE44+$AF44+$AH44+$I44+$K44))","v":122.86000000000001},{"$f":"IF($I44=0,\" \",AK42*$H44/$H42)","v":10.033000000000001},9.0850000000000009,0.94800000000000006,0,0,0,-7.2996000000000194,302.995,{"$f":"IF($I44=0,\" \",AX44*K44+AY44*AT44-AF44-AG44)","v":44.5698000000001},720.26,{"$f":"IF($I44=0,\" \",AU42)","v":0.89},{"$f":"IF($I44=0,\" \",AV42)","v":0.84},{"$f":"IF($I44=0,\" \",AW42)","v":0.5},{"$f":"IF($I44=0,\" \",AX42)","v":0.27},{"$f":"IF($I44=0,\" \",AY42)","v":0.93},{"$f":"IF($I44=0,\" \",AZ$42*$H44/$H$42)","v":0.44},{"$f":"IF($I44=0,\" \",$BA$43*H44/$H$43*K44/$K$43)","v":38.94252873563218},{"$f":"IF($I44=0,\" \",$BB$43*H44/$H$43*K44/$K$43)","v":174.68505747126434},15.953533839599999,9.9339481999245098,10.172315024660545]
["eigene Triticale 11% RP Ø 2017",{"$f":"IF(D45=\"\",\" \",COUNTA($D$8:D45))","v":38},null,"eigene Triticale",{"$f":"IF(I45=0,\" \",ROUND(I45/10,0))","v":11},{"$f":"IF(I45=108.2,\"Ø 2017\",\"\")","v":"Ø 2017"},null,880,108.2,{"$f":"IF(I45=0,\" \",I45*0.84)","v":90.888000000000005},25.8,{"$f":"IF($I45=\"\",\" \",I45*0.0205*AV45+0.0398*AW45*AE45+0.0173*AF45+0.016*$AG45+0.0147*AI45)","v":13.589476799999998},{"$f":"IF(I45=\"\",\" \",$I45*0.021503+0.032497*$AE45+0.016309*$AF45+0.014701*$AJ45-0.021071*$K45)","v":13.723573200000001},3.2640000000000002,2.7417600000000002,4.7280000000000006,4.1327018181818183,3.6460000000000004,2.9532600000000007,1.4820000000000002,1.1411400000000003,{"$f":"IF($I45=0,\" \",V$41*$H45/$H$41)","v":0.5},{"$f":"IF($I45=0,\" \",W$41*$H45/$H$41)","v":3},1.5,1.9500000000000002,1,0.06,4.9000000000000004,1.1820000000000002,{"$f":"IF($N45=\" \",\" \",AC45*0.88)","v":1.0401600000000002},16.8,595.1,32.6,19.2,{"$f":"IF($I45=\"\",\" \",(H45-AH45)*AU45-I45*AV45-AE45*AW45-AF45-AG45)","v":39.123999999999931},{"$f":"IF($I45=\"\",\" \",$H45-($AE45+$AF45+$AH45+$I45+$K45))","v":114.89999999999998},{"$f":"IF($I45=0,\" \",AK44*$H45/$H44)","v":10.033000000000001},9.0850000000000009,0.94800000000000006,0,0,0,{"$f":"IF(H45=\"\",\"\",50*V45+83*Z45+26*AB45+44*AA45-59*W45-13*P45-28*AZ45)","v":-12.744000000000014},{"$f":"IF(H45=\"\",\"\",V45/1000*20140+Z45/1000*48600+1100/440*I45)","v":329.17},{"$f":"IF($I45=0,\" \",AX45*K45+AY45*AT45-AF45-AG45)","v":39.566000000000052},710,{"$f":"IF($I45=0,\" \",AU44)","v":0.89},{"$f":"IF($I45=0,\" \",AV44)","v":0.84},{"$f":"IF($I45=0,\" \",AW44)","v":0.5},{"$f":"IF($I45=0,\" \",AX44)","v":0.27},{"$f":"IF($I45=0,\" \",AY44)","v":0.93},{"$f":"IF($I45=0,\" \",AZ$42*$H45/$H$42)","v":0.44},38.057471264367813,170.71494252873563,15.781308435999996,9.9915797082326847,10.256799985010817]
["Triticale 11% RP ",{"$f":"IF(D46=\"\",\" \",COUNTA($D$8:D46))","v":39},null,"Triticale",11,null,"24",880,108.2,{"$f":"I46*0.84","v":90.888000000000005},26.4,{"$f":"I46*0.0205*AV46+0.0398*AW46*AE46+0.0173*AF46+0.016*$AG46+0.0147*AI46","v":13.490000479999999},{"$f":"$I46*0.021503+0.032497*$AE46+0.016309*$AF46+0.014701*$AJ46-0.021071*$K46","v":13.621588960000002},3.2640000000000002,2.7417600000000002,4.7280000000000006,4.1327018181818183,3.6460000000000004,2.9532600000000007,1.4820000000000002,1.1411400000000003,0.4,3.2,1.6,{"$f":"W46*0.65","v":2.08},1.1000000000000001,0.1,4.7,1.1820000000000002,{"$f":"AC46*0.88","v":1.0401600000000002},15.8,565.6,35.200000000000003,20.239999999999998,{"$f":"(H46-AH46)*AU46-I46*AV46-AE46*AW46-AF46-AG46","v":65.598400000000012},{"$f":"$H46-($AE46+$AF46+$AH46+$I46+$K46)","v":143.76},{"$f":"AL46+AM46","v":10.033000000000001},{"$f":"57.5*AE46/100","v":9.0850000000000009},{"$f":"6*AE46/100","v":0.94800000000000006},null,null,null,-24.684000000000012,332.01600000000002,{"$f":"AX46*K46+AY46*AT46-AF46-AG46","v":66.032800000000108},709.36,0.89,0.84,0.5,0.27,0.93,{"$f":"0.5*H46/1000","v":0.44},38.94252873563218,174.68505747126434,15.184759940799999,9.8626992262545095,10.109915590086022]
["Triticale 10% RP ",{"$f":"IF(D47=\"\",\" \",COUNTA($D$8:D47))","v":40},null,"Triticale",10,null,"42",880,99.5,{"$f":"I47*0.84","v":83.58},26.4,13.46355908,{"$f":"$I47*0.021503+0.032497*$AE47+0.016309*$AF47+0.014701*$AJ47-0.021071*$K47","v":13.573356760000003},3.09,2.5955999999999997,4.38,3.8285181818181813,3.3849999999999998,2.7418499999999999,1.395,1.0741499999999999,0.4,3.2,1.6,2.08,1.1000000000000001,0.1,4.7,1.095,0.96360000000000001,15.9,571.29999999999995,35.1,20.239999999999998,67.256400000000014,146.66000000000008,10.096500000000001,{"$f":"57.5*AE47/100","v":9.1425000000000001},{"$f":"6*AE47/100","v":0.95400000000000007},null,null,null,-20.160000000000004,310.26600000000002,68.430800000000119,717.96,0.89,0.84,0.5,0.27,0.93,{"$f":"0.5*H47/1000","v":0.44},38.94252873563218,174.68505747126434,15.4841504348,9.8476702471065085,10.108955682952438]
["Triticale 9% RP ",{"$f":"IF(D48=\"\",\" \",COUNTA($D$8:D48))","v":41},null,"Triticale",9,null,"26",880,90.5,{"$f":"I48*0.84","v":76.02},26.3,13.43717608,{"$f":"$I48*0.021503+0.032497*$AE48+0.016309*$AF48+0.014701*$AJ48-0.021071*$K48","v":13.525513960000001},2.91,2.4443999999999999,4.0200000000000005,3.5138454545454545,3.1149999999999998,2.5231499999999998,1.3050000000000002,1.0048500000000002,0.4,3.2,1.6,2.08,1.1000000000000001,0.1,4.7,1.0050000000000001,0.88440000000000007,15.8,578.5,35.1,20.239999999999998,67.666400000000095,148.66000000000008,10.033000000000001,{"$f":"57.5*AE48/100","v":9.0850000000000009},{"$f":"6*AE48/100","v":0.94800000000000006},null,null,null,-15.480000000000011,287.76600000000002,69.75980000000007,727.16000000000008,0.89,0.84,0.5,0.27,0.93,{"$f":"0.5*H48/1000","v":0.44},38.79501915708812,174.02337164750955,15.807825190800001,9.8528428419194043,10.113869363794233]
["Triticale 8% RP ",{"$f":"IF(D49=\"\",\" \",COUNTA($D$8:D49))","v":42},null,"Triticale",{"$f":"IF(I49=0,\" \",ROUND(I49/10,0))","v":8},null,"3",880,82.1,{"$f":"I49*0.84","v":68.963999999999999},26.4,13.432776280000001,{"$f":"$I49*0.021503+0.032497*$AE49+0.016309*$AF49+0.014701*$AJ49-0.021071*$K49","v":13.491042760000001},2.742,2.30328,3.6839999999999993,3.2201509090909082,2.8629999999999995,2.3190299999999997,1.2210000000000001,0.94017000000000006,0.4,3.2,1.6,2.08,1.1000000000000001,0.1,4.7,0.92099999999999982,0.81047999999999987,16.100000000000001,591.5,34.299999999999997,20.239999999999998,62.372400000000155,143.65999999999997,10.2235,{"$f":"57.5*AE49/100","v":9.2575000000000003},{"$f":"6*AE49/100","v":0.96600000000000008},null,null,null,-11.111999999999995,266.76600000000002,65.026800000000051,735.16,0.89,0.84,0.5,0.27,0.93,{"$f":"0.5*H49/1000","v":0.44},38.94252873563218,174.68505747126434,16.2252612148,9.8628498254505121,10.124352473485272]
["Triticale öko 7% RP Ø Hessen",{"$f":"IF(D50=\"\",\" \",COUNTA($D$8:D50))","v":43},null,"Triticale öko",7,"Ø Hessen","100",880,72.599999999999994,{"$f":"I50*0.84","v":60.983999999999995},26.4,13.404177279999999,{"$f":"$I50*0.021503+0.032497*$AE50+0.016309*$AF50+0.014701*$AJ50-0.021071*$K50","v":13.433627359999999},2.552,2.1436799999999998,3.3039999999999998,2.8879963636363635,2.5779999999999998,2.0881799999999999,1.1259999999999999,0.8670199999999999,0.4,3.2,1.6,2.08,1.1000000000000001,0.1,4.7,0.82599999999999996,0.72687999999999997,15.8,599.29999999999995,35.200000000000003,20.239999999999998,61.802400000000077,145.66000000000008,10.033000000000001,{"$f":"57.5*AE50/100","v":9.0850000000000009},{"$f":"6*AE50/100","v":0.94800000000000006},null,null,null,-6.1720000000000041,243.01600000000002,65.440800000000124,744.96,0.89,0.84,0.5,0.27,0.93,{"$f":"0.5*H50/1000","v":0.44},38.94252873563218,174.68505747126434,16.549847972799995,9.857296747006508,10.118935494344038]
["Weizen  14% RP ",{"$f":"IF(D51=\"\",\" \",COUNTA($D$8:D51))","v":44},null,"Weizen ",{"$f":"IF(I51=0,\" \",ROUND(I51/10,0))","v":14},null,2,880,142.1,{"$f":"I51*0.9","v":127.89},26,13.78648424,{"$f":"IF(I51=\"\",\" \",$I51*0.021503+0.032497*$AE51+0.016309*$AF51+0.014701*$AJ51-0.021071*$K51)","v":14.012488279999999},{"$f":"IF(I51=0,\" \",(I51/H51*880*0.02+1.2)/880*H51)","v":4.0419999999999998},{"$f":"IF(N51=\" \",\" \",N51*0.88)","v":3.5569599999999997},{"$f":"IF(N51=\" \",\" \",(I51/H51*880*0.03+0.7)/880*H51)","v":4.9630000000000001},{"$f":"IF(N51=\" \",\" \",P51*(2*0.88+2.8*0.92)/4.8)","v":4.4832433333333341},{"$f":"IF(N51=\" \",\" \",(I51/H51*880*0.02+0.6)/880*H51)","v":3.4420000000000002},{"$f":"IF(N51=\" \",\" \",R51*0.9)","v":3.0978000000000003},1.8210000000000004,{"$f":"IF(N51=\" \",\" \",T51*0.88)","v":1.6024800000000003},0.7,3.3,{"$f":"W51*0.6","v":1.9799999999999998},2.145,1.1000000000000001,0.2,3.8,{"$f":"IF($I51=\"\",\" \",($I51/H51*880*0.01+0.2)/880*H51)","v":1.621},1.42648,22,555.6,22.9,{"$f":"19*0.88","v":16.72},50.929200000000016,117.57999999999993,13.639999999999999,{"$f":"57*AE51/100","v":12.54},{"$f":"5*AE51/100","v":1.1000000000000001},null,null,null,-41.58139999999996,422.80799999999999,54.837399999999981,673.18,0.89,0.9,0.5,0.28000000000000003,0.93,{"$f":"0.66*H51/1000","v":0.58080000000000009},{"$f":"$BA$53/$H$53*H51*K51/$K$53","v":36.4},{"$f":"$BB$53/$H$53*H51*K51/$K$53","v":169.52},14.728316444399999,10.104326023921201,10.408856796480032]
["Weizen  13% RP ",{"$f":"IF(D52=\"\",\" \",COUNTA($D$8:D52))","v":45},null,"Weizen ",{"$f":"IF(I52=0,\" \",ROUND(I52/10,0))","v":13},null,12,880,129.30000000000001,{"$f":"I52*0.9","v":116.37000000000002},26,13.74159824,13.93681788,3.786,3.33168,4.5789999999999997,4.1363633333333336,3.1860000000000004,2.8674000000000004,1.6930000000000001,1.4898400000000001,0.7,3.3,1.9799999999999998,2.145,1.1000000000000001,0.2,3.8,1.4930000000000001,1.3138400000000001,21.8,564.9,23.1,{"$f":"19*0.88","v":16.72},53.049200000000063,121.27999999999997,13.516000000000002,{"$f":"57*AE52/100","v":12.426000000000002},{"$f":"5*AE52/100","v":1.0900000000000001},null,null,null,-36.589399999999955,390.80799999999999,57.427400000000056,686.18000000000006,0.89,0.9,0.5,0.28000000000000003,0.93,{"$f":"0.66*H52/1000","v":0.58080000000000009},{"$f":"$BA$53/$H$53*H52*K52/$K$53","v":36.4},{"$f":"$BB$53/$H$53*H52*K52/$K$53","v":169.52},15.1599770524,10.145080544461198,10.402905954451473]
["Weizen  12% RP DLG 2014",{"$f":"IF(D53=\"\",\" \",COUNTA($D$8:D53))","v":46},null,"Weizen ",12,"DLG 2014",null,880,123,{"$f":"I53*0.9","v":110.7},25,13.671705999999999,13.857927999999999,3.66,3.2208000000000001,4.3899999999999997,3.9656333333333333,3.06,2.754,1.63,1.4343999999999999,0.7,3.3,1.9799999999999998,2.145,1.1000000000000001,0.2,3.8,1.43,1.2584,18,574,26,18,47.480000000000018,{"$f":"IF($I53=\"\",\" \",$H53-($AE53+$AF53+$AH53+$I53+$K53))","v":122},11.16,{"$f":"57*AE53/100","v":10.26},{"$f":"5*AE53/100","v":0.9},null,null,null,-34.132399999999947,375.05799999999999,54.280000000000086,696,0.89,0.9,0.5,0.28000000000000003,0.93,{"$f":"0.66*H53/1000","v":0.58080000000000009},35,163,15.247287439999999,10.140310318067998,10.376057720281583]
["Weizen  12% RP ",{"$f":"IF(D54=\"\",\" \",COUNTA($D$8:D54))","v":47},null,"Weizen ",{"$f":"IF(I54=0,\" \",ROUND(I54/10,0))","v":12},null,"23",880,119.8,{"$f":"I54*0.9","v":107.82},26,13.662043239999997,13.810995280000002,3.5960000000000001,3.1644800000000002,4.2939999999999996,3.8789133333333332,2.996,2.6964000000000001,1.5979999999999999,1.4062399999999999,0.7,3.3,1.9799999999999998,2.145,1.1000000000000001,0.2,3.8,1.3979999999999999,1.23024,17.899999999999999,570,27.5,{"$f":"19*0.88","v":16.72},54.049199999999928,129.58000000000004,11.097999999999999,{"$f":"57*AE54/100","v":10.202999999999999},{"$f":"5*AE54/100","v":0.89500000000000002},null,null,null,-32.884399999999957,367.05799999999999,60.389400000000023,699.58,0.89,0.9,0.5,0.28000000000000003,0.93,{"$f":"0.66*H54/1000","v":0.58080000000000009},{"$f":"$BA$53/$H$53*H54*K54/$K$53","v":36.4},{"$f":"$BB$53/$H$53*H54*K54/$K$53","v":169.52},15.196126554399997,10.051812498769197,10.326458650236415]
["Weizen  11% RP ",{"$f":"IF(D55=\"\",\" \",COUNTA($D$8:D57))","v":50},null,"Weizen ",{"$f":"IF(I55=0,\" \",ROUND(I55/10,0))","v":11},null,"32",880,109.9,{"$f":"I55*0.9","v":98.910000000000011},26,13.621335240000002,13.74602428,3.3979999999999997,2.9902399999999996,3.9969999999999994,3.6106233333333333,2.798,2.5182000000000002,1.4990000000000001,1.3191200000000001,0.7,3.3,1.9799999999999998,2.145,1.1000000000000001,0.2,3.8,1.2989999999999999,1.1431199999999999,17.5,575.9,28,16.72,56.759200000000078,133.98000000000002,10.85,{"$f":"57*AE55/100","v":9.9749999999999996},{"$f":"5*AE55/100","v":0.875},null,null,null,-29.023399999999949,342.30799999999999,63.568399999999997,709.88,0.89,0.9,0.5,0.28000000000000003,0.93,{"$f":"0.66*H55/1000","v":0.58080000000000009},{"$f":"$BA$53/$H$53*H55*K55/$K$53","v":36.4},{"$f":"$BB$53/$H$53*H55*K55/$K$53","v":169.52},15.492397724399998,10.057078425535197,10.314833616776744]
["eigener Weizen 10% RP Ø 2018",{"$f":"IF(D56=\"\",\" \",COUNTA($D$8:D56))","v":49},null,"eigener Weizen",10,{"$f":"IF(I56=99.04,\"Ø 2018\",\"\")","v":"Ø 2018"},null,880,99.04,{"$f":"IF(I56=0,\" \",I56*0.9)","v":89.13600000000001},26.37,{"$f":"IF($I56=\"\",\" \",I56*0.0205*AV56+0.0398*AW56*AE56+0.0173*AF56+0.016*$AG56+0.0147*AI56)","v":13.627244000000001},13.700032,3.1808000000000001,2.7991040000000003,3.6712000000000002,3.3163173333333336,2.5808,2.3227199999999999,1.3904000000000001,1.223552,0.7,{"$f":"IF($I56=0,\" \",W$52*$H56/$H$52)","v":3.3},1.9799999999999998,{"$f":"IF($I56=0,\" \",Y$52*$H56/$H$52)","v":2.145},{"$f":"IF($I56=0,\" \",Z$52*$H56/$H$52)","v":1.1000000000000001},0.2,{"$f":"IF($I56=0,\" \",AB$52*$H56/$H$52)","v":3.8},1.1904000000000001,{"$f":"IF($N56=\" \",\" \",AC56*0.88)","v":1.047552},17.66,598.6,28,16.600000000000001,{"$f":"IF($I56=\"\",\" \",(H56-AH56)*AU56-I56*AV56-AE56*AW56-AF56-AG56)","v":43.860000000000014},121.73000000000002,{"$f":"IF($I56=0,\" \",AK55*$H56/$H55)","v":10.85},9.9749999999999996,0.875,null,null,null,-24.787999999999958,315.15800000000002,{"$f":"IF($I56=0,\" \",AX56*K56+AY56*AT56-AF56-AG56)","v":50.690500000000043},720.33,0.89,0.9,0.5,{"$f":"IF($I56=0,\" \",AX55)","v":0.28000000000000003},{"$f":"IF($I56=0,\" \",AY55)","v":0.93},{"$f":"IF($I56=0,\" \",AZ$53*$H56/$H$53)","v":0.58080000000000009},{"$f":"$BA$53/$H$53*H56*K56/$K$53","v":36.917999999999999},{"$f":"$BB$53/$H$53*H56*K56/$K$53","v":171.93240000000003},16.097033359999998,10.061658860265071,10.322483368703207]
["eigener Weizen 2 12% RP Ø 2017",{"$f":"IF(D57=\"\",\" \",COUNTA($D$8:D57))","v":50},null,"eigener Weizen 2",{"$f":"IF(I57=0,\" \",ROUND(I57/10,0))","v":12},{"$f":"IF(I57=115.3,\"Ø 2017\",\"\")","v":"Ø 2017"},null,880,115.3,{"$f":"IF(I57=0,\" \",I57*0.9)","v":103.77},25.9,{"$f":"IF($I57=\"\",\" \",I57*0.0205*AV57+0.0398*AW57*AE57+0.0173*AF57+0.016*$AG57+0.0147*AI57)","v":13.708211600000002},{"$f":"IF(I57=\"\",\" \",$I57*0.021503+0.032497*$AE57+0.016309*$AF57+0.014701*$AJ57-0.021071*$K57)","v":13.836109400000003},3.5060000000000002,3.08528,4.1589999999999998,3.7569633333333337,2.9060000000000001,2.6154000000000002,1.5529999999999999,1.3666399999999999,0.7,{"$f":"IF($I57=0,\" \",W$52*$H57/$H$52)","v":3.3},1.9799999999999998,{"$f":"IF($I57=0,\" \",Y$52*$H57/$H$52)","v":2.145},{"$f":"IF($I57=0,\" \",Z$52*$H57/$H$52)","v":1.1000000000000001},0.2,{"$f":"IF($I57=0,\" \",AB$52*$H57/$H$52)","v":3.8},1.353,{"$f":"IF($N57=\" \",\" \",AC57*0.88)","v":1.1906399999999999},18.8,593.20000000000005,26.8,16.8,{"$f":"IF($I57=\"\",\" \",(H57-AH57)*AU57-I57*AV57-AE57*AW57-AF57-AG57)","v":35.078000000000046},110.00000000000011,10.85,9.9749999999999996,0.875,null,null,null,{"$f":"IF(H57=\"\",\"\",50*V57+83*Z57+26*AB57+44*AA57-59*W57-13*P57-28*AZ57)","v":-31.129399999999958},{"$f":"IF(H57=\"\",\"\",V57/1000*20140+Z57/1000*48600+1100/440*I57)","v":355.80799999999999},{"$f":"IF($I57=0,\" \",AX57*K57+AY57*AT57-AF57-AG57)","v":41.228000000000137},703.20000000000016,0.89,0.9,0.5,{"$f":"IF($I57=0,\" \",AX56)","v":0.28000000000000003},{"$f":"IF($I57=0,\" \",AY56)","v":0.93},{"$f":"IF($I57=0,\" \",AZ$53*$H57/$H$53)","v":0.58080000000000009},{"$f":"$BA$53/$H$53*H57*K57/$K$53","v":36.26},{"$f":"$BB$53/$H$53*H57*K57/$K$53","v":168.86799999999999},15.742059862000003,10.131820190213041,10.386077385866159]
["Weizen  10% RP ",{"$f":"IF(D58=\"\",\" \",COUNTA($D$8:D58))","v":51},null,"Weizen ",{"$f":"IF(I58=0,\" \",ROUND(I58/10,0))","v":10},null,"19",880,101.1,{"$f":"I58*0.9","v":90.99},26,{"$f":"I58*0.0205*AV58+0.0398*AW58*AE58+0.0173*AF58+0.016*$AG58+0.0147*AI58","v":13.601399240000001},13.70224668,3.2219999999999995,2.8353599999999997,3.7329999999999997,3.3721433333333337,2.6219999999999999,2.3597999999999999,1.411,1.2416800000000001,0.7,3.3,1.9799999999999998,{"$f":"W58*0.65","v":2.145},1.1000000000000001,0.2,3.8,1.2109999999999999,{"$f":"AC58*0.88","v":1.06568},17.5,585.9,28,16.72,{"$f":"(H58-AH58)*AU58-I58*AV58-AE58*AW58-AF58-AG58","v":54.679200000000037},132.77999999999997,{"$f":"AL58+AM58","v":10.85},{"$f":"57*AE58/100","v":9.9749999999999996},{"$f":"5*AE58/100","v":0.875},null,null,null,-25.591399999999954,320.30799999999999,{"$f":"AX58*K58+AY58*AT58-AF58-AG58","v":61.752399999999966},718.68,0.89,0.9,0.5,0.28000000000000003,0.93,{"$f":"0.66*H58/1000","v":0.58080000000000009},{"$f":"$BA$53/$H$53*H58*K58/$K$53","v":36.4},{"$f":"$BB$53/$H$53*H58*K58/$K$53","v":169.52},15.856840076399999,10.061424826351198,10.320348812049513]
["Weizen  9% RP ",{"$f":"IF(D59=\"\",\" \",COUNTA($D$8:D59))","v":52},null,"Weizen ",9,null,"11",880,90.9,{"$f":"I59*0.9","v":81.81},26,13.55604024,13.638665880000001,3.0179999999999998,2.65584,3.4269999999999996,3.0957233333333329,2.4180000000000001,2.1762000000000001,1.3090000000000002,1.1519200000000001,0.7,3.3,1.9799999999999998,2.145,1.1000000000000001,0.2,3.8,1.109,0.97592000000000001,17.600000000000001,588.4,28.1,16.72,61.209200000000031,140.38,10.912000000000001,10.032,0.88,null,null,null,-21.613399999999952,294.80799999999999,68.545400000000001,728.78,0.89,0.9,0.5,0.28000000000000003,0.93,0.58080000000000009,{"$f":"$BA$53/$H$53*H59*K59/$K$53","v":36.4},{"$f":"$BB$53/$H$53*H59*K59/$K$53","v":169.52},16.139026092399998,10.0524998875932,10.310677850091968]
["Weizen  8% RP ",{"$f":"IF(D60=\"\",\" \",COUNTA($D$8:D60))","v":53},null,"Weizen ",{"$f":"IF(I60=0,\" \",ROUND(I60/10,0))","v":8},null,"2",880,82.6,{"$f":"I60*0.9","v":74.34},27,13.55440924,13.567126480000001,2.8519999999999999,2.50976,3.1779999999999999,2.8707933333333338,2.2519999999999998,2.0267999999999997,1.226,1.0788800000000001,0.7,3.3,1.9799999999999998,2.145,1.1000000000000001,0.2,3.8,1.026,0.90288000000000002,17.100000000000001,606.79999999999995,28.2,16.72,50.42920000000008,129.77999999999997,10.602,9.7469999999999999,0.85499999999999998,null,null,null,-18.376399999999958,274.05799999999999,57.579400000000007,736.57999999999993,0.89,0.9,0.5,0.28000000000000003,0.93,0.58080000000000009,37.799999999999997,176.04,16.526702330400003,9.9928351070748018,10.254883755820337]
["Weizen öko 9% RP Ø Hessen",{"$f":"IF(D61=\"\",\" \",COUNTA($D$8:D61))","v":54},null,"Weizen öko",9,"Ø Hessen","100",880,85.6,{"$f":"I61*0.9","v":77.039999999999992},26,13.539684240000001,13.609529679999998,2.9119999999999999,2.5625599999999999,3.2679999999999998,2.9520933333333335,2.3119999999999998,2.0808,1.256,1.10528,0.7,3.3,1.9799999999999998,2.145,1.1000000000000001,0.2,3.8,1.056,0.92927999999999999,17.600000000000001,592.70000000000005,28.2,16.72,61.579200000000057,141.37999999999988,10.912000000000001,10.032,0.88,null,null,null,-19.546399999999952,281.55799999999999,69.074399999999898,734.07999999999993,0.89,0.9,0.5,0.28000000000000003,0.93,0.58080000000000009,36.4,169.52,16.330656666399999,10.052334069379198,10.310609525953975]
[null,{"$f":"IF(D62=\"\",\" \",COUNTA($D$8:D62))","v":55},null,"Weizen, Sommer",14,"DLG 2014",null,880,138,{"$f":"I62*0.9","v":124.2},25,13.808456,{"$f":"IF(I62=\"\",\" \",$I62*0.021503+0.032497*$AE62+0.016309*$AF62+0.014701*$AJ62-0.021071*$K62)","v":14.024602},{"$f":"IF(I62=0,\" \",I62*0.0199+0.96)","v":3.7061999999999999},3.2614559999999999,{"$f":"IF(N62=\" \",\" \",I62*0.0308+0.81)","v":5.0603999999999996},4.5712279999999996,{"$f":"IF(N62=\" \",\" \",I62*0.0247+0.45)","v":3.8586},3.4727399999999999,{"$f":"IF(N62=\" \",\" \",I62*0.0085+0.44)","v":1.613},1.41944,0.4,3.3,1.9799999999999998,2.145,1.1000000000000001,0.1,4.0999999999999996,{"$f":"IF($I62=\"\",\" \",$I62*0.0125+0.3)","v":2.0249999999999999},1.782,21,581,28,18,23.480000000000018,97,13.020000000000001,11.97,1.05,null,null,null,-54.447599999999966,406.51600000000002,26.290000000000077,678,0.89,0.9,0.5,0.19,0.93,0.58080000000000009,35,163,15.218959459999995,10.233300402108002,10.468737765082702]
["Weizen, (Hart) durum 13% RP DLG 2014",{"$f":"IF(D63=\"\",\" \",COUNTA($D$8:D63))","v":56},null,"Weizen, (Hart) durum",13,"DLG 2014",null,880,133,{"$f":"I63*0.95","v":126.35},26,14.254094239999997,13.904201760000001,{"$f":"IF(I63=0,\" \",(I63/H63*880*0.0442-2.37)/880*H63)","v":3.5086000000000004},3.0875680000000005,{"$f":"IF(N63=\" \",\" \",(I63/H63*880*0.034+0.44)/880*H63)","v":4.9620000000000006},4.4823400000000015,{"$f":"IF(N63=\" \",\" \",I63*0.038-1.31)","v":3.7440000000000002},3.3696000000000002,{"$f":"IF(N63=\" \",\" \",I63*0.0121+0.12)","v":1.7292999999999998},1.5217839999999998,{"$f":"0.4*H25/1000","v":0.35199999999999998},{"$f":"4.2*H63/1000","v":3.6960000000000002},2.2176,2.4024000000000001,{"$f":"1.2*H63/1000","v":1.056},{"$f":"0.1*H63/1000","v":8.7999999999999995E-2},{"$f":"5*H63/1000","v":4.4000000000000004},{"$f":"IF($I63=\"\",\" \",($I63/H63*880*0.0164+0.07)/880*H63)","v":2.2511999999999999},1.9810559999999999,21,570,33,{"$f":"23*0.88","v":20.239999999999998},46.929199999999923,109.75999999999999,13.020000000000001,11.97,1.05,null,null,null,-75.312399999999997,390.91088000000002,46.81919999999991,679.76,0.92,0.95,0.7,0.94,0.92,0.58080000000000009,36.4,169.52,15.0650672848,10.0825938816768,10.308692308574631]
["eigener Weizen, (Hart)  ",{"$f":"IF(D64=\"\",\" \",COUNTA($D$8:D64))","v":57},null,"eigener Weizen, (Hart) "," ",{"$f":"IF(I64=112,\"Ø 2007\",\"\")","v":""},null,null,null,{"$f":"IF(I64=0,\" \",I64*0.95)","v":" "},null,{"$f":"IF($I64=\"\",\" \",I64*0.0205*AV64+0.0398*AW64*AE64+0.0173*AF64+0.016*$AG64+0.0147*AI64)","v":" "}," ",{"$f":"IF(I64=0,\" \",(I64/H64*880*0.0442-2.37)/880*H64)","v":" "}," ",{"$f":"IF(N64=\" \",\" \",(I64/H64*880*0.034+0.44)/880*H64)","v":" "},{"$f":"IF(N64=\" \",\" \",P64*0.89)","v":" "},{"$f":"IF(N64=\" \",\" \",(I64/H64*880*0.038-1.31)/880*H64)","v":" "}," ",{"$f":"IF(N64=\" \",\" \",(I64/H64*880*0.0121+0.12)/880*H64)","v":" "}," ",{"$f":"IF($I64=0,\" \",V$52*$H64/$H$52)","v":" "}," "," "," "," "," "," ",{"$f":"IF($I64=\"\",\" \",($I64/H64*880*0.0164+0.07)/880*H64)","v":" "},{"$f":"IF($N64=\" \",\" \",AC64*0.88)","v":" "},null,null,null,null,{"$f":"IF($I64=\"\",\" \",(H64-AH64)*AU64-I64*AV64-AE64*AW64-AF64-AG64)","v":" "}," ",{"$f":"IF($I64=0,\" \",AK63*$H64/$H63)","v":" "}," "," ",null,null,null,"","",{"$f":"IF($I64=0,\" \",AX64*K64+AY64*AT64-AF64-AG64)","v":" "}," ",{"$f":"IF($I64=0,\" \",AU63)","v":" "},{"$f":"IF($I64=0,\" \",AV63)","v":" "},{"$f":"IF($I64=0,\" \",AW63)","v":" "},{"$f":"IF($I64=0,\" \",AX63)","v":" "},{"$f":"IF($I64=0,\" \",AY63)","v":" "},{"$f":"IF($I64=0,\" \",AZ$53*$H64/$H$53)","v":" "},{"$f":"IF($I64=0,\" \",BA63*$H64/$H63*K64/K63)","v":" "},{"$f":"IF($I64=0,\" \",BB63*$H64/$H63*K64/K63)","v":" "},"","",""]
["Altbrot (Brotmehl, getrocknet) 12% RP DLG 2014",{"$f":"IF(D65=\"\",\" \",COUNTA($D$8:D65))","v":58},null,"Altbrot (Brotmehl, getrocknet)",12,"DLG 2014",null,800,120,{"$f":"IF(I65=0,\" \",I65*0.93)","v":111.60000000000001},12,{"$f":"M65","v":13.063631999999998},13.063631999999998,{"$f":"IF(I65=0,\" \",(I65/H65*880*0.0314-0.52)/880*H65)","v":3.2952727272727271},{"$f":"IF(N65=\" \",\" \",N65*0.92)","v":3.0316509090909092},{"$f":"IF(N65=\" \",\" \",(I65/H65*880*0.04+0.1)/880*H65)","v":4.8909090909090907},{"$f":"IF(N65=\" \",\" \",P65*(1.4*0.93+2*0.88)/3.4)","v":4.4046951871657756},{"$f":"IF(N65=\" \",\" \",(I65/H65*880*0.03+0.5)/880*H65)","v":4.0545454545454547},{"$f":"IF(N65=\" \",\" \",R65*0.92)","v":3.7301818181818183},{"$f":"IF(N65=\" \",\" \",(I65/H65*880*0.0116-0)/880*H65)","v":1.3919999999999999},{"$f":"IF(N65=\" \",\" \",T65*0.91)","v":1.2667199999999998},0.4,1,{"$f":"W65*0.5","v":0.5},{"$f":"W65*0.65","v":0.65},0.4,3.2,{"$f":"IF($I65=0,\" \",AB$52*$H65/$H$52)","v":3.4545454545454546},{"$f":"IF($I65=\"\",\" \",$I65*0.01+0.2)","v":1.4},{"$f":"AC65*0.93","v":1.302},21,520,16,20,{"$f":"(H65-AH65)*AU65-I65*AV65-AE65*AW65-AF65-AG65","v":73.87},107,13.334999999999999,{"$f":"57.5*AE65/100","v":12.074999999999999},{"$f":"6*AE65/100","v":1.26},null,null,null,146.45236363636366,327.49599999999998,{"$f":"AX65*K65+AY65*AT65-AF65-AG65","v":50.710000000000036},627,0.95,0.93,0.93,0.3,0.93,0.52800000000000002,{"$f":"33*H65/1000*K65/$K$52","v":12.184615384615382},{"$f":"127*H65/1000*K65/$K$52","v":46.892307692307682},14.639451359999999,10.59510062426677,10.51077182108501]
["eigene Altbrotabfälle ",{"$f":"IF(D66=\"\",\" \",COUNTA($D$8:D66))","v":59},null,"eigene Altbrotabfälle"," ",null,null,null,null,{"$f":"IF(I66=0,\" \",I66*0.9)","v":" "},null,{"$f":"IF($I66=\"\",\" \",I66*0.0205*AV66+0.0398*AW66*AE66+0.0173*AF66+0.016*$AG66+0.0147*AI66)","v":" "}," ",{"$f":"IF(I66=0,\" \",(I66/H66*880*0.0314-0.52)/880*H66)","v":" "},{"$f":"IF(N66=\" \",\" \",N66*0.92)","v":" "},{"$f":"IF(N66=\" \",\" \",(I66/H66*880*0.04+0.1)/880*H66)","v":" "},{"$f":"IF(N66=\" \",\" \",P66*(1.4*0.93+2*0.88)/3.4)","v":" "},{"$f":"IF(N66=\" \",\" \",(I66/H66*880*0.03+0.5)/880*H66)","v":" "},{"$f":"IF(N66=\" \",\" \",R66*0.92)","v":" "},{"$f":"IF(N66=\" \",\" \",(I66/H66*880*0.0116-0)/880*H66)","v":" "},{"$f":"IF(N66=\" \",\" \",T66*0.91)","v":" "},{"$f":"IF($I66=0,\" \",V65/$H65*$H66)","v":" "},{"$f":"IF($I66=0,\" \",W65/$H65*$H66)","v":" "},{"$f":"IF($I66=0,\" \",X65/$H65*$H66)","v":" "},{"$f":"IF($I66=0,\" \",Y65/$H65*$H66)","v":" "},{"$f":"IF($I66=0,\" \",Z65/$H65*$H66)","v":" "},{"$f":"IF($I66=0,\" \",AA$64*$H66/$H$64)","v":" "},{"$f":"IF($I66=0,\" \",AB$52*$H66/$H$52)","v":" "},{"$f":"IF($I66=\"\",\" \",$I66*0.01+0.2)","v":" "},{"$f":"IF($N66=\" \",\" \",AC66*0.93)","v":" "},null,null,null,null,{"$f":"IF($I66=\"\",\" \",(H66-AH66)*AU66-I66*AV66-AE66*AW66-AF66-AG66)","v":" "}," ",{"$f":"IF($I66=0,\" \",AK65*$H66/$H65)","v":" "}," "," ",null,null,null,"","",{"$f":"IF($I66=0,\" \",AX66*K66+AY66*AT66-AF66-AG66)","v":" "}," ",{"$f":"IF($I66=0,\" \",AU65)","v":" "},{"$f":"IF($I66=0,\" \",AV65)","v":" "},{"$f":"IF($I66=0,\" \",AW65)","v":" "},{"$f":"IF($I66=0,\" \",AX65)","v":" "},{"$f":"IF($I66=0,\" \",AY65)","v":" "},{"$f":"IF($I66=0,\" \",AZ$65*$H66/$H$65)","v":" "},{"$f":"IF($I66=0,\" \",BA65*$H66/$H65*K66/K65)","v":" "},{"$f":"IF($I66=0,\" \",BB65*$H66/$H65*K66/K65)","v":" "},"","",""]
[{"$f":"IF(E67=\" \",D67&\" \"&F67,D67&\" \"&E67&\"% RP \"&F67)","v":"Altgebäck (Gebäckmehl, getrocknet) 5% RP DLG 2014"},{"$f":"IF(D67=\"\",\" \",COUNTA($D$8:D67))","v":60},null,"Altgebäck (Gebäckmehl, getrocknet)",{"$f":"IF(I67=0,\" \",ROUND(I67/10,0))","v":5},"DLG 2014",null,880,54,{"$f":"IF(I67=0,\" \",I67*0.93)","v":50.220000000000006},22,{"$f":"M67","v":14.223534000000001},{"$f":"IF(I67=\"\",\" \",$I67*0.021503+0.032497*$AE67+0.016309*$AF67+0.014701*$AJ67-0.021071*$K67)","v":14.223534000000001},{"$f":"IF(I67=0,\" \",(I67/H67*880*0.03-0.4)/880*H67)","v":1.2199999999999998},{"$f":"IF(N67=\" \",\" \",N67*0.92)","v":1.1223999999999998},{"$f":"IF(N67=\" \",\" \",(I67/H67*880*0.03+0.2)/880*H67)","v":1.8199999999999998},{"$f":"IF(N67=\" \",\" \",P67*(1.5*0.93+2.2*0.88)/3.6)","v":1.6840055555555555},{"$f":"IF(N67=\" \",\" \",(I67/H67*880*0.03-0.3)/880*H67)","v":1.3199999999999998},{"$f":"IF(N67=\" \",\" \",R67*0.92)","v":1.2143999999999999},{"$f":"IF(N67=\" \",\" \",(I67/H67*880*0.01+0.1)/880*H67)","v":0.64},{"$f":"IF(N67=\" \",\" \",T67*0.91)","v":0.58240000000000003},0.1,2,{"$f":"W67*0.5","v":1},{"$f":"W67*0.65","v":1.3},2.2999999999999998,8.8000000000000007,{"$f":"IF($I67=0,\" \",AB$52*$H67/$H$52)","v":3.8},{"$f":"IF($I67=\"\",\" \",($I67/H67*880*0.01)/880*H67)","v":0.54},{"$f":"AC67*0.93","v":0.50220000000000009},106,528,106,70,{"$f":"(H67-AH67)*AU67-I67*AV67-AE67*AW67-AF67-AG67","v":-13.300000000000068},100,{"$f":"AK$65/$H65*$H67*AE$67/AE$65","v":74.040999999999997},{"$f":"AL$65/$H65*$H67*AF67/AF$65","v":13.486846153846153},{"$f":"AM$65/$H65*$H67*AG67/AG$65","v":9.1822500000000016},null,null,null,{"$f":"IF(H67=\"\",\"\",50*V67+83*Z67+26*AB67+44*AA67-59*W67-13*P67-28*AZ67)","v":523.97760000000017},{"$f":"IF(H67=\"\",\"\",V67/1000*20140+Z67/1000*48600+1100/440*I67)","v":248.79399999999998},{"$f":"AX67*K67+AY67*AT67-AF67-AG67","v":-43.3599999999999},628,0.95,0.93,0.93,0.3,0.93,{"$f":"0.66*H67/1000","v":0.58080000000000009},{"$f":"33*H67/1000*K67/$K$52","v":24.572307692307692},{"$f":"127*H67/1000*K67/$K$52","v":94.566153846153853},21.719179820000001,11.806281711544981,11.102297675883626]
["Keksmehl 9% RP DLG 2014",{"$f":"IF(D68=\"\",\" \",COUNTA($D$8:D68))","v":61},null,"Keksmehl",9,"DLG 2014",null,860,86,{"$f":"IF(I68=0,\" \",I68*0.93)","v":79.98},11,{"$f":"M68","v":16.803550999999999},16.803550999999999,{"$f":"IF(I68=0,\" \",(I68/H68*880*0.03-0.4)/880*H68)","v":2.189090909090909},{"$f":"IF(N68=\" \",\" \",N68*0.92)","v":2.0139636363636364},{"$f":"IF(N68=\" \",\" \",(I68/H68*880*0.03+0.2)/880*H68)","v":2.7754545454545454},{"$f":"IF(N68=\" \",\" \",P68*(1.3*0.93+1.6*0.88)/2.9)","v":2.5046084639498436},{"$f":"IF(N68=\" \",\" \",(I68/H68*880*0.03-0.3)/880*H68)","v":2.2868181818181816},{"$f":"IF(N68=\" \",\" \",R68*0.92)","v":2.1038727272727273},{"$f":"IF(N68=\" \",\" \",(I68/H68*880*0.01+0.1)/880*H68)","v":0.95772727272727265},{"$f":"IF(N68=\" \",\" \",T68*0.91)","v":0.87153181818181813},0.9,1.1000000000000001,{"$f":"W68*0.5","v":0.55000000000000004},{"$f":"W68*0.65","v":0.71500000000000008},0.4,3.4,{"$f":"IF($I68=0,\" \",AB$52*$H68/$H$52)","v":3.7136363636363638},{"$f":"IF($I68=\"\",\" \",($I68/H68*880*0.01)/880*H68)","v":0.86},{"$f":"AC68*0.93","v":0.79980000000000007},206,344,{"$f":"140*0.92","v":128.80000000000001},17,{"$f":"(H68-AH68)*AU68-I68*AV68-AE68*AW68-AF68-AG68","v":4.769999999999925},196,{"$f":"AK$65/$H65*$H68*AE$68/AE$65","v":140.62074999999999},{"$f":"AL$65/$H65*$H68*AF$68/AF$65","v":8.5871826923076924},{"$f":"AM$65/$H65*$H68*AG$68/AG$65","v":10.903725000000001},null,null,null,207.48083636363643,252.566,{"$f":"AX68*K68+AY68*AT68-AF68-AG68","v":32.480000000000018},540,0.83,0.93,0.69,0.28000000000000003,0.93,0.56759999999999999,{"$f":"33*H68/1000*K68/$K$52","v":12.006923076923076},{"$f":"127*H68/1000*K68/$K$52","v":46.208461538461542},25.897592229999997,13.394485962979752,14.321516517797738]
["eigene Keksmehl ",{"$f":"IF(D69=\"\",\" \",COUNTA($D$8:D69))","v":62},null,"eigene Keksmehl"," ",null,null,null,null,{"$f":"IF(I69=0,\" \",I69*0.93)","v":" "},null,{"$f":"IF($I69=\"\",\" \",I69*0.0205*AV69+0.0398*AW69*AE69+0.0173*AF69+0.016*$AG69+0.0147*AI69)","v":" "}," ",{"$f":"IF(I69=0,\" \",(I69/H69*880*0.03-0.4)/880*H69)","v":" "},{"$f":"IF(N69=\" \",\" \",N69*0.92)","v":" "},{"$f":"IF(N69=\" \",\" \",(I69/H69*880*0.03+0.2)/880*H69)","v":" "},{"$f":"IF(N69=\" \",\" \",P69*(1.5*0.93+1.9*0.88)/3.4)","v":" "},{"$f":"IF(N69=\" \",\" \",(I69/H69*880*0.03-0.3)/880*H69)","v":" "},{"$f":"IF(N69=\" \",\" \",R69*0.92)","v":" "},{"$f":"IF(N69=\" \",\" \",(I69/H69*880*0.01+0.1)/880*H69)","v":" "},{"$f":"IF(N69=\" \",\" \",T69*0.91)","v":" "},{"$f":"IF($H69=\"\",\"\",V68/H68*H69)","v":""},"","","","","","",{"$f":"IF($I69=\"\",\" \",($I69/H69*880*0.01)/880*H69)","v":" "},{"$f":"IF($N69=\" \",\" \",AC69*0.93)","v":" "},null,null,null,null,{"$f":"IF($I69=\"\",\" \",(H69-AH69)*AU69-I69*AV69-AE69*AW69-AF69-AG69)","v":" "}," ",{"$f":"IF($I69=0,\" \",AK68*$H69/$H68)","v":" "}," "," ",null,null,null,"","",{"$f":"IF($I69=0,\" \",AX69*K69+AY69*AT69-AF69-AG69)","v":" "}," ",{"$f":"IF($I69=0,\" \",AU68)","v":" "},{"$f":"IF($I69=0,\" \",AV68)","v":" "},{"$f":"IF($I69=0,\" \",AW68)","v":" "},{"$f":"IF($I69=0,\" \",AX68)","v":" "},{"$f":"IF($I69=0,\" \",AY68)","v":" "},{"$f":"IF($I69=0,\" \",AZ$68*$H69/$H$68)","v":" "},{"$f":"IF($I69=0,\" \",BA68*$H69/$H68*K69/K68)","v":" "},{"$f":"IF($I69=0,\" \",BB68*$H69/$H68*K69/K68)","v":" "},"","",""]
[" ",{"$f":"IF(D70=\"\",\" \",COUNTA($D$8:D70))","v":" "},null,null," ",null,null,null,null,null,null,null,null,null,null,null,null,null,null,null,null,null,null,null,null,null,null,null,null,null,null,null,null,null,null,null,null,null,null,null,null,null,null,null,null,null,null,null,null,null,null,null,null,null,"","",""]
["Eiweißreiche Futtermittel ",{"$f":"IF(D71=\"\",\" \",COUNTA($D$8:D71))","v":63},null,"Eiweißreiche Futtermittel"," ",null,null,null,null,null,null,null,null,null,null,null,null,null,null,null,null,null,null,null,null,null,null,null,null,null,null,null,null,null,null,null,null,null,null,null,null,null,null,null,null,null,null,null,null,null,null,null,null,null,"","",""]
[" ",{"$f":"IF(D72=\"\",\" \",COUNTA($D$8:D72))","v":" "},null,null," ",null,null,null,null,null,null,null,null,null,null,null,null,null,null,null,null,null,null,null,null,null,null,null,null,null,null,null,null,null,null,null,null,null,null,null,null,null,null,null,null,null,null,null,null,null,null,null,null,null,"",{"$f":"IF(H72=\"\",\"\",(((0.703*(4168-(91*AH72/10)+(19*I72/10)+(39*AE72/10)-(36*BB72/10))+(15.8*AE72/10)+(4.7*AF72/10)-(9.7*I72/10)-(9.8*K72/10))*0.0041868)+((0.7*(4168-(91*AH71/10)+(19*I72/10)+(39*AE72/10)-(36*BB72/10))+(16.1*AE72/10)+(4.8*AF72/10)-(9.1*I72/10)-(8.7*BA72/10))*0.0041868))/2)","v":""},{"$f":"IF(H72=\"\",\"\",(0.703*((((4168-(91*AH72/10)+(19*I72/10)+(39*AE72/10)-(36*BB72/10))*0.0041868*1.014)+(0.066*K72/10))/0.0041868)+(15.8*AE72/10)+(4.7*AF72/10)-(9.7*I72/10)-(9.8*K72/10))*0.0041868)","v":""}]
["Ackerbohnen  26% RP DLG 2014",{"$f":"IF(D73=\"\",\" \",COUNTA($D$8:D73))","v":64},null,"Ackerbohnen ",26,"DLG 2014",null,880,264,{"$f":"I73*0.77","v":203.28},77,{"$f":"I73*0.0205*AV73+0.0398*AW73*AE73+0.0173*AF73+0.016*$AG73+0.0147*AI73","v":12.410639000000002},{"$f":"IF(I73=\"\",\" \",$I73*0.021503+0.032497*$AE73+0.016309*$AF73+0.014701*$AJ73-0.021071*$K73)","v":12.299693000000001},{"$f":"IF(I73=0,\" \",I73*0.05+3.3)","v":16.5},{"$f":"IF(N73=\" \",\" \",N73*0.82)","v":13.53},{"$f":"IF(N73=\" \",\" \",I73*0.0114+2.14)","v":5.1496000000000004},{"$f":"IF(N73=\" \",\" \",P73*(2*0.61+3.4*0.68)/5.4)","v":3.368219851851852},{"$f":"IF(N73=\" \",\" \",I73*0.03+1)","v":8.92},{"$f":"IF(N73=\" \",\" \",R73*0.75)","v":6.6899999999999995},{"$f":"IF(N73=\" \",\" \",I73*0.01-0.1)","v":2.54},{"$f":"IF(N73=\" \",\" \",T73*0.71)","v":1.8033999999999999},1.2,4.8,{"$f":"W73*0.4","v":1.92},{"$f":"W73*0.65","v":3.12},1.4,0.2,10.7,{"$f":"IF($I73=\"\",\" \",$I73*0.0048+0.91)","v":2.1772},{"$f":"AC73*0.61","v":1.3280920000000001},14,365,35,35,{"$f":"IF($I73=\"\",\" \",(H73-AH73)*AU73-I73*AV73-AE73*AW73-AF73-AG73)","v":74.170000000000073},{"$f":"IF($I73=\"\",\" \",$H73-($AE73+$AF73+$AH73+$I73+$K73))","v":125},9,null,null,null,null,null,{"$f":"IF(H73=\"\",\"\",50*V73+83*Z73+26*AB73+44*AA73-59*W73-13*P73-28*AZ73)","v":90.879199999999997},{"$f":"IF(H73=\"\",\"\",V73/1000*20140+Z73/1000*48600+1100/440*I73)","v":752.20799999999997},{"$f":"AX73*K73+AY73*AT73-AF73-AG73","v":64.100000000000023},{"$f":"IF(H73=\"\",\" \",H73-I73-AE73-AH73-K73)","v":490},0.81,0.77,0.5,0.3,0.9,{"$f":"0.9*H73/1000","v":0.79200000000000004},106,273,{"$f":"IF(H73=\"\",\"\",0.73*M73+0.055*AE73+0.015*AF73-0.028*I73-0.041*K73)","v":4.6747758900000003},{"$f":"IF(H73=\"\",\"\",((((0.703*(4168-(91*AH73/10/H73*1000)+(19*I73/10/H73*1000)+(39*AE73/10/H73*1000)-(36*BB73/10/H73*1000))+(15.8*AE73/10/H73*1000)+(4.7*AF73/10/H73*1000)-(9.7*I73/10/H73*1000)-(9.8*K73/10/H73*1000))*0.0041868)+((0.7*(4168-(91*AH72/10/H73*1000)+(19*I73/10/H73*1000)+(39*AE73/10/H73*1000)-(36*BB73/10/H73*1000))+(16.1*AE73/10/H73*1000)+(4.8*AF73/10/H73*1000)-(9.1*I73/10/H73*1000)-(8.7*BA73/10/H73*1000))*0.0041868))/2)/1000*H73)","v":8.4802884981480009},{"$f":"IF(H73=\"\",\"\",((0.703*((((4168-(91*AH73/10/H73*1000)+(19*I73/10/H73*1000)+(39*AE73/10/H73*1000)-(36*BB73/10/H73*1000))*0.0041868*1.014)+(0.066*K73/10/H73*1000))/0.0041868)+(15.8*AE73/10/H73*1000)+(4.7*AF73/10/H73*1000)-(9.7*I73/10/H73*1000)-(9.8*K73/10/H73*1000))*0.0041868)/1000*H73)","v":8.5030265936185447}]
["eigene Ackerbohnen 27% RP Ø 2018",{"$f":"IF(D74=\"\",\" \",COUNTA($D$8:D74))","v":65},null,"eigene Ackerbohnen",27,{"$f":"IF(I74=272.8,\"Ø 2018\",\"\")","v":"Ø 2018"},"100",880,272.8,{"$f":"IF(I74=0,\" \",I74*0.77)","v":210.05600000000001},90.99,{"$f":"IF($I74=\"\",\" \",I74*0.0205*AV74+0.0398*AW74*AE74+0.0173*AF74+0.016*$AG74+0.0147*AI74)","v":12.599674200000003},{"$f":"IF(I74=\"\",\" \",$I74*0.021503+0.032497*$AE74+0.016309*$AF74+0.014701*$AJ74-0.021071*$K74)","v":12.010956},{"$f":"IF(I74=0,\" \",(I74/H74*880*0.05+3.3)/880*H74)","v":16.940000000000001},{"$f":"IF(N74=\" \",\" \",N74*0.82)","v":13.8908},{"$f":"IF(N74=\" \",\" \",(I74/H74*880*0.0114+2.14)/880*H74)","v":5.2499200000000004},{"$f":"IF(N74=\" \",\" \",P74*(2*0.61+3.4*0.68)/5.4)","v":3.4338365629629628},{"$f":"IF(N74=\" \",\" \",(I74/H74*880*0.03+1)/880*H74)","v":9.1839999999999993},{"$f":"IF(N74=\" \",\" \",R74*0.75)","v":6.8879999999999999},{"$f":"IF(N74=\" \",\" \",(I74/H74*880*0.01-0.1)/880*H74)","v":2.6280000000000001},{"$f":"IF(N74=\" \",\" \",T74*0.71)","v":1.86588},{"$f":"IF($I74=0,\" \",V73*$H74/$H73)","v":1.2},4.8,1.92,3.12,1.4,0.2,10.7,{"$f":"IF($I74=\"\",\" \",($I74/H74*880*0.0048+0.91)/880*H74)","v":2.2194400000000001},{"$f":"IF(AC74=\" \",\" \",AC74*0.61)","v":1.3538584},14.48,388.3,33,27.8,51.685999999999979,85.629999999999882,{"$f":"IF($I74=0,\" \",AK73*$H74/$H73)","v":9},0,0,null,null,null,{"$f":"IF($I74=0,\" \",91*K74/$K73*$H74/$H73)","v":107.53363636363635},774.20799999999997,{"$f":"IF($I74=0,\" \",AX74*K74+AY74*AT74-AF74-AG74)","v":32.534000000000049},473.93000000000006,{"$f":"IF($I74=0,\" \",AU73)","v":0.81},{"$f":"IF($I74=0,\" \",AV73)","v":0.77},{"$f":"IF($I74=0,\" \",AW73)","v":0.5},{"$f":"IF($I74=0,\" \",AX73)","v":0.3},{"$f":"IF($I74=0,\" \",AY73)","v":0.9},{"$f":"IF($I74=0,\" \",AZ73*$H74/$H73)","v":0.79200000000000004},{"$f":"IF($I74=0,\" \",117*H74/880)","v":117},{"$f":"IF($I74=0,\" \",143*H74/880)","v":143},4.0199078799999981,9.5053032522504015,10.171615029240932]
["Bierhefe, getrocknet 44% RP DLG 2014",{"$f":"IF(D75=\"\",\" \",COUNTA($D$8:D75))","v":66},null,"Bierhefe, getrocknet",{"$f":"IF(I75=0,\" \",ROUND(I75/10,0))","v":44},"DLG 2014",null,880,435,{"$f":"I75*0.85","v":369.75},{"$f":"24.15*H75/1000","v":21.251999999999999},{"$f":"I75*0.0205*AV75+0.0398*AW75*AE75+0.0173*AF75+0.016*$AG75+0.0147*AI75","v":12.145340000000001},{"$f":"IF(I75=\"\",\" \",$I75*0.021503+0.032497*$AE75+0.016309*$AF75+0.014701*$AJ75-0.021071*$K75)","v":14.090979456000001},30.8,{"$f":"N75*0.88","v":27.103999999999999},{"$f":"6+3.8","v":9.8000000000000007},{"$f":"P75*(6*0.82+3.8*0.69)/9.8","v":7.5419999999999998},19.399999999999999,{"$f":"R75*0.83","v":16.101999999999997},5.5,{"$f":"T75*0.85","v":4.6749999999999998},1.6,15,{"$f":"W75*0.5","v":7.5},{"$f":"W75*0.75","v":11.25},2.2000000000000002,0.2,22.62,6,{"$f":"AC75*0.82","v":4.92},14,{"$f":"0*$H75/1000","v":0},13,88,286.94999999999993,321.74800000000005,{"$f":"6.8","v":6.8},null,null,null,null,null,{"$f":"IF(H75=\"\",\"\",50*V75+83*Z75+26*AB75+44*AA75-59*W75-13*P75-28*AZ75)","v":-211.68000000000004},1226.644,{"$f":"AX75*K75+AY75*AT75-AF75-AG75","v":282.34091999999998},321.74799999999999,0.85,0.85,0.25,0.12,0.91,2.1,{"$f":"229*H75/1000","v":201.52},{"$f":"560*H75/1000","v":492.8},-1.99491699712,4.5715477025880009,4.2290336132595376]
["Bierhefe frisch (inaktiviert) 5% RP DLG 2014",{"$f":"IF(D76=\"\",\" \",COUNTA($D$8:D76))","v":67},null,"Bierhefe frisch (inaktiviert)",5,"DLG 2014",null,100,{"$f":"525*H76/1000","v":52.5},{"$f":"I76*0.85","v":44.625},{"$f":"17*H76/1000","v":1.7},{"$f":"I76*0.0205*AV76+0.0398*AW76*AE76+0.0173*AF76+0.016*$AG76+0.0147*AI76","v":1.4284900000000003},1.7021726000000004,{"$f":"35/1000*H76","v":3.5000000000000004},{"$f":"N76*0.88","v":3.0800000000000005},{"$f":"(0.8+0.5)/1000*H76","v":0.13},{"$f":"P76*(6*0.82+3.8*0.69)/9.8","v":0.1000469387755102},{"$f":"25*H76/1000","v":2.5},{"$f":"R76*0.83","v":2.0749999999999997},{"$f":"6.15*H76/1000","v":0.61499999999999999},{"$f":"T76*0.85","v":0.52274999999999994},{"$f":"1.8*H76/1000","v":0.18},{"$f":"4.5*H76/1000","v":0.45},{"$f":"W76*0.5","v":0.22500000000000001},{"$f":"W76*0.75","v":0.33750000000000002},{"$f":"1.8*H76/1000","v":0.18},{"$f":"0.2605*H76/1000","v":2.605E-2},{"$f":"25.2*H76/1000","v":2.52},{"$f":"8*H76/1000","v":0.8},{"$f":"AC76*0.85","v":0.68},3,{"$f":"0*$H76/1000","v":0},{"$f":"10*$H76/1000","v":1},8,31.825000000000003,34.799999999999997,{"$f":"6.8*H76/900","v":0.75555555555555554},null,null,null,null,null,55.832866666666661,143.6232,{"$f":"AX76*K76+AY76*AT76-AF76-AG76","v":30.872},34.799999999999997,0.85,0.85,0.25,0.12,0.91,{"$f":"2.1/900*H76","v":0.23333333333333336},{"$f":"229*H76/1000","v":22.9},{"$f":"560*H76/1000","v":56},-0.13211400199999968,-0.55300813982999986,0.5651672431095599]
[{"$f":"IF(E77=\" \",D77&\" \"&F77,D77&\" \"&E77&\"% RP \"&F77)","v":"eigene Bierhefe "},{"$f":"IF(D77=\"\",\" \",COUNTA($D$8:D77))","v":68},null,"eigene Bierhefe",{"$f":"IF(I77=0,\" \",ROUND(I77/10,0))","v":" "},{"$f":"IF(I77=277,\"Ø 2007\",\"\")","v":""},null,null,null,{"$f":"IF(I77=0,\" \",I77*0.85)","v":" "},null,{"$f":"IF($I77=\"\",\" \",I77*0.0205*AV77+0.0398*AW77*AE77+0.0173*AF77+0.016*$AG77+0.0147*AI77)","v":" "},{"$f":"IF(I77=\"\",\" \",$I77*0.021503+0.032497*$AE77+0.016309*$AF77+0.014701*$AJ77-0.021071*$K77)","v":" "},{"$f":"IF(I77=0,\" \",(I77/H77*880*0.0694-1.58)/880*H77)","v":" "},{"$f":"IF(N77=\" \",\" \",N77*0.82)","v":" "},{"$f":"IF(I77=\"\",\"\",P74/H74*H77)","v":""},{"$f":"IF(N77=\" \",\" \",P77*(2*0.61+3.4*0.68)/5.4)","v":" "},{"$f":"IF(N77=\" \",\" \",(I77/H77*880*0.0567-4.46)/880*H77)","v":" "},{"$f":"IF(N77=\" \",\" \",R77*0.75)","v":" "},{"$f":"IF(I77=\"\",\"\",T75/H74*H77)","v":""},{"$f":"IF(N77=\" \",\" \",T77*0.71)","v":" "},{"$f":"IF($I77=\"\",\"\",V75/H75*H77)","v":""},{"$f":"IF($I77=\"\",\"\",W75/H75*H77)","v":""},{"$f":"IF($I77=\"\",\"\",X75/H75*H77)","v":""},{"$f":"IF($I77=\"\",\"\",Y75/H75*H77)","v":""},{"$f":"IF($I77=\"\",\"\",Z75/L75*L77)","v":""},{"$f":"IF($I77=\"\",\"\",AA75/M75*M77)","v":""},{"$f":"IF($I77=\"\",\"\",AB75/H75*H77)","v":""},{"$f":"IF($I77=\"\",\" \",($I77/H77*880*0.0183-1.32)/880*H77)","v":" "},{"$f":"IF(AC77=\" \",\" \",AC77*0.82)","v":" "},null,null,null,null,{"$f":"IF($I77=\"\",\" \",(H77-AH77)*AU77-I77*AV77-AE77*AW77-AF77-AG77)","v":" "}," ",{"$f":"IF($I77=0,\" \",AK76*$H77/$H76)","v":" "}," "," ",null,null,null,"",{"$f":"IF(H77=\"\",\"\",V77/1000*20140+Z77/1000*48600+1100/440*I77)","v":""},{"$f":"IF($I77=0,\" \",AX77*K77+AY77*AT77-AF77-AG77)","v":" "}," ",{"$f":"IF($I77=0,\" \",AU76)","v":" "},{"$f":"IF($I77=0,\" \",AV76)","v":" "},{"$f":"IF($I77=0,\" \",AW76)","v":" "},{"$f":"IF($I77=0,\" \",AX76)","v":" "},{"$f":"IF($I77=0,\" \",AY76)","v":" "},{"$f":"IF($H$77=\"\",\"\",AZ75/$H$75*$K$77/$K$75*$H$77)","v":""},{"$f":"IF($H$76=\"\",\"\",BA75/$H$74*$K$76/$K$74*$H$76)","v":0.42784921419936262},{"$f":"IF($H$76=\"\",\"\",BB75/$H$74*$K$76/$K$74*$H$76)","v":1.0462688207495332},"","",""]
[{"$f":"IF(E78=\" \",D78&\" \"&F78,D78&\" \"&E78&\"% RP \"&F78)","v":"Erbsen  22% RP DLG 2014"},{"$f":"IF(D78=\"\",\" \",COUNTA($D$8:D78))","v":69},null,"Erbsen ",22,"DLG 2014","69",880,220,{"$f":"I78*0.79","v":173.8},57,{"$f":"I78*0.0205*AV78+0.0398*AW78*AE78+0.0173*AF78+0.016*$AG78+0.0147*AI78","v":13.397632520000002},12.819143440000005,{"$f":"IF(I78=0,\" \",(I78/H78*880*0.05+4)/880*H78)","v":14.999999999999998},{"$f":"IF(N78=\" \",\" \",N78*0.84)","v":12.599999999999998},{"$f":"IF(N78=\" \",\" \",I78*0.0114+2.14)","v":4.6479999999999997},{"$f":"IF(N78=\" \",\" \",P78*(2.1*0.73+3.2*0.66)/5.3)","v":3.1965962264150942},{"$f":"IF(N78=\" \",\" \",(I78/H78*880*0.02+2.8)/880*H78)","v":7.2},{"$f":"IF(N78=\" \",\" \",R78*0.75)","v":5.4},{"$f":"IF(N78=\" \",\" \",(I78/H78*880*0.01+0.4)/880*H78)","v":2.6},{"$f":"IF(N78=\" \",\" \",T78*0.7)","v":1.8199999999999998},0.9,4.0999999999999996,{"$f":"W78*0.5","v":2.0499999999999998},{"$f":"W78*0.75","v":3.0749999999999997},1.4,0.19,10,{"$f":"IF($I78=\"\",\" \",$I78*0.0048+0.91)","v":1.9659999999999997},{"$f":"AC78*0.73","v":1.4351799999999997},13,418,53,{"$f":"37*H78/1000","v":32.56},103.5716000000001,139.44000000000005,8,null,null,null,null,null,102.59600000000003,636.16600000000005,{"$f":"AX78*K78+AY78*AT78-AF78-AG78","v":93.908000000000015},557.44000000000005,0.89,0.79,0.45,0.62,0.95,{"$f":"1*H78/1000","v":0.88},95,350,7.8459747112000002,7.7747819502887969,7.7464740214080852]
["eigene Erbsen 21% RP Ø 2017",{"$f":"IF(D79=\"\",\" \",COUNTA($D$8:D79))","v":70},null,"eigene Erbsen",21,{"$f":"IF(I79=211.3,\"Ø 2017\",\"\")","v":"Ø 2017"},"100",880,211.3,{"$f":"IF(I79=0,\" \",I79*0.79)","v":166.92700000000002},56.9,{"$f":"IF($I79=\"\",\" \",I79*0.0205*AV79+0.0398*AW79*AE79+0.0173*AF79+0.016*$AG79+0.0147*AI79)","v":13.4373843},12.832522300000003,{"$f":"IF(I79=0,\" \",(I79/H79*880*0.05+4)/880*H79)","v":14.565000000000001},{"$f":"IF(N79=\" \",\" \",N79*0.84)","v":12.2346},{"$f":"IF(N79=\" \",\" \",(I79/H79*880*0.0114+2.14)/880*H79)","v":4.548820000000001},{"$f":"IF(N79=\" \",\" \",P79*(2.1*0.73+3.2*0.66)/5.3)","v":3.1283865849056611},{"$f":"IF(N79=\" \",\" \",(I79/H79*880*0.02+2.8)/880*H79)","v":7.0260000000000007},{"$f":"IF(N79=\" \",\" \",R79*0.75)","v":5.2695000000000007},{"$f":"IF(N79=\" \",\" \",(I79/H79*880*0.01+0.4)/880*H79)","v":2.5129999999999999},{"$f":"IF(N79=\" \",\" \",T79*0.7)","v":1.7590999999999999},{"$f":"IF($I79=0,\" \",V78*$H79/$H78)","v":0.9},4.0999999999999996,2.0499999999999998,3.0749999999999993,1.4,0.18999999999999997,10,{"$f":"IF($I79=\"\",\" \",($I79/H79*880*0.0048+0.91)/880*H79)","v":1.92424},{"$f":"IF(AC79=\" \",\" \",AC79*0.73)","v":1.4046951999999999},15,443.7,50.9,33.1,85.46399999999997,120,{"$f":"IF($I79=0,\" \",AK78*$H79/$H78)","v":8},0,0,null,null,null,103.88534000000003,614.41600000000005,{"$f":"IF($I79=0,\" \",AX79*K79+AY79*AT79-AF79-AG79)","v":76.193000000000012},563.70000000000005,{"$f":"IF($I79=0,\" \",AU78)","v":0.89},{"$f":"IF($I79=0,\" \",AV78)","v":0.79},{"$f":"IF($I79=0,\" \",AW78)","v":0.45},{"$f":"IF($I79=0,\" \",AX78)","v":0.62},{"$f":"IF($I79=0,\" \",AY78)","v":0.95},{"$f":"IF($I79=0,\" \",AZ78*$H79/$H78)","v":0.88},{"$f":"IF($I79=0,\" \",$BA$78*$H79/$H$78*K79/$K$78)","v":94.833333333333329},{"$f":"IF($I79=0,\" \",$BB$78*$H79/$H$78*K79/$K$78)","v":349.38596491228071},8.5989412789999999,7.4134306228926325,7.8114318886017609]
["Erbsen Ø Deutschlandmonitoring 2016 19% RP BRD 2016",{"$f":"IF(D80=\"\",\" \",COUNTA($D$8:D80))","v":71},null,"Erbsen Ø Deutschlandmonitoring 2016",19,{"$f":"IF(I80=193,\"BRD 2016\",\"\")","v":"BRD 2016"},"31",880,193,{"$f":"I80*0.85","v":164.04999999999998},58.9,{"$f":"I80*0.0205*AV80+0.0398*AW80*AE80+0.0173*AF80+0.016*$AG80+0.0147*AI80","v":13.439442000000001},12.712638200000001,15.7,{"$f":"IF(N80=\" \",\" \",N80*0.84)","v":13.187999999999999},4.2,{"$f":"IF(N80=\" \",\" \",P80*(2.1*0.73+3.2*0.66)/5.3)","v":2.8884905660377362},6.8,{"$f":"IF(N80=\" \",\" \",R80*0.75)","v":5.0999999999999996},{"$f":"IF(N80=\" \",\" \",(I80/H80*880*0.01+0.4)/880*H80)","v":2.33},{"$f":"IF(N80=\" \",\" \",T80*0.7)","v":1.631},1,4.4000000000000004,{"$f":"W80*0.5","v":2.2000000000000002},{"$f":"W80*0.75","v":3.3000000000000003},1.32,0.04,10.3,1.9,{"$f":"AC80*0.73","v":1.387},17,468,50,33,{"$f":"(H80-AH80)*AU80-I80*AV80-AE80*AW80-AF80-AG80","v":75.710000000000036},110.10000000000002,{"$f":"IF($I80=0,\" \",AK79*$H80/$H78)","v":8},null,null,null,null,null,90.279999999999987,566.79200000000003,{"$f":"AX80*K80+AY80*AT80-AF80-AG80","v":67.713000000000079},578.1,0.89,0.79,0.45,0.62,0.95,{"$f":"1*H80/1000","v":0.88},{"$f":"IF($I80=0,\" \",74*H80/880)","v":74},{"$f":"IF($I80=0,\" \",93*H80/880)","v":93},9.4163258860000028,10.206757346147997,10.624783106899342]
["Fischmehl 57% RP DLG 2014",{"$f":"IF(D81=\"\",\" \",COUNTA($D$8:D81))","v":72},null,"Fischmehl",{"$f":"IF(I81=0,\" \",ROUND(I81/10,0))","v":57},"DLG 2014",null,910,573,{"$f":"I81*0.83","v":475.59},14,{"$f":"I81*0.0205*AV81+0.0398*AW81*AE81+0.0173*AF81+0.016*$AG81+0.0147*AI81","v":12.817102000000002},14.813228000000002,{"$f":"IF(I81=0,\" \",(I81/H81*910*0.11-23.5)/910*H81)","v":39.53},{"$f":"IF(N81=\" \",\" \",N81*0.87)","v":34.391100000000002},{"$f":"IF(N81=\" \",\" \",(I81/H81*910*0.05-9.4)/910*H81)","v":19.25},{"$f":"IF(N81=\" \",\" \",P81*(0.88*18+7*0.59)/25)","v":15.376899999999999},{"$f":"IF(N81=\" \",\" \",(I81/H81*910*0.05-6.4)/910*H81)","v":22.25},{"$f":"IF(N81=\" \",\" \",R81*0.88)","v":19.580000000000002},{"$f":"IF(N81=\" \",\" \",(I81/H81*910*0.02-3.7)/910*H81)","v":7.7600000000000007},{"$f":"T81*0.79","v":6.1304000000000007},63.7,30,{"$f":"W81*0.85","v":25.5},{"$f":"X81","v":25.5},2.2999999999999998,10,{"$f":"7*H81/900","v":7.0777777777777775},{"$f":"IF($I81=\"\",\" \",($I81/H81*910*0.04-7.7)/910*H81)","v":15.220000000000002},{"$f":"AC81*0.88","v":13.393600000000003},55,{"$f":"H81/1000*0","v":0},0,200,{"$f":"(H81-AH81)*AU81-I81*AV81-AE81*AW81-AF81-AG81","v":80.610000000000028},68,22.8,{"$f":"AK81/7*6","v":19.542857142857144},{"$f":"AK81-AL81","v":3.2571428571428562},null,null,null,1222.9162222222224,2827.1980000000003,{"$f":"AX81*K81+AY81*AT81-AF81-AG81","v":2.72},68,0.85,0.83,0.86,0,0.04,{"$f":"29.7*H81/1000","v":27.027000000000001},{"$f":"K81*153%","v":21.42},{"$f":"BA81*2.23","v":47.766600000000004},-2.7793435599999992,9.3883239361536486,7.308612228415126]
["Fischmehl proteinreich 69% RP DLG 2014",{"$f":"IF(D82=\"\",\" \",COUNTA($D$8:D82))","v":73},null,"Fischmehl proteinreich",69,"DLG 2014",null,910,692,{"$f":"I82*0.9","v":622.80000000000007},6,{"$f":"I82*0.0205*AV82+0.0398*AW82*AE82+0.0173*AF82+0.016*$AG82+0.0147*AI82","v":14.527984999999999},16.376953000000004,{"$f":"IF(I82=0,\" \",(I82/H82*910*0.11-23.5)/910*H82)","v":52.620000000000005},{"$f":"IF(N82=\" \",\" \",N82*0.89)","v":46.831800000000001},{"$f":"IF(N82=\" \",\" \",(I82/H82*910*0.05-9.4)/910*H82)","v":25.200000000000003},{"$f":"IF(N82=\" \",\" \",P82*(17.3*0.89+6.4*0.74)/23.7)","v":21.407240506329117},{"$f":"IF(N82=\" \",\" \",(I82/H82*910*0.05-6.4)/910*H82)","v":28.200000000000003},{"$f":"IF(N82=\" \",\" \",R82*0.88)","v":24.816000000000003},{"$f":"IF(N82=\" \",\" \",(I82/H82*910*0.02-3.7)/910*H82)","v":10.14},{"$f":"IF(N82=\" \",\" \",T82*0.86)","v":8.7203999999999997},45.5,27.3,{"$f":"W82*0.85","v":23.204999999999998},{"$f":"X82","v":23.204999999999998},2.7,9.1,{"$f":"7*H82/900","v":7.0777777777777775},{"$f":"IF($I82=\"\",\" \",($I82/H82*910*0.04-7.7)/910*H82)","v":19.98},{"$f":"AC82*0.89","v":17.7822},59,0,0,173,{"$f":"(H82-AH82)*AU82-I82*AV82-AE82*AW82-AF82-AG82","v":-17.610000000000007},-20,{"$f":"AK81*$AE$82/$AE$81","v":24.458181818181821},{"$f":"AK82/7*6","v":20.964155844155847},{"$f":"AK82-AL82","v":3.4940259740259734},null,null,null,388.46622222222209,2777.59,{"$f":"AX82*K82+AY82*AT82-AF82-AG82","v":0},{"$f":"IF(H82=\"\",\" \",0)","v":0},0.89,0.9,0.86,0,0.04,{"$f":"29.7*H82/1000","v":27.027000000000001},{"$f":"K82*153%","v":9.18},{"$f":"BA82*2.23","v":20.471399999999999},-4.4218243099999999,8.1185378263549914,8.5954227261487492]
[{"$f":"IF(E83=\" \",D83&\" \"&F83,D83&\" \"&E83&\"% RP \"&F83)","v":"Fischmehl vom Hering 66% RP DLG 2014"},{"$f":"IF(D83=\"\",\" \",COUNTA($D$8:D83))","v":74},null,"Fischmehl vom Hering",{"$f":"IF(I83=0,\" \",ROUND(I83/10,0))","v":66},"DLG 2014",null,910,655,{"$f":"I83*0.9","v":589.5},0,{"$f":"I83*0.0205*AV83+0.0398*AW83*AE83+0.0173*AF83+0.016*$AG83+0.0147*AI83","v":15.382954},{"$f":"IF(I83=\"\",\" \",$I83*0.021503+0.032497*$AE83+0.016309*$AF83+0.014701*$AJ83-0.021071*$K83)","v":17.438619000000003},48.55,{"$f":"IF(N83=\" \",\" \",N83*0.89)","v":43.209499999999998},23.35,{"$f":"IF(N83=\" \",\" \",P83*(0.88*20+6*0.74)/26)","v":19.793615384615386},26.35,{"$f":"IF(N83=\" \",\" \",R83*0.86)","v":22.661000000000001},9.3999999999999986,{"$f":"T83*0.79","v":7.4259999999999993},45.5,27.3,{"$f":"W83*0.85","v":23.204999999999998},{"$f":"X83","v":23.204999999999998},2.7,9.1,{"$f":"7*H83/900","v":7.0777777777777775},{"$f":"IF($I83=\"\",\" \",($I83/H83*910*0.04-7.7)/910*H83)","v":18.5},{"$f":"AC83*0.88","v":16.28},91,{"$f":"H83/1000*0","v":0},0,137,{"$f":"(H83-AH83)*AU83-I83*AV83-AE83*AW83-AF83-AG83","v":12.480000000000004},27,{"$f":"AK82*$AE$82/$AE$81","v":26.236958677685955},{"$f":"AK83/7*6","v":22.488821723730819},{"$f":"AK83-AL83","v":3.7481369539551359},null,null,null,{"$f":"IF(H83=\"\",\"\",50*V83+83*Z83+26*AB83+44*AA83-59*W83-13*P83-28*AZ83)","v":412.51622222222227},{"$f":"IF(H83=\"\",\"\",V83/1000*20140+Z83/1000*48600+1100/440*I83)","v":2685.09},{"$f":"AX83*K83+AY83*AT83-AF83-AG83","v":1.08},27,0.88,0.9,0.86,0,0.04,{"$f":"29.7*H83/1000","v":27.027000000000001},{"$f":"K83*153%","v":0},{"$f":"BA83*2.23","v":0},-0.60480812999999856,9.7255569503159975,10.314489690405647]
["eigenes Fischmehl ",{"$f":"IF(D84=\"\",\" \",COUNTA($D$8:D84))","v":75},null,"eigenes Fischmehl"," ",null,null,null,null,{"$f":"IF(I84=0,\" \",I84*0.83)","v":" "},null,{"$f":"IF($I84=\"\",\" \",I84*0.0205*AV84+0.0398*AW84*AE84+0.0173*AF84+0.016*$AG84+0.0147*AI84)","v":" "}," "," ",{"$f":"IF(N84=\" \",\" \",N84*0.87)","v":" "}," ",{"$f":"IF(N84=\" \",\" \",P84*0.85)","v":" "}," ",{"$f":"IF(N84=\" \",\" \",R84*0.88)","v":" "}," ",{"$f":"IF(N84=\" \",\" \",T84*0.85)","v":" "},{"$f":"IF($I84=0,\" \",V82*$H84/$H82)","v":" "}," "," "," "," "," "," ",{"$f":"IF($I84=\"\",\" \",($I84/H84*910*0.04-7.7)/910*H84)","v":" "},{"$f":"IF(AC84=\" \",\" \",AC84*0.88)","v":" "},null,null,null,null,{"$f":"IF($I84=\"\",\" \",(H84-AH84)*AU84-I84*AV84-AE84*AW84-AF84-AG84)","v":" "}," ",{"$f":"IF($I84=0,\" \",AK82*$H84/$H82)","v":" "}," "," ",null,null,null,"","",{"$f":"IF($I84=0,\" \",AX84*K84+AY84*AT84-AF84-AG84)","v":" "}," ",{"$f":"IF($I84=0,\" \",AU82)","v":" "},{"$f":"IF($I84=0,\" \",AV82)","v":" "},{"$f":"IF($I84=0,\" \",AW82)","v":" "},{"$f":"IF($I84=0,\" \",AX82)","v":" "},{"$f":"IF($I84=0,\" \",AY82)","v":" "},{"$f":"IF($I84=0,\" \",AZ82*$H84/$H82)","v":" "},{"$f":"IF($I84=0,\" \",BA82*$H84/$H82*K84/K82)","v":" "},{"$f":"IF($I84=0,\" \",BB82*$H84/$H82*K84/K82)","v":" "},"","",""]
["Kartoffeleiweiß 76% RP DLG 2014",{"$f":"IF(D85=\"\",\" \",COUNTA($D$8:D85))","v":76},null,"Kartoffeleiweiß",{"$f":"IF(I85=0,\" \",ROUND(I85/10,0))","v":76},"DLG 2014",null,900,756,{"$f":"I85*0.94","v":710.64},7,{"$f":"IF($I85=\"\",\" \",I85*0.0205*AV85+0.0398*AW85*AE85+0.0173*AF85+0.016*$AG85+0.0147*AI85)","v":16.076889000000001},{"$f":"IF(I85=\"\",\" \",$I85*0.021503+0.032497*$AE85+0.016309*$AF85+0.014701*$AJ85-0.021071*$K85)","v":17.919316000000002},{"$f":"IF(I85=0,\" \",(I85/H85*880*0.0899-10.12)/880*H85)","v":57.614399999999989},{"$f":"IF(N85=\" \",\" \",N85*0.89)","v":51.27681599999999},{"$f":"IF(N85=\" \",\" \",(I85/H85*880*0.037-0.55)/880*H85)","v":27.409499999999998},{"$f":"IF(N85=\" \",\" \",P85*(18.5*90+13*67)/31.5/100)","v":22.066822857142856},{"$f":"IF(N85=\" \",\" \",(I85/H85*880*0.0565+0.28)/880*H85)","v":43.00036363636363},{"$f":"IF(N85=\" \",\" \",R85*0.84)","v":36.120305454545445},{"$f":"IF(N85=\" \",\" \",(I85/H85*880*0.0182-3.12)/880*H85)","v":10.568290909090909},{"$f":"IF(N85=\" \",\" \",T85*0.8)","v":8.4546327272727275},0.6,4.5,{"$f":"70%*W85","v":3.15},{"$f":"W85*0.75","v":3.375},0.6,0.2,8.6,{"$f":"IF($I85=\"\",\" \",$P85*0.6074074)","v":16.648733130299998},{"$f":"AC85*0.9","v":14.983859817269998},15,{"$f":"0","v":0},{"$f":"6*H85/1000","v":5.4},32,{"$f":"(H85-AH85)*AU85-I85*AV85-AE85*AW85-AF85-AG85","v":99.570000000000022},{"$f":"IF($I85=\"\",\" \",$H85-($AE85+$AF85+$AH85+$I85+$K85))","v":90},4.9000000000000004,null,null,null,null,null,{"$f":"IF(H85=\"\",\"\",50*V85+83*Z85+26*AB85+44*AA85-59*W85-13*P85-28*AZ85)","v":-337.0915},{"$f":"IF(H85=\"\",\"\",V85/1000*20140+Z85/1000*48600+1100/440*I85)","v":1931.2439999999999},{"$f":"AX85*K85+AY85*AT85-AF85-AG85","v":79.709999999999994},90,0.93,0.92,0.45,0.33,0.92,{"$f":"1.09*H85/1000","v":0.98100000000000009},{"$f":"K85","v":7},{"$f":"BA85*2","v":14},-7.5488993199999994,11.929184424899999,11.670332246425197]
["eigenes Kartoffeleiweiß ",{"$f":"IF(D86=\"\",\" \",COUNTA($D$8:D86))","v":77},null,"eigenes Kartoffeleiweiß"," ",null,null,null,null,{"$f":"IF(I86=0,\" \",I86*0.94)","v":" "},null,{"$f":"IF($I86=\"\",\" \",I86*0.0205*AV86+0.0398*AW86*AE86+0.0173*AF86+0.016*$AG86+0.0147*AI86)","v":" "}," ",{"$f":"IF(I86=0,\" \",(I86/H86*880*0.0899-10.12)/880*H86)","v":" "},{"$f":"IF(N86=\" \",\" \",N86*0.89)","v":" "},{"$f":"IF(N86=\" \",\" \",(I86/H86*880*0.037-0.55)/880*H86)","v":" "},{"$f":"IF(N86=\" \",\" \",P86*(18.5*90+13*67)/31.5/100)","v":" "},{"$f":"IF(N86=\" \",\" \",(I86/H86*880*0.0565+0.28)/880*H86)","v":" "},{"$f":"IF(N86=\" \",\" \",R86*0.84)","v":" "},{"$f":"IF(N86=\" \",\" \",(I86/H86*880*0.0182-3.12)/880*H86)","v":" "},{"$f":"IF(N86=\" \",\" \",T86*0.8)","v":" "},{"$f":"IF($I86=0,\" \",V85*$H86/$H85)","v":" "}," "," "," "," "," "," ",{"$f":"IF($I86=\"\",\" \",($P86*0.6074074))","v":" "},{"$f":"IF(AC86=\" \",\" \",AC86*0.9)","v":" "},null,null,null,null,{"$f":"IF($I86=\"\",\" \",(H86-AH86)*AU86-I86*AV86-AE86*AW86-AF86-AG86)","v":" "}," ",{"$f":"IF($I86=0,\" \",AK85*$H86/$H85)","v":" "},null,null,null,null,null,"","",{"$f":"IF($I86=0,\" \",AX86*K86+AY86*AT86-AF86-AG86)","v":" "}," ",{"$f":"IF($I86=0,\" \",AU85)","v":" "},{"$f":"IF($I86=0,\" \",AV85)","v":" "},{"$f":"IF($I86=0,\" \",AW85)","v":" "},{"$f":"IF($I86=0,\" \",AX85)","v":" "},{"$f":"IF($I86=0,\" \",AY85)","v":" "},{"$f":"IF($I86=0,\" \",AZ85*$H86/$H85)","v":" "},{"$f":"IF($I86=0,\" \",BA85*$H86/$H85*K86/K85)","v":" "},{"$f":"IF($I86=0,\" \",BB85*$H86/$H85*K86/K85)","v":" "},"","",""]
["Lein, Samen 21% RP DLG 2014",{"$f":"IF(D87=\"\",\" \",COUNTA($D$8:D87))","v":78},null,"Lein, Samen",{"$f":"IF(I87=0,\" \",ROUND(I87/10,0))","v":21},"DLG 2014",null,910,207,{"$f":"I87*0.77","v":159.39000000000001},64,{"$f":"I87*0.0205*AV87+0.0398*AW87*AE87+0.0173*AF87+0.016*$AG87+0.0147*AI87","v":12.477544000000002},17.817522,{"$f":"IF(I87=0,\" \",(I87/H87*880*0.02+3.3)/880*H87)","v":7.5524999999999993},{"$f":"IF(N87=\" \",\" \",N87*0.83)","v":6.2685749999999993},{"$f":"IF(N87=\" \",\" \",(I87/H87*880*0.02+2.4)/880*H87)","v":6.621818181818182},{"$f":"IF(N87=\" \",\" \",P87*(4.6*0.85+7.1*0.87)/11.7)","v":5.708912820512821},{"$f":"IF(P87=\" \",\" \",(K87/J87*880*0.02+3.3)/880*J87)","v":1.8777125000000003},{"$f":"IF(N87=\" \",\" \",R87*0.82)","v":1.5397242500000001},{"$f":"IF(N87=\" \",\" \",(I87/H87*880*0.01+0.4)/880*H87)","v":2.4836363636363634},{"$f":"IF(N87=\" \",\" \",T87*0.86)","v":2.1359272727272725},2.7,5.5,{"$f":"W87*0.4","v":2.2000000000000002},{"$f":"W87*0.75","v":4.125},4.0999999999999996,0.7,8.5,{"$f":"IF($I87=\"\",\" \",($I87/H87*880*0.01+2)/880*H87)","v":4.1381818181818177},{"$f":"AC87*0.85","v":3.5174545454545449},337,0,32,46,{"$f":"(H87-AH87)*AU87-I87*AV87-AE87*AW87-AF87-AG87","v":171.98999999999998},256,{"$f":"AL87+AM87","v":239.26999999999998},{"$f":"66*AE87/100","v":222.42},{"$f":"5*AE87/100","v":16.850000000000001},null,null,null,308.8723636363635,771.13799999999992,{"$f":"AX87*K87+AY87*AT87-AF87-AG87","v":193.28000000000003},256,0.6,0.77,0.46,0.28000000000000003,0.81,{"$f":"0.3*H87/1000","v":0.27300000000000002},158,237,23.121791060000003,14.049954666936001,14.043596210599008]
["Leinextaktionschrot 34% RP DLG 2014",{"$f":"IF(D88=\"\",\" \",COUNTA($D$8:D88))","v":79},null,"Leinextaktionschrot",{"$f":"IF(I88=0,\" \",ROUND(I88/10,0))","v":34},"DLG 2014",null,890,338,{"$f":"I88*0.66","v":223.08},93,10.85977428,11.677625260000001,{"$f":"IF(I88=0,\" \",(I88/H88*880*0.0275+3.15)/880*H88)","v":12.480795454545454},{"$f":"IF(N88=\" \",\" \",N88*0.64)","v":7.9877090909090906},{"$f":"IF(N88=\" \",\" \",(I88/H88*880*0.034+0.09)/880*H88)","v":11.583022727272729},{"$f":"IF(N88=\" \",\" \",P88*(5.3*0.61+5.3*0.73)/10.6)","v":7.7606252272727279},{"$f":"IF(P88=\" \",\" \",(K88/J88*880*0.0362+0.08)/880*J88)","v":3.3868800000000006},{"$f":"IF(N88=\" \",\" \",R88*0.85)","v":2.8788480000000005},{"$f":"IF(N88=\" \",\" \",(I88/H88*880*0.022-1.52)/880*H88)","v":5.8987272727272719},{"$f":"IF(N88=\" \",\" \",T88*0.66)","v":3.8931599999999995},4.0999999999999996,8.5,{"$f":"W88*0.3","v":2.5499999999999998},6.375,5.0999999999999996,0.9,8.5,{"$f":"IF($I88=\"\",\" \",($I88/H88*880*0.0184-0.16)/880*H88)","v":6.0573818181818169},{"$f":"AC88*0.61","v":3.695002909090908},24,36,48,{"$f":"66*H88/1000","v":58.74},293.41239999999993,340.26,{"$f":"AL88+AM88","v":17.04},{"$f":"66*AE88/100","v":15.84},{"$f":"5*AE88/100","v":1.2},null,null,null,219.37670454545452,1175.434,246.81060000000002,376.26,0.74,0.66,0.61,0.28000000000000003,0.81,{"$f":"0.7*H88/1000","v":0.623},103,215,-2.8923335602000004,7.9060067837171975,8.2686584633736828]
["Leinkuchen / Expeller 4-8% Fett 33% RP DLG 2014",{"$f":"IF(D89=\"\",\" \",COUNTA($D$8:D89))","v":80},null,"Leinkuchen / Expeller 4-8% Fett",{"$f":"IF(I89=0,\" \",ROUND(I89/10,0))","v":33},"DLG 2014",null,900,333,{"$f":"I89*0.75","v":249.75},95,11.627713,12.511579000000001,{"$f":"IF(I89=0,\" \",(I89/H89*880*0.0275+3.15)/880*H89)","v":12.379090909090909},{"$f":"IF(N89=\" \",\" \",N89*0.82)","v":10.150854545454544},{"$f":"IF(N89=\" \",\" \",(I89/H89*880*0.034+0.09)/880*H89)","v":11.414045454545455},{"$f":"IF(N89=\" \",\" \",P89*(6*0.85+5.9*0.85)/11.9)","v":9.7019386363636375},{"$f":"IF(P89=\" \",\" \",(K89/J89*880*0.0362+0.08)/880*J89)","v":3.4617045454545461},{"$f":"IF(N89=\" \",\" \",R89*0.8)","v":2.7693636363636371},{"$f":"IF(N89=\" \",\" \",(I89/H89*880*0.022-1.52)/880*H89)","v":5.7714545454545458},{"$f":"IF(N89=\" \",\" \",T89*0.84)","v":4.8480218181818184},4.0999999999999996,8.1,{"$f":"W89*0.35","v":2.8349999999999995},6.0749999999999993,5,0.9,10.3,{"$f":"IF($I89=\"\",\" \",($I89/H89*880*0.0184-0.16)/880*H89)","v":5.9635636363636362},{"$f":"AC89*0.85","v":5.0690290909090905},72,0,40,59,280.25999999999993,341,{"$f":"AL89+AM89","v":38.160000000000004},{"$f":"48*AE89/100","v":34.56},{"$f":"5*AE89/100","v":3.6},null,null,null,285.99740909090906,1158.0740000000001,262.81000000000006,341,0.73,0.75,0.61,0.28000000000000003,0.81,{"$f":"0.6*H89/1000","v":0.54},{"$f":"BA88*H89/H88*K88/K89","v":101.96451803666471},{"$f":"BB88/H88*H89*K89/K88","v":222.09133744110184},-0.12554732999999851,8.5683940983589686,9.1082168548330902]
["Lupinen blau 30% RP DLG 2014",{"$f":"IF(D90=\"\",\" \",COUNTA($D$8:D90))","v":81},null,"Lupinen blau",30,"DLG 2014",null,880,295,{"$f":"I90*0.85","v":250.75},143,13.468937999999998,10.297074000000002,{"$f":"IF(I90=0,\" \",(I90/H90*880*0.0375+2.56)/880*H90)","v":13.6225},{"$f":"N90*0.84","v":11.4429},{"$f":"IF(N90=\" \",\" \",(I90/H90*880*0.0331-3.93)/880*H90)","v":5.8345000000000002},{"$f":"P90*(1.8*0.81+4.4*0.91)/6.2","v":5.1400062903225816},{"$f":"IF(N90=\" \",\" \",(I90/H90*880*0.028+1.65)/880*H90)","v":9.91},{"$f":"R90*0.83","v":8.2252999999999989},{"$f":"IF(N90=\" \",\" \",(I90/H90*880*0.0069+0.53)/880*H90)","v":2.5655000000000001},{"$f":"T90*0.85","v":2.1806749999999999},1.8,2.8,{"$f":"W90*0.5","v":1.4},2.0999999999999996,1.7,0.35,8.4,{"$f":"IF($I90=\"\",\" \",($I90/H90*880*0.0045+0.6)/880*H90)","v":1.9274999999999998},{"$f":"AC90*0.81","v":1.561275},48,53,49,32,359.89,309,{"$f":"78*AE90/$AE$92","v":48.623376623376622},null,null,null,null,null,194.28349999999998,856.37199999999996,349.06000000000006,362,0.88,0.85,0.7,0.8,0.93,{"$f":"1.2*H90/1000","v":1.056},188,214,-3.1711359799999981,8.1197916203880016,9.3104446306892612]
["Lupinen gelb 38% RP DLG 2014",{"$f":"IF(D91=\"\",\" \",COUNTA($D$8:D91))","v":82},null,"Lupinen gelb",38,"DLG 2014",null,880,378,{"$f":"I91*0.88","v":332.64},148,13.606580000000003,10.538852,{"$f":"IF(I91=0,\" \",I91*0.0428+1.85)","v":18.028400000000001},{"$f":"N91*0.84","v":15.143856000000001},{"$f":"IF(N91=\" \",\" \",(I91/H91*880*0.0331-3.93)/880*H91)","v":8.5817999999999994},{"$f":"P91*(3.1*0.81+8.8*0.91)/11.9","v":7.5858785042016814},{"$f":"IF(N91=\" \",\" \",(I91/H91*880*0.0225+3.93)/880*H91)","v":12.434999999999999},{"$f":"R91*0.83","v":10.321049999999998},{"$f":"IF(N91=\" \",\" \",(I91/H91*880*0.0069+0.53)/880*H91)","v":3.1382000000000003},{"$f":"T91*0.85","v":2.6674700000000002},1.8,4.9000000000000004,{"$f":"W91*0.5","v":2.4500000000000002},3.6750000000000003,2.2000000000000002,0.35,10.5,{"$f":"IF($I91=\"\",\" \",($I91/H91*880*0.0045+0.6)/880*H91)","v":2.3009999999999997},{"$f":"AC91*0.81","v":1.86381},51,40,48,44,274.04000000000008,219,{"$f":"78*AE91/$AE$92","v":51.662337662337663},null,null,null,null,null,143.08859999999999,1088.172,271.27,259,0.87,0.88,0.64,0.8,0.93,{"$f":"0.7*H91/1000","v":0.61599999999999999},205,255,-5.5536380400000001,8.009464834908,8.709465476887825]
["Lupinen weiß 33% RP DLG 2014",{"$f":"IF(D92=\"\",\" \",COUNTA($D$8:D92))","v":83},null,"Lupinen weiß",33,"DLG 2014",null,880,326,{"$f":"I92*0.89","v":290.14},114,13.964832880000003,12.022331920000003,{"$f":"IF(I92=0,\" \",I92*0.04+1.2)","v":14.24},{"$f":"N92*0.84","v":11.961599999999999},{"$f":"IF(N92=\" \",\" \",(I92/H92*880*0.03-3.5)/880*H92)","v":6.2799999999999994},{"$f":"P92*(2.3*0.81+4.4*0.91)/6.7","v":5.4992179104477614},{"$f":"IF(N92=\" \",\" \",(I92/H92*880*0.03+2.7)/880*H92)","v":12.48},{"$f":"R92*0.83","v":10.3584},{"$f":"IF(N92=\" \",\" \",(I92/H92*880*0.01+1)/880*H92)","v":4.26},{"$f":"T92*0.85","v":3.6209999999999996},1.8,4,{"$f":"W92*0.5","v":2},3,1.7,0.35,9.4,{"$f":"IF($I92=\"\",\" \",($I92/H92*880*0.01+0.3)/880*H92)","v":3.56},{"$f":"AC92*0.81","v":2.8836000000000004},77,66,62,{"$f":"41*H92/1000","v":36.08},266.79039999999998,260.92000000000007,78,null,null,null,null,null,156.012,933.87199999999996,267.23560000000003,326.92,0.87,0.89,0.64,0.8,0.93,{"$f":"0.7*H92/1000","v":0.61599999999999999},136,189,0.1993023016000004,9.286391138882399,10.057539264507907]
["eigene Lupinen (blau) 29% RP BRD 2016",{"$f":"IF(D93=\"\",\" \",COUNTA($D$8:D93))","v":84},null,"eigene Lupinen (blau)",29,{"$f":"IF(I93=293,\"BRD 2016\",\"\")","v":"BRD 2016"},null,880,293,{"$f":"IF(I93=0,\" \",I93*0.85)","v":249.04999999999998},138,{"$f":"IF($I93=\"\",\" \",I93*0.0205*AV93+0.0398*AW93*AE93+0.0173*AF93+0.016*$AG93+0.0147*AI93)","v":13.504732000000001},10.450703000000001,{"$f":"IF(I93=0,\" \",(I93/H93*880*0.0375+2.56)/880*H93)","v":13.547499999999999},{"$f":"IF(N93=\" \",\" \",N93*0.84)","v":11.379899999999999},{"$f":"IF(N93=\" \",\" \",(I93/H93*880*0.0331-3.93)/880*H93)","v":5.7683},{"$f":"IF(N93=\" \",\" \",P93*(1.8*0.81+4.4*0.91)/6.2)","v":5.0816862258064521},{"$f":"IF(N93=\" \",\" \",(I93/H93*880*0.028+1.65)/880*H93)","v":9.854000000000001},{"$f":"IF(N93=\" \",\" \",R93*0.81)","v":7.9817400000000012},{"$f":"IF(N93=\" \",\" \",(I93/H93*880*0.0069+0.53)/880*H93)","v":2.5517000000000003},{"$f":"IF(N93=\" \",\" \",T93*0.85)","v":2.1689450000000003},{"$f":"IF($I93=0,\" \",V90*$H93/$H90)","v":1.8},2.8,1.4,2.0999999999999996,1.7,0.35,8.4,{"$f":"IF($I93=\"\",\" \",($I93/H93*880*0.0045+0.6)/880*H93)","v":1.9184999999999999},{"$f":"IF(AC93=\" \",\" \",AC93*0.81)","v":1.5539849999999999},53,91,50,43,{"$f":"IF($I93=\"\",\" \",(H93-AH93)*AU93-I93*AV93-AE93*AW93-AF93-AG93)","v":309.41000000000008},262,{"$f":"IF($I93=0,\" \",AK90*$H93/$H90)","v":48.623376623376622},0,0,null,null,null,195.14409999999998,851.37199999999996,{"$f":"IF($I93=0,\" \",AX93*K93+AY93*AT93-AF93-AG93)","v":297.69000000000005},353,{"$f":"IF($I93=0,\" \",AU90)","v":0.88},{"$f":"IF($I93=0,\" \",AV90)","v":0.85},{"$f":"IF($I93=0,\" \",AW90)","v":0.7},{"$f":"IF($I93=0,\" \",AX90)","v":0.8},{"$f":"IF($I93=0,\" \",AY90)","v":0.93},{"$f":"IF($I93=0,\" \",AZ90*$H93/$H90)","v":1.056},{"$f":"IF($I93=0,\" \",BA90*$H93/$H90*K93/K90)","v":181.42657342657341},{"$f":"IF($I93=0,\" \",BB90*$H93/$H90*K93/K90)","v":206.51748251748251},-1.9529868099999996,8.5424046593183522,9.2522356300993884]
["Malzkeime 27% RP DLG 2005",{"$f":"IF(D94=\"\",\" \",COUNTA($D$8:D94))","v":85},null,"Malzkeime",27,"DLG 2005",null,920,273,{"$f":"I94*0.75","v":204.75},133,{"$f":"I94*0.0205*AV94+0.0398*AW94*AE94+0.0173*AF94+0.016*$AG94+0.0147*AI94","v":8.2323143999999981},9.9229416000000015,{"$f":"IF(I94=0,\" \",(I94/H94*880*0.0561-1.69)/880*H94)","v":13.548481818181818},{"$f":"N94*0.71","v":9.6194220909090902},{"$f":"IF(N94=\" \",\" \",(I94/H94*880*0.0212+1.29)/880*H94)","v":7.136236363636363},{"$f":"P94*0.71","v":5.0667278181818176},{"$f":"IF(N94=\" \",\" \",(I94/H94*880*0.0331+0.19)/880*H94)","v":9.2349363636363631},{"$f":"R94*0.71","v":6.556804818181817},{"$f":"IF(N94=\" \",\" \",(I94/H94*880*0.01-0.09)/880*H94)","v":2.6359090909090912},{"$f":"T94*0.71","v":1.8714954545454547},2.7,7.2,1.8,{"$f":"W94*0.75","v":5.4},1.6,0.56999999999999995,16.899999999999999,{"$f":"IF($I94=\"\",\" \",($I94/H94*880*0.0124+0.46)/880*H94)","v":3.8661090909090907},{"$f":"AC94*0.71","v":2.7449374545454543},10,42,128,{"$f":"70*H94/1000","v":64.400000000000006},{"$f":"(H94-AH94)*AU94-I94*AV94-AE94*AW94-AF94-AG94","v":185.55199999999991},397.6,4.4000000000000004,null,null,null,null,null,160.29246530089637,814.63800000000003,{"$f":"AX94*K94+AY94*AT94-AF94-AG94","v":188.666},439.6,0.56999999999999995,0.48,0.11,0.35,0.71,{"$f":"(0.93*23*AA94)/35.5+Z94","v":1.9434450704225352},{"$f":"63*H94/1000*K94/$K$93","v":55.86},{"$f":"198*H94/1000*K94/$K$93","v":175.56},-4.6732526319999996,8.3094331283208014,8.5849754303790657]
["Magermilchpulver 35% RP DLG 2014",{"$f":"IF(D95=\"\",\" \",COUNTA($D$8:D95))","v":86},null,"Magermilchpulver",35,"DLG 2014",null,960,350,{"$f":"I95*0.95","v":332.5},0,{"$f":"I95*0.0205*AV95+0.0398*AW95*AE95+0.0173*AF95+0.016*$AG95+0.0147*AI95","v":15.010265839999999},15.411264320000001,26.9,{"$f":"N95*0.97","v":26.092999999999996},{"$f":"8.6+2.9","v":11.5},{"$f":"P95*(0.97*8.6+2.9*0.91)/11.5","v":10.980999999999998},15.4,{"$f":"R95*0.93","v":14.322000000000001},4.7,{"$f":"T95*0.91","v":4.2770000000000001},13,10.1,{"$f":"W95*0.85","v":8.5849999999999991},{"$f":"X95","v":8.5849999999999991},1.2,5.2,15.2,{"$f":"IF($I95=\"\",\" \",($I95/H95*880*0.0374-4.57)/880*H95)","v":8.1045454545454536},{"$f":"AC95*0.97","v":7.8614090909090901},5,0,470,{"$f":"83*H95/1000","v":79.680000000000007},{"$f":"(H95-AH95)*AU95-I95*AV95-AE95*AW95-AF95-AG95","v":40.707199999999943},525.31999999999994,0.4,null,null,null,null,null,155.11199999999991,{"$f":"IF(H95=\"\",\"\",V95/1000*20140+Z95/1000*48600+1300/430*I95)","v":1378.2795348837208},{"$f":"AX95*K95+AY95*AT95-AF95-AG95","v":44.813599999999951},525.31999999999994,0.96,0.95,0.38,0,0.98,{"$f":"17.6*H95/1000","v":16.896000000000001},{"$f":"K95","v":0},{"$f":"0*H95/1000","v":0},1.7252229535999994,10.492402312058399,10.432448879580834]
["Rapsschrot-00Typ (RES) 36% RP DLG 2014",{"$f":"IF(D96=\"\",\" \",COUNTA($D$8:D96))","v":87},null,"Rapsschrot-00Typ (RES)",36,"DLG 2014","6",890,355,{"$f":"I96*0.71","v":252.04999999999998},116,{"$f":"I96*0.0205*AV96+0.0398*AW96*AE96+0.0173*AF96+0.016*$AG96+0.0147*AI96","v":9.9248530000000024},10.815170999999999,{"$f":"IF(I96=0,\" \",(I96/H96*880*0.0547+0.52)/880*H96)","v":19.944409090909087},{"$f":"IF(N96=\" \",\" \",N96*0.73)","v":14.559418636363633},{"$f":"IF(N96=\" \",\" \",(I96/H96*880*0.04+1.3)/880*H96)","v":15.514772727272728},{"$f":"IF(N96=\" \",\" \",P96*0.82)","v":12.722113636363636},{"$f":"IF(N96=\" \",\" \",(I96/H96*880*0.0245+6.2)/880*H96)","v":14.967954545454548},{"$f":"IF(N96=\" \",\" \",R96*0.68)","v":10.178209090909093},{"$f":"IF(N96=\" \",\" \",(I96/H96*880*0.01)/880*H96)","v":3.55},{"$f":"IF(N96=\" \",\" \",T96*0.72)","v":2.5559999999999996},7.7,10.7,{"$f":"W96*0.3","v":3.2099999999999995},{"$f":"W96*0.75","v":8.0249999999999986},5.3,0.5,11.7,{"$f":"IF($I96=\"\",\" \",($I96/H96*880*0.0169+0.87)/880*H96)","v":6.879386363636363},{"$f":"AC96*0.82","v":5.6410968181818175},27,0,71,69,{"$f":"(H96-AH96)*AU96-I96*AV96-AE96*AW96-AF96-AG96","v":215.68000000000012},323,{"$f":"AL96+AM96","v":7.83},{"$f":"20*AE96/100","v":5.4},{"$f":"9*AE96/100","v":2.4300000000000002},null,null,null,310.63195454545451,{"$f":"IF(H96=\"\",\"\",V96/1000*20140+Z96/1000*48600+1100/440*I96)","v":1300.1579999999999},{"$f":"AX96*K96+AY96*AT96-AF96-AG96","v":191.06},323,0.67,0.71,0.42,0.31,0.7,{"$f":"0.3*H96/1000","v":0.26700000000000002},193,279,-5.3159251699999999,6.4424541167639999,7.3259986866969138]
["eigenes Rapsschrot ",{"$f":"IF(D97=\"\",\" \",COUNTA($D$8:D97))","v":88},null,"eigenes Rapsschrot"," ",null,null,null,null,{"$f":"IF(I97=0,\" \",I97*0.71)","v":" "},null,{"$f":"IF($I97=\"\",\" \",I97*0.0205*AV97+0.0398*AW97*AE97+0.0173*AF97+0.016*$AG97+0.0147*AI97)","v":" "}," ",{"$f":"IF(I97=0,\" \",(I97/H97*880*0.0547+0.52)/880*H97)","v":" "},{"$f":"IF(N97=\" \",\" \",N97*0.73)","v":" "},{"$f":"IF(N97=\" \",\" \",(I97/H97*880*0.04+1.3)/880*H97)","v":" "},{"$f":"IF(N97=\" \",\" \",P97*0.82)","v":" "},{"$f":"IF(N97=\" \",\" \",(I97/H97*880*0.0245+6.2)/880*H97)","v":" "},{"$f":"IF(N97=\" \",\" \",R97*0.68)","v":" "},{"$f":"IF(N97=\" \",\" \",(I97/H97*880*0.01)/880*H97)","v":" "},{"$f":"IF(N97=\" \",\" \",T97*0.72)","v":" "},{"$f":"IF($I97=0,\" \",V96*$H97/$H96)","v":" "}," "," "," "," "," "," ",{"$f":"IF($I97=\"\",\" \",($I97/H97*880*0.0169+0.87)/880*H97)","v":" "},{"$f":"IF(AC97=\" \",\" \",AC97*0.82)","v":" "},null,null,null,null,{"$f":"IF($I97=\"\",\" \",(H97-AH97)*AU97-I97*AV97-AE97*AW97-AF97-AG97)","v":" "}," ",{"$f":"IF($I97=0,\" \",AK96*$H97/$H96)","v":" "}," "," ",null,null,null,"","",{"$f":"IF($I97=0,\" \",AX97*K97+AY97*AT97-AF97-AG97)","v":" "},{"$f":"IF(H97=\"\",\" \",H97-I97-AE97-AH97-K97)","v":" "},{"$f":"IF($I97=0,\" \",AU96)","v":" "},{"$f":"IF($I97=0,\" \",AV96)","v":" "},{"$f":"IF($I97=0,\" \",AW96)","v":" "},{"$f":"IF($I97=0,\" \",AX96)","v":" "},{"$f":"IF($I97=0,\" \",AY96)","v":" "},{"$f":"IF($I97=0,\" \",AZ96*$H97/$H96)","v":" "},{"$f":"IF($I97=0,\" \",BA96*$H97/$H96*K97/K96)","v":" "},{"$f":"IF($I97=0,\" \",BB96*$H97/$H96*K97/K96)","v":" "},"","",""]
["RES Ø RES-Monitoring 2005-2014 34% RP Ø BRD",{"$f":"IF(D98=\"\",\" \",COUNTA($D$8:D98))","v":89},null,"RES Ø RES-Monitoring 2005-2014",34,"Ø BRD",null,889,339,{"$f":"I98*0.71","v":240.69},116,{"$f":"I98*0.0205*AV98+0.0398*AW98*AE98+0.0173*AF98+0.016*$AG98+0.0147*AI98","v":9.8607814999999999},10.711523100000001,19.600000000000001,{"$f":"IF(N98=\" \",\" \",N98*0.73)","v":14.308},{"$f":"7.9+7","v":14.9},{"$f":"IF(N98=\" \",\" \",P98*0.82)","v":12.218},15.4,{"$f":"IF(N98=\" \",\" \",R98*0.68)","v":10.472000000000001},4.8,{"$f":"IF(N98=\" \",\" \",T98*0.72)","v":3.456},7.6,10.5,{"$f":"W98*0.3","v":3.15},{"$f":"W98*0.75","v":7.875},5.3,0.5,12.6,7,{"$f":"AC98*0.82","v":5.7399999999999993},28.2,0,71,69.099999999999994,{"$f":"IF($I98=\"\",\" \",(H98-AH98)*AU98-I98*AV98-AE98*AW98-AF98-AG98)","v":225.79899999999998},336.70000000000005,{"$f":"AL98+AM98","v":8.177999999999999},{"$f":"20*AE98/100","v":5.64},{"$f":"9*AE98/100","v":2.5379999999999998},null,null,null,350.69999999999993,1258.144,{"$f":"AX98*K98+AY98*AT98-AF98-AG98","v":200.64999999999992},336.69999999999993,0.67,0.71,0.42,0.31,0.7,0.2,206,255,-4.8775881370000018,7.7169290284044001,7.5648616593900444]
["Rapskuchen  > 20 % Fett 22% RP ",{"$f":"IF(D99=\"\",\" \",COUNTA($D$8:D99))","v":90},null,"Rapskuchen  > 20 % Fett",22,null,"1",900,220,{"$f":"I99*0.85","v":187},96,{"$f":"I99*0.0205*AV99+0.0398*AW99*AE99+0.0173*AF99+0.016*$AG99+0.0147*AI99","v":15.185009999999998},14.440027000000001,{"$f":"IF(I99=0,\" \",(I99/H99*880*0.04+5.7)/880*H99)","v":14.629545454545454},{"$f":"N99*0.74","v":10.825863636363636},{"$f":"IF(K99=0,\" \",(K99/J99*880*0.04+0.1)/880*J99)","v":3.861250000000001},{"$f":"P99*(6.3*0.81+7.2*0.7)/13.5","v":2.9010858333333345},{"$f":"IF(M99=0,\" \",(M99/L99*880*0.04+1.7)/880*L99)","v":0.60693575840909086},{"$f":"R99*0.71","v":0.4309243884704545},{"$f":"IF(O99=0,\" \",(O99/N99*880*0.01-0.2)/880*N99)","v":0.10493373966942149},{"$f":"T99*0.71","v":7.450295516528925E-2},4.967741935483871,9.2967741935483872,{"$f":"W99*0.35","v":3.2538709677419355},{"$f":"W99*0.75","v":6.9725806451612904},3.2645161290322577,0.1,8.5161290322580641,{"$f":"IF($I99=\"\",\" \",($I99/H99*880*0.02)/880*H99)","v":4.4000000000000004},{"$f":"AC99*0.81","v":3.5640000000000005},214,0,75,45,{"$f":"(H99-AH99)*AU99-I99*AV99-AE99*AW99-AF99-AG99","v":225.69999999999993},325,62.06,{"$f":"20*AE99/100","v":42.8},{"$f":"9*AE99/100","v":19.260000000000002},null,null,null,138.89536290322565,808.70580645161294,{"$f":"AX99*K99+AY99*AT99-AF99-AG99","v":233.74},325,0.76,0.76,0.85,0.44,0.82,{"$f":"0.3*H99/1000","v":0.27},198,288,12.21521971,10.132842071699999,11.191158747521998]
["Rapskuchen 16 - 20 % Fett 27% RP ",{"$f":"IF(D100=\"\",\" \",COUNTA($D$8:D100))","v":91},null,"Rapskuchen 16 - 20 % Fett",27,null,"33",900,267,{"$f":"I100*0.85","v":226.95},112,{"$f":"I100*0.0205*AV100+0.0398*AW100*AE100+0.0173*AF100+0.016*$AG100+0.0147*AI100","v":14.427065999999998},13.328519,{"$f":"IF(I100=0,\" \",(I100/H100*880*0.04+5.7)/880*H100)","v":16.509545454545457},{"$f":"N100*0.74","v":12.217063636363637},{"$f":"IF(K100=0,\" \",(K100/J100*880*0.04+0.1)/880*J100)","v":4.5057897727272733},{"$f":"P100*(6.3*0.81+7.2*0.7)/13.5","v":3.3853500492424247},{"$f":"IF(M100=0,\" \",(M100/L100*880*0.04+1.7)/880*L100)","v":0.56101122840909101},{"$f":"R100*0.71","v":0.39831797217045462},{"$f":"IF(O100=0,\" \",(O100/N100*880*0.01-0.2)/880*N100)","v":0.11841846694214879},{"$f":"T100*0.71","v":8.4077111528925635E-2},6.0290322580645164,11.282903225806452,{"$f":"W100*0.35","v":3.9490161290322581},{"$f":"W100*0.75","v":8.4621774193548394},3.9619354838709673,0.1,10.335483870967742,{"$f":"IF($I100=\"\",\" \",($I100/H100*880*0.02)/880*H100)","v":5.34},{"$f":"AC100*0.81","v":4.3254000000000001},174,0,75,55,{"$f":"(H100-AH100)*AU100-I100*AV100-AE100*AW100-AF100-AG100","v":216.38},292,50.459999999999994,{"$f":"20*AE100/100","v":34.799999999999997},{"$f":"9*AE100/100","v":15.66},null,null,null,171.58828134164213,981.47477419354846,{"$f":"AX100*K100+AY100*AT100-AF100-AG100","v":213.72000000000003},292,0.76,0.76,0.85,0.44,0.82,{"$f":"0.3*H100/1000","v":0.27},198,288,7.2318188699999997,9.6394777239599989,10.27360466166288]
["Rapskuchen 12 - 16 % Fett 28% RP ",{"$f":"IF(D101=\"\",\" \",COUNTA($D$8:D101))","v":92},null,"Rapskuchen 12 - 16 % Fett",{"$f":"IF(I101=0,\" \",ROUND(I101/10,0))","v":28},null,"42",900,280,{"$f":"I101*0.85","v":238},108,{"$f":"I101*0.0205*AV101+0.0398*AW101*AE101+0.0173*AF101+0.016*$AG101+0.0147*AI101","v":13.693966000000001},12.889975,{"$f":"IF(I101=0,\" \",(I101/H101*880*0.04+5.7)/880*H101)","v":17.029545454545453},{"$f":"N101*0.74","v":12.601863636363635},{"$f":"IF(K101=0,\" \",(K101/J101*880*0.04+0.1)/880*J101)","v":4.3470454545454551},{"$f":"P101*(6.3*0.81+7.2*0.7)/13.5","v":3.2660801515151521},{"$f":"IF(M101=0,\" \",(M101/L101*880*0.04+1.7)/880*L101)","v":0.54205325250000014},{"$f":"R101*0.71","v":0.38485780927500007},{"$f":"IF(O101=0,\" \",(O101/N101*880*0.01-0.2)/880*N101)","v":0.12214828512396694},{"$f":"T101*0.71","v":8.6725282438016527E-2},6.2548387096774194,11.705483870967742,{"$f":"W101*0.35","v":4.0969193548387093},{"$f":"W101*0.75","v":8.7791129032258066},4.1103225806451604,0.1,10.72258064516129,{"$f":"IF($I101=\"\",\" \",($I101/H101*880*0.02)/880*H101)","v":5.6},{"$f":"AC101*0.81","v":4.5359999999999996},138,0,75,57,{"$f":"IF($I101=\"\",\" \",(H101-AH101)*AU101-I101*AV101-AE101*AW101-AF101-AG101)","v":235.58000000000004},317,40.020000000000003,{"$f":"20*AE101/100","v":27.6},{"$f":"9*AE101/100","v":12.42},null,null,null,182.39066715542504,1025.7341290322579,{"$f":"AX101*K101+AY101*AT101-AF101-AG101","v":232.45999999999998},{"$f":"IF(H101=\"\",\" \",H101-I101-AE101-AH101-K101)","v":317},0.76,0.76,0.85,0.44,0.82,{"$f":"0.3*H101/1000","v":0.27},198,288,4.7316817500000008,8.8561657531799991,9.5808888356810407]
["Rapskuchen   8 - 12 % Fett 30% RP ",{"$f":"IF(D102=\"\",\" \",COUNTA($D$8:D102))","v":93},null,"Rapskuchen   8 - 12 % Fett",30,null,"24",900,299,{"$f":"I102*0.85","v":254.15},114,{"$f":"I102*0.0205*AV102+0.0398*AW102*AE102+0.0173*AF102+0.016*$AG102+0.0147*AI102","v":13.092979999999999},12.211897,{"$f":"IF(I102=0,\" \",(I102/H102*880*0.04+5.7)/880*H102)","v":17.789545454545454},{"$f":"N102*0.74","v":13.164263636363636},{"$f":"IF(K102=0,\" \",(K102/J102*880*0.04+0.1)/880*J102)","v":4.588880681818182},{"$f":"P102*(6.3*0.81+7.2*0.7)/13.5","v":3.4477790189393942},{"$f":"IF(M102=0,\" \",(M102/L102*880*0.04+1.7)/880*L102)","v":0.51376913681818193},{"$f":"R102*0.71","v":0.36477608714090914},{"$f":"IF(O102=0,\" \",(O102/N102*880*0.01-0.2)/880*N102)","v":0.12759955785123966},{"$f":"T102*0.71","v":9.0595686074380163E-2},6.7290322580645165,12.592903225806451,{"$f":"W102*0.35","v":4.4075161290322571},{"$f":"W102*0.75","v":9.4446774193548375},4.4219354838709677,0.1,11.535483870967742,{"$f":"IF($I102=\"\",\" \",($I102/H102*880*0.02)/880*H102)","v":5.98},{"$f":"AC102*0.81","v":4.8438000000000008},108,0,75,61,{"$f":"(H102-AH102)*AU102-I102*AV102-AE102*AW102-AF102-AG102","v":243.59999999999997},318,31.32,{"$f":"20*AE102/100","v":21.6},{"$f":"9*AE102/100","v":9.7200000000000006},null,null,null,197.59809952346058,1097.9287741935484,{"$f":"AX102*K102+AY102*AT102-AF102-AG102","v":235.92000000000002},{"$f":"IF(H102=\"\",\" \",H102-I102-AE102-AH102-K102)","v":318},0.76,0.76,0.85,0.44,0.82,{"$f":"0.3*H102/1000","v":0.27},198,288,1.8086848100000017,8.2508970337199994,8.9584072040001601]
[{"$f":"IF(E103=\" \",D103&\" \"&F103,D103&\" \"&E103&\"% RP \"&F103)","v":"Sojabohne (dampferhitzt) 36% RP DLG 2014"},{"$f":"IF(D103=\"\",\" \",COUNTA($D$8:D103))","v":94},null,"Sojabohne (dampferhitzt)",36,"DLG 2014",null,890,356,{"$f":"IF(I103=0,\" \",I103*0.76)","v":270.56},55,{"$f":"IF($I103=\"\",\" \",I103*0.0205*AV103+0.0398*AW103*AE103+0.0173*AF103+0.016*$AG103+0.0147*AI103)","v":15.76002783},16.149187829999999,{"$f":"IF(I103=0,\" \",(I103/H103*880*0.05+4.7)/880*H103)","v":22.553409090909092},{"$f":"IF(N103=\" \",\" \",N103*0.8)","v":18.042727272727273},{"$f":"IF(N103=\" \",\" \",(I103/H103*880*0.0274+0.33)/880*H103)","v":10.088149999999999},{"$f":"IF(N103=\" \",\" \",P103*(4.8*0.78+5.3*0.75)/10.1)","v":7.7099435495049491},{"$f":"IF(N103=\" \",\" \",(I103/H103*880*0.03+3.5)/880*H103)","v":14.219772727272726},{"$f":"IF(N103=\" \",\" \",R103*0.74)","v":10.522631818181818},{"$f":"IF(N103=\" \",\" \",(I103/H103*880*0.01+1.6)/880*H103)","v":5.1781818181818187},{"$f":"IF(N103=\" \",\" \",T103*0.76)","v":3.9354181818181821},{"$f":"2.8*H103/1000","v":2.492},5.8,{"$f":"W103*0.4","v":2.3199999999999998},{"$f":"IF($H103=0,\" \",W103*0.75)","v":4.3499999999999996},2.5,0.2,14.7,{"$f":"IF($I103=\"\",\" \",($I103/H103*880*0.013+0.19)/880*H103)","v":4.8201590909090912},{"$f":"IF(AC103=\" \",\" \",AC103*0.78)","v":3.7597240909090912},181,52,71,{"$f":"53*H103/1000","v":47.17},{"$f":"IF($I103=\"\",\" \",(H103-AH103)*AU103-I103*AV103-AE103*AW103-AF103-AG103)","v":159.37889999999999},198.82999999999993,{"$f":"116.5*935/1000","v":108.92749999999999},{"$f":"54*AE103/100","v":97.74},{"$f":"4*AE103/100","v":7.24},null,null,null,229.81804999999994,1061.6888799999999,{"$f":"IF($I103=0,\" \",AX103*K103+AY103*AT103-AF103-AG103)","v":129.0138},{"$f":"IF(H103=\"\",\" \",H103-I103-AE103-AH103-K103)","v":250.82999999999998},{"$f":"IF($I103=0,\" \",83%)","v":0.83},0.76,{"$f":"IF($I103=0,\" \",81%)","v":0.81},{"$f":"IF($I103=0,\" \",66%)","v":0.66},{"$f":"IF($I103=0,\" \",86%)","v":0.86},{"$f":"0.8*H103/1000","v":0.71199999999999997},123,150,10.300907115900003,11.4979425992946,12.18733111634865]
["Sojakuchen / Expeller, Bioland 42% RP ",{"$f":"IF(D104=\"\",\" \",COUNTA($D$8:D104))","v":95},null,"Sojakuchen / Expeller, Bioland",42,null,null,910,420,{"$f":"IF(I104=0,\" \",I104*0.87)","v":365.4},60,{"$f":"I104*0.0205*AV104+0.0398*AW104*AE104+0.0173*AF104+0.016*$AG104+0.0147*AI104","v":14.39615},14.718490000000003,{"$f":"IF(I104=0,\" \",(I104/H104*880*0.06+1.1)/880*H104)","v":26.337500000000006},{"$f":"IF(N104=\" \",\" \",N104*0.89)","v":23.440375000000007},{"$f":"IF(N104=\" \",\" \",(I104/H104*880*0.03+1.5)/880*H104)","v":14.151136363636365},{"$f":"IF(N104=\" \",\" \",P104*(6.1*0.9+8.9*0.83)/15)","v":12.148278863636364},{"$f":"IF(N104=\" \",\" \",(I104/H104*880*0.04+1.6)/880*H104)","v":18.454545454545457},{"$f":"IF(N104=\" \",\" \",R104*0.85)","v":15.686363636363637},{"$f":"IF(N104=\" \",\" \",(I104/H104*880*0.01+0.8)/880*H104)","v":5.0272727272727273},{"$f":"IF(N104=\" \",\" \",T104*0.88)","v":4.4240000000000004},2.5,5.6,{"$f":"W104*0.4","v":2.2399999999999998},{"$f":"IF($H104=0,\" \",W104*0.75)","v":4.1999999999999993},2.5,0.4,14.7,{"$f":"IF($I104=\"\",\" \",($I104/H104*880*0.01+0.4)/880*H104)","v":4.6136363636363642},{"$f":"AC104*0.88","v":4.0600000000000005},80,55,105,60,{"$f":"(H104-AH104)*AU104-I104*AV104-AE104*AW104-AF104-AG104","v":115.30000000000001},235,46.400000000000006,{"$f":"54*AE104/100","v":43.2},{"$f":"4*AE104/100","v":3.2},null,null,null,189.90722727272737,1221.8499999999999,{"$f":"AX104*K104+AY104*AT104-AF104-AG104","v":158.30000000000001},290,0.83,0.87,0.81,0.81,0.93,{"$f":"1.1*H104/1000","v":1.0010000000000001},{"$f":"91*H104/1000*K104/$K$107","v":141.96},{"$f":"152.4*H104/1000*K104/$K$107","v":237.74399999999997},1.7494977000000018,9.0626994349243208,9.4127755417286174]
[{"$f":"IF(E105=\" \",D105&\" \"&F105,D105&\" \"&E105&\"% RP \"&F105)","v":"Sojakuchen 41% RP DLG 2014"},{"$f":"IF(D105=\"\",\" \",COUNTA($D$8:D105))","v":96},null,"Sojakuchen",{"$f":"IF(I105=0,\" \",ROUND(I105/10,0))","v":41},"DLG 2014",null,890,405,{"$f":"IF(I105=0,\" \",I105*0.87)","v":352.35},53,{"$f":"I105*0.0205*AV105+0.0398*AW105*AE105+0.0173*AF105+0.016*$AG105+0.0147*AI105","v":14.19426},{"$f":"IF(I105=\"\",\" \",$I105*0.021503+0.032497*$AE105+0.016309*$AF105+0.014701*$AJ105-0.021071*$K105)","v":14.738303},{"$f":"IF(I105=0,\" \",(I105/H105*880*0.06+1.1)/880*H105)","v":25.412499999999998},{"$f":"IF(N105=\" \",\" \",N105*0.86)","v":21.854749999999999},{"$f":"IF(N105=\" \",\" \",(I105/H105*880*0.03+1.5)/880*H105)","v":13.667045454545454},{"$f":"IF(N105=\" \",\" \",P105*(6.1*0.9+8.9*0.83)/15)","v":11.732702954545454},{"$f":"IF(N105=\" \",\" \",(I105/H105*880*0.04+1.6)/880*H105)","v":17.81818181818182},{"$f":"IF(N105=\" \",\" \",R105*0.85)","v":15.145454545454546},{"$f":"IF(N105=\" \",\" \",(I105/H105*880*0.01+0.8)/880*H105)","v":4.8590909090909085},{"$f":"IF(N105=\" \",\" \",T105*0.88)","v":4.2759999999999998},2.7,6.1,{"$f":"W105*0.4","v":2.44},{"$f":"IF($H105=0,\" \",W105*0.75)","v":4.5749999999999993},2.6,0.2,14.7,{"$f":"IF($I105=\"\",\" \",($I105/H105*880*0.01+0.4)/880*H105)","v":4.454545454545455},{"$f":"AC105*0.88","v":3.9200000000000004},87,53,62,57,153.56999999999994,235,50.459999999999994,{"$f":"54*AE105/100","v":46.98},{"$f":"4*AE105/100","v":3.48},null,null,null,{"$f":"IF(H105=\"\",\"\",50*V105+83*Z105+26*AB105+44*AA105-59*W105-13*P105-28*AZ105)","v":176.81640909090908},{"$f":"IF(H105=\"\",\"\",V105/1000*20140+Z105/1000*48600+1100/440*I105)","v":1193.2380000000001},{"$f":"AX105*K105+AY105*AT105-AF105-AG105","v":195.77000000000004},288,0.83,0.87,0.81,0.81,0.93,{"$f":"1.1*H105/1000","v":0.97900000000000009},{"$f":"91*H105/1000*K105/$K$107","v":122.64199999999998},{"$f":"152.4*H105/1000*K105/$K$107","v":205.39165714285713},2.8259611899999992,{"$f":"IF(H105=\"\",\"\",((((0.703*(4168-(91*AH105/10/H105*1000)+(19*I105/10/H105*1000)+(39*AE105/10/H105*1000)-(36*BB105/10/H105*1000))+(15.8*AE105/10/H105*1000)+(4.7*AF105/10/H105*1000)-(9.7*I105/10/H105*1000)-(9.8*K105/10/H105*1000))*0.0041868)+((0.7*(4168-(91*AH104/10/H105*1000)+(19*I105/10/H105*1000)+(39*AE105/10/H105*1000)-(36*BB105/10/H105*1000))+(16.1*AE105/10/H105*1000)+(4.8*AF105/10/H105*1000)-(9.1*I105/10/H105*1000)-(8.7*BA105/10/H105*1000))*0.0041868))/2)/1000*H105)","v":9.176850429504519},{"$f":"IF(H105=\"\",\"\",((0.703*((((4168-(91*AH105/10/H105*1000)+(19*I105/10/H105*1000)+(39*AE105/10/H105*1000)-(36*BB105/10/H105*1000))*0.0041868*1.014)+(0.066*K105/10/H105*1000))/0.0041868)+(15.8*AE105/10/H105*1000)+(4.7*AF105/10/H105*1000)-(9.7*I105/10/H105*1000)-(9.8*K105/10/H105*1000))*0.0041868)/1000*H105)","v":9.6890159097086119}]
["Sojaschrot HP 49% RP ",{"$f":"IF(D106=\"\",\" \",COUNTA($D$8:D106))","v":97},null,"Sojaschrot HP",49,null,"12",890,485,{"$f":"I106*0.82","v":397.7},44,13.961272000000001,{"$f":"IF(I106=\"\",\" \",$I106*0.021503+0.032497*$AE106+0.016309*$AF106+0.014701*$AJ106-0.021071*$K106)","v":14.324876},{"$f":"IF(I106=0,\" \",(I106/H106*880*0.0523+4.14)/880*H106)","v":29.552545454545456},{"$f":"IF(N106=\" \",\" \",N106*0.87)","v":25.710714545454547},{"$f":"IF(N106=\" \",\" \",(I106/H106*880*0.0274+0.33)/880*H106)","v":13.622750000000002},{"$f":"IF(N106=\" \",\" \",P106*(6.2*0.88+6.8*0.79)/13)","v":11.346702846153846},{"$f":"IF(N106=\" \",\" \",(I106/H106*880*0.04+1.4)/880*H106)","v":20.815909090909088},{"$f":"IF(N106=\" \",\" \",R106*0.86)","v":17.901681818181814},{"$f":"IF(N106=\" \",\" \",(I106/H106*880*0.01+1.5)/880*H106)","v":6.3670454545454547},{"$f":"IF(N106=\" \",\" \",T106*0.86)","v":5.4756590909090912},{"$f":"IF($I106=0,\" \",IF(I106>459.99,$V$108*$I$108/$I106,$V$112*$I$112/$I106))","v":3.0856133010309286},{"$f":"IF($I106=0,\" \",IF(I106>459.99,$W$108*$I106/$I$108,$W$112*$I106/$I$112))","v":6.9168545659526481},{"$f":"W106*0.4","v":2.7667418263810593},{"$f":"W106*0.75","v":5.1876409244644863},{"$f":"IF($I106=0,\" \",IF(I106>459.99,$Z$108*$I$108/$I106,$Z$112*$I$112/$I106))","v":2.7345204123711344},{"$f":"IF($I106=0,\" \",IF(I106>459.99,$AA$108*$I$108/$I106,$AA$112*$I$112/$I106))","v":0.16514550061855673},{"$f":"IF($I106=0,\" \",IF(I106>459.99,$AB$108*$I106/$I$108,$AB$112*$I106/$I$112))","v":21.142427658774896},{"$f":"IF($I106=\"\",\" \",($I106/H106*880*0.013+0.19)/880*H106)","v":6.4971590909090917},5.7175000000000011,25,44,88,68,227.26000000000005,224,13.5,{"$f":"50*AE106/100","v":12.5},1,null,null,null,338.82081104250801,1407.541943924,154.79999999999995,268,0.93,0.82,0.3,0.61,0.97,{"$f":"0.57*H106/1000","v":0.50729999999999997},{"$f":"$BA$107/$H$107*H106*K106/$K$107","v":78.828571428571422},{"$f":"$BB$107/$H$107*H106*K106/$K$107","v":109.34285714285716},-2.8918405200000006,9.1728337431599964,9.3966556714797935]
[{"$f":"IF(E107=\" \",D107&\" \"&F107,D107&\" \"&E107&\"% RP \"&F107)","v":"Sojaschrot HP 48% RP DLG 2014"},{"$f":"IF(D107=\"\",\" \",COUNTA($D$8:D107))","v":98},null,"Sojaschrot HP",{"$f":"IF(I107=0,\" \",ROUND(I107/10,0))","v":48},"DLG 2014","6",880,480,393.59999999999997,35,{"$f":"I107*0.0205*AV107+0.0398*AW107*AE107+0.0173*AF107+0.016*$AG107+0.0147*AI107","v":13.888607839999999},{"$f":"IF(I107=\"\",\" \",$I107*0.021503+0.032497*$AE107+0.016309*$AF107+0.014701*$AJ107-0.021071*$K107)","v":14.40926904},{"$f":"IF(I107=0,\" \",(I107/H107*880*0.0523+4.14)/880*H107)","v":29.243999999999993},{"$f":"IF(N107=\" \",\" \",N107*0.87)","v":25.442279999999993},{"$f":"IF(N107=\" \",\" \",(I107/H107*880*0.0274+0.33)/880*H107)","v":13.481999999999999},11.229468923076922,{"$f":"IF(N107=\" \",\" \",(I107/H107*880*0.04+1.4)/880*H107)","v":20.599999999999998},17.715999999999998,{"$f":"IF(N107=\" \",\" \",(I107/H107*880*0.01+1.5)/880*H107)","v":6.3},{"$f":"T107*0.86","v":5.4180000000000001},2.8,6.6,2.64,{"$f":"W107*0.75","v":4.9499999999999993},2.8,0.16,21.6,{"$f":"IF($I107=\"\",\" \",($I107/H107*880*0.013+0.19)/880*H107)","v":6.43},{"$f":"AC107*0.88","v":5.6583999999999994},13,59,100,{"$f":"67*H107/1000","v":58.96},207.06720000000001,{"$f":"IF($I107=\"\",\" \",$H107-($AE107+$AF107+$AH107+$I107+$K107))","v":234.03999999999996},7.02,6.5,0.52,null,null,null,{"$f":"IF(H107=\"\",\"\",50*V107+83*Z107+26*AB107+44*AA107-59*W107-13*P107-28*AZ107)","v":362.32920000000001},{"$f":"IF(H107=\"\",\"\",V107/1000*20140+Z107/1000*48600+1100/440*I107)","v":1392.472},{"$f":"AX107*K107+AY107*AT107-AF107-AG107","v":146.59880000000004},293.04000000000002,0.93,0.82,0.3,0.61,0.97,{"$f":"0.57*H107/1000","v":0.50159999999999993},62,86,-2.7562336007999995,9.1247412527207992,9.566163999972181]
["Sojaschrot HP 47% RP DLG FuDb",{"$f":"IF(D108=\"\",\" \",COUNTA($D$8:D108))","v":99},null,"Sojaschrot HP",47,"DLG FuDb",null,890,{"$f":"532.2*H108/1000","v":473.65800000000007},388.39956000000001,{"$f":"40.11*H108/1000","v":35.697900000000004},13.980995938,14.5026216272,28.95935885454546,25.194642203454549,13.311979200000003,11.087854675200003,20.362229090909096,17.511517018181824,6.2536254545454559,5.3781178909090919,{"$f":"3.55*H108/1000","v":3.1595},{"$f":"7.59*H108/1000","v":6.7550999999999997},2.7020400000000002,{"$f":"W108*0.75","v":5.066325},2.8,{"$f":"0.19*$H$108/1000","v":0.1691},{"$f":"23.2*$H$108/1000","v":20.648},6.3497130909090931,5.5877475200000015,{"$f":"18*0.89","v":16.02},{"$f":"64*0.89","v":56.96},{"$f":"114*0.89","v":101.46000000000001},{"$f":"69*0.89","v":61.410000000000004},218.96314000000004,246.25409999999988,8.6508000000000003,8.01,0.64080000000000004,null,null,null,348.85237039999987,1383.8573300000003,157.47339599999989,303.21409999999992,0.93,0.82,0.3,0.61,0.97,0.50729999999999997,{"$f":"$BA$107/$H$105*H109*K108/$K$107","v":63.236280000000001},{"$f":"$BB$107/$H$107*H108*K108/$K$107","v":88.711599545454575},-2.4036241121440032,9.3428120433157105,9.6361677530814251]
["Sojaschrot HP 47% RP ",{"$f":"IF(D109=\"\",\" \",COUNTA($D$8:D109))","v":100},null,"Sojaschrot HP",47,null,"26",890,470,385.4,52,13.857122999999998,13.841379,28.768045454545451,25.028199545454541,13.211749999999999,11.004371461538458,20.215909090909086,17.385681818181816,6.2170454545454543,5.3466590909090908,{"$f":"IF($I109=0,\" \",IF(I109>459.99,$V$108*$I$108/$I109,$V$112*$I$112/$I109))","v":3.1840903212765963},{"$f":"IF($I109=0,\" \",IF(I109>459.99,$W$108*$I109/$I$108,$W$112*$I109/$I$112))","v":6.7029312288613294},2.6811724915445319,{"$f":"IF($I109=0,\" \",W109*0.75)","v":5.0271984216459966},{"$f":"IF($I109=0,\" \",IF(I109>459.99,$Z$108*$I$108/$I109,$Z$112*$I$112/$I109))","v":2.8217923404255321},{"$f":"0.19*$H$108/1000","v":0.1691},{"$f":"23.2*$H$108/1000","v":20.648},6.3021590909090905,5.5458999999999996,19,42,91,67,241.29000000000002,240,10.26,9.5,0.76,null,null,null,356.2715878163304,1376.2666868151914,172.26,282,0.93,0.82,0.3,0.61,0.97,0.50729999999999997,{"$f":"$BA$107/$H$105*H110*K109/$K$107","v":92.1142857142857},{"$f":"$BB$107/$H$107*H109*K109/$K$107","v":129.22337662337662},-3.5127933299999996,8.7391624887112211,9.0769010911746157]
["Sojaschrot HP 46% RP ",{"$f":"IF(D110=\"\",\" \",COUNTA($D$8:D110))","v":101},null,"Sojaschrot HP",46,null,"29",890,459,376.38,47,13.838336999999999,13.974468999999999,28.192745454545456,24.527688545454545,12.910350000000001,10.753328446153846,19.775909090909089,17.007281818181816,6.1070454545454549,5.252059090909091,{"$f":"IF($I110=0,\" \",IF(I110>459.99,$V$108*$I$108/$I110,$V$112*$I$112/$I110))","v":3.1493900188235293},{"$f":"IF($I110=0,\" \",IF(I110>459.99,$W$108*$I110/$I$108,$W$112*$I110/$I$112))","v":6.7989832535885162},2.7195933014354066,5.0992374401913869,{"$f":"IF($I110=0,\" \",IF(I110>459.99,$Z$108*$I$108/$I110,$Z$112*$I$112/$I110))","v":2.7232836601307189},{"$f":"0.19*$H$108/1000","v":0.1691},{"$f":"23.2*$H$108/1000","v":20.648},6.1591590909090916,5.4200600000000003,20,49,97,67,{"$f":"IF($I110=\"\",\" \",(H110-AH110)*AU110-I110*AV110-AE110*AW110-AF110-AG110)","v":237.01},248,10.8,10,0.8,null,null,null,344.61148277030367,1343.2803008614587,170.76,297,0.93,0.82,0.3,0.61,0.97,0.50729999999999997,{"$f":"$BA$107/$H$105*H111*K110/$K$107","v":81.386195826645263},{"$f":"$BB$107/$H$107*H110*K110/$K$107","v":116.79805194805196},-2.7426376300000013,8.8397544786739335,9.2220447021203533]
[{"$f":"IF(E111=\" \",D111&\" \"&F111,D111&\" \"&E111&\"% RP \"&F111)","v":"Sojaschrot GVO-frei, Brasil 45% RP "},{"$f":"IF(D111=\"\",\" \",COUNTA($D$8:D111))","v":102},null,"Sojaschrot GVO-frei, Brasil",{"$f":"IF(I111=0,\" \",ROUND(I111/10,0))","v":45},null,null,870,448,367.35999999999996,{"$f":"69.4*0.89","v":61.766000000000005},13.626042000000002,13.266680648000001,27.523354545454545,{"$f":"IF(N111=\" \",\" \",N111*0.87)","v":23.945318454545454},{"$f":"IF(N111=\" \",\" \",(I111/H111*880*0.0274+0.33)/880*H111)","v":12.601450000000002},10.496038507692308,19.30409090909091,16.601518181818182,5.9629545454545454,{"$f":"IF(N111=\" \",\" \",T111*0.86)","v":5.1281409090909094},2.9,5.5,2.2000000000000002,4.125,2.8,{"$f":"0.26*0.89","v":0.23140000000000002},{"$f":"22.95*0.89","v":20.4255},{"$f":"IF($I111=\"\",\" \",($I111/H111*880*0.013+0.19)/880*H111)","v":6.0118409090909095},{"$f":"AC111*0.88","v":5.2904200000000001},22,44,67,56,{"$f":"(H111-AH111)*AU111-I111*AV111-AE111*AW111-AF111-AG111","v":272.06000000000012},238.23400000000004,11.88,11,0.88,null,null,null,416.44054999999997,1314.4860000000001,191.97721999999993,282.23399999999998,0.93,0.82,0.3,0.61,0.94,0.49589999999999995,{"$f":"$BA$107/$H$105*H112*K111/$K$107","v":109.41405714285713},{"$f":"$BB$107/$H$107*H111*K111/$K$107","v":150.04325064935068},-3.5217291269599991,8.3176126866911666,8.9317020061318289]
["Sojaschrot  45% RP DLG FuDb",{"$f":"IF(D112=\"\",\" \",COUNTA($D$8:D112))","v":103},null,"Sojaschrot ",45,"DLG FuDb",null,890,{"$f":"501.6*0.89","v":446.42400000000004},366.06768,{"$f":"69.4*0.89","v":61.766000000000005},13.167056139,13.374436534200003,27.535020654545455,23.955467969454546,12.565767600000001,{"$f":"IF(N112=\" \",\" \",P112*0.86)","v":10.806560136},19.27286909090909,16.574667418181818,5.9812854545454543,5.1439054909090904,{"$f":"3.618*0.895","v":3.2381099999999998},{"$f":"7.43*0.89","v":6.6127000000000002},2.6450800000000001,4.9595250000000002,2.8,{"$f":"0.26*0.89","v":0.23140000000000002},{"$f":"22.95*0.89","v":20.4255},5.9956710909090916,5.2761905600000008,{"$f":"17.67*0.89","v":15.726300000000002},{"$f":"67.86*0.89","v":60.395400000000002},{"$f":"108.6*0.89","v":96.653999999999996},{"$f":"69.82*0.89","v":62.139799999999994},{"$f":"(H112-AH112)*AU112-I112*AV112-AE112*AW112-AF112-AG112","v":190.2017219999999},243.54849999999999,8.4922020000000007,7.863150000000001,0.62905200000000006,null,null,null,367.84142119999984,1317.3555354000002,173.12938599999995,303.94389999999999,0.87,0.82,0.44,0.72,0.94,0.50729999999999997,{"$f":"$BA$115/$H$115*H112*K112/$K$115","v":110.35993257575758},{"$f":"$BB$115/$H$115*H112*K112/$K$115","v":173.86895037878787},-3.4980618300339992,8.2895206008744378,8.6729510034285315]
["eigenes Sojaschrot ",{"$f":"IF(D113=\"\",\" \",COUNTA($D$8:D113))","v":104},null,"eigenes Sojaschrot"," ",null,null,null,null,{"$f":"IF(I113=0,\" \",I113*0.82)","v":" "},null,{"$f":"IF($I113=\"\",\" \",I113*0.0205*AV113+0.0398*AW113*AE113+0.0173*AF113+0.016*$AG113+0.0147*AI113)","v":" "}," "," "," "," ",{"$f":"IF(N113=\" \",\" \",P113*(5.9*0.88+6.8*0.79)/12.7)","v":" "}," "," "," "," ",{"$f":"IF($I113=0,\" \",IF(I113>459.99,$V$108*$I$108/$I113*$H$113/$H$108,$V$112*$I$112/$I113*$H$113/$H$112))","v":" "},{"$f":"IF($I113=0,\" \",IF(I113>459.99,$W$108*$I113/$I$108*$H$113/$H$108,$W$112*$I113/I$112*H$113/H$112))","v":" "},{"$f":"IF($I113=0,\" \",W113*0.4)","v":" "}," ",{"$f":"IF($I113=0,\" \",IF(I113>459.99,$Z$108*$I$108/$I113*$H$113/$H$108,$Z$112*$I$112/$I113*$H$113/$H$112))","v":" "},{"$f":"IF($I113=0,\" \",IF(I113>459.99,$AA$108*$I$108/$I113*$H$113/$H$108,$AA$112*$I$112/$I113*$H$113/$H$112))","v":" "},{"$f":"IF($I113=0,\" \",IF(I113>459.99,$AB$108*$I113/$I$108*$H$113/$H$108,$AB$112*$I113/$I$112*$H$113/$H$112))","v":" "}," ",{"$f":"IF(AC113=\" \",\" \",AC113*0.88)","v":" "},null,null,null,null,{"$f":"IF($I113=\"\",\" \",(H113-AH113)*AU113-I113*AV113-AE113*AW113-AF113-AG113)","v":" "}," ",{"$f":"IF($I113=0,\" \",AK112*$H113/$H112)","v":" "}," "," ",null,null,null,"","",{"$f":"IF($I113=0,\" \",AX113*K113+AY113*AT113-AF113-AG113)","v":" "},{"$f":"IF(H113=\"\",\" \",H113-I113-AE113-AH113-K113)","v":" "},{"$f":"IF($I113=0,\" \",AU112)","v":" "},{"$f":"IF($I113=0,\" \",AV112)","v":" "},{"$f":"IF($I113=0,\" \",AW112)","v":" "},{"$f":"IF($I113=0,\" \",AX112)","v":" "},{"$f":"IF($I113=0,\" \",AY112)","v":" "},{"$f":"IF($I113=0,\" \",AZ112*$H113/$H112)","v":" "},{"$f":"IF(H113=0,\" \",$BA$115/$H$115*H113*K113/$K$115)","v":" "},{"$f":"IF(H113=0,\" \",BB$115/$H$115*H113*K113/$K$115)","v":" "},"","",""]
["Sojaschrot 44% RP ",{"$f":"IF(D114=\"\",\" \",COUNTA($D$8:D114))","v":105},null,"Sojaschrot",44,null,"14",890,440,{"$f":"I114*0.82","v":360.79999999999995},67,{"$f":"I114*0.0205*AV114+0.0398*AW114*AE114+0.0173*AF114+0.016*$AG114+0.0147*AI114","v":13.154765999999999},13.227282000000002,27.199045454545455,23.663169545454547,12.389750000000001,{"$f":"IF(N114=\" \",\" \",P114*(5.9*0.88+6.8*0.79)/12.7)","v":10.305930629921262},19.015909090909094,16.353681818181819,5.9170454545454545,5.0886590909090907,3.1,6.1,{"$f":"W114*0.4","v":2.44},4.5749999999999993,{"$f":"IF($I114=0,\" \",IF(I114>459.99,$Z$108*$I$108/$I114,$Z$112*$I$112/$I114))","v":2.8408799999999998},0.15,20.399999999999999,5.9121590909090909,{"$f":"AC114*0.88","v":5.2027000000000001},23,49,90,64,{"$f":"(H114-AH114)*AU114-I114*AV114-AE114*AW114-AF114-AG114","v":208.70000000000005},247,{"$f":"AL114+AM114","v":12.42},{"$f":"50*AE114/100","v":11.5},{"$f":"4*AE114/100","v":0.92},null,null,null,392.62189000000001,1300.5007679999999,{"$f":"AX114*K114+AY114*AT114-AF114-AG114","v":187.48000000000002},296,0.87,0.82,0.44,0.72,0.94,{"$f":"0.57*H114/1000","v":0.50729999999999997},{"$f":"IF(H114=0,\" \",$BA$115/$H$115*H114*K114/$K$115)","v":119.71174242424242},{"$f":"IF(H114=0,\" \",BB$115/$H$115*H114*K114/$K$115)","v":188.60246212121211},-3.4110841399999985,8.9264751637315918,8.5669548124893868]
[{"$f":"IF(E115=\" \",D115&\" \"&F115,D115&\" \"&E115&\"% RP \"&F115)","v":"Sojaschrot 44% RP DLG 2014"},{"$f":"IF(D115=\"\",\" \",COUNTA($D$8:D116))","v":107},null,"Sojaschrot",{"$f":"IF(I115=0,\" \",ROUND(I115/10,0))","v":44},"DLG 2014",null,880,440,360.79999999999995,60,{"$f":"I115*0.0205*AV115+0.0398*AW115*AE115+0.0173*AF115+0.016*$AG115+0.0147*AI115","v":13.002691999999998},{"$f":"IF(I115=\"\",\" \",$I115*0.021503+0.032497*$AE115+0.016309*$AF115+0.014701*$AJ115-0.021071*$K115)","v":13.229208000000002},{"$f":"IF(I115=0,\" \",(I115/H115*880*0.0523+4.14)/880*H115)","v":27.152000000000001},{"$f":"IF(N115=\" \",\" \",N115*0.87)","v":23.622240000000001},{"$f":"IF(N115=\" \",\" \",(I115/H115*880*0.0274+0.33)/880*H115)","v":12.386000000000001},{"$f":"IF(N115=\" \",\" \",P115*(5.9*0.88+6.8*0.79)/12.7)","v":10.302811338582679},19,16.34,5.9,{"$f":"IF(N115=\" \",\" \",T115*0.86)","v":5.0739999999999998},3,6.4,2.5600000000000005,4.8000000000000007,2.7,{"$f":"IF($I115=0,\" \",IF(I115>459.99,$AA$108*$I$108/$I115,$AA$112*$I$112/$I115))","v":0.23477844000000003},21.2,{"$f":"IF($I115=\"\",\" \",($I115/H115*880*0.013+0.19)/880*H115)","v":5.91},{"$f":"AC115*0.88","v":5.2008000000000001},13,60,95,60,{"$f":"(H115-AH115)*AU115-I115*AV115-AE115*AW115-AF115-AG115","v":191.88},{"$f":"IF($I115=\"\",\" \",$H115-($AE115+$AF115+$AH115+$I115+$K115))","v":247},7.02,6.5,0.52,null,null,null,{"$f":"IF(H115=\"\",\"\",50*V115+83*Z115+26*AB115+44*AA115-59*W115-13*P115-28*AZ115)","v":362.51625135999996},{"$f":"IF(H115=\"\",\"\",V115/1000*20140+Z115/1000*48600+1100/440*I115)","v":1291.6399999999999},{"$f":"AX115*K115+AY115*AT115-AF115-AG115","v":160.16000000000003},307,0.87,0.82,0.44,0.75,0.88,{"$f":"1.4*H115/1000","v":1.232},106,167,-3.5076781599999984,8.1124860730679966,8.6186403903802979]
["Sojaschrot 43% RP ",{"$f":"IF(D116=\"\",\" \",COUNTA($D$8:D116))","v":107},null,"Sojaschrot",{"$f":"IF(I116=0,\" \",ROUND(I116/10,0))","v":43},null,"19",890,429,351.78,69,13.097460999999999,13.071039000000003,26.623745454545457,23.162658545454548,12.08835,{"$f":"IF(N116=\" \",\" \",P116*(5.9*0.88+6.8*0.79)/12.7)","v":10.055222787401576},18.575909090909093,15.97528181818182,5.8070454545454551,{"$f":"IF(N116=\" \",\" \",T116*0.86)","v":4.9940590909090909},4,6.1,2.44,4.5749999999999993,{"$f":"IF($I116=0,\" \",IF(I116>459.99,$Z$108*$I$108/$I116,$Z$112*$I$112/$I116))","v":2.9137230769230769},0.13,20.399999999999999,5.7691590909090911,5.0768599999999999,23,52,90,65,{"$f":"IF($I116=\"\",\" \",(H116-AH116)*AU116-I116*AV116-AE116*AW116-AF116-AG116)","v":213.85000000000002},252,12.42,11.5,0.92,null,null,null,446.70606538461544,1294.6669415384615,193.44,304,0.87,0.82,0.44,0.72,0.94,{"$f":"0.57*H116/1000","v":0.50729999999999997},{"$f":"IF(H116=0,\" \",$BA$115/$H$115*H116*K116/$K$115)","v":123.28522727272727},{"$f":"IF(H116=0,\" \",BB$115/$H$115*H116*K116/$K$115)","v":194.23238636363632},-3.2541415299999996,8.0307207061007713,8.468579444965922]
[{"$f":"IF(E117=\" \",D117&\" \"&F117,D117&\" \"&E117&\"% RP \"&F117)","v":"Sojaschrot, schalenreich 43% RP DLG 2014"},{"$f":"IF(D117=\"\",\" \",COUNTA($D$8:D117))","v":108},null,"Sojaschrot, schalenreich",{"$f":"IF(I117=0,\" \",ROUND(I117/10,0))","v":43},"DLG 2014",null,880,427,350.14,82,{"$f":"I117*0.0205*AV117+0.0398*AW117*AE117+0.0173*AF117+0.016*$AG117+0.0147*AI117","v":12.591884367999999},{"$f":"IF(I117=\"\",\" \",$I117*0.021503+0.032497*$AE117+0.016309*$AF117+0.014701*$AJ117-0.021071*$K117)","v":12.382658296000001},{"$f":"IF(I117=0,\" \",(I117/H117*880*0.0523+4.14)/880*H117)","v":26.472100000000001},{"$f":"IF(N117=\" \",\" \",N117*0.89)","v":23.560169000000002},{"$f":"IF(N117=\" \",\" \",(I117/H117*880*0.0274+0.33)/880*H117)","v":12.0298},{"$f":"IF(N117=\" \",\" \",P117*(6*0.88+5.7*0.79)/12.7)","v":9.266734913385827},18.48,15.892799999999999,5.7700000000000005,{"$f":"IF(N117=\" \",\" \",T117*0.86)","v":4.9622000000000002},{"$f":"3.618*0.885","v":3.2019299999999999},{"$f":"7.292*0.88","v":6.4169599999999996},2.5667840000000002,4.8127199999999997,2.8,{"$f":"0.1835*0.88","v":0.16147999999999998},{"$f":"22.96*0.88","v":20.204800000000002},{"$f":"IF($I117=\"\",\" \",($I117/H117*880*0.013+0.19)/880*H117)","v":5.7410000000000005},{"$f":"AC117*0.88","v":5.0520800000000001},{"$f":"18.6*0.88","v":16.368000000000002},{"$f":"60.1*0.88","v":52.887999999999998},{"$f":"106.3*0.88","v":93.543999999999997},{"$f":"69.7*0.88","v":61.336000000000006},{"$f":"(H117-AH117)*AU117-I117*AV117-AE117*AW117-AF117-AG117","v":183.41279999999995},240.40800000000002,8.8387200000000004,8.1840000000000011,0.65472000000000008,null,null,null,{"$f":"IF(H117=\"\",\"\",50*V117+83*Z117+26*AB117+44*AA117-59*W117-13*P117-28*AZ117)","v":355.44238000000007},{"$f":"IF(H117=\"\",\"\",V117/1000*20140+Z117/1000*48600+1100/440*I117)","v":1268.0668702},{"$f":"AX117*K117+AY117*AT117-AF117-AG117","v":173.16848000000005},293.29599999999999,0.84,0.82,0.47,0.75,0.88,{"$f":"1.4*H117/1000","v":1.232},{"$f":"IF(H117=0,\" \",$BA$115/$H$115*H117*K117/$K$115)","v":144.86666666666667},{"$f":"IF(H117=0,\" \",BB$115/$H$115*H117*K117/$K$115)","v":228.23333333333332},-4.585099443919999,7.3434420735955195,7.9628197229676818]
["Sojaschrot, schalenreich 42% RP DLG FuDb",{"$f":"IF(D118=\"\",\" \",COUNTA($D$8:D118))","v":109},null,"Sojaschrot, schalenreich",{"$f":"IF(I118=0,\" \",ROUND(I118/10,0))","v":42},"DLG FuDb",null,880,{"$f":"482*0.88","v":424.16},347.81119999999999,{"$f":"94.36*0.88","v":83.036799999999999},12.583161327999999,12.329648302400001,26.323568000000002,{"$f":"IF(N118=\" \",\" \",N118*0.89)","v":23.42797552},11.951984000000001,{"$f":"IF(N118=\" \",\" \",P118*(6*0.88+5.7*0.79)/12.7)","v":9.206792084409452},18.366399999999999,{"$f":"IF(N118=\" \",\" \",R118*0.86)","v":15.795103999999998},5.7416,{"$f":"IF(N118=\" \",\" \",T118*0.86)","v":4.9377760000000004},3.4,6.3,2.52,4.7249999999999996,2.6,{"$f":"0.1835*0.88","v":0.16147999999999998},{"$f":"22.96*0.88","v":20.204800000000002},5.7040800000000003,5.0195904000000002,{"$f":"18.6*0.88","v":16.368000000000002},55,93,{"$f":"69.7*0.88","v":61.336000000000006},{"$f":"(H118-AH118)*AU118-I118*AV118-AE118*AW118-AF118-AG118","v":184.17359999999991},240.0992,8.8387200000000004,8.1840000000000011,0.65472000000000008,null,null,null,356.65812799999992,1255.2360000000001,173.96489600000001,295.0992,0.84,0.82,0.47,0.75,0.88,{"$f":"1.4*H118/1000","v":1.232},{"$f":"IF(H118=0,\" \",$BA$115/$H$115*H118*K118/$K$115)","v":146.69834666666665},{"$f":"IF(H118=0,\" \",BB$115/$H$115*H118*K118/$K$115)","v":231.11909333333332},-4.555105539248002,7.3558552443380947,7.9319560236703834]
["Sojaschrot, schalenreich 42% RP ",{"$f":"IF(D119=\"\",\" \",COUNTA($D$8:D119))","v":110},null,"Sojaschrot, schalenreich",42,null,"13",890,420,344.4,72,12.690603000000001,12.886196000000002,26.153045454545452,{"$f":"IF(N119=\" \",\" \",N119*0.89)","v":23.276210454545453},11.841749999999999,{"$f":"IF(N119=\" \",\" \",P119*(6*0.88+5.7*0.79)/12.7)","v":9.1218771850393701},18.21590909090909,{"$f":"IF(N119=\" \",\" \",R119*0.86)","v":15.665681818181817},5.7170454545454543,4.916659090909091,4.5,6.3,2.52,4.7249999999999996,{"$f":"IF($I119=0,\" \",IF(I119>459.99,$Z$108*$I$108/$I119,$Z$112*$I$112/$I119))","v":2.9761600000000001},0.13,20.2,5.6521590909090902,4.9738999999999995,23,51,88,66,197.95,258,12.42,11.5,0.92,null,null,null,442.41052999999999,1285.2713759999999,186.92000000000002,309,0.84,0.82,0.47,0.75,0.88,{"$f":"1.4*H119/1000","v":1.246},128.64545454545456,202.67727272727271,-3.2750769199999983,7.8775136575265439,8.3358436511300074]
["Sojaschrot, schalenreich 41% RP ",{"$f":"IF(D120=\"\",\" \",COUNTA($D$8:D120))","v":111},null,"Sojaschrot, schalenreich",41,null,"6",890,410,336.2,77,12.729226999999998,12.746334000000001,25.630045454545453,{"$f":"IF(N120=\" \",\" \",N120*0.89)","v":22.810740454545453},11.56775,{"$f":"IF(N120=\" \",\" \",P120*(6*0.88+5.7*0.79)/12.7)","v":8.9108108858267734},17.815909090909091,{"$f":"IF(N120=\" \",\" \",R120*0.86)","v":15.321681818181819},5.6170454545454547,4.8306590909090907,4,6.1,2.44,4.5749999999999993,{"$f":"IF($I120=0,\" \",IF(I120>459.99,$Z$108*$I$108/$I120,$Z$112*$I$112/$I120))","v":3.0487492682926831},0.13,20.2,5.5221590909090912,4.8595000000000006,27,55,91,64,198.94999999999993,257,14.58,13.5,1.08,null,null,null,438.79743926829264,1253.7292144390244,186.31,312,0.84,0.82,0.47,0.75,0.88,{"$f":"1.4*H120/1000","v":1.246},137.57916666666668,216.7520833333333,-3.0221761800000007,7.7307942372974994,8.3064181066482323]
["Sojaschrot, schalenreich 40% RP ",{"$f":"IF(D121=\"\",\" \",COUNTA($D$8:D121))","v":112},null,"Sojaschrot, schalenreich",40,null,"3",890,402,329.64,88,12.663584,12.269616000000001,25.211645454545458,{"$f":"IF(N121=\" \",\" \",N121*0.89)","v":22.438364454545457},11.348550000000001,{"$f":"IF(N121=\" \",\" \",P121*(6*0.88+5.7*0.79)/12.7)","v":8.741957846456696},{"$f":"IF(N121=\" \",\" \",(I121/H121*880*0.04+1.4)/880*H121)","v":17.495909090909091},{"$f":"IF(N121=\" \",\" \",R121*0.86)","v":15.046481818181817},5.5370454545454555,4.7618590909090912,4,6.1,2.44,4.5749999999999993,{"$f":"IF($I121=0,\" \",IF(I121>459.99,$Z$108*$I$108/$I121,$Z$112*$I$112/$I121))","v":3.1094208955223883},0.13,20.2,5.4181590909090911,4.7679800000000006,24,52,84,62,218.60000000000002,262,12.96,12,0.96,null,null,null,446.6827843283582,1236.6778555223882,206.32,314,0.84,0.82,0.47,0.75,0.88,{"$f":"1.4*H121/1000","v":1.246},157.23333333333332,247.71666666666664,-3.8071803200000001,7.3249653215880013,7.9604048934884641]
["Sonnenblumenkuchen kaltgepresst 22% RP ",{"$f":"IF(D122=\"\",\" \",COUNTA($D$8:D122))","v":113},null,"Sonnenblumenkuchen kaltgepresst",22,null,null,880,219,{"$f":"I122*0.8","v":175.20000000000002},278,10.943737999999998,5.7709539999999997,{"$f":"IF(I122=0,\" \",(I122/H122*880*0.03+2.7)/880*H122)","v":9.27},{"$f":"IF(N122=\" \",\" \",N122*0.79)","v":7.3232999999999997},{"$f":"IF(N122=\" \",\" \",(I122/H122*880*0.04+0.5)/880*H122)","v":9.26},{"$f":"IF(N122=\" \",\" \",P122*(4.5*0.88+3.6*0.77)/8.1)","v":7.6960888888888892},{"$f":"IF(N122=\" \",\" \",(I122/H122*880*0.04+0.5)/880*H122)","v":9.26},{"$f":"IF(N122=\" \",\" \",R122*0.8)","v":7.4080000000000004},{"$f":"IF(N122=\" \",\" \",(I122/H122*880*0.01+0.3)/880*H122)","v":2.4899999999999998},{"$f":"IF(N122=\" \",\" \",T122*0.83)","v":2.0666999999999995},3.4,8.3000000000000007,{"$f":"W122*0.35","v":2.9050000000000002},6.2250000000000005,4.9000000000000004,0.2,11.8,{"$f":"IF($I122=\"\",\" \",($I122/H122*880*0.02+0.2)/880*H122)","v":4.58},{"$f":"AC122*0.88","v":4.0304000000000002},122,{"$f":"0","v":0},77,60,188.4199999999999,201,23,{"$f":"AK122*$AL$104/$AK$104","v":21.413793103448274},{"$f":"AK122*$AM$104/$AK$104","v":1.5862068965517242},null,null,null,255.1159999999999,854.11599999999999,129.18,201,0.64,0.8,0.69,0.25,0.68,{"$f":"1.1*H122/1000","v":0.96800000000000008},250,348,-6.6072035799999993,7.0094962217879999,8.3069579115284657]
["Sonnenblumenschrot teilgeschält 34% RP DLG 2014",{"$f":"IF(D123=\"\",\" \",COUNTA($D$8:D123))","v":114},null,"Sonnenblumenschrot teilgeschält",34,"DLG 2014",null,890,338,{"$f":"I123*0.77","v":260.26},200,9.8604830000000003,7.7643250000000013,{"$f":"IF(I123=0,\" \",(I123/H123*880*0.03+2.7)/880*H123)","v":12.870681818181819},{"$f":"IF(N123=\" \",\" \",N123*0.77)","v":9.910425},{"$f":"IF(N123=\" \",\" \",(I123/H123*880*0.04+0.5)/880*H123)","v":14.025681818181818},{"$f":"IF(N123=\" \",\" \",P123*(7.1*0.76+5.3*0.81)/12.4)","v":10.959260575513195},{"$f":"IF(N123=\" \",\" \",(I123/H123*880*0.04+0.5)/880*H123)","v":14.025681818181818},{"$f":"IF(N123=\" \",\" \",R123*0.77)","v":10.799775},{"$f":"IF(N123=\" \",\" \",(I123/H123*880*0.01+0.3)/880*H123)","v":3.6834090909090911},{"$f":"IF(N123=\" \",\" \",T123*0.8)","v":2.9467272727272729},3.9,9.8000000000000007,{"$f":"W123*0.4","v":3.9200000000000004},7.3500000000000005,4.9000000000000004,0.2,13.2,{"$f":"IF($I123=\"\",\" \",($I123/H123*880*0.02+0.2)/880*H123)","v":6.9622727272727278},{"$f":"AC123*0.76","v":5.2913272727272735},21,{"$f":"0","v":0},58,57,210.59000000000003,274,14.1,13.127586206896551,0.97241379310344822,null,null,null,138.34213636363634,1161.6860000000001,178.32000000000002,274,0.65,0.77,0.6,0.25,0.68,{"$f":"2.2*H123/1000","v":1.9580000000000002},240,320,-10.84104275,6.0374006853839992,7.1195899987619526]
["Trockenschlempe 29% RP ",{"$f":"IF(D124=\"\",\" \",COUNTA($D$8:D124))","v":115},null,"Trockenschlempe",29,null,null,930,{"$f":"314*$H$124/1000","v":292.02},{"$f":"I124*0.72","v":210.25439999999998},{"$f":"75*$H$124/1000","v":69.75},11.897758770000001,13.898262240000003,{"$f":"7.1*$H$124/1000","v":6.6029999999999998},{"$f":"IF(N124=\" \",\" \",N124*0.69)","v":4.5560699999999992},{"$f":"IF(N124=\" \",\" \",(I124/H124*880*0.0327+0.39)/880*H124)","v":9.9612130909090908},{"$f":"IF(N124=\" \",\" \",P124*(5.6*0.67+7*0.7)/12.6)","v":6.8400329890909086},{"$f":"IF(N124=\" \",\" \",(I124/H124*880*0.0243+1.95)/880*H124)","v":9.156881454545454},{"$f":"IF(N124=\" \",\" \",R124*0.69)","v":6.3182482036363625},{"$f":"IF(N124=\" \",\" \",(I124/H124*880*0.011-0.26)/880*H124)","v":2.9374472727272725},{"$f":"IF(N124=\" \",\" \",T124*0.86)","v":2.5262046545454542},{"$f":"0.9*$H$124/1000","v":0.83699999999999997},{"$f":"8.7*$H$124/1000","v":8.0909999999999993},{"$f":"W124*0.65","v":5.25915},{"$f":"W124*0.75","v":6.068249999999999},{"$f":"3.1*$H$124/1000","v":2.883},{"$f":"5.7*$H$124/1000","v":5.3010000000000002},{"$f":"14.8*$H$124/1000","v":13.763999999999999},{"$f":"IF($I124=\"\",\" \",($I124/H124*880*0.0139+0.34)/880*H124)","v":4.4183961818181823},{"$f":"AC124*0.67","v":2.9603254418181821},{"$f":"91*$H$124/1000","v":84.63},{"$f":"33*$H$124/1000","v":30.69},{"$f":"45*$H$124/1000","v":41.85},{"$f":"60*$H$124/1000","v":55.8},239.72610000000006,{"$f":"$H124-($AE124+$AF124+$AH124+$I124+$K124)","v":397.11},{"$f":"32.1/880*H124","v":33.923863636363635},31.584286833855796,2.3395768025078367,null,null,null,217.78222981818183,887.02098000000001,238.40550000000005,427.8,0.68,0.72,0.85,0.41,0.66,{"$f":"1.7","v":1.7},{"$f":"193*H124/1000","v":179.49},{"$f":"335*H124/1000","v":311.55},4.2244214352000018,8.1890722851750013,8.8185848631899404]
["Trockenschlempe Gerste getrocknet 26% RP DLG 2014",{"$f":"IF(D125=\"\",\" \",COUNTA($D$8:D125))","v":116},null,"Trockenschlempe Gerste getrocknet",26,"DLG 2014",null,910,255,{"$f":"I125*0.78","v":198.9},113,11.033172,11.53679,8.1999999999999993,{"$f":"IF(N125=\" \",\" \",N125*0.82)","v":6.7239999999999993},{"$f":"3.7+4.7","v":8.4},{"$f":"IF(N125=\" \",\" \",P125*(4.1*0.89+5.2*0.77)/9.3)","v":6.9123870967741929},9.1,{"$f":"IF(N125=\" \",\" \",R125*0.82)","v":7.4619999999999989},2.5,{"$f":"IF(N125=\" \",\" \",T125*0.83)","v":2.0749999999999997},1.2,6.6,{"$f":"W125*0.6","v":3.9599999999999995},{"$f":"W125*0.75","v":4.9499999999999993},2,4,{"$f":"14.8*$H$124/1000","v":13.763999999999999},3.7,{"$f":"AC125*0.89","v":3.2930000000000001},64,39,16,50,257.38000000000005,{"$f":"$H125-($AE125+$AF125+$AH125+$I125+$K125)","v":389},{"$f":"32.1/880*H125","v":33.194318181818183},30.905054858934172,2.2892633228840125,null,null,null,213.66400000000007,758.86799999999994,273.81,428,0.66,0.78,0.88,0.41,0.66,{"$f":"1.7","v":1.7},170,476,0.75385669999999916,5.8092501884760024,6.5638079644613301]
["Trockenschlempe Weizen getrocknet 35% RP DLG 2014",{"$f":"IF(D126=\"\",\" \",COUNTA($D$8:D126))","v":117},null,"Trockenschlempe Weizen getrocknet",35,"DLG 2014",null,920,351,{"$f":"I126*0.72","v":252.72},69,{"$f":"I126*0.0205*AV126+0.0398*AW126*AE126+0.0173*AF126+0.016*$AG126+0.0147*AI126","v":11.453660000000001},{"$f":"IF(I126=\"\",\" \",$I126*0.021503+0.032497*$AE126+0.016309*$AF126+0.014701*$AJ126-0.021071*$K126)","v":13.731179000000001},7.1,{"$f":"IF(N126=\" \",\" \",N126*0.69)","v":4.8989999999999991},{"$f":"IF(N126=\" \",\" \",(I126/H126*880*0.04-1.1)/880*H126)","v":12.89},{"$f":"IF(N126=\" \",\" \",P126*(5.5*0.67+6.9*0.7)/12.4)","v":8.8514798387096771},{"$f":"IF(N126=\" \",\" \",(I126/H126*880*0.03+0.7)/880*H126)","v":11.261818181818182},{"$f":"IF(N126=\" \",\" \",R126*0.69)","v":7.770654545454545},{"$f":"IF(N126=\" \",\" \",(I126/H126*880*0.01+0.5)/880*H126)","v":4.0327272727272723},{"$f":"IF(N126=\" \",\" \",T126*0.86)","v":3.468145454545454},1.2,8.3000000000000007,{"$f":"W126*0.7","v":5.8100000000000005},{"$f":"X126","v":5.8100000000000005},2.8,8.1,{"$f":"14.8*$H$124/1000","v":13.763999999999999},{"$f":"IF($I126=\"\",\" \",($I126/H126*880*0.02-0.6)/880*H126)","v":6.3927272727272735},{"$f":"AC126*0.67","v":4.2831272727272731},56,25,32,51,{"$f":"(H126-AH126)*AU126-I126*AV126-AE126*AW126-AF126-AG126","v":233.60000000000002},{"$f":"$H126-($AE126+$AF126+$AH126+$I126+$K126)","v":368},{"$f":"32.1/880*H126","v":33.559090909090905},31.244670846394982,2.3144200626959242,null,null,null,{"$f":"IF(H126=\"\",\"\",50*V126+83*Z126+26*AB126+44*AA126-59*W126-13*P126-28*AZ126)","v":301.79399999999981},{"$f":"IF(H126=\"\",\"\",V126/1000*20140+Z126/1000*48600+1100/440*I126)","v":1037.748},{"$f":"AX126*K126+AY126*AT126-AF126-AG126","v":230.67000000000002},393,0.68,0.72,0.85,0.41,0.66,{"$f":"1.7","v":1.7},121,292,0.82176067000000019,8.1056190093120009,8.5952934285183336]
["Trockenschlempe Weizen, Gerste getrocknet 34% RP DLG 2014",{"$f":"IF(D127=\"\",\" \",COUNTA($D$8:D127))","v":118},null,"Trockenschlempe Weizen, Gerste getrocknet",34,"DLG 2014",null,920,340,{"$f":"I127*0.72","v":244.79999999999998},68,{"$f":"I127*0.0205*AV127+0.0398*AW127*AE127+0.0173*AF127+0.016*$AG127+0.0147*AI127","v":11.547073000000001},{"$f":"IF(I127=\"\",\" \",$I127*0.021503+0.032497*$AE127+0.016309*$AF127+0.014701*$AJ127-0.021071*$K127)","v":13.802},7.1,{"$f":"IF(N127=\" \",\" \",N127*0.69)","v":4.8989999999999991},{"$f":"5.2+6.4","v":11.600000000000001},{"$f":"IF(N127=\" \",\" \",P127*(5.6*0.67+7*0.7)/12.6)","v":7.9653333333333345},10.199999999999999,{"$f":"IF(N127=\" \",\" \",R127*0.69)","v":7.0379999999999994},3.2,{"$f":"IF(N127=\" \",\" \",T127*0.86)","v":2.7520000000000002},1.2,8.1999999999999993,{"$f":"W127*0.65","v":5.33},{"$f":"W127*0.75","v":6.1499999999999995},2.8,8.1,{"$f":"14.8*$H$124/1000","v":13.763999999999999},5.2,{"$f":"AC127*0.67","v":3.4840000000000004},63,25,32,52,{"$f":"(H127-AH127)*AU127-I127*AV127-AE127*AW127-AF127-AG127","v":234.89000000000004},{"$f":"$H127-($AE127+$AF127+$AH127+$I127+$K127)","v":372},{"$f":"32.1/880*H127","v":33.559090909090905},31.244670846394982,2.3144200626959242,null,null,null,{"$f":"IF(H127=\"\",\"\",50*V127+83*Z127+26*AB127+44*AA127-59*W127-13*P127-28*AZ127)","v":324.46399999999988},{"$f":"IF(H127=\"\",\"\",V127/1000*20140+Z127/1000*48600+1100/440*I127)","v":1010.248},{"$f":"AX127*K127+AY127*AT127-AF127-AG127","v":232.90000000000003},397,0.68,0.72,0.85,0.41,0.66,{"$f":"1.7","v":1.7},121,292,1.6074599999999997,8.1897776667720006,8.6776776339272192]
[" ",{"$f":"IF(D128=\"\",\" \",COUNTA($D$8:D128))","v":" "},null,null," ",null,null,null,null,null,null,null,null,null,null,null,null,null,null,null,null,null,null,null,null,null,null,null,null,null,null,null,null,null,null,null,null,null,null,null,null,null,null,null,null," ",null,null,null,null,null,null,null,null,"","",""]
["Aminosäuren*** ",{"$f":"IF(D129=\"\",\" \",COUNTA($D$8:D129))","v":119},null,"Aminosäuren***"," ",null,null,null,null,null,null,null,null,null,null,null,null,null,null,null,null,null,null,null,null,null,null,null,null,null,null,null,null,null,null,null,null,null,null,null,null,null,null,null,null," ",null,null,null,null,null,null,null,null,"","",""]
[" ",{"$f":"IF(D130=\"\",\" \",COUNTA($D$8:D130))","v":" "},null,null," ",null,null,null,null,null,null,null,null,null,null,null,null,null,null,null,null,null,null,null,null,null,null,null,null,null,null,null,null,null,null,null,null,null,null,null,null,null,null,null,null," ",null,null,null,null,null,null,null,null,"","",""]
["L-Lysin-HCL 95% RP ",{"$f":"IF(D131=\"\",\" \",COUNTA($D$8:D131))","v":120},null,"L-Lysin-HCL",95,null,null,995,954,{"$f":"I131","v":954},null,{"$f":"I131*0.0205*AV131+0.0398*AW131*AE131+0.0173*AF131+0.016*$AG131+0.0147*AI131","v":19.557000000000002},{"$f":"IF(I131=\"\",\" \",$I131*0.021503+0.032497*$AE131+0.016309*$AF131+0.014701*$AJ131-0.021071*$K131)","v":20.513862},780,780,null,null,null,null,null,null,null,null,null,null,null,null,null,null,null,null,null,null,null,null,null,null,null,null,null,null,null,null,{"$f":"IF(H131=\"\",\"\",V131/1000*20140+Z131/1000*48600+1100/440*I131)","v":2385},null,null,1,1,1,1,1,null,null,null,-11.73688074,13.749499934351999,13.912682967723455]
["Methionin (DL-Meth.) 58% RP ",{"$f":"IF(D132=\"\",\" \",COUNTA($D$8:D132))","v":121},null,"Methionin (DL-Meth.)",58,null,null,995,584,{"$f":"I132","v":584},null,{"$f":"I132*0.0205*AV132+0.0398*AW132*AE132+0.0173*AF132+0.016*$AG132+0.0147*AI132","v":11.972000000000001},{"$f":"IF(I132=\"\",\" \",$I132*0.021503+0.032497*$AE132+0.016309*$AF132+0.014701*$AJ132-0.021071*$K132)","v":12.557752000000001},null,null,990,990,null,null,null,null,null,null,null,null,null,null,null,990,990,null,null,null,null,null,null,null,null,null,null,null,null,{"$f":"IF(H132=\"\",\"\",50*V132+83*Z132+26*AB132+44*AA132-59*W132-13*P132-28*AZ132)","v":-12870},{"$f":"IF(H132=\"\",\"\",V132/1000*20140+Z132/1000*48600+1100/440*I132)","v":1460},null,null,1,1,1,1,1,null,null,null,-7.1848410400000002,13.140929713751998,13.317203087146657]
["Threonin (L-Thr.) 73% RP ",{"$f":"IF(D133=\"\",\" \",COUNTA($D$8:D133))","v":122},null,"Threonin (L-Thr.)",73,null,null,995,731,{"$f":"I133","v":731},null,{"$f":"I133*0.0205*AV133+0.0398*AW133*AE133+0.0173*AF133+0.016*$AG133+0.0147*AI133","v":14.9855},{"$f":"IF(I133=\"\",\" \",$I133*0.021503+0.032497*$AE133+0.016309*$AF133+0.014701*$AJ133-0.021071*$K133)","v":15.718693000000002},null,null,null,null,980,980,null,null,null,null,null,null,null,null,null,null,null,null,null,null,null,null,null,null,null,null,null,null,null,null,{"$f":"IF(H133=\"\",\"\",V133/1000*20140+Z133/1000*48600+1100/440*I133)","v":1827.5},null,null,1,1,1,1,1,null,null,null,-8.9933541099999985,13.382713017612,13.553785634294737]
["Tryptophan (L-Try.) 85% RP ",{"$f":"IF(D134=\"\",\" \",COUNTA($D$8:D134))","v":123},null,"Tryptophan (L-Try.)",85,null,null,995,853,{"$f":"I134","v":853},null,{"$f":"I134*0.0205*AV134+0.0398*AW134*AE134+0.0173*AF134+0.016*$AG134+0.0147*AI134","v":17.486499999999999},{"$f":"IF(I134=\"\",\" \",$I134*0.021503+0.032497*$AE134+0.016309*$AF134+0.014701*$AJ134-0.021071*$K134)","v":18.342059000000003},null,null,null,null,null,null,980,980,null,null,null,null,null,null,null,null,null,null,null,null,null,null,null,null,null,null,null,null,null,null,{"$f":"IF(H134=\"\",\"\",V134/1000*20140+Z134/1000*48600+1100/440*I134)","v":2132.5},null,null,1,1,1,1,1,null,null,null,-10.494296929999999,13.583376711972001,13.750133054376818]
[" ",{"$f":"IF(D135=\"\",\" \",COUNTA($D$8:D135))","v":" "},null,null," ",null,null,null,null,null,null,null,null,null,null,null,null,null,null,null,null,null,null,null,null,null,null,null,null,null,null,null,null,null,null,null,null,null,null,null,null,null,null,null,null," ",null,null,null,null,null,null,null,null,"","",""]
["Sonstige Futtermittel ",{"$f":"IF(D136=\"\",\" \",COUNTA($D$8:D136))","v":124},null,"Sonstige Futtermittel"," ",null,null,null,null,null,null,null,null,null,null,null,null,null,null,null,null,null,null,null,null,null,null,null,null,null,null,null,null,null,null,null,null,null,null,null,null,null,null,null,null," ",null,null,null,null,null,null,null,null,"","",""]
[" ",{"$f":"IF(D137=\"\",\" \",COUNTA($D$8:D137))","v":" "},null,null," ",null,null,null,null,null,null,null,null,null,null,null,null,null,null,null,null,null,null,null,null,null,null,null,null,null,null,null,null,null,null,null,null,null,null,null,null,null,null,null,null," ",null,null,null,null,null,null,null,null,{"$f":"IF(H137=\"\",\"\",0.73*M137+0.055*AE137+0.015*AF137-0.028*I137-0.041*K137)","v":""},{"$f":"IF(H137=\"\",\"\",(((0.703*(4168-(91*AH137/10)+(19*I137/10)+(39*AE137/10)-(36*BB137/10))+(15.8*AE137/10)+(4.7*AF137/10)-(9.7*I137/10)-(9.8*K137/10))*0.0041868)+((0.7*(4168-(91*AH136/10)+(19*I137/10)+(39*AE137/10)-(36*BB137/10))+(16.1*AE137/10)+(4.8*AF137/10)-(9.1*I137/10)-(8.7*BA137/10))*0.0041868))/2)","v":""},{"$f":"IF(H137=\"\",\"\",(0.703*((((4168-(91*AH137/10)+(19*I137/10)+(39*AE137/10)-(36*BB137/10))*0.0041868*1.014)+(0.066*K137/10))/0.0041868)+(15.8*AE137/10)+(4.7*AF137/10)-(9.7*I137/10)-(9.8*K137/10))*0.0041868)","v":""}]
["Ameisensäure ",{"$f":"IF(D138=\"\",\" \",COUNTA($D$8:D138))","v":125},null,"Ameisensäure"," ",null,null,850,null,null,null,5.8,5.8,null,null,null,null,null,null,null,null,null,null,null,null,null,null,null,null,null,null,null,null,null,null,null,null,null,null,null,null,null,null,-6500,null,null,null,null,null,null,null,null,null,null,4.234,{"$f":"IF(H138=\"\",\"\",((((0.703*(4168-(91*AH138/10/H138*1000)+(19*I138/10/H138*1000)+(39*AE138/10/H138*1000)-(36*BB138/10/H138*1000))+(15.8*AE138/10/H138*1000)+(4.7*AF138/10/H138*1000)-(9.7*I138/10/H138*1000)-(9.8*K138/10/H138*1000))*0.0041868)+((0.7*(4168-(91*AH137/10/H138*1000)+(19*I138/10/H138*1000)+(39*AE138/10/H138*1000)-(36*BB138/10/H138*1000))+(16.1*AE138/10/H138*1000)+(4.8*AF138/10/H138*1000)-(9.1*I138/10/H138*1000)-(8.7*BA138/10/H138*1000))*0.0041868))/2)/1000*H138)","v":10.40534602056},{"$f":"IF(H138=\"\",\"\",((0.703*((((4168-(91*AH138/10/H138*1000)+(19*I138/10/H138*1000)+(39*AE138/10/H138*1000)-(36*BB138/10/H138*1000))*0.0041868*1.014)+(0.066*K138/10/H138*1000))/0.0041868)+(15.8*AE138/10/H138*1000)+(4.7*AF138/10/H138*1000)-(9.7*I138/10/H138*1000)-(9.8*K138/10/H138*1000))*0.0041868)/1000*H138)","v":10.573581850303679}]
["Futterkalk CaCO3 ",{"$f":"IF(D139=\"\",\" \",COUNTA($D$8:D139))","v":126},null,"Futterkalk CaCO3",{"$f":"IF(I139=0,\" \",ROUND(I139/10,0))","v":" "},null,null,999,null,null,null,0,0,null,null,null,null,null,null,null,null,381.4,0.4,null,null,1.6,null,null,null,null,null,null,null,null,null,null,null,null,null,null,null,null,{"$f":"IF(H139=\"\",\"\",50*V139+83*Z139+26*AB139+44*AA139-59*W139-13*P139-28*AZ139)","v":19154},20140,null,null,null,null,null,null,null,0.9,null,null,0,12.2293419700464,12.427068551121618]
[{"$f":"IF(E140=\" \",D140&\" \"&F140,D140&\" \"&E140&\"% RP \"&F140)","v":"Ca-Formiat Ca(COOH)2 "},{"$f":"IF(D140=\"\",\" \",COUNTA($D$8:D140))","v":127},null,"Ca-Formiat Ca(COOH)2",{"$f":"IF(I140=0,\" \",ROUND(I140/10,0))","v":" "},null,null,999,null,null,null,0,0,null,null,null,null,null,null,null,null,303,null,null,null,1.6,null,null,null,null,null,null,null,null,null,null,null,null,null,null,null,null,15257.599999999999,{"$f":"AR139/$V$139*V140","v":16000.052438384899},null,null,null,null,null,null,null,0.9,null,null,0,12.2293419700464,12.427068551121618]
[{"$f":"IF(E141=\" \",D141&\" \"&F141,D141&\" \"&E141&\"% RP \"&F141)","v":"Haferschälkleie 6% RP DLG 2014"},{"$f":"IF(D141=\"\",\" \",COUNTA($D$8:D141))","v":128},null,"Haferschälkleie",{"$f":"IF(I141=0,\" \",ROUND(I141/10,0))","v":6},"DLG 2014",null,900,63,{"$f":"0.9*I141","v":56.7},230,{"$f":"I141*0.0205*AV141+0.0398*AW141*AE141+0.0173*AF141+0.016*$AG141+0.0147*AI141","v":5.4123710000000003},{"$f":"IF(I141=\"\",\" \",$I141*0.021503+0.032497*$AE141+0.016309*$AF141+0.014701*$AJ141-0.021071*$K141)","v":5.3727970000000003},2.2999999999999998,{"$f":"N141*0.88","v":2.024},{"$f":"1+0.8","v":1.8},{"$f":"P141*(0.92+0.8*0.85)/1.8","v":1.6},2.7,{"$f":"R141*0.87","v":2.3490000000000002},1.1000000000000001,{"$f":"T141*0.89","v":0.97900000000000009},1.3,1.5,{"$f":"W141*0.25","v":0.375},{"$f":"W141*0.75","v":1.125},1.3,0.3,9.1,1,{"$f":"AC141*0.92","v":0.92},27,149,10,53,{"$f":"(H141-AH141)*AU141-I141*AV141-AE141*AW141-AF141-AG141","v":67.789999999999992},{"$f":"IF($I141=\"\",\" \",$H141-($AE141+$AF141+$AH141+$I141+$K141))","v":378},11.1,null,null,null,null,null,224,{"$f":"IF(H141=\"\",\"\",V141/1000*20140+Z141/1000*48600+1100/440*I141)","v":246.86199999999999},{"$f":"AX141*K141+AY141*AT141-AF141-AG141","v":122.52000000000004},527,0.35,0.9,0.48,0.17,0.46,3.1,375,713,-3.5518581899999999,2.5035416494199989,3.1063592996397591]
[{"$f":"IF(E142=\" \",D142&\" \"&F142,D142&\" \"&E142&\"% RP \"&F142)","v":"Heu Mitte bis Ende Blüte 11% RP DLG 2014"},{"$f":"IF(D142=\"\",\" \",COUNTA($D$8:D142))","v":129},null,"Heu Mitte bis Ende Blüte",{"$f":"IF(I142=0,\" \",ROUND(I142/10,0))","v":11},"DLG 2014",null,880,106,{"$f":"I142*0.48","v":50.879999999999995},246,6.1480899999999998,{"$f":"IF(I142=\"\",\" \",$I142*0.021503+0.032497*$AE142+0.016309*$AF142+0.014701*$AJ142-0.021071*$K142)","v":4.1825089999999987},{"$f":"IF(I142=0,\" \",(I142/H142*1000*0.05-0.5)/1000*H142)","v":4.8600000000000012},{"$f":"IF(N142=\" \",\" \",N142*0.31)","v":1.5066000000000004},{"$f":"IF(N142=\" \",\" \",(I142/H142*1000*0.03+0.1)/1000*H142)","v":3.2679999999999998},{"$f":"IF(N142=\" \",\" \",P142*(1.9*0.71+1.3*0.29)/3.2)","v":1.7626774999999997},{"$f":"IF(N142=\" \",\" \",(I142/H142*1000*0.04+0.1)/1000*H142)","v":4.3280000000000003},{"$f":"IF(N142=\" \",\" \",R142*0.41)","v":1.7744800000000001},{"$f":"IF(N142=\" \",\" \",(I142/H142*1000*0.01+0.1)/1000*H142)","v":1.1480000000000001},{"$f":"IF(N142=\" \",\" \",T142*0.48)","v":0.55104000000000009},4,2.6,{"$f":"W142*0.2","v":0.52},{"$f":"W142*0.75","v":1.9500000000000002},1.6,0.43,18.5,{"$f":"IF($I142=\"\",\" \",($I142/H142*1000*0.01)/1000*H142)","v":1.06},{"$f":"AC142*0.71","v":0.75260000000000005},24,null,88,75,{"$f":"(H142-AH142)*AU142-I142*AV142-AE142*AW142-AF142-AG142","v":219.66000000000003},{"$f":"IF($I142=\"\",\" \",$H142-($AE142+$AF142+$AH142+$I142+$K142))","v":429},7.2,null,null,null,null,null,360.86799999999988,423.32,297.89,429,0.46,0.48,0.49,0.47,0.63,{"$f":"11.2*H142/1000","v":9.8559999999999999},317,458,-8.6807684300000005,3.7463499379080005,4.7296887309318247]
[{"$f":"IF(E143=\" \",D143&\" \"&F143,D143&\" \"&E143&\"% RP \"&F143)","v":"Lignocellulose (Faserkonzentrat) 1% RP "},{"$f":"IF(D143=\"\",\" \",COUNTA($D$8:D143))","v":130},null,"Lignocellulose (Faserkonzentrat)",1,null,null,927,12,{"$f":"I143*0.45","v":5.4},671,0,0,null,null,null,null,null,null,null,null,null,null,null,null,null,null,null,null,null,2,null,null,4,null,null,null,null,null,null,null,null,0,30,188.25000000000003,238,null,null,null,0.05,0.65,{"$f":"(0.93*23*AA143)/35.5+Z143","v":0},700,820,-27.737000000000002,-0.97134135137279953,3.0284361406329223]
[{"$f":"IF(E144=\" \",D144&\" \"&F144,D144&\" \"&E144&\"% RP \"&F144)","v":"Luzerne, frisch 4% RP DLG 2014"},{"$f":"IF(D144=\"\",\" \",COUNTA($D$8:D144))","v":131},null,"Luzerne, frisch",{"$f":"IF(I144=0,\" \",ROUND(I144/10,0))","v":4},"DLG 2014",null,170,37,{"$f":"I144*0.47","v":17.39},43,1.558573,{"$f":"IF(I144=\"\",\" \",$I144*0.021503+0.032497*$AE144+0.016309*$AF144+0.014701*$AJ144-0.021071*$K144)","v":1.0223090000000001},{"$f":"IF(I144=0,\" \",(I144/H144*1000*0.06-0.8)/1000*H144)","v":2.0839999999999996},{"$f":"IF(N144=\" \",\" \",N144*0.5)","v":1.0419999999999998},{"$f":"IF(N144=\" \",\" \",(I144/H144*1000*0.03+0.1)/1000*H144)","v":1.127},{"$f":"IF(N144=\" \",\" \",P144*(0.5*0.75+0.4*0.1)/0.9)","v":0.5196722222222222},{"$f":"IF(N144=\" \",\" \",(I144/H144*1000*0.05-0.9)/1000*H144)","v":1.6969999999999998},{"$f":"IF(N144=\" \",\" \",R144*0.6)","v":1.0181999999999998},{"$f":"IF(N144=\" \",\" \",(I144/H144*1000*0.02-0.4)/1000*H144)","v":0.67200000000000004},{"$f":"IF(N144=\" \",\" \",T144*0.55)","v":0.36960000000000004},3.1,0.5,{"$f":"W144*0.5","v":0.25},{"$f":"W144*0.75","v":0.375},0.5,0.1,{"$f":"AB146/H146*H144","v":4.0422222222222217},{"$f":"IF($I144=\"\",\" \",($I144/H144*1000*0.012+0.13)/1000*H144)","v":0.46609999999999996},{"$f":"AC144*0.75","v":0.34957499999999997},5,null,7,19,{"$f":"(H144-AH144)*AU144-I144*AV144-AE144*AW144-AF144-AG144","v":68.739999999999995},{"$f":"IF($I144=\"\",\" \",$H144-($AE144+$AF144+$AH144+$I144+$K144))","v":66},8.4,null,null,null,null,null,{"$f":"IF(H144=\"\",\"\",50*V144+83*Z144+26*AB144+44*AA144-59*W144-13*P144-28*AZ144)","v":233.28677777777773},{"$f":"IF(H144=\"\",\"\",V144/1000*20140+Z144/1000*48600+1100/440*I144)","v":179.23399999999998},52.010000000000005,66,0.63,0.47,0.4,0.39,0.64,{"$f":"6*H144/1000","v":1.02},56,70,-1.7777144300000001,0.99445790509200016,1.0204925266961757]
["Luzernegrünmehl jung unter 23% XF 20% RP DLG 2005",{"$f":"IF(D145=\"\",\" \",COUNTA($D$8:D145))","v":132},null,"Luzernegrünmehl jung unter 23% XF",{"$f":"IF(I145=0,\" \",ROUND(I145/10,0))","v":20},"DLG 2005",null,900,196,{"$f":"I145*0.45","v":88.2},200,7.2117190000000004,{"$f":"IF(I145=\"\",\" \",$I145*0.021503+0.032497*$AE145+0.016309*$AF145+0.014701*$AJ145-0.021071*$K145)","v":6.3649941999999999},{"$f":"IF(I145=0,\" \",(I145/H145*880*0.06-2.1)/880*H145)","v":9.6122727272727282},{"$f":"IF(N145=\" \",\" \",N145*0.46)","v":4.4216454545454553},{"$f":"IF(N145=\" \",\" \",(I145/H145*880*0.0213+0.3)/880*H145)","v":4.4816181818181819},{"$f":"IF(N145=\" \",\" \",P145*(2.3*0.75+1.8*0.09)/4.1)","v":2.062637441241685},{"$f":"IF(N145=\" \",\" \",(I145/H145*880*0.04-0.4)/880*H145)","v":7.4309090909090907},{"$f":"IF(N145=\" \",\" \",R145*0.55)","v":4.0870000000000006},{"$f":"IF(N145=\" \",\" \",(I145/H145*880*0.02-0.3)/880*H145)","v":3.6131818181818183},{"$f":"IF(N145=\" \",\" \",T145*0.54)","v":1.951118181818182},15.4,2.6,{"$f":"0.5*W145","v":1.3},{"$f":"W145*0.75","v":1.9500000000000002},2.8,0.9,21.4,{"$f":"IF($I145=\"\",\" \",($I145/H145*880*0.012+0.13)/880*H145)","v":2.4849545454545452},{"$f":"AC145*0.72","v":1.7891672727272725},32,null,48,{"$f":"122*H145/1000","v":109.8},{"$f":"(H145-AH145)*AU145-I145*AV145-AE145*AW145-AF145-AG145","v":288.49000000000007},362.20000000000005,8.4,null,null,null,null,null,1235.5389636363634,936.23599999999999,261.80799999999999,362.20000000000005,0.55000000000000004,0.45,0.31,0.39,0.64,{"$f":"6*H145/1000","v":5.4},{"$f":"289*H145/900*K145/K146","v":243.88185654008439},{"$f":"392*H145/900*K145/K146","v":330.80168776371306},-7.2815542340000015,5.8440637240819733,5.6661903278716608]
["Luzernegrünmehl älter über 23% XF 17% RP DLG 2014",{"$f":"IF(D146=\"\",\" \",COUNTA($D$8:D146))","v":133},null,"Luzernegrünmehl älter über 23% XF",{"$f":"IF(I146=0,\" \",ROUND(I146/10,0))","v":17},"DLG 2014",null,900,167,{"$f":"I146*0.45","v":75.150000000000006},237,7.1883229999999996,4.9317590000000013,7.8722727272727262,{"$f":"IF(N146=\" \",\" \",N146*0.46)","v":3.6212454545454542},{"$f":"IF(N146=\" \",\" \",(I146/H146*880*0.02+0.44)/880*H146)","v":3.7900000000000005},{"$f":"IF(N146=\" \",\" \",P146*(2.3*0.75+1.8*0.09)/4.1)","v":1.7443243902439025},6.2709090909090914,{"$f":"IF(N146=\" \",\" \",R146*0.55)","v":3.4490000000000007},3.0331818181818186,{"$f":"IF(N146=\" \",\" \",T146*0.54)","v":1.6379181818181823},16.2,3.2,{"$f":"0.5*W146","v":1.6},{"$f":"W146*0.75","v":2.4000000000000004},2.5,0.5,21.4,{"$f":"IF($I146=\"\",\" \",($I146/H146*880*0.012+0.13)/880*H146)","v":2.1369545454545453},{"$f":"AC146*0.72","v":1.5386072727272726},28,null,45,99,{"$f":"(H146-AH146)*AU146-I146*AV146-AE146*AW146-AF146-AG146","v":311.71999999999997},369,8.4,null,null,null,null,null,1206.6300000000001,865.26800000000003,283.59000000000003,369,0.55000000000000004,0.45,0.31,0.39,0.64,{"$f":"6*H146/1000","v":5.4},289,392,-9.2528159300000006,3.8525066287200005,5.2021440897753601]
["eigenes Grünmehl ",{"$f":"IF(D147=\"\",\" \",COUNTA($D$8:D147))","v":134},null,"eigenes Grünmehl"," ",null,null,null,null,{"$f":"IF(I147=0,\" \",I147*0.6)","v":" "},null,{"$f":"IF($I147=\"\",\" \",I147*0.0205*AV147+0.0398*AW147*AE147+0.0173*AF147+0.016*$AG147+0.0147*AI147)","v":" "}," "," ",{"$f":"IF(N147=\" \",\" \",N147*0.46)","v":" "},{"$f":"IF(N147=\" \",\" \",(I147/H147*880*0.02+0.44)/880*H147)","v":" "},{"$f":"IF(N147=\" \",\" \",P147*0.46)","v":" "}," ",{"$f":"IF(N147=\" \",\" \",R147*0.55)","v":" "}," ",{"$f":"IF(N147=\" \",\" \",T147*0.54)","v":" "},{"$f":"IF($I147=0,\" \",V146*$H147/$H146)","v":" "}," "," "," "," "," "," ",{"$f":"IF($I147=\"\",\" \",($I147/H147*880*0.012+0.13)/880*H147)","v":" "},{"$f":"IF(AC147=\" \",\" \",AC147*0.72)","v":" "},null,null,null,null,{"$f":"IF($I147=\"\",\" \",(H147-AH147)*AU147-I147*AV147-AE147*AW147-AF147-AG147)","v":" "}," ",{"$f":"IF($I147=0,\" \",AK146*$H147/$H146)","v":" "}," "," ",null,null,null,"","",{"$f":"IF($I147=0,\" \",AX147*K147+AY147*AT147-AF147-AG147)","v":" "}," ",{"$f":"IF($I147=0,\" \",AU146)","v":" "},{"$f":"IF($I147=0,\" \",AV146)","v":" "},{"$f":"IF($I147=0,\" \",AW146)","v":" "},{"$f":"IF($I147=0,\" \",AX146)","v":" "},{"$f":"IF($I147=0,\" \",AY146)","v":" "},{"$f":"IF($I147=0,\" \",AZ146*$H147/$H146)","v":" "},{"$f":"IF($I147=0,\" \",BA146*$H147/$H146*K147/K146)","v":" "},{"$f":"IF($I147=0,\" \",BB146*$H147/$H146*K147/K146)","v":" "},"","",""]
["Melasseschnitzel 9% RP DLG 2014",{"$f":"IF(D148=\"\",\" \",COUNTA($D$8:D148))","v":135},null,"Melasseschnitzel",9,"DLG 2014",null,910,91,{"$f":"I148*0.25","v":22.75},137,{"$f":"I148*0.0205*AV148+0.0398*AW148*AE148+0.0173*AF148+0.016*$AG148+0.0147*AI148","v":10.532319000000001},8.2063309999999987,{"$f":"IF(I148=0,\" \",(I148/H148*880*0.06-0.6)/880*H148)","v":4.8395454545454548},{"$f":"N148*0.75","v":3.6296590909090911},{"$f":"IF(N148=\" \",\" \",(I148/H148*880*0.02+0.4)/880*H148)","v":2.2336363636363639},{"$f":"P148*(1.5*0.74+1.1*0.26)/2.6","v":1.199290909090909},{"$f":"IF(N148=\" \",\" \",(I148/H148*880*0.04+0.7)/880*H148)","v":4.3638636363636367},{"$f":"R148*0.28","v":1.2218818181818183},{"$f":"IF(N148=\" \",\" \",(I148/H148*880*0.01+0.4)/880*H148)","v":1.3236363636363637},{"$f":"T148*0.4","v":0.52945454545454551},10,0.7,{"$f":"W148*0.1","v":6.9999999999999993E-2},{"$f":"W148*0.75","v":0.52499999999999991},1.6,1.5,13.7,{"$f":"IF($I148=\"\",\" \",($I148/H148*880*0.01+0.4)/880*H148)","v":1.3236363636363637},{"$f":"AC148*0.74","v":0.97949090909090919},7,null,182,69,{"$f":"(H148-AH148)*AU148-I148*AV148-AE148*AW148-AF148-AG148","v":483.82000000000005},606,3.3,null,null,null,null,null,948.99072727272733,506.66,{"$f":"AX148*K148+AY148*AT148-AF148-AG148","v":484.54000000000008},606,0.82,0.25,0.15,0.84,0.91,{"$f":"1.4*H148/1000","v":1.274},161,322,-1.7893783700000014,6.5134883703959998,6.3340766230958883]
["Melasseschnitzel zuckerreich 11% RP DLG 2005",{"$f":"IF(D149=\"\",\" \",COUNTA($D$8:D149))","v":136},null,"Melasseschnitzel zuckerreich",{"$f":"IF(I149=0,\" \",ROUND(I149/10,0))","v":11},"DLG 2005",null,900,113,{"$f":"I149*0.25","v":28.25},129,10.93554,8.3981144000000008,{"$f":"IF(I149=0,\" \",(I149/H149*880*0.06-0.6)/880*H149)","v":6.1663636363636369},{"$f":"N149*0.75","v":4.6247727272727275},{"$f":"IF(N149=\" \",\" \",(I149/H149*880*0.02+0.4)/880*H149)","v":2.6690909090909094},{"$f":"P149*(1.5*0.74+1.1*0.26)/2.6","v":1.4330965034965035},{"$f":"IF(N149=\" \",\" \",(I149/H149*880*0.04+0.7)/880*H149)","v":5.2359090909090913},{"$f":"R149*0.28","v":1.4660545454545457},{"$f":"IF(N149=\" \",\" \",(I149/H149*880*0.01+0.4)/880*H149)","v":1.5390909090909093},{"$f":"T149*0.4","v":0.61563636363636376},7.1,0.7,{"$f":"W149*0.1","v":6.9999999999999993E-2},{"$f":"W149*0.75","v":0.52499999999999991},1.4,1.91,18.100000000000001,{"$f":"IF($I149=\"\",\" \",($I149/H149*880*0.01+0.4)/880*H149)","v":1.5390909090909093},{"$f":"AC149*0.74","v":1.1389272727272728},7,null,221,{"$f":"84*H149/1000","v":75.599999999999994},{"$f":"(H149-AH149)*AU149-I149*AV149-AE149*AW149-AF149-AG149","v":419.85},575.4,3.3,null,null,null,null,null,910.64181818181805,493.53399999999999,{"$f":"AX149*K149+AY149*AT149-AF149-AG149","v":420.49599999999998},575.4,0.85,0.53,0,0.78,0.94,1.4,{"$f":"IF($I149=0,\" \",BA148*$H149/$H148*K149/K148)","v":149.93262212240313},{"$f":"IF($I149=0,\" \",BB148*$H149/$H148*K149/K148)","v":299.86524424480626},-1.9373764880000004,5.689364986999264,6.2993662667402592]
["Obstrester (Apfel), getrocknet 5% RP DLG FuDb",{"$f":"IF(D150=\"\",\" \",COUNTA($D$8:D150))","v":137},null,"Obstrester (Apfel), getrocknet",{"$f":"IF(I150=0,\" \",ROUND(I150/10,0))","v":5},"DLG FuDb",null,900,{"$f":"55.89*0.9","v":50.301000000000002},{"$f":"I150*0.72","v":36.216720000000002},{"$f":"207.1*0.9","v":186.39},7.5826408409999999,7.2316410390000012,{"$f":"5.4*0.9","v":4.8600000000000003},{"$f":"IF(N150=\" \",\" \",N150*0.46)","v":2.2356000000000003},{"$f":"3.2*0.9","v":2.8800000000000003},{"$f":"IF(N150=\" \",\" \",P150*0.46)","v":1.3248000000000002},{"$f":"4*0.9","v":3.6},{"$f":"R150*0.55","v":1.9800000000000002},{"$f":"0.9*0.9","v":0.81},{"$f":"IF(N150=\" \",\" \",T150*0.54)","v":0.43740000000000007},{"$f":"2.39*0.9","v":2.1510000000000002},{"$f":"1.728*0.9","v":1.5551999999999999},{"$f":"W150*0.5","v":0.77759999999999996},{"$f":"W150*0.75","v":1.1663999999999999},{"$f":"V150/2.5","v":0.86040000000000005},{"$f":"0.3539*0.9","v":0.31851000000000002},{"$f":"6.051*0.9","v":5.4459},{"$f":"P150*0.17/0.41","v":1.194146341463415},{"$f":"AC150*0.46","v":0.54930731707317093},{"$f":"42.13*0.9","v":37.917000000000002},null,{"$f":"267.2*0.9","v":240.48},{"$f":"26.35*0.9","v":23.715000000000003},{"$f":"(H150-AH150)*AU150-I150*AV150-AE150*AW150-AF150-AG150","v":220.20129000000006},601.67700000000002,8.1999999999999993,null,null,null,null,null,175.90946227605633,210.88908000000001,{"$f":"AX150*K150+AY150*AT150-AF150-AG150","v":224.31590999999995},601.67699999999991,0.54,0,0.33,0.46,0.63,{"$f":"(0.93*23*AA150)/35.5+Z150","v":1.0523134901408451},470,580,-1.6858850415299989,3.0910529047163395,5.1929489310356107]
["Propionsäure ",{"$f":"IF(D151=\"\",\" \",COUNTA($D$8:D151))","v":138},null,"Propionsäure",{"$f":"IF(I151=0,\" \",ROUND(I151/10,0))","v":" "},null,null,990,null,null,null,{"$f":"M151","v":19.822217008797654},{"$f":"20.8/0.0341*0.032497","v":19.822217008797654},null,null,null,null,null,null,null,null,null,null,null,null,null,null,null,null,null,null,null,null,null,null,null,null,null,null,null,null,null,null,-750,null,null,null,null,null,null,null,null,null,null,14.470218416422288,11.802929189093998,12.315112978588992]
[{"$f":"IF(E152=\" \",D152&\" \"&F152,D152&\" \"&E152&\"% RP \"&F152)","v":"Fischöl / Lachsöl DLG 2014"},{"$f":"IF(D152=\"\",\" \",COUNTA($D$8:D152))","v":139},null,"Fischöl / Lachsöl",{"$f":"IF(I152=0,\" \",ROUND(I152/10,0))","v":" "},"DLG 2014",null,999,null,null,null,{"$f":"I152*0.0205*AV152+0.0398*AW152*AE152+0.0173*AF152+0.016*$AG152+0.0147*AI152","v":38.925992000000001},{"$f":"IF(I152=\" \",\" \",$I152*0.021503+0.032497*$AE152+0.016309*$AF152+0.014701*$AJ152-0.021071*$K152)","v":32.432006000000001},null,null,null,null,null,null,null,null,null,null,null,null,null,null,null,null,null,998,null,null,1,null,null,{"$f":"(43%+35%)*AE152","v":778.44},{"$f":"24.5%*AE152","v":244.51},{"$f":"10.5%*AE152","v":104.78999999999999},null,null,null,null,null,null,null,0.98,null,0.98,null,null,null,null,null,78.565364380000005,30.3120878366664,30.618198612594981]
["Rapsöl / Pflanzenöl DLG 2014",{"$f":"IF(D153=\"\",\" \",COUNTA($D$8:D153))","v":140},null,"Rapsöl / Pflanzenöl",{"$f":"IF(I153=0,\" \",ROUND(I153/10,0))","v":" "},"DLG 2014",null,999,null,null,null,38.925992000000001,{"$f":"IF(I153=\" \",\" \",$I153*0.021503+0.032497*$AE153+0.016309*$AF153+0.014701*$AJ153-0.021071*$K153)","v":32.432006000000001},null,null,null,null,null,null,null,null,null,null,null,null,null,null,null,null,null,998,null,null,null,null,null,289,{"$f":"20*AE153/100","v":199.6},{"$f":"9*AE153/100","v":89.82},null,null,null,null,null,null,null,0.98,null,0.98,null,null,null,null,null,78.565364380000005,30.312144986486402,30.645357807253944]
["Sojaöl / Pflanzenöl DLG 2014",{"$f":"IF(D154=\"\",\" \",COUNTA($D$8:D154))","v":141},null,"Sojaöl / Pflanzenöl"," ","DLG 2014",null,999,null,null,null,38.925992000000001,{"$f":"IF(I154=\" \",\" \",$I154*0.021503+0.032497*$AE154+0.016309*$AF154+0.014701*$AJ154-0.021071*$K154)","v":32.432006000000001},null,null,null,null,null,null,null,null,null,null,null,null,null,null,null,null,null,998,null,null,null,null,null,579,{"$f":"54*AE154/100","v":538.91999999999996},{"$f":"4*AE154/100","v":39.92},null,null,null,null,null,null,null,0.98,null,0.98,null,null,null,null,null,78.565364380000005,30.3254799444864,30.645357807253944]
["Reinglycerin 99,5 - 99,9 % ",{"$f":"IF(D155=\"\",\" \",COUNTA($D$8:D155))","v":142},null,"Reinglycerin 99,5 - 99,9 %"," ",null,null,997,null,null,null,17.5,17.5,null,null,null,null,null,null,null,null,null,null,null,null,null,null,null,null,null,null,null,null,null,null,null,null,null,null,null,null,null,null,null,null,null,null,null,null,null,null,null,null,null,12.775,12.204858802939199,12.402189535003258]
["Rohglycerin 80 - 82 % DLG 2014",{"$f":"IF(D156=\"\",\" \",COUNTA($D$8:D156))","v":143},null,"Rohglycerin 80 - 82 %"," ","DLG 2014",null,880,null,null,null,{"$f":"I156*0.0205*AV156+0.0398*AW156*AE156+0.0173*AF156+0.016*$AG156+0.0147*AI156","v":14.37224},{"$f":"L156","v":14.37224},null,null,null,null,null,null,null,null,null,null,null,null,null,17.600000000000001,null,null,null,84,null,752,48,null,null,{"$f":"AK154/AE154/99*AE156*88","v":43.318637274549097},{"$f":"54*AE156/100","v":45.36},{"$f":"4*AE156/100","v":3.36},null,null,null,477.47064788732399,null,null,null,0.82,0,0.7,null,null,{"$f":"(0.93*23*AA156)/35.5+Z156","v":10.604619718309861},null,null,{"$f":"IF(H156=\"\",\"\",0.73*M156+0.055*AE156+0.015*AF156-0.02148*I156-0.041*K156)","v":15.111735199999998},11.652894185328,11.176528852171586]
[{"$f":"IF(E157=\" \",D157&\" \"&F157,D157&\" \"&E157&\"% RP \"&F157)","v":"Sojabohnenschalen 12% RP DLG 2014"},{"$f":"IF(D157=\"\",\" \",COUNTA($D$8:D157))","v":144},null,"Sojabohnenschalen",{"$f":"IF(I157=0,\" \",ROUND(I157/10,0))","v":12},"DLG 2014",null,880,119,{"$f":"I157*0.54","v":64.260000000000005},334,7.2218359999999997,{"$f":"IF(I157=\"\",\" \",$I157*0.021503+0.032497*$AE157+0.016309*$AF157+0.014701*$AJ157-0.021071*$K157)","v":1.6027420000000001},{"$f":"IF(I157=0,\" \",(I157/H157*880*0.06+0.8)/880*H157)","v":7.9399999999999995},{"$f":"IF(N157=\" \",\" \",N157*0.56)","v":4.4464000000000006},{"$f":"IF(N157=\" \",\" \",(I157/H157*880*0.03-0.2)/880*H157)","v":3.3699999999999997},{"$f":"IF(N157=\" \",\" \",P157*(1.1*0.68+1.9*0.62)/3)","v":2.1635399999999998},{"$f":"IF(N157=\" \",\" \",(I157/H157*880*0.04-0.3)/880*H157)","v":4.46},{"$f":"IF(N157=\" \",\" \",R157*0.62)","v":2.7652000000000001},{"$f":"IF(N157=\" \",\" \",(I157/H157*880*0.01+0.1)/880*H157)","v":1.29},{"$f":"IF(N157=\" \",\" \",T157*0.6)","v":0.77400000000000002},4.8,1.4,{"$f":"W157*0.3","v":0.42},{"$f":"IF($I157=0,\" \",W157*0.75)","v":1.0499999999999998},1.8,0.18,10.8,{"$f":"IF($I157=\"\",\" \",($I157/H157*880*0.01-0.4)/880*H157)","v":0.78999999999999992},{"$f":"AC157*0.68","v":0.53720000000000001},23,26,23,44,{"$f":"(H157-AH157)*AU157-I157*AV157-AE157*AW157-AF157-AG157","v":333.58000000000004},{"$f":"IF($I157=\"\",\" \",$H157-($AE157+$AF157+$AH157+$I157+$K157))","v":334},19.8,{"$f":"AK157*$AL$104/$AK$104","v":18.434482758620689},{"$f":"AK157*$AM$104/$AK$104","v":1.3655172413793104},null,null,null,492.57400000000001,1210,{"$f":"AX157*K157+AY157*AT157-AF157-AG157","v":360.76},{"$f":"IF(H157=\"\",\" \",H157-I157-AE157-AH157-K157)","v":360},0.54,0.54,0.2,0.44,0.73,{"$f":"2.4*H157/1000","v":2.1120000000000001},352,528,-14.20099834,3.2987238680879991,4.920585921408863]
["Stroh, Gerste 4% RP DLG 2014",{"$f":"IF(D158=\"\",\" \",COUNTA($D$8:D158))","v":145},null,"Stroh, Gerste",4,"DLG 2014",null,860,39,{"$f":"I158*0.1","v":3.9000000000000004},374,1.9308619999999999,{"$f":"IF(I158=\"\",\" \",$I158*0.021503+0.032497*$AE158+0.016309*$AF158+0.014701*$AJ158-0.021071*$K158)","v":-0.98589799999999883},0.8,null,0.4,null,1.5,null,0.2,null,4.3,0.7,{"$f":"W158*0.1","v":6.9999999999999993E-2},{"$f":"W158*0.75","v":0.52499999999999991},0.9,1.7,13,0.2,null,14,null,{"$f":"7*H158/1000","v":6.02},52,119.36,381,5.8,null,null,null,null,null,506.70400000000001,{"$f":"IF(H158=\"\",\"\",V158/1000*20140+Z158/1000*48600+1100/440*I158)","v":227.84200000000001},382.56000000000006,381,0.16,0.1,0,0.55000000000000004,0.48,{"$f":"6.2*H158/1000","v":5.3319999999999999},{"$f":"509*H158/1000","v":437.74},{"$f":"811*H158/1000","v":697.46},-16.375705540000002,0.62363887386479944,2.3110548169362151]
[{"$f":"IF(E159=\" \",D159&\" \"&F159,D159&\" \"&E159&\"% RP \"&F159)","v":"Stroh, Weizen 3% RP DLG 2014"},{"$f":"IF(D159=\"\",\" \",COUNTA($D$8:D159))","v":146},null,"Stroh, Weizen",{"$f":"IF(I159=0,\" \",ROUND(I159/10,0))","v":3},"DLG 2014",null,860,34,{"$f":"I159*0.1","v":3.4000000000000004},370,1.8986599999999998,{"$f":"IF(I159=\"\",\" \",$I159*0.021503+0.032497*$AE159+0.016309*$AF159+0.014701*$AJ159-0.021071*$K159)","v":-1.121321},0.7,null,0.3,null,1.4,null,0.2,null,2.6,0.7,{"$f":"W159*0.1","v":6.9999999999999993E-2},{"$f":"W159*0.75","v":0.52499999999999991},0.9,1.3,9,0.2,null,11,null,7,65,{"$f":"(H159-AH159)*AU159-I159*AV159-AE159*AW159-AF159-AG159","v":116.8},380,5,null,null,null,null,null,{"$f":"IF(H159=\"\",\"\",50*V159+83*Z159+26*AB159+44*AA159-59*W159-13*P159-28*AZ159)","v":301.404},{"$f":"IF(H159=\"\",\"\",V159/1000*20140+Z159/1000*48600+1100/440*I159)","v":181.10399999999998},{"$f":"AX159*K159+AY159*AT159-AF159-AG159","v":378.90000000000003},380,0.16,0.1,0,0.55000000000000004,0.48,{"$f":"6.2*H159/1000","v":5.3319999999999999},396,654,-16.33556433,0.82398367641599979,2.3599740588084481]
["Süßmolke 88 % TM 12% RP DLG 2014",{"$f":"IF(D160=\"\",\" \",COUNTA($D$8:D160))","v":147},null,"Süßmolke 88 % TM",12,"DLG 2014",null,880,{"$f":"I161/$H$161*880","v":117.33040000000003},{"$f":"I160*0.9","v":105.59736000000002},{"$f":"K161/$H$161*880","v":0},12.626251616000003,{"$f":"IF(I160=\"\",\" \",$I160*0.021503+0.032497*$AE160+0.016309*$AF160+0.014701*$AJ160-0.021071*$K160)","v":12.945131460799999},{"$f":"N161/$H$161*880","v":8.8000000000000007},{"$f":"O161/$H$161*880","v":8.5359999999999996},4.0849490400000006,3.8841057122000011,7.168231040000002,6.3797256256000008,1.8423454399999999,1.7870750767999999,5.8608000000000002,5.8608000000000002,4.6886400000000004,3.7509120000000005,1.4607999999999999,6.4504000000000001,{"$f":"AB161/$H$161*880","v":19.0608},1.76,1.7247999999999999,{"$f":"AE161/$H$161*880","v":12.32},null,{"$f":"AG161/$H$161*880","v":642.4},{"$f":"AH161/$H$161*880","v":68.64},12.140480000000139,681.70959999999991,0.4,null,null,null,null,null,331.56126247999993,482.35739200000006,18.858311999999955,681.70959999999991,0.93,0.8,0.5,0,0.97,{"$f":"18.8*H160/1000","v":16.544},{"$f":"K160","v":0},{"$f":"0*H160/1000","v":0},6.842294766383997,9.4029613878719527,9.4962912346755814]
["Süßmolke, frisch 1% RP DLG 2014",{"$f":"IF(D161=\"\",\" \",COUNTA($D$8:D161))","v":148},null,"Süßmolke, frisch",1,"DLG 2014",null,60,{"$f":"133.33*H161/1000","v":7.9998000000000014},{"$f":"I161*0.8","v":6.3998400000000011},0,0.86088079199999989,0.8826225996,{"$f":"10*H161/1000","v":0.6},{"$f":"N161*0.97","v":0.58199999999999996},{"$f":"IF(N161=\" \",\" \",(I161/H161*880*0.0401-0.62)/880*H161)","v":0.27851925272727279},{"$f":"IF(N161=\" \",\" \",P161*(0.98*2+0.93*2.8)/4.8)","v":0.2648253894681819},{"$f":"IF(N161=\" \",\" \",(I161/H161*880*0.0576+0.41)/880*H161)","v":0.48874302545454557},{"$f":"R161*0.89","v":0.43498129265454555},{"$f":"IF(N161=\" \",\" \",(I161/H161*880*0.0186-0.34)/880*H161)","v":0.12561446181818181},{"$f":"T161*0.97","v":0.12184602796363635},{"$f":"6.66*$H$161/1000","v":0.39960000000000001},{"$f":"6.66*$H$161/1000","v":0.39960000000000001},{"$f":"W161*0.8","v":0.31968000000000002},{"$f":"X161*0.8","v":0.25574400000000003},{"$f":"1.66*$H$161/1000","v":9.9599999999999994E-2},{"$f":"7.33*$H$161/1000","v":0.43980000000000002},{"$f":"21.66*$H$161/1000","v":1.2995999999999999},{"$f":"IF(H161=\"\",\"\",2/1000*$H161)","v":0.12},{"$f":"AC161*0.98","v":0.1176},{"$f":"14*$H161/1000","v":0.84},null,{"$f":"730*$H161/1000","v":43.8},{"$f":"78*$H161/1000","v":4.68},0.82775999999999783,46.480199999999996,{"$f":"0.4*H161/H160","v":2.7272727272727271E-2},null,null,null,null,null,22.606449714545448,32.888004000000002,1.2857939999999957,46.480199999999996,0.93,0.8,0.5,0,0.97,{"$f":"18.8*H161/1000","v":1.1279999999999999},{"$f":"K161","v":0},{"$f":"0*H161/1000","v":0},0.46652009770799996,-0.21510240408327613,0.64747440236424425]
["Sauermolke, milchsauer 88 % TM 8% RP DLG 2014",{"$f":"IF(D162=\"\",\" \",COUNTA($D$8:D162))","v":149},null,"Sauermolke, milchsauer 88 % TM",8,"DLG 2014",null,880,{"$f":"I163/$H163*880","v":82.5},{"$f":"I162*0.7","v":57.749999999999993},{"$f":"K163/$H163*880","v":0},11.801490800000002,12.325555880000001,{"$f":"N163/$H163*880","v":9.68},{"$f":"N162*0.83","v":8.0343999999999998},{"$f":"IF(N162=\" \",\" \",(I162/H162*880*0.0401-0.62)/880*H162)","v":2.6882499999999996},{"$f":"IF(N162=\" \",\" \",P162*(0.1*0.74+0.2*0.66)/0.3)","v":1.8459316666666667},{"$f":"IF(N162=\" \",\" \",(I162/H162*880*0.0576+0.41)/880*H162)","v":5.1619999999999999},{"$f":"R162*0.7","v":3.6133999999999995},{"$f":"IF(N162=\" \",\" \",(I162/H162*880*0.0186-0.34)/880*H162)","v":1.1944999999999999},{"$f":"T162*0.79","v":0.94365499999999991},{"$f":"V163/$H163*880","v":16.130399999999998},{"$f":"W163/$H163*880","v":11},{"$f":"W162*0.8","v":8.8000000000000007},{"$f":"X162","v":8.8000000000000007},{"$f":"Z163/$H163*880","v":1.4608000000000001},{"$f":"AA163/$H163*880","v":6.6},{"$f":"AB163/$H163*880","v":23.460799999999999},{"$f":"IF(H162=\"\",\"\",1.9/1000*$H162)","v":1.6719999999999999},{"$f":"AC162*0.74","v":1.2372799999999999},{"$f":"16*$H162/1000","v":14.08},null,{"$f":"610*$H162/1000","v":536.79999999999995},{"$f":"110*$H162/1000","v":96.8},118.95400000000018,686.62,0.4,null,null,null,null,null,680.96794999999997,602.11113599999999,129.22140000000002,686.62,0.92,0.7,0.5,0,0.97,{"$f":"18.8*H162/1000","v":16.544},{"$f":"K162","v":0},{"$f":"0*H162/1000","v":0},7.4620557924000011,9.8048288292443999,8.7075605362716431]
["Sauermolke, milchsauer, frisch 1% RP DLG 2014",{"$f":"IF(D163=\"\",\" \",COUNTA($D$8:D163))","v":150},null,"Sauermolke, milchsauer, frisch",1,"DLG 2014",null,64,6,{"$f":"I163*0.7","v":4.1999999999999993},0,0.85829024000000009,0.89640406400000006,{"$f":"11*$H$163/1000","v":0.70399999999999996},{"$f":"N163*0.83","v":0.58431999999999995},{"$f":"IF(N163=\" \",\" \",(I163/H163*880*0.0401-0.62)/880*H163)","v":0.19550909090909088},{"$f":"IF(N163=\" \",\" \",P163*(0.1*0.74+0.2*0.66)/0.3)","v":0.13424957575757576},{"$f":"IF(N163=\" \",\" \",(I163/H163*880*0.0576+0.41)/880*H163)","v":0.37541818181818182},{"$f":"R163*0.7","v":0.26279272727272723},{"$f":"IF(N163=\" \",\" \",(I163/H163*880*0.0186-0.34)/880*H163)","v":8.6872727272727268E-2},{"$f":"T163*0.79","v":6.8629454545454549E-2},{"$f":"18.33*$H$163/1000","v":1.1731199999999999},0.8,{"$f":"W163*0.8","v":0.64000000000000012},{"$f":"X163","v":0.64000000000000012},{"$f":"1.66*$H$163/1000","v":0.10624},{"$f":"7.5*$H$163/1000","v":0.48},{"$f":"26.66*$H$163/1000","v":1.70624},{"$f":"IF(H163=\"\",\"\",1.9/1000*$H163)","v":0.1216},{"$f":"AC163*0.74","v":8.9983999999999995E-2},{"$f":"16*$H163/1000","v":1.024},null,{"$f":"610*$H163/1000","v":39.04},{"$f":"110*$H163/1000","v":7.04},8.65120000000001,49.936,{"$f":"0.4*H163/H162","v":2.9090909090909091E-2},null,null,null,null,null,49.524941818181802,43.789900799999998,9.3979199999999992,49.936,0.92,0.7,0.5,0,0.97,{"$f":"18.8*H163/1000","v":1.2032},{"$f":"K163","v":0},{"$f":"0*H163/1000","v":0},0.54269496672000006,-0.57320673929567989,0.63327712991066498]
[{"$f":"IF(E164=\" \",D164&\" \"&F164,D164&\" \"&E164&\"% RP \"&F164)","v":"Trockenschnitzel 8% RP DLG 2014"},{"$f":"IF(D164=\"\",\" \",COUNTA($D$8:D164))","v":151},null,"Trockenschnitzel",{"$f":"IF(I164=0,\" \",ROUND(I164/10,0))","v":8},"DLG 2014",null,900,75,{"$f":"I164*0.4","v":30},171,10.142751000000001,6.8580390000000007,{"$f":"IF(I164=0,\" \",(I164/H164*880*0.06-0.6)/880*H164)","v":3.8863636363636358},{"$f":"N164*0.55","v":2.1374999999999997},{"$f":"IF(N164=\" \",\" \",(I164/H164*880*0.02+0.4)/880*H164)","v":1.9090909090909094},{"$f":"IF(N164=\" \",\" \",P164*(1.3*0.59+0.9*0.46)/2.2)","v":1.0248347107438018},{"$f":"IF(N164=\" \",\" \",(I164/H164*880*0.04+0.7)/880*H164)","v":3.7159090909090908},{"$f":"R164*0.28","v":1.0404545454545455},{"$f":"IF(N164=\" \",\" \",(I164/H164*880*0.01+0.4)/880*H164)","v":1.1590909090909092},{"$f":"T164*0.5","v":0.57954545454545459},12.6,0.9,{"$f":"W164*0.1","v":9.0000000000000011E-2},{"$f":"W164*0.75","v":0.67500000000000004},1.8,0.5,6.5,{"$f":"IF($I164=\"\",\" \",($I164/H164*880*0.01+0.4)/880*H164)","v":1.1590909090909092},{"$f":"AC164*0.59","v":0.68386363636363634},9,null,81,63,557.79000000000008,582,3.3,null,null,null,null,null,857.20181818181811,528.74400000000003,581.31000000000006,582,0.8,0.4,0.09,0.81,0.9,{"$f":"1.4*H164/1000","v":1.26},180,342,-3.6096315300000001,6.0716724485399984,6.1867589150800795]
[{"$f":"IF(E165=\" \",D165&\" \"&F165,D165&\" \"&E165&\"% RP \"&F165)","v":"eigenes Trockenschnitzel "},{"$f":"IF(D165=\"\",\" \",COUNTA($D$8:D165))","v":152},null,"eigenes Trockenschnitzel",{"$f":"IF(I165=0,\" \",ROUND(I165/10,0))","v":" "},null,null,null,null,{"$f":"IF(I165=0,\" \",I165*0.38)","v":" "},null,{"$f":"IF($I165=\"\",\" \",I165*0.0205*AV165+0.0398*AW165*AE165+0.0173*AF165+0.016*$AG165+0.0147*AI165)","v":" "}," ",{"$f":"IF(I165=0,\" \",(I165/H165*880*0.06-0.6)/880*H165)","v":" "},{"$f":"IF(N165=\" \",\" \",N165*0.55)","v":" "},{"$f":"IF(N165=\" \",\" \",(I165/H165*880*0.02+0.4)/880*H165)","v":" "},{"$f":"IF(N165=\" \",\" \",P165*0.53)","v":" "},{"$f":"IF(N165=\" \",\" \",(I165/H165*880*0.04+0.7)/880*H165)","v":" "},{"$f":"IF(N165=\" \",\" \",R165*0.28)","v":" "},{"$f":"IF(N165=\" \",\" \",(I165/H165*880*0.01+0.4)/880*H165)","v":" "},{"$f":"IF(N165=\" \",\" \",T165*0.4)","v":" "},{"$f":"IF($I165=0,\" \",V164*$H165/$H164)","v":" "}," "," "," "," "," "," ",{"$f":"IF($I165=\"\",\" \",($I165/H165*880*0.01+0.4)/880*H165)","v":" "},{"$f":"IF(AC165=\" \",\" \",AC165*0.59)","v":" "},null,null,null,null,{"$f":"IF($I165=\"\",\" \",(H165-AH165)*AU165-I165*AV165-AE165*AW165-AF165-AG165)","v":" "}," ",{"$f":"IF($I165=0,\" \",AK164*$H165/$H164)","v":" "}," "," ",null,null,null,"","",{"$f":"IF($I165=0,\" \",AX165*K165+AY165*AT165-AF165-AG165)","v":" "}," ",{"$f":"IF($I165=0,\" \",AU164)","v":" "},{"$f":"IF($I165=0,\" \",AV164)","v":" "},{"$f":"IF($I165=0,\" \",AW164)","v":" "},{"$f":"IF($I165=0,\" \",AX164)","v":" "},{"$f":"IF($I165=0,\" \",AY164)","v":" "},{"$f":"IF($I165=0,\" \",AZ164*$H165/$H164)","v":" "},{"$f":"IF($I165=0,\" \",BA164*$H165/$H164*K165/K164)","v":" "},{"$f":"IF($I165=0,\" \",BB164*$H165/$H164*K165/K164)","v":" "},"","",""]
[{"$f":"IF(E166=\" \",D166&\" \"&F166,D166&\" \"&E166&\"% RP \"&F166)","v":"Wasser "},{"$f":"IF(D166=\"\",\" \",COUNTA($D$8:D166))","v":153},null,"Wasser",{"$f":"IF(I166=0,\" \",ROUND(I166/10,0))","v":" "},null,null,0,null,null,null,{"$f":"I166*0.0205*AV166+0.0398*AW166*AE166+0.0173*AF166+0.016*$AG166+0.0147*AI166","v":0},0,null,null,null,null,null,null,null,null,0.5,null,null,null,null,{"$f":"0.25","v":0.25},{"$f":"0.25","v":0.25},null,null,null,null,null,null,null,null,null,null,null,null,null,null,38.282253521126762,10.07,null,null,null,null,null,null,null,{"$f":"(0.93*23*AA166)/35.5+Z166","v":0.15063380281690142},{"$f":"K166","v":0},{"$f":"0*H166/1000","v":0},0]
["Weizenkleie 14% RP DLG 2014",{"$f":"IF(D167=\"\",\" \",COUNTA($D$8:D167))","v":154},null,"Weizenkleie",14,"DLG 2014",null,880,141,{"$f":"I167*0.78","v":109.98},114,{"$f":"I167*0.0205*AV167+0.0398*AW167*AE167+0.0173*AF167+0.016*$AG167+0.0147*AI167","v":8.8198340000000002},{"$f":"IF(I167=\"\",\" \",$I167*0.021503+0.032497*$AE167+0.016309*$AF167+0.014701*$AJ167-0.021071*$K167)","v":9.9156990000000018},{"$f":"IF(I167=0,\" \",(I167/H167*880*0.04+0.4)/880*H167)","v":6.04},{"$f":"IF(N167=\" \",\" \",N167*0.71)","v":4.2884000000000002},{"$f":"IF(N167=\" \",\" \",(I167/H167*880*0.03+0.2)/880*H167)","v":4.43},{"$f":"IF(N167=\" \",\" \",P167*(2.1*0.77+3.2*0.68)/5.3)","v":3.1703754716981134},{"$f":"IF(N167=\" \",\" \",(I167/H167*880*0.03+0.4)/880*H167)","v":4.63},{"$f":"IF(N167=\" \",\" \",R167*0.66)","v":3.0558000000000001},{"$f":"IF(N167=\" \",\" \",(I167/H167*880*0.01+0.2)/880*H167)","v":1.6099999999999999},{"$f":"IF(N167=\" \",\" \",T167*0.75)","v":1.2075},1.3,11.4,{"$f":"W167*0.4","v":4.5600000000000005},{"$f":"W167*0.75","v":8.5500000000000007},4.7,0.4,11.5,{"$f":"IF($I167=\"\",\" \",($I167/H167*880*0.01+0.1)/880*H167)","v":1.51},{"$f":"AC167*0.77","v":1.1627000000000001},39,132,56,55,{"$f":"(H167-AH167)*AU167-I167*AV167-AE167*AW167-AF167-AG167","v":177.51999999999998},{"$f":"IF($I167=\"\",\" \",$H167-($AE167+$AF167+$AH167+$I167+$K167))","v":399},{"$f":"AL167+AM167","v":24.18},{"$f":"57*AE167/100","v":22.23},{"$f":"5*AE167/100","v":1.95},null,null,null,7.0140000000000242,607.10199999999998,{"$f":"AX167*K167+AY167*AT167-AF167-AG167","v":175.39000000000004},531,0.6,0.78,0.5,0.16,0.65,{"$f":"1.4*H167/1000","v":1.232},128,450,2.7414602700000001,{"$f":"IF(H167=\"\",\"\",((((0.703*(4168-(91*AH167/10/H167*1000)+(19*I167/10/H167*1000)+(39*AE167/10/H167*1000)-(36*BB167/10/H167*1000))+(15.8*AE167/10/H167*1000)+(4.7*AF167/10/H167*1000)-(9.7*I167/10/H167*1000)-(9.8*K167/10/H167*1000))*0.0041868)+((0.7*(4168-(91*AH166/10/H167*1000)+(19*I167/10/H167*1000)+(39*AE167/10/H167*1000)-(36*BB167/10/H167*1000))+(16.1*AE167/10/H167*1000)+(4.8*AF167/10/H167*1000)-(9.1*I167/10/H167*1000)-(8.7*BA167/10/H167*1000))*0.0041868))/2)/1000*H167)","v":6.012617467067999},{"$f":"IF(H167=\"\",\"\",((0.703*((((4168-(91*AH167/10/H167*1000)+(19*I167/10/H167*1000)+(39*AE167/10/H167*1000)-(36*BB167/10/H167*1000))*0.0041868*1.014)+(0.066*K167/10/H167*1000))/0.0041868)+(15.8*AE167/10/H167*1000)+(4.7*AF167/10/H167*1000)-(9.7*I167/10/H167*1000)-(9.8*K167/10/H167*1000))*0.0041868)/1000*H167)","v":5.8778780791163019}]
["eigene Weizenkleie ",{"$f":"IF(D168=\"\",\" \",COUNTA($D$8:D168))","v":155},null,"eigene Weizenkleie"," ",null,null,null,null,{"$f":"IF(I168=0,\" \",I168*0.72)","v":" "},null,{"$f":"IF($I168=\"\",\" \",I168*0.0205*AV168+0.0398*AW168*AE168+0.0173*AF168+0.016*$AG168+0.0147*AI168)","v":" "},{"$f":"IF(I168=\"\",\" \",$I168*0.021503+0.032497*$AE168+0.016309*$AF168+0.014701*$AJ168-0.021071*$K168)","v":" "},{"$f":"IF(I168=0,\" \",(I168/H168*880*0.04+0.4)/880*H168)","v":" "},{"$f":"IF(N168=\" \",\" \",N168*0.71)","v":" "},{"$f":"IF(N168=\" \",\" \",(I168/H168*880*0.03+0.2)/880*H168)","v":" "},{"$f":"IF(N168=\" \",\" \",P168*0.73)","v":" "},{"$f":"IF(N168=\" \",\" \",(I168/H168*880*0.03+0.4)/880*H168)","v":" "},{"$f":"IF(N168=\" \",\" \",R168*0.66)","v":" "},{"$f":"IF(N168=\" \",\" \",(I168/H168*880*0.01+0.2)/880*H168)","v":" "},{"$f":"IF(N168=\" \",\" \",T168*0.75)","v":" "},{"$f":"IF($I168=0,\" \",V167*$H168/$H167)","v":" "}," "," "," "," "," "," ",{"$f":"IF($I168=\"\",\" \",($I168/H168*880*0.01+0.1)/880*H168)","v":" "},{"$f":"IF(AC168=\" \",\" \",AC168*0.77)","v":" "},null,null,null,null,{"$f":"IF($I168=\"\",\" \",(H168-AH168)*AU168-I168*AV168-AE168*AW168-AF168-AG168)","v":" "},{"$f":"IF($I168=\"\",\" \",$H168-($AE168+$AF168+$AH168+$I168+$K168))","v":" "},{"$f":"IF($I168=0,\" \",AK167*$H168/$H167)","v":" "}," "," ",null,null,null,"","",{"$f":"IF($I168=0,\" \",AX168*K168+AY168*AT168-AF168-AG168)","v":" "}," ",{"$f":"IF($I168=0,\" \",AU167)","v":" "},{"$f":"IF($I168=0,\" \",AV167)","v":" "},{"$f":"IF($I168=0,\" \",AW167)","v":" "},{"$f":"IF($I168=0,\" \",AX167)","v":" "},{"$f":"IF($I168=0,\" \",AY167)","v":" "},{"$f":"IF($I168=0,\" \",AZ167*$H168/$H167)","v":" "},{"$f":"IF($I168=0,\" \",BA167*$H168/$H167*K168/K167)","v":" "},{"$f":"IF($I168=0,\" \",BB167*$H168/$H167*K168/K167)","v":" "},"",{"$f":"IF(H168=\"\",\"\",((((0.703*(4168-(91*AH168/10/H168*1000)+(19*I168/10/H168*1000)+(39*AE168/10/H168*1000)-(36*BB168/10/H168*1000))+(15.8*AE168/10/H168*1000)+(4.7*AF168/10/H168*1000)-(9.7*I168/10/H168*1000)-(9.8*K168/10/H168*1000))*0.0041868)+((0.7*(4168-(91*AH167/10/H168*1000)+(19*I168/10/H168*1000)+(39*AE168/10/H168*1000)-(36*BB168/10/H168*1000))+(16.1*AE168/10/H168*1000)+(4.8*AF168/10/H168*1000)-(9.1*I168/10/H168*1000)-(8.7*BA168/10/H168*1000))*0.0041868))/2)/1000*H168)","v":""},{"$f":"IF(H168=\"\",\"\",((0.703*((((4168-(91*AH168/10/H168*1000)+(19*I168/10/H168*1000)+(39*AE168/10/H168*1000)-(36*BB168/10/H168*1000))*0.0041868*1.014)+(0.066*K168/10/H168*1000))/0.0041868)+(15.8*AE168/10/H168*1000)+(4.7*AF168/10/H168*1000)-(9.7*I168/10/H168*1000)-(9.8*K168/10/H168*1000))*0.0041868)/1000*H168)","v":""}]
[{"$f":"IF(E169=\" \",D169&\" \"&F169,D169&\" \"&E169&\"% RP \"&F169)","v":"hier neues Futtermittel eingeben % RP "},{"$f":"IF(D169=\"\",\" \",COUNTA($D$8:D169))","v":156},null,"hier neues Futtermittel eingeben",{"$f":"IF(I169=\"\",\"\",ROUND(I169/10,0))","v":""},null,null,null,null,null,null,{"$f":"IF($I169=\"\",\" \",I169*0.0205*AV169+0.0398*AW169*AE169+0.0173*AF169+0.016*$AG169+0.0147*AI169)","v":" "},{"$f":"IF(I169=\"\",\"\",$I169*0.021503+0.032497*$AE169+0.016309*$AF169+0.014701*$AJ169-0.021071*$K169)","v":""},null,null,null,null,null,null,null,null,null,null,null,null,null,null,null,null,null,null,null,null,null,{"$f":"IF($I169=\"\",\"\",(H169-AH169)*AU169-I169*AV169-AE169*AW169-AF169-AG169)","v":""},{"$f":"IF($I169=\"\",\"\",$H169-($AE169+$AF169+$AH169+$I169+$K169))","v":""},null,null,null,null,null,null,{"$f":"IF(H169=\"\",\"\",50*V169+83*Z169+26*AB169+44*AA169-59*W169-13*P169-28*AZ169)","v":""},{"$f":"IF(H169=\"\",\"\",V169/1000*20140+Z169/1000*48600+1100/440*I169)","v":""},{"$f":"IF($H169=\"\",\"\",AX169*K169+AY169*AT169-AF169-AG169)","v":""}," ",null,null,null,null,null,null,null,null,"",{"$f":"IF(H169=\"\",\"\",((((0.703*(4168-(91*AH169/10/H169*1000)+(19*I169/10/H169*1000)+(39*AE169/10/H169*1000)-(36*BB169/10/H169*1000))+(15.8*AE169/10/H169*1000)+(4.7*AF169/10/H169*1000)-(9.7*I169/10/H169*1000)-(9.8*K169/10/H169*1000))*0.0041868)+((0.7*(4168-(91*AH168/10/H169*1000)+(19*I169/10/H169*1000)+(39*AE169/10/H169*1000)-(36*BB169/10/H169*1000))+(16.1*AE169/10/H169*1000)+(4.8*AF169/10/H169*1000)-(9.1*I169/10/H169*1000)-(8.7*BA169/10/H169*1000))*0.0041868))/2)/1000*H169)","v":""},{"$f":"IF(H169=\"\",\"\",((0.703*((((4168-(91*AH169/10/H169*1000)+(19*I169/10/H169*1000)+(39*AE169/10/H169*1000)-(36*BB169/10/H169*1000))*0.0041868*1.014)+(0.066*K169/10/H169*1000))/0.0041868)+(15.8*AE169/10/H169*1000)+(4.7*AF169/10/H169*1000)-(9.7*I169/10/H169*1000)-(9.8*K169/10/H169*1000))*0.0041868)/1000*H169)","v":""}]
[]
[null,null,null,"* Häufigkeitsverteilung Proben",null,"** berechnet nach Einzelfutterformel nur in Ausnahmefällen nach Mischfutterformel",null,null,null,null,null,"***nach INRA Tab. 2004 (Rohproteinäquivalente; N * 6,25)"]
[null,null,null,"Quellenangabe: DLG Futterwerttabellen 2014, und 1991. DLG 2005: Kleiner Helfer für die Berechnung von Futterrationen. DLG 2009: Internet-Futtermitteldatenbank (FuDb)."]
[null,null,null,"Aminosäuren für Schweine überwiegend berechnet nach den genaueren Regressionsschätzgleichungen von Evonik (früher Degussa) 1996, 2001, 2006, 2011 und 2016 "]
[null,null,null,"Dr. Thomas Priesmann, Dr. Lindermeyer (Futterberechnung für Schweine 15. Auflage 2007) und Prof. Dr. Uwe Herrmann Dobbin (Fette in der Schweinefütterung)."]
[null,null,null,"Rechenmeister 2016 der LWK NRW und Dr. Manfred Weber 2016 - Deutschlandtest Leguminosen."]

{"sheet":"Preiswürdigkeit FUMI","index":13,"n_rows":179,"n_cols":14,"rows_kept":179,"cut":false,"hidden":false,"merged":[[14,12,14,13],[3,1,3,13],[12,12,13,12]]}
[]
[]
[]
[null,"Berechnung der Preiswürdigkeit von Einzelfuttermitteln für Schweine nach der Austauschmethode Löhr."]
[]
[null,"Hierzu werden die Energie MJ ME und das dünndarmverdauliche (dv oder pcv = praecaecal verdauliche) Lysin als wertbestimmende "]
[null,"Inhaltsstoffe berücksichtigt. Als Vergleichsfuttermittel wird hier Weizen (Gerste auch möglich!) als typisches Energiefuttermittel und "]
[null,"Sojaschrot als typisches Eiweißfuttermittel verwendet. Mittels Drop-Down-Menü können auch andere Vergleichsfuttermittel "]
[null,"ausgewählt werden! Bei Öko-Preisvergleichen z.B. Weizen öko und Sojakuchen und bei GVO-freier Fütterung Sojaschrot GVO-frei, Brasil."]
[null,"Geben Sie bitte 1. nur den Preis  des Energieverleichfuttermittels und 2. den Preis des Eiweißvergleichsfuttermittels ein, "]
[null,"die Austauschpreise (preiswürdig bis zu diesem Preis bei den eingegebenen Vergleichsfuttermittelpreisen) werden dann automatisch errechnet!"]
[]
[null,"Futtermittel","% Roh-protein             in der FM","Qualität","Proben","Trocken-masse (TM)","Roh-protein (XP)","vd. Roh-protein (XP)","Rohfaser (XF)","ME **","Lysin (Lys)","verdaul. Lysin        (dv. Lys)","Markt-preise Einkauf frei Hof","Austausch-Preis"]
[null,null,"in %",null,"in % *","g","g","g","g","MJ","g","g"]
[null,null,null,{"$f":"IF(Futterberechnung!F13=\"\",\"\",Futterberechnung!F13)*'Preiswürdigkeit FUMI'!M1738","v":0},null,"G E H A L T E     J E     K G     F U T T E R M I T T E L",null,null,null,null,null,null,"Preis in €/dt"]
[null,"eigener Weizen 10% RP Ø 2018",{"$f":"IF($B16=\"\",\" \",VLOOKUP($B16,Futtermittel!$A$8:$CG$171,5,FALSE))","v":10},{"$f":"IF($B16=\"\",\" \",VLOOKUP($B16,Futtermittel!$A$8:$CG$171,6,FALSE))","v":"Ø 2018"},{"$f":"IF($B16=\"\",\" \",VLOOKUP($B16,Futtermittel!$A$8:$CG$171,7,FALSE))","v":0},{"$f":"IF($B16=\"\",\" \",VLOOKUP($B16,Futtermittel!$A$8:$CG$171,8,FALSE))","v":880},{"$f":"IF($B16=\"\",\" \",VLOOKUP($B16,Futtermittel!$A$8:$CG$171,9,FALSE))","v":99.04},{"$f":"IF($B16=\"\",\" \",VLOOKUP($B16,Futtermittel!$A$8:$CG$171,10,FALSE))","v":89.13600000000001},{"$f":"IF($B16=\"\",\" \",VLOOKUP($B16,Futtermittel!$A$8:$CG$171,11,FALSE))","v":26.37},{"$f":"IF($B16=\"\",\" \",VLOOKUP($B16,Futtermittel!$A$8:$CG$171,12,FALSE))","v":13.627244000000001},{"$f":"IF($B16=\"\",\" \",VLOOKUP($B16,Futtermittel!$A$8:$CG$171,14,FALSE))","v":3.1808000000000001},{"$f":"IF($B16=\"\",\" \",VLOOKUP($B16,Futtermittel!$A$8:$CG$171,15,FALSE))","v":2.7991040000000003},20]
[null,"Sojaschrot 43% RP ",{"$f":"IF($B17=\"\",\" \",VLOOKUP($B17,Futtermittel!$A$8:$CG$171,5,FALSE))","v":43},{"$f":"IF($B17=\"\",\" \",VLOOKUP($B17,Futtermittel!$A$8:$CG$171,6,FALSE))","v":0},{"$f":"IF($B17=\"\",\" \",VLOOKUP($B17,Futtermittel!$A$8:$CG$171,7,FALSE))","v":"19"},{"$f":"IF($B17=\"\",\" \",VLOOKUP($B17,Futtermittel!$A$8:$CG$171,8,FALSE))","v":890},{"$f":"IF($B17=\"\",\" \",VLOOKUP($B17,Futtermittel!$A$8:$CG$171,9,FALSE))","v":429},{"$f":"IF($B17=\"\",\" \",VLOOKUP($B17,Futtermittel!$A$8:$CG$171,10,FALSE))","v":351.78},{"$f":"IF($B17=\"\",\" \",VLOOKUP($B17,Futtermittel!$A$8:$CG$171,11,FALSE))","v":69},{"$f":"IF($B17=\"\",\" \",VLOOKUP($B17,Futtermittel!$A$8:$CG$171,12,FALSE))","v":13.097460999999999},{"$f":"IF($B17=\"\",\" \",VLOOKUP($B17,Futtermittel!$A$8:$CG$171,14,FALSE))","v":26.623745454545457},{"$f":"IF($B17=\"\",\" \",VLOOKUP($B17,Futtermittel!$A$8:$CG$171,15,FALSE))","v":23.162658545454548},34]
[null,{"$f":"Futtermittel!A6","v":"Getreide"},{"$f":"Futtermittel!E6","v":0},{"$f":"Futtermittel!F6","v":0},{"$f":"Futtermittel!G6","v":0},null,{"$f":"Futtermittel!I6","v":0},{"$f":"Futtermittel!J6","v":0},{"$f":"Futtermittel!K6","v":0},{"$f":"Futtermittel!L6","v":0},{"$f":"Futtermittel!N6","v":0},{"$f":"Futtermittel!O6","v":0}]
[null,{"$f":"Futtermittel!A8","v":"CCM, 65 % TM bis 3 % XF auf 88 % TM 9% RP DLG 2014"},{"$f":"Futtermittel!E8","v":9},{"$f":"Futtermittel!F8","v":"DLG 2014"},{"$f":"Futtermittel!G8","v":0},{"$f":"Futtermittel!H8","v":880},{"$f":"Futtermittel!I8","v":88},{"$f":"Futtermittel!J8","v":71.28},{"$f":"Futtermittel!K8","v":21.661538461538463},{"$f":"Futtermittel!L8","v":13.412773169230768},{"$f":"Futtermittel!N8","v":2.3208000000000002},{"$f":"Futtermittel!O8","v":1.62456},23.47,{"$f":"IF(J19=\" \",\" \",M$16*(J19*(L$17*J19-J$17*L19)/((J$16*(L$17*J19-J$17*L19))+(J$17*(J$16*L19-L$16*J19))))+M$17*((J19*(L$17*J19-J$17*L19)/((J$16*(L$17*J19-J$17*L19))+(J$17*(J$16*L19-L$16*J19))))*((J$16*L19-L$16*J19)/(L$17*J19-J$17*1.00000000000001*L19))))","v":18.869212388864732}]
[null,{"$f":"Futtermittel!A9","v":"CCM, 65 % TM bis 3 % XF in TM 7% RP DLG 2014"},{"$f":"Futtermittel!E9","v":7},{"$f":"Futtermittel!F9","v":"DLG 2014"},{"$f":"Futtermittel!G9","v":0},{"$f":"Futtermittel!H9","v":650},{"$f":"Futtermittel!I9","v":65},{"$f":"Futtermittel!J9","v":52.650000000000006},{"$f":"Futtermittel!K9","v":16},{"$f":"Futtermittel!L9","v":9.9071619999999996},{"$f":"Futtermittel!N9","v":1.7142272727272727},{"$f":"Futtermittel!O9","v":1.1999590909090909},16,13.937486423593267]
[null,{"$f":"Futtermittel!A10","v":"CCM, 61 % TM über 3 % XF auf 88 % TM 9% RP DLG 2014"},{"$f":"Futtermittel!E10","v":9},{"$f":"Futtermittel!F10","v":"DLG 2014"},{"$f":"Futtermittel!G10","v":0},{"$f":"Futtermittel!H10","v":880},{"$f":"Futtermittel!I10","v":88},{"$f":"Futtermittel!J10","v":71.28},{"$f":"Futtermittel!K10","v":34.622950819672127},{"$f":"Futtermittel!L10","v":13.243585723076921},{"$f":"Futtermittel!N10","v":2.3208000000000002},{"$f":"Futtermittel!O10","v":1.5549360000000003},null,{"$f":"IF(J21=\" \",\" \",M$16*(J21*(L$17*J21-J$17*L21)/((J$16*(L$17*J21-J$17*L21))+(J$17*(J$16*L21-L$16*J21))))+M$17*((J21*(L$17*J21-J$17*L21)/((J$16*(L$17*J21-J$17*L21))+(J$17*(J$16*L21-L$16*J21))))*((J$16*L21-L$16*J21)/(L$17*J21-J$17*1.00000000000001*L21))))","v":18.595733112031549}]
[null,{"$f":"Futtermittel!A11","v":"CCM, 61 % TM über 3 % XF in TM 6% RP DLG 2014"},{"$f":"Futtermittel!E11","v":6},{"$f":"Futtermittel!F11","v":"DLG 2014"},{"$f":"Futtermittel!G11","v":0},{"$f":"Futtermittel!H11","v":610},{"$f":"Futtermittel!I11","v":61},{"$f":"Futtermittel!J11","v":47.58},{"$f":"Futtermittel!K11","v":24},{"$f":"Futtermittel!L11","v":9.1966980000000014},{"$f":"Futtermittel!N11","v":1.6087363636363636},{"$f":"Futtermittel!O11","v":1.0778533636363636},null,{"$f":"IF(J22=\" \",\" \",M$16*(J22*(L$17*J22-J$17*L22)/((J$16*(L$17*J22-J$17*L22))+(J$17*(J$16*L22-L$16*J22))))+M$17*((J22*(L$17*J22-J$17*L22)/((J$16*(L$17*J22-J$17*L22))+(J$17*(J$16*L22-L$16*J22))))*((J$16*L22-L$16*J22)/(L$17*J22-J$17*1.00000000000001*L22))))","v":12.911974309648716}]
[null,{"$f":"Futtermittel!A12","v":"eigenes CCM 6% RP Ø 2017"},{"$f":"Futtermittel!E12","v":6},{"$f":"Futtermittel!F12","v":"Ø 2017"},{"$f":"Futtermittel!G12","v":0},{"$f":"Futtermittel!H12","v":632},{"$f":"Futtermittel!I12","v":57.512},{"$f":"Futtermittel!J12","v":46.584720000000004},{"$f":"Futtermittel!K12","v":17.064},{"$f":"Futtermittel!L12","v":9.7846894239999997},{"$f":"Futtermittel!N12","v":1.5694915636363638},{"$f":"Futtermittel!O12","v":1.0986440945454545},16,13.702766411922889]
[null,{"$f":"Futtermittel!A13","v":"Gerste  14% RP "},{"$f":"Futtermittel!E13","v":14},{"$f":"Futtermittel!F13","v":0},{"$f":"Futtermittel!G13","v":1},{"$f":"Futtermittel!H13","v":880},{"$f":"Futtermittel!I13","v":138.4},{"$f":"Futtermittel!J13","v":101.032},{"$f":"Futtermittel!K13","v":49.4},{"$f":"Futtermittel!L13","v":12.668151399999999},{"$f":"Futtermittel!N13","v":4.0680000000000005},{"$f":"Futtermittel!O13","v":2.9696400000000005},25,18.857689030528565]
[null,{"$f":"Futtermittel!A14","v":"Gerste  13% RP "},{"$f":"Futtermittel!E14","v":13},{"$f":"Futtermittel!F14","v":0},{"$f":"Futtermittel!G14","v":"7"},{"$f":"Futtermittel!H14","v":880},{"$f":"Futtermittel!I14","v":128},{"$f":"Futtermittel!J14","v":93.44},{"$f":"Futtermittel!K14","v":52.2},{"$f":"Futtermittel!L14","v":12.638889899999999},{"$f":"Futtermittel!N14","v":3.8600000000000008},{"$f":"Futtermittel!O14","v":2.8178000000000005},25,18.70947958350331]
[null,{"$f":"Futtermittel!A15","v":"Gerste  12% RP "},{"$f":"Futtermittel!E15","v":12},{"$f":"Futtermittel!F15","v":0},{"$f":"Futtermittel!G15","v":"19"},{"$f":"Futtermittel!H15","v":880},{"$f":"Futtermittel!I15","v":119.3},{"$f":"Futtermittel!J15","v":87.088999999999999},{"$f":"Futtermittel!K15","v":53.3},{"$f":"Futtermittel!L15","v":12.621783799999999},{"$f":"Futtermittel!N15","v":3.6860000000000004},{"$f":"Futtermittel!O15","v":2.6907800000000002},25,18.595223514620457]
[null,{"$f":"Futtermittel!A16","v":"Gerste  11% RP "},{"$f":"Futtermittel!E16","v":11},{"$f":"Futtermittel!F16","v":0},{"$f":"Futtermittel!G16","v":"41"},{"$f":"Futtermittel!H16","v":880},{"$f":"Futtermittel!I16","v":109.8},{"$f":"Futtermittel!J16","v":80.153999999999996},{"$f":"Futtermittel!K16","v":55.3},{"$f":"Futtermittel!L16","v":12.5864011},{"$f":"Futtermittel!N16","v":3.4960000000000009},{"$f":"Futtermittel!O16","v":2.5520800000000006},25,18.448422693135043]
[null,{"$f":"Futtermittel!A17","v":"Gerste  10% RP  DLG 2014"},{"$f":"Futtermittel!E17","v":10},{"$f":"Futtermittel!F17","v":" DLG 2014"},{"$f":"Futtermittel!G17","v":0},{"$f":"Futtermittel!H17","v":870},{"$f":"Futtermittel!I17","v":104},{"$f":"Futtermittel!J17","v":75.92},{"$f":"Futtermittel!K17","v":48},{"$f":"Futtermittel!L17","v":12.47168224},{"$f":"Futtermittel!N17","v":3.3652272727272723},{"$f":"Futtermittel!O17","v":2.4566159090909085},25,18.228156135675675]
[null,{"$f":"Futtermittel!A18","v":"eigene Gerste 10% RP Ø 2018"},{"$f":"Futtermittel!E18","v":10},{"$f":"Futtermittel!F18","v":"Ø 2018"},{"$f":"Futtermittel!G18","v":0},{"$f":"Futtermittel!H18","v":880},{"$f":"Futtermittel!I18","v":97.13},{"$f":"Futtermittel!J18","v":70.904899999999998},{"$f":"Futtermittel!K18","v":55.59},{"$f":"Futtermittel!L18","v":12.512543189999999},{"$f":"Futtermittel!N18","v":3.2425999999999999},{"$f":"Futtermittel!O18","v":2.3670979999999999},25,18.217450759317305]
[null,{"$f":"Futtermittel!A19","v":"eigene Gerste 2 11% RP Ø 2017"},{"$f":"Futtermittel!E19","v":11},{"$f":"Futtermittel!F19","v":"Ø 2017"},{"$f":"Futtermittel!G19","v":0},{"$f":"Futtermittel!H19","v":880},{"$f":"Futtermittel!I19","v":106.8},{"$f":"Futtermittel!J19","v":77.963999999999999},{"$f":"Futtermittel!K19","v":53.8},{"$f":"Futtermittel!L19","v":12.565658899999999},{"$f":"Futtermittel!N19","v":3.4359999999999999},{"$f":"Futtermittel!O19","v":2.5082800000000001},25,18.389439756268082]
[null,{"$f":"Futtermittel!A20","v":"Gerste  10% RP "},{"$f":"Futtermittel!E20","v":10},{"$f":"Futtermittel!F20","v":0},{"$f":"Futtermittel!G20","v":"23"},{"$f":"Futtermittel!H20","v":880},{"$f":"Futtermittel!I20","v":100.7},{"$f":"Futtermittel!J20","v":73.510999999999996},{"$f":"Futtermittel!K20","v":54},{"$f":"Futtermittel!L20","v":12.555051500000001},{"$f":"Futtermittel!N20","v":3.3140000000000001},{"$f":"Futtermittel!O20","v":2.4192200000000001},25,18.311158543585989]
[null,{"$f":"Futtermittel!A21","v":"Gerste  9% RP "},{"$f":"Futtermittel!E21","v":9},{"$f":"Futtermittel!F21","v":0},{"$f":"Futtermittel!G21","v":"9"},{"$f":"Futtermittel!H21","v":880},{"$f":"Futtermittel!I21","v":90.6},{"$f":"Futtermittel!J21","v":66.137999999999991},{"$f":"Futtermittel!K21","v":52.3},{"$f":"Futtermittel!L21","v":12.574137799999999},{"$f":"Futtermittel!N21","v":3.1120000000000001},{"$f":"Futtermittel!O21","v":2.27176},25,18.229899876885867]
[null,{"$f":"Futtermittel!A22","v":"Gerste öko 9% RP Ø Hessen"},{"$f":"Futtermittel!E22","v":9},{"$f":"Futtermittel!F22","v":"Ø Hessen"},{"$f":"Futtermittel!G22","v":"100"},{"$f":"Futtermittel!H22","v":880},{"$f":"Futtermittel!I22","v":87.3},{"$f":"Futtermittel!J22","v":63.728999999999999},{"$f":"Futtermittel!K22","v":58.7},{"$f":"Futtermittel!L22","v":12.560165599999998},{"$f":"Futtermittel!N22","v":3.0460000000000003},{"$f":"Futtermittel!O22","v":2.2235800000000001},37,18.176687542998021]
[null,{"$f":"Futtermittel!A23","v":"Gerste Sommer 10% RP Ø Hessen"},{"$f":"Futtermittel!E23","v":10},{"$f":"Futtermittel!F23","v":"Ø Hessen"},{"$f":"Futtermittel!G23","v":"100"},{"$f":"Futtermittel!H23","v":880},{"$f":"Futtermittel!I23","v":99.4},{"$f":"Futtermittel!J23","v":72.561999999999998},{"$f":"Futtermittel!K23","v":49.9},{"$f":"Futtermittel!L23","v":12.698748999999998},{"$f":"Futtermittel!N23","v":3.6955400000000003},{"$f":"Futtermittel!O23","v":2.6977442000000003},25,18.701796899635593]
[null,{"$f":"Futtermittel!A25","v":"Hafer  11% RP DLG 2014"},{"$f":"Futtermittel!E25","v":11},{"$f":"Futtermittel!F25","v":"DLG 2014"},{"$f":"Futtermittel!G25","v":0},{"$f":"Futtermittel!H25","v":880},{"$f":"Futtermittel!I25","v":108},{"$f":"Futtermittel!J25","v":95.04},{"$f":"Futtermittel!K25","v":97},{"$f":"Futtermittel!L25","v":11.675204000000001},{"$f":"Futtermittel!N25","v":4.7200000000000006},{"$f":"Futtermittel!O25","v":4.484},24,18.640720588616837]
[null,{"$f":"Futtermittel!A26","v":"eigener Hafer 11% RP Ø 2016"},{"$f":"Futtermittel!E26","v":11},{"$f":"Futtermittel!F26","v":"Ø 2016"},{"$f":"Futtermittel!G26","v":0},{"$f":"Futtermittel!H26","v":880},{"$f":"Futtermittel!I26","v":110.75},{"$f":"Futtermittel!J26","v":97.46},{"$f":"Futtermittel!K26","v":102.39},{"$f":"Futtermittel!L26","v":11.254695379999998},{"$f":"Futtermittel!N26","v":4.83},{"$f":"Futtermittel!O26","v":4.5884999999999998},24,18.161340500569786]
[null,{"$f":"Futtermittel!A27","v":"Hafer  11% RP Ø Hessen"},{"$f":"Futtermittel!E27","v":11},{"$f":"Futtermittel!F27","v":"Ø Hessen"},{"$f":"Futtermittel!G27","v":"100"},{"$f":"Futtermittel!H27","v":880},{"$f":"Futtermittel!I27","v":112.1},{"$f":"Futtermittel!J27","v":98.647999999999996},{"$f":"Futtermittel!K27","v":98.6},{"$f":"Futtermittel!L27","v":11.50815016},{"$f":"Futtermittel!N27","v":4.8840000000000003},{"$f":"Futtermittel!O27","v":4.6398000000000001},24,18.532773726671245]
[null,{"$f":"Futtermittel!A28","v":"Hirse - Sorghum 10% RP DLG 2014"},{"$f":"Futtermittel!E28","v":10},{"$f":"Futtermittel!F28","v":"DLG 2014"},{"$f":"Futtermittel!G28","v":0},{"$f":"Futtermittel!H28","v":880},{"$f":"Futtermittel!I28","v":97},{"$f":"Futtermittel!J28","v":71.78},{"$f":"Futtermittel!K28","v":26},{"$f":"Futtermittel!L28","v":13.747688000000002},{"$f":"Futtermittel!N28","v":2.34},{"$f":"Futtermittel!O28","v":1.8719999999999999},28.5,19.489701827417971]
[null,{"$f":"Futtermittel!A29","v":"eigene Hirse - Sorghum 10% RP "},{"$f":"Futtermittel!E29","v":10},{"$f":"Futtermittel!F29","v":0},{"$f":"Futtermittel!G29","v":0},{"$f":"Futtermittel!H29","v":880},{"$f":"Futtermittel!I29","v":100},{"$f":"Futtermittel!J29","v":74},{"$f":"Futtermittel!K29","v":56},{"$f":"Futtermittel!L29","v":13.510816},{"$f":"Futtermittel!N29","v":2.4},{"$f":"Futtermittel!O29","v":1.92},28.5,19.211825137041814]
[null,{"$f":"Futtermittel!A30","v":"Mais, Körner 9% RP DLG 2014"},{"$f":"Futtermittel!E30","v":9},{"$f":"Futtermittel!F30","v":"DLG 2014"},{"$f":"Futtermittel!G30","v":0},{"$f":"Futtermittel!H30","v":880},{"$f":"Futtermittel!I30","v":92},{"$f":"Futtermittel!J30","v":75.44},{"$f":"Futtermittel!K30","v":23},{"$f":"Futtermittel!L30","v":14.186431199999998},{"$f":"Futtermittel!N30","v":2.5611999999999999},{"$f":"Futtermittel!O30","v":2.1770199999999997},27,20.288743314830864]
[null,{"$f":"Futtermittel!A31","v":"eigener Mais, Körner "},{"$f":"Futtermittel!E31","v":" "},{"$f":"Futtermittel!F31","v":0},{"$f":"Futtermittel!G31","v":0},{"$f":"Futtermittel!H31","v":0},{"$f":"Futtermittel!I31","v":0},{"$f":"Futtermittel!J31","v":" "},{"$f":"Futtermittel!K31","v":0},{"$f":"Futtermittel!L31","v":" "},{"$f":"Futtermittel!N31","v":" "},{"$f":"Futtermittel!O31","v":" "},27," "]
[null,{"$f":"Futtermittel!A32","v":"Mais, Körner siliert Ganzkorn 7% RP DLG 2014"},{"$f":"Futtermittel!E32","v":7},{"$f":"Futtermittel!F32","v":"DLG 2014"},{"$f":"Futtermittel!G32","v":0},{"$f":"Futtermittel!H32","v":650},{"$f":"Futtermittel!I32","v":65},{"$f":"Futtermittel!J32","v":57.85},{"$f":"Futtermittel!K32","v":16},{"$f":"Futtermittel!L32","v":10.723715000000002},{"$f":"Futtermittel!N32","v":1.836840909090909},{"$f":"Futtermittel!O32","v":1.5613147727272727},null,{"$f":"IF(J42=\" \",\" \",M$16*(J42*(L$17*J42-J$17*L42)/((J$16*(L$17*J42-J$17*L42))+(J$17*(J$16*L42-L$16*J42))))+M$17*((J42*(L$17*J42-J$17*L42)/((J$16*(L$17*J42-J$17*L42))+(J$17*(J$16*L42-L$16*J42))))*((J$16*L42-L$16*J42)/(L$17*J42-J$17*1.00000000000001*L42))))","v":15.275667696119507}]
[null,{"$f":"Futtermittel!A33","v":"Mais, Körner siliert geschrotet 6% RP DLG 2014"},{"$f":"Futtermittel!E33","v":6},{"$f":"Futtermittel!F33","v":"DLG 2014"},{"$f":"Futtermittel!G33","v":0},{"$f":"Futtermittel!H33","v":650},{"$f":"Futtermittel!I33","v":60},{"$f":"Futtermittel!J33","v":54},{"$f":"Futtermittel!K33","v":14},{"$f":"Futtermittel!L33","v":10.964799999999999},{"$f":"Futtermittel!N33","v":1.7438409090909091},{"$f":"Futtermittel!O33","v":1.4822647727272726},null,{"$f":"IF(J43=\" \",\" \",M$16*(J43*(L$17*J43-J$17*L43)/((J$16*(L$17*J43-J$17*L43))+(J$17*(J$16*L43-L$16*J43))))+M$17*((J43*(L$17*J43-J$17*L43)/((J$16*(L$17*J43-J$17*L43))+(J$17*(J$16*L43-L$16*J43))))*((J$16*L43-L$16*J43)/(L$17*J43-J$17*1.00000000000001*L43))))","v":15.536690176866513}]
[null,{"$f":"Futtermittel!A34","v":"Mais, siliert  3% RP DLG 2014"},{"$f":"Futtermittel!E34","v":3},{"$f":"Futtermittel!F34","v":"DLG 2014"},{"$f":"Futtermittel!G34","v":0},{"$f":"Futtermittel!H34","v":350},{"$f":"Futtermittel!I34","v":30},{"$f":"Futtermittel!J34","v":17.7},{"$f":"Futtermittel!K34","v":56},{"$f":"Futtermittel!L34","v":3.7464999999999997},{"$f":"Futtermittel!N34","v":0.8375454545454547},{"$f":"Futtermittel!O34","v":0.61140818181818191},null,{"$f":"IF(J44=\" \",\" \",M$16*(J44*(L$17*J44-J$17*L44)/((J$16*(L$17*J44-J$17*L44))+(J$17*(J$16*L44-L$16*J44))))+M$17*((J44*(L$17*J44-J$17*L44)/((J$16*(L$17*J44-J$17*L44))+(J$17*(J$16*L44-L$16*J44))))*((J$16*L44-L$16*J44)/(L$17*J44-J$17*1.00000000000001*L44))))","v":5.3843928713166163}]
[null,{"$f":"Futtermittel!A35","v":"eigener Mais, siliert "},{"$f":"Futtermittel!E35","v":" "},{"$f":"Futtermittel!F35","v":0},{"$f":"Futtermittel!G35","v":0},{"$f":"Futtermittel!H35","v":0},{"$f":"Futtermittel!I35","v":0},{"$f":"Futtermittel!J35","v":" "},{"$f":"Futtermittel!K35","v":0},{"$f":"Futtermittel!L35","v":" "},{"$f":"Futtermittel!N35","v":" "},{"$f":"Futtermittel!O35","v":" "},null,{"$f":"IF(J45=\" \",\" \",M$16*(J45*(L$17*J45-J$17*L45)/((J$16*(L$17*J45-J$17*L45))+(J$17*(J$16*L45-L$16*J45))))+M$17*((J45*(L$17*J45-J$17*L45)/((J$16*(L$17*J45-J$17*L45))+(J$17*(J$16*L45-L$16*J45))))*((J$16*L45-L$16*J45)/(L$17*J45-J$17*1.00000000000001*L45))))","v":" "}]
[null,{"$f":"Futtermittel!A36","v":"Roggen  11% RP "},{"$f":"Futtermittel!E36","v":11},{"$f":"Futtermittel!F36","v":0},{"$f":"Futtermittel!G36","v":"4"},{"$f":"Futtermittel!H36","v":880},{"$f":"Futtermittel!I36","v":112.1},{"$f":"Futtermittel!J36","v":87.438000000000002},{"$f":"Futtermittel!K36","v":24.1},{"$f":"Futtermittel!L36","v":13.350051919999999},{"$f":"Futtermittel!N36","v":4.3629999999999995},{"$f":"Futtermittel!O36","v":3.0540999999999996},24.5,19.818341285562859]
[null,{"$f":"Futtermittel!A37","v":"Roggen  10% RP "},{"$f":"Futtermittel!E37","v":10},{"$f":"Futtermittel!F37","v":0},{"$f":"Futtermittel!G37","v":"30"},{"$f":"Futtermittel!H37","v":880},{"$f":"Futtermittel!I37","v":98.8},{"$f":"Futtermittel!J37","v":77.064000000000007},{"$f":"Futtermittel!K37","v":24.6},{"$f":"Futtermittel!L37","v":13.257126720000002},{"$f":"Futtermittel!N37","v":3.964},{"$f":"Futtermittel!O37","v":3.1712000000000002},24.5,19.780263602746267]
[null,{"$f":"Futtermittel!A38","v":"Roggen  9% RP DLG 2014"},{"$f":"Futtermittel!E38","v":9},{"$f":"Futtermittel!F38","v":"DLG 2014"},{"$f":"Futtermittel!G38","v":0},{"$f":"Futtermittel!H38","v":870},{"$f":"Futtermittel!I38","v":91},{"$f":"Futtermittel!J38","v":70.98},{"$f":"Futtermittel!K38","v":23},{"$f":"Futtermittel!L38","v":13.159755120000002},{"$f":"Futtermittel!N38","v":3.7186363636363642},{"$f":"Futtermittel!O38","v":2.9749090909090916},24.5,19.510105062630423]
[null,{"$f":"Futtermittel!A39","v":"eigener Roggen 9% RP Ø 2018"},{"$f":"Futtermittel!E39","v":9},{"$f":"Futtermittel!F39","v":"Ø 2018"},{"$f":"Futtermittel!G39","v":0},{"$f":"Futtermittel!H39","v":880},{"$f":"Futtermittel!I39","v":89.66},{"$f":"Futtermittel!J39","v":69.934799999999996},{"$f":"Futtermittel!K39","v":20.53},{"$f":"Futtermittel!L39","v":13.258454460000003},{"$f":"Futtermittel!N39","v":3.6898000000000004},{"$f":"Futtermittel!O39","v":2.9518400000000007},24.5,19.623675188071644]
[null,{"$f":"Futtermittel!A40","v":"Roggen  9% RP "},{"$f":"Futtermittel!E40","v":9},{"$f":"Futtermittel!F40","v":0},{"$f":"Futtermittel!G40","v":"37"},{"$f":"Futtermittel!H40","v":880},{"$f":"Futtermittel!I40","v":90.2},{"$f":"Futtermittel!J40","v":70.356000000000009},{"$f":"Futtermittel!K40","v":24.6},{"$f":"Futtermittel!L40","v":13.222380320000001},{"$f":"Futtermittel!N40","v":3.706},{"$f":"Futtermittel!O40","v":2.9648000000000003},24.5,19.585434541787148]
[null,{"$f":"Futtermittel!A41","v":"Roggen  8% RP "},{"$f":"Futtermittel!E41","v":8},{"$f":"Futtermittel!F41","v":0},{"$f":"Futtermittel!G41","v":"29"},{"$f":"Futtermittel!H41","v":880},{"$f":"Futtermittel!I41","v":80.099999999999994},{"$f":"Futtermittel!J41","v":62.477999999999994},{"$f":"Futtermittel!K41","v":24.6},{"$f":"Futtermittel!L41","v":13.198007920000002},{"$f":"Futtermittel!N41","v":3.4029999999999996},{"$f":"Futtermittel!O41","v":2.7223999999999999},24.5,19.378306929080246]
[null,{"$f":"Futtermittel!A43","v":"Triticale 11% RP DLG 2014"},{"$f":"Futtermittel!E43","v":11},{"$f":"Futtermittel!F43","v":"DLG 2014"},{"$f":"Futtermittel!G43","v":0},{"$f":"Futtermittel!H43","v":870},{"$f":"Futtermittel!I43","v":109},{"$f":"Futtermittel!J43","v":91.56},{"$f":"Futtermittel!K43","v":24},{"$f":"Futtermittel!L43","v":13.375314000000001},{"$f":"Futtermittel!N43","v":3.2675000000000001},{"$f":"Futtermittel!O43","v":2.7446999999999999},25,19.628337985414152]
[null,{"$f":"Futtermittel!A42","v":"Triticale 12% RP "},{"$f":"Futtermittel!E42","v":12},{"$f":"Futtermittel!F42","v":0},{"$f":"Futtermittel!G42","v":"5"},{"$f":"Futtermittel!H42","v":880},{"$f":"Futtermittel!I42","v":119.4},{"$f":"Futtermittel!J42","v":100.29600000000001},{"$f":"Futtermittel!K42","v":26.4},{"$f":"Futtermittel!L42","v":13.552366879999999},{"$f":"Futtermittel!N42","v":3.4880000000000009},{"$f":"Futtermittel!O42","v":2.9299200000000005},25,19.995635206808576]
[null,{"$f":"Futtermittel!A44","v":"eigene Triticale 10% RP Ø 2018"},{"$f":"Futtermittel!E44","v":10},{"$f":"Futtermittel!F44","v":"Ø 2018"},{"$f":"Futtermittel!G44","v":0},{"$f":"Futtermittel!H44","v":880},{"$f":"Futtermittel!I44","v":97.73},{"$f":"Futtermittel!J44","v":82.093199999999996},{"$f":"Futtermittel!K44","v":26.4},{"$f":"Futtermittel!L44","v":13.529855959999997},{"$f":"Futtermittel!N44","v":3.0546000000000002},{"$f":"Futtermittel!O44","v":2.5658639999999999},25,19.70314887755648]
[null,{"$f":"Futtermittel!A45","v":"eigene Triticale 11% RP Ø 2017"},{"$f":"Futtermittel!E45","v":11},{"$f":"Futtermittel!F45","v":"Ø 2017"},{"$f":"Futtermittel!G45","v":0},{"$f":"Futtermittel!H45","v":880},{"$f":"Futtermittel!I45","v":108.2},{"$f":"Futtermittel!J45","v":90.888000000000005},{"$f":"Futtermittel!K45","v":25.8},{"$f":"Futtermittel!L45","v":13.589476799999998},{"$f":"Futtermittel!N45","v":3.2640000000000002},{"$f":"Futtermittel!O45","v":2.7417600000000002},25,19.908778160349684]
[null,{"$f":"Futtermittel!A46","v":"Triticale 11% RP "},{"$f":"Futtermittel!E46","v":11},{"$f":"Futtermittel!F46","v":0},{"$f":"Futtermittel!G46","v":"24"},{"$f":"Futtermittel!H46","v":880},{"$f":"Futtermittel!I46","v":108.2},{"$f":"Futtermittel!J46","v":90.888000000000005},{"$f":"Futtermittel!K46","v":26.4},{"$f":"Futtermittel!L46","v":13.490000479999999},{"$f":"Futtermittel!N46","v":3.2640000000000002},{"$f":"Futtermittel!O46","v":2.7417600000000002},25,19.777530984366308]
[null,{"$f":"Futtermittel!A47","v":"Triticale 10% RP "},{"$f":"Futtermittel!E47","v":10},{"$f":"Futtermittel!F47","v":0},{"$f":"Futtermittel!G47","v":"42"},{"$f":"Futtermittel!H47","v":880},{"$f":"Futtermittel!I47","v":99.5},{"$f":"Futtermittel!J47","v":83.58},{"$f":"Futtermittel!K47","v":26.4},{"$f":"Futtermittel!L47","v":13.46355908},{"$f":"Futtermittel!N47","v":3.09},{"$f":"Futtermittel!O47","v":2.5955999999999997},25,19.637142307515148]
[null,{"$f":"Futtermittel!A48","v":"Triticale 9% RP "},{"$f":"Futtermittel!E48","v":9},{"$f":"Futtermittel!F48","v":0},{"$f":"Futtermittel!G48","v":"26"},{"$f":"Futtermittel!H48","v":880},{"$f":"Futtermittel!I48","v":90.5},{"$f":"Futtermittel!J48","v":76.02},{"$f":"Futtermittel!K48","v":26.3},{"$f":"Futtermittel!L48","v":13.43717608},{"$f":"Futtermittel!N48","v":2.91},{"$f":"Futtermittel!O48","v":2.4443999999999999},25,19.493192668948463]
[null,{"$f":"Futtermittel!A49","v":"Triticale 8% RP "},{"$f":"Futtermittel!E49","v":8},{"$f":"Futtermittel!F49","v":0},{"$f":"Futtermittel!G49","v":"3"},{"$f":"Futtermittel!H49","v":880},{"$f":"Futtermittel!I49","v":82.1},{"$f":"Futtermittel!J49","v":68.963999999999999},{"$f":"Futtermittel!K49","v":26.4},{"$f":"Futtermittel!L49","v":13.432776280000001},{"$f":"Futtermittel!N49","v":2.742},{"$f":"Futtermittel!O49","v":2.30328},25,19.385523276006829]
[null,{"$f":"Futtermittel!A50","v":"Triticale öko 7% RP Ø Hessen"},{"$f":"Futtermittel!E50","v":7},{"$f":"Futtermittel!F50","v":"Ø Hessen"},{"$f":"Futtermittel!G50","v":"100"},{"$f":"Futtermittel!H50","v":880},{"$f":"Futtermittel!I50","v":72.599999999999994},{"$f":"Futtermittel!J50","v":60.983999999999995},{"$f":"Futtermittel!K50","v":26.4},{"$f":"Futtermittel!L50","v":13.404177279999999},{"$f":"Futtermittel!N50","v":2.552},{"$f":"Futtermittel!O50","v":2.1436799999999998},36,19.232586532981738]
[null,{"$f":"Futtermittel!A51","v":"Weizen  14% RP "},{"$f":"Futtermittel!E51","v":14},{"$f":"Futtermittel!F51","v":0},{"$f":"Futtermittel!G51","v":2},{"$f":"Futtermittel!H51","v":880},{"$f":"Futtermittel!I51","v":142.1},{"$f":"Futtermittel!J51","v":127.89},{"$f":"Futtermittel!K51","v":26},{"$f":"Futtermittel!L51","v":13.78648424},{"$f":"Futtermittel!N51","v":4.0419999999999998},{"$f":"Futtermittel!O51","v":3.5569599999999997},27,20.757140310833215]
[null,{"$f":"Futtermittel!A52","v":"Weizen  13% RP "},{"$f":"Futtermittel!E52","v":13},{"$f":"Futtermittel!F52","v":0},{"$f":"Futtermittel!G52","v":12},{"$f":"Futtermittel!H52","v":880},{"$f":"Futtermittel!I52","v":129.30000000000001},{"$f":"Futtermittel!J52","v":116.37000000000002},{"$f":"Futtermittel!K52","v":26},{"$f":"Futtermittel!L52","v":13.74159824},{"$f":"Futtermittel!N52","v":3.786},{"$f":"Futtermittel!O52","v":3.33168},27,20.53530513899457]
[null,{"$f":"Futtermittel!A53","v":"Weizen  12% RP DLG 2014"},{"$f":"Futtermittel!E53","v":12},{"$f":"Futtermittel!F53","v":"DLG 2014"},{"$f":"Futtermittel!G53","v":0},{"$f":"Futtermittel!H53","v":880},{"$f":"Futtermittel!I53","v":123},{"$f":"Futtermittel!J53","v":110.7},{"$f":"Futtermittel!K53","v":25},{"$f":"Futtermittel!L53","v":13.671705999999999},{"$f":"Futtermittel!N53","v":3.66},{"$f":"Futtermittel!O53","v":3.2208000000000001},27,20.36305434029661]
[null,{"$f":"Futtermittel!A54","v":"Weizen  12% RP "},{"$f":"Futtermittel!E54","v":12},{"$f":"Futtermittel!F54","v":0},{"$f":"Futtermittel!G54","v":"23"},{"$f":"Futtermittel!H54","v":880},{"$f":"Futtermittel!I54","v":119.8},{"$f":"Futtermittel!J54","v":107.82},{"$f":"Futtermittel!K54","v":26},{"$f":"Futtermittel!L54","v":13.662043239999997},{"$f":"Futtermittel!N54","v":3.5960000000000001},{"$f":"Futtermittel!O54","v":3.1644800000000002},27,20.30965211942458]
[null,{"$f":"Futtermittel!A55","v":"Weizen  11% RP "},{"$f":"Futtermittel!E55","v":11},{"$f":"Futtermittel!F55","v":0},{"$f":"Futtermittel!G55","v":"32"},{"$f":"Futtermittel!H55","v":880},{"$f":"Futtermittel!I55","v":109.9},{"$f":"Futtermittel!J55","v":98.910000000000011},{"$f":"Futtermittel!K55","v":26},{"$f":"Futtermittel!L55","v":13.621335240000002},{"$f":"Futtermittel!N55","v":3.3979999999999997},{"$f":"Futtermittel!O55","v":2.9902399999999996},27,20.130171427491764]
[null,{"$f":"Futtermittel!A56","v":"eigener Weizen 10% RP Ø 2018"},{"$f":"Futtermittel!E56","v":10},{"$f":"Futtermittel!F56","v":"Ø 2018"},{"$f":"Futtermittel!G56","v":0},{"$f":"Futtermittel!H56","v":880},{"$f":"Futtermittel!I56","v":99.04},{"$f":"Futtermittel!J56","v":89.13600000000001},{"$f":"Futtermittel!K56","v":26.37},{"$f":"Futtermittel!L56","v":13.627244000000001},{"$f":"Futtermittel!N56","v":3.1808000000000001},{"$f":"Futtermittel!O56","v":2.7991040000000003},27,20]
[null,{"$f":"Futtermittel!A57","v":"eigener Weizen 2 12% RP Ø 2017"},{"$f":"Futtermittel!E57","v":12},{"$f":"Futtermittel!F57","v":"Ø 2017"},{"$f":"Futtermittel!G57","v":0},{"$f":"Futtermittel!H57","v":880},{"$f":"Futtermittel!I57","v":115.3},{"$f":"Futtermittel!J57","v":103.77},{"$f":"Futtermittel!K57","v":25.9},{"$f":"Futtermittel!L57","v":13.708211600000002},{"$f":"Futtermittel!N57","v":3.5060000000000002},{"$f":"Futtermittel!O57","v":3.08528},27,20.313396996089818]
[null,{"$f":"Futtermittel!A58","v":"Weizen  10% RP "},{"$f":"Futtermittel!E58","v":10},{"$f":"Futtermittel!F58","v":0},{"$f":"Futtermittel!G58","v":"19"},{"$f":"Futtermittel!H58","v":880},{"$f":"Futtermittel!I58","v":101.1},{"$f":"Futtermittel!J58","v":90.99},{"$f":"Futtermittel!K58","v":26},{"$f":"Futtermittel!L58","v":13.601399240000001},{"$f":"Futtermittel!N58","v":3.2219999999999995},{"$f":"Futtermittel!O58","v":2.8353599999999997},27,19.992071511473291]
[null,{"$f":"Futtermittel!A59","v":"Weizen  9% RP "},{"$f":"Futtermittel!E59","v":9},{"$f":"Futtermittel!F59","v":0},{"$f":"Futtermittel!G59","v":"11"},{"$f":"Futtermittel!H59","v":880},{"$f":"Futtermittel!I59","v":90.9},{"$f":"Futtermittel!J59","v":81.81},{"$f":"Futtermittel!K59","v":26},{"$f":"Futtermittel!L59","v":13.55604024},{"$f":"Futtermittel!N59","v":3.0179999999999998},{"$f":"Futtermittel!O59","v":2.65584},27,19.802643125755825]
[null,{"$f":"Futtermittel!A60","v":"Weizen  8% RP "},{"$f":"Futtermittel!E60","v":8},{"$f":"Futtermittel!F60","v":0},{"$f":"Futtermittel!G60","v":"2"},{"$f":"Futtermittel!H60","v":880},{"$f":"Futtermittel!I60","v":82.6},{"$f":"Futtermittel!J60","v":74.34},{"$f":"Futtermittel!K60","v":27},{"$f":"Futtermittel!L60","v":13.55440924},{"$f":"Futtermittel!N60","v":2.8519999999999999},{"$f":"Futtermittel!O60","v":2.50976},27,19.695046567865038]
[null,{"$f":"Futtermittel!A61","v":"Weizen öko 9% RP Ø Hessen"},{"$f":"Futtermittel!E61","v":9},{"$f":"Futtermittel!F61","v":"Ø Hessen"},{"$f":"Futtermittel!G61","v":"100"},{"$f":"Futtermittel!H61","v":880},{"$f":"Futtermittel!I61","v":85.6},{"$f":"Futtermittel!J61","v":77.039999999999992},{"$f":"Futtermittel!K61","v":26},{"$f":"Futtermittel!L61","v":13.539684240000001},{"$f":"Futtermittel!N61","v":2.9119999999999999},{"$f":"Futtermittel!O61","v":2.5625599999999999},38,19.713731204374444]
[null,{"$f":"Futtermittel!A63","v":"Weizen, (Hart) durum 13% RP DLG 2014"},{"$f":"Futtermittel!E63","v":13},{"$f":"Futtermittel!F63","v":"DLG 2014"},{"$f":"Futtermittel!G63","v":0},{"$f":"Futtermittel!H63","v":880},{"$f":"Futtermittel!I63","v":133},{"$f":"Futtermittel!J63","v":126.35},{"$f":"Futtermittel!K63","v":26},{"$f":"Futtermittel!L63","v":14.254094239999997},{"$f":"Futtermittel!N63","v":3.5086000000000004},{"$f":"Futtermittel!O63","v":3.0875680000000005},36,21.035275773927399]
[null,{"$f":"Futtermittel!A64","v":"eigener Weizen, (Hart)  "},{"$f":"Futtermittel!E64","v":" "},{"$f":"Futtermittel!F64","v":""},{"$f":"Futtermittel!G64","v":0},{"$f":"Futtermittel!H64","v":0},{"$f":"Futtermittel!I64","v":0},{"$f":"Futtermittel!J64","v":" "},{"$f":"Futtermittel!K64","v":0},{"$f":"Futtermittel!L64","v":" "},{"$f":"Futtermittel!N64","v":" "},{"$f":"Futtermittel!O64","v":" "},36," "]
[null,{"$f":"Futtermittel!A65","v":"Altbrot (Brotmehl, getrocknet) 12% RP DLG 2014"},{"$f":"Futtermittel!E65","v":12},{"$f":"Futtermittel!F65","v":"DLG 2014"},{"$f":"Futtermittel!G65","v":0},{"$f":"Futtermittel!H65","v":800},{"$f":"Futtermittel!I65","v":120},{"$f":"Futtermittel!J65","v":111.60000000000001},{"$f":"Futtermittel!K65","v":12},{"$f":"Futtermittel!L65","v":13.063631999999998},{"$f":"Futtermittel!N65","v":3.2952727272727271},{"$f":"Futtermittel!O65","v":3.0316509090909092},31.5,19.424239873551205]
[null,{"$f":"Futtermittel!A66","v":"eigene Altbrotabfälle "},{"$f":"Futtermittel!E66","v":" "},{"$f":"Futtermittel!F66","v":0},{"$f":"Futtermittel!G66","v":0},{"$f":"Futtermittel!H66","v":0},{"$f":"Futtermittel!I66","v":0},{"$f":"Futtermittel!J66","v":" "},{"$f":"Futtermittel!K66","v":0},{"$f":"Futtermittel!L66","v":" "},{"$f":"Futtermittel!N66","v":" "},{"$f":"Futtermittel!O66","v":" "},31.5," "]
[null,{"$f":"Futtermittel!A67","v":"Altgebäck (Gebäckmehl, getrocknet) 5% RP DLG 2014"},{"$f":"Futtermittel!E67","v":5},{"$f":"Futtermittel!F67","v":"DLG 2014"},{"$f":"Futtermittel!G67","v":0},{"$f":"Futtermittel!H67","v":880},{"$f":"Futtermittel!I67","v":54},{"$f":"Futtermittel!J67","v":50.220000000000006},{"$f":"Futtermittel!K67","v":22},{"$f":"Futtermittel!L67","v":14.223534000000001},{"$f":"Futtermittel!N67","v":1.2199999999999998},{"$f":"Futtermittel!O67","v":1.1223999999999998},32.5,{"$f":"IF(J76=\" \",\" \",M$16*(J76*(L$17*J76-J$17*L76)/((J$16*(L$17*J76-J$17*L76))+(J$17*(J$16*L76-L$16*J76))))+M$17*((J76*(L$17*J76-J$17*L76)/((J$16*(L$17*J76-J$17*L76))+(J$17*(J$16*L76-L$16*J76))))*((J$16*L76-L$16*J76)/(L$17*J76-J$17*1.00000000000001*L76))))","v":19.576441707884634}]
[null,{"$f":"Futtermittel!A68","v":"Keksmehl 9% RP DLG 2014"},{"$f":"Futtermittel!E68","v":9},{"$f":"Futtermittel!F68","v":"DLG 2014"},{"$f":"Futtermittel!G68","v":0},{"$f":"Futtermittel!H68","v":860},{"$f":"Futtermittel!I68","v":86},{"$f":"Futtermittel!J68","v":79.98},{"$f":"Futtermittel!K68","v":11},{"$f":"Futtermittel!L68","v":16.803550999999999},{"$f":"Futtermittel!N68","v":2.189090909090909},{"$f":"Futtermittel!O68","v":2.0139636363636364},null,23.624023038191918]
[null,{"$f":"Futtermittel!A69","v":"eigene Keksmehl "},{"$f":"Futtermittel!E69","v":" "},{"$f":"Futtermittel!F69","v":0},{"$f":"Futtermittel!G69","v":0},{"$f":"Futtermittel!H69","v":0},{"$f":"Futtermittel!I69","v":0},{"$f":"Futtermittel!J69","v":" "},{"$f":"Futtermittel!K69","v":0},{"$f":"Futtermittel!L69","v":" "},{"$f":"Futtermittel!N69","v":" "},{"$f":"Futtermittel!O69","v":" "},null," "]
[null,{"$f":"Futtermittel!A70","v":" "},{"$f":"Futtermittel!E70","v":" "},{"$f":"Futtermittel!F70","v":0},{"$f":"Futtermittel!G70","v":0},{"$f":"Futtermittel!H70","v":0},{"$f":"Futtermittel!I70","v":0},{"$f":"Futtermittel!J70","v":0},{"$f":"Futtermittel!K70","v":0},{"$f":"Futtermittel!L70","v":0},{"$f":"Futtermittel!N70","v":0},{"$f":"Futtermittel!O70","v":0}]
[null,{"$f":"Futtermittel!A71","v":"Eiweißreiche Futtermittel "},{"$f":"Futtermittel!E71","v":" "},{"$f":"Futtermittel!F71","v":0},{"$f":"Futtermittel!G71","v":0},{"$f":"Futtermittel!H71","v":0},{"$f":"Futtermittel!I71","v":0},{"$f":"Futtermittel!J71","v":0},{"$f":"Futtermittel!K71","v":0},{"$f":"Futtermittel!L71","v":0},{"$f":"Futtermittel!N71","v":0},{"$f":"Futtermittel!O71","v":0},null,{"$f":"IF(J80=0,\" \",M$16*(J80*(L$17*J80-J$17*L80)/((J$16*(L$17*J80-J$17*L80))+(J$17*(J$16*L80-L$16*J80))))+M$17*((J80*(L$17*J80-J$17*L80)/((J$16*(L$17*J80-J$17*L80))+(J$17*(J$16*L80-L$16*J80))))*((J$16*L80-L$16*J80)/(L$17*J80-J$17*1.00000000000001*L80))))","v":" "}]
[null,{"$f":"Futtermittel!A72","v":" "},{"$f":"Futtermittel!E72","v":" "},{"$f":"Futtermittel!F72","v":0},{"$f":"Futtermittel!G72","v":0},{"$f":"Futtermittel!H72","v":0},{"$f":"Futtermittel!I72","v":0},{"$f":"Futtermittel!J72","v":0},{"$f":"Futtermittel!K72","v":0},{"$f":"Futtermittel!L72","v":0},{"$f":"Futtermittel!N72","v":0},{"$f":"Futtermittel!O72","v":0}]
[null,{"$f":"Futtermittel!A73","v":"Ackerbohnen  26% RP DLG 2014"},{"$f":"Futtermittel!E73","v":26},{"$f":"Futtermittel!F73","v":"DLG 2014"},{"$f":"Futtermittel!G73","v":0},{"$f":"Futtermittel!H73","v":880},{"$f":"Futtermittel!I73","v":264},{"$f":"Futtermittel!J73","v":203.28},{"$f":"Futtermittel!K73","v":77},{"$f":"Futtermittel!L73","v":12.410639000000002},{"$f":"Futtermittel!N73","v":16.5},{"$f":"Futtermittel!O73","v":13.53},28,26.140696522338843]
[null,{"$f":"Futtermittel!A74","v":"eigene Ackerbohnen 27% RP Ø 2018"},{"$f":"Futtermittel!E74","v":27},{"$f":"Futtermittel!F74","v":"Ø 2018"},{"$f":"Futtermittel!G74","v":"100"},{"$f":"Futtermittel!H74","v":880},{"$f":"Futtermittel!I74","v":272.8},{"$f":"Futtermittel!J74","v":210.05600000000001},{"$f":"Futtermittel!K74","v":90.99},{"$f":"Futtermittel!L74","v":12.599674200000003},{"$f":"Futtermittel!N74","v":16.940000000000001},{"$f":"Futtermittel!O74","v":13.8908},28,26.650541566180287]
[null,{"$f":"Futtermittel!A75","v":"Bierhefe, getrocknet 44% RP DLG 2014"},{"$f":"Futtermittel!E75","v":44},{"$f":"Futtermittel!F75","v":"DLG 2014"},{"$f":"Futtermittel!G75","v":0},{"$f":"Futtermittel!H75","v":880},{"$f":"Futtermittel!I75","v":435},{"$f":"Futtermittel!J75","v":369.75},{"$f":"Futtermittel!K75","v":21.251999999999999},{"$f":"Futtermittel!L75","v":12.145340000000001},{"$f":"Futtermittel!N75","v":30.8},{"$f":"Futtermittel!O75","v":27.103999999999999},118,35.588760525183723]
[null,{"$f":"Futtermittel!A76","v":"Bierhefe frisch (inaktiviert) 5% RP DLG 2014"},{"$f":"Futtermittel!E76","v":5},{"$f":"Futtermittel!F76","v":"DLG 2014"},{"$f":"Futtermittel!G76","v":0},{"$f":"Futtermittel!H76","v":100},{"$f":"Futtermittel!I76","v":52.5},{"$f":"Futtermittel!J76","v":44.625},{"$f":"Futtermittel!K76","v":1.7},{"$f":"Futtermittel!L76","v":1.4284900000000003},{"$f":"Futtermittel!N76","v":3.5000000000000004},{"$f":"Futtermittel!O76","v":3.0800000000000005},null,4.1079532159340637]
[null,{"$f":"Futtermittel!A77","v":"eigene Bierhefe "},{"$f":"Futtermittel!E77","v":" "},{"$f":"Futtermittel!F77","v":""},{"$f":"Futtermittel!G77","v":0},{"$f":"Futtermittel!H77","v":0},{"$f":"Futtermittel!I77","v":0},{"$f":"Futtermittel!J77","v":" "},{"$f":"Futtermittel!K77","v":0},{"$f":"Futtermittel!L77","v":" "},{"$f":"Futtermittel!N77","v":" "},{"$f":"Futtermittel!O77","v":" "},null,{"$f":"IF(J86=\" \",\" \",M$16*(J86*(L$17*J86-J$17*L86)/((J$16*(L$17*J86-J$17*L86))+(J$17*(J$16*L86-L$16*J86))))+M$17*((J86*(L$17*J86-J$17*L86)/((J$16*(L$17*J86-J$17*L86))+(J$17*(J$16*L86-L$16*J86))))*((J$16*L86-L$16*J86)/(L$17*J86-J$17*1.00000000000001*L86))))","v":" "}]
[null,{"$f":"Futtermittel!A78","v":"Erbsen  22% RP DLG 2014"},{"$f":"Futtermittel!E78","v":22},{"$f":"Futtermittel!F78","v":"DLG 2014"},{"$f":"Futtermittel!G78","v":"69"},{"$f":"Futtermittel!H78","v":880},{"$f":"Futtermittel!I78","v":220},{"$f":"Futtermittel!J78","v":173.8},{"$f":"Futtermittel!K78","v":57},{"$f":"Futtermittel!L78","v":13.397632520000002},{"$f":"Futtermittel!N78","v":14.999999999999998},{"$f":"Futtermittel!O78","v":12.599999999999998},29.5,26.771616989962645]
[null,{"$f":"Futtermittel!A79","v":"eigene Erbsen 21% RP Ø 2017"},{"$f":"Futtermittel!E79","v":21},{"$f":"Futtermittel!F79","v":"Ø 2017"},{"$f":"Futtermittel!G79","v":"100"},{"$f":"Futtermittel!H79","v":880},{"$f":"Futtermittel!I79","v":211.3},{"$f":"Futtermittel!J79","v":166.92700000000002},{"$f":"Futtermittel!K79","v":56.9},{"$f":"Futtermittel!L79","v":13.4373843},{"$f":"Futtermittel!N79","v":14.565000000000001},{"$f":"Futtermittel!O79","v":12.2346},29.5,26.560308753046279]
[null,{"$f":"Futtermittel!A80","v":"Erbsen Ø Deutschlandmonitoring 2016 19% RP BRD 2016"},{"$f":"Futtermittel!E80","v":19},{"$f":"Futtermittel!F80","v":"BRD 2016"},{"$f":"Futtermittel!G80","v":"31"},{"$f":"Futtermittel!H80","v":880},{"$f":"Futtermittel!I80","v":193},{"$f":"Futtermittel!J80","v":164.04999999999998},{"$f":"Futtermittel!K80","v":58.9},{"$f":"Futtermittel!L80","v":13.439442000000001},{"$f":"Futtermittel!N80","v":15.7},{"$f":"Futtermittel!O80","v":13.187999999999999},29.5,27.251214544126668]
[null,{"$f":"Futtermittel!A81","v":"Fischmehl 57% RP DLG 2014"},{"$f":"Futtermittel!E81","v":57},{"$f":"Futtermittel!F81","v":"DLG 2014"},{"$f":"Futtermittel!G81","v":0},{"$f":"Futtermittel!H81","v":910},{"$f":"Futtermittel!I81","v":573},{"$f":"Futtermittel!J81","v":475.59},{"$f":"Futtermittel!K81","v":14},{"$f":"Futtermittel!L81","v":12.817102000000002},{"$f":"Futtermittel!N81","v":39.53},{"$f":"Futtermittel!O81","v":34.391100000000002},130,{"$f":"IF(J90=\" \",\" \",M$16*(J90*(L$17*J90-J$17*L90)/((J$16*(L$17*J90-J$17*L90))+(J$17*(J$16*L90-L$16*J90))))+M$17*((J90*(L$17*J90-J$17*L90)/((J$16*(L$17*J90-J$17*L90))+(J$17*(J$16*L90-L$16*J90))))*((J$16*L90-L$16*J90)/(L$17*J90-J$17*1.00000000000001*L90))))","v":41.735104079704747}]
[null,{"$f":"Futtermittel!A82","v":"Fischmehl proteinreich 69% RP DLG 2014"},{"$f":"Futtermittel!E82","v":69},{"$f":"Futtermittel!F82","v":"DLG 2014"},{"$f":"Futtermittel!G82","v":0},{"$f":"Futtermittel!H82","v":910},{"$f":"Futtermittel!I82","v":692},{"$f":"Futtermittel!J82","v":622.80000000000007},{"$f":"Futtermittel!K82","v":6},{"$f":"Futtermittel!L82","v":14.527984999999999},{"$f":"Futtermittel!N82","v":52.620000000000005},{"$f":"Futtermittel!O82","v":46.831800000000001},130,52.972457479222207]
[null,{"$f":"Futtermittel!A83","v":"Fischmehl vom Hering 66% RP DLG 2014"},{"$f":"Futtermittel!E83","v":66},{"$f":"Futtermittel!F83","v":"DLG 2014"},{"$f":"Futtermittel!G83","v":0},{"$f":"Futtermittel!H83","v":910},{"$f":"Futtermittel!I83","v":655},{"$f":"Futtermittel!J83","v":589.5},{"$f":"Futtermittel!K83","v":0},{"$f":"Futtermittel!L83","v":15.382954},{"$f":"Futtermittel!N83","v":48.55},{"$f":"Futtermittel!O83","v":43.209499999999998},null,{"$f":"IF(J92=\" \",\" \",M$16*(J92*(L$17*J92-J$17*L92)/((J$16*(L$17*J92-J$17*L92))+(J$17*(J$16*L92-L$16*J92))))+M$17*((J92*(L$17*J92-J$17*L92)/((J$16*(L$17*J92-J$17*L92))+(J$17*(J$16*L92-L$16*J92))))*((J$16*L92-L$16*J92)/(L$17*J92-J$17*1.00000000000001*L92))))","v":51.485809525549158}]
[null,{"$f":"Futtermittel!A84","v":"eigenes Fischmehl "},{"$f":"Futtermittel!E84","v":" "},{"$f":"Futtermittel!F84","v":0},{"$f":"Futtermittel!G84","v":0},{"$f":"Futtermittel!H84","v":0},{"$f":"Futtermittel!I84","v":0},{"$f":"Futtermittel!J84","v":" "},{"$f":"Futtermittel!K84","v":0},{"$f":"Futtermittel!L84","v":" "},{"$f":"Futtermittel!N84","v":" "},{"$f":"Futtermittel!O84","v":" "},130," "]
[null,{"$f":"Futtermittel!A85","v":"Kartoffeleiweiß 76% RP DLG 2014"},{"$f":"Futtermittel!E85","v":76},{"$f":"Futtermittel!F85","v":"DLG 2014"},{"$f":"Futtermittel!G85","v":0},{"$f":"Futtermittel!H85","v":900},{"$f":"Futtermittel!I85","v":756},{"$f":"Futtermittel!J85","v":710.64},{"$f":"Futtermittel!K85","v":7},{"$f":"Futtermittel!L85","v":16.076889000000001},{"$f":"Futtermittel!N85","v":57.614399999999989},{"$f":"Futtermittel!O85","v":51.27681599999999},121,{"$f":"IF(J94=\" \",\" \",M$16*(J94*(L$17*J94-J$17*L94)/((J$16*(L$17*J94-J$17*L94))+(J$17*(J$16*L94-L$16*J94))))+M$17*((J94*(L$17*J94-J$17*L94)/((J$16*(L$17*J94-J$17*L94))+(J$17*(J$16*L94-L$16*J94))))*((J$16*L94-L$16*J94)/(L$17*J94-J$17*1.00000000000001*L94))))","v":58.224589541820208}]
[null,{"$f":"Futtermittel!A86","v":"eigenes Kartoffeleiweiß "},{"$f":"Futtermittel!E86","v":" "},{"$f":"Futtermittel!F86","v":0},{"$f":"Futtermittel!G86","v":0},{"$f":"Futtermittel!H86","v":0},{"$f":"Futtermittel!I86","v":0},{"$f":"Futtermittel!J86","v":" "},{"$f":"Futtermittel!K86","v":0},{"$f":"Futtermittel!L86","v":" "},{"$f":"Futtermittel!N86","v":" "},{"$f":"Futtermittel!O86","v":" "},121,{"$f":"IF(J95=\" \",\" \",M$16*(J95*(L$17*J95-J$17*L95)/((J$16*(L$17*J95-J$17*L95))+(J$17*(J$16*L95-L$16*J95))))+M$17*((J95*(L$17*J95-J$17*L95)/((J$16*(L$17*J95-J$17*L95))+(J$17*(J$16*L95-L$16*J95))))*((J$16*L95-L$16*J95)/(L$17*J95-J$17*1.00000000000001*L95))))","v":" "}]
[null,{"$f":"Futtermittel!A87","v":"Lein, Samen 21% RP DLG 2014"},{"$f":"Futtermittel!E87","v":21},{"$f":"Futtermittel!F87","v":"DLG 2014"},{"$f":"Futtermittel!G87","v":0},{"$f":"Futtermittel!H87","v":910},{"$f":"Futtermittel!I87","v":207},{"$f":"Futtermittel!J87","v":159.39000000000001},{"$f":"Futtermittel!K87","v":64},{"$f":"Futtermittel!L87","v":12.477544000000002},{"$f":"Futtermittel!N87","v":7.5524999999999993},{"$f":"Futtermittel!O87","v":6.2685749999999993},62.5,{"$f":"IF(J96=\" \",\" \",M$16*(J96*(L$17*J96-J$17*L96)/((J$16*(L$17*J96-J$17*L96))+(J$17*(J$16*L96-L$16*J96))))+M$17*((J96*(L$17*J96-J$17*L96)/((J$16*(L$17*J96-J$17*L96))+(J$17*(J$16*L96-L$16*J96))))*((J$16*L96-L$16*J96)/(L$17*J96-J$17*1.00000000000001*L96))))","v":20.987469179134106}]
[null,{"$f":"Futtermittel!A88","v":"Leinextaktionschrot 34% RP DLG 2014"},{"$f":"Futtermittel!E88","v":34},{"$f":"Futtermittel!F88","v":"DLG 2014"},{"$f":"Futtermittel!G88","v":0},{"$f":"Futtermittel!H88","v":890},{"$f":"Futtermittel!I88","v":338},{"$f":"Futtermittel!J88","v":223.08},{"$f":"Futtermittel!K88","v":93},{"$f":"Futtermittel!L88","v":10.85977428},{"$f":"Futtermittel!N88","v":12.480795454545454},{"$f":"Futtermittel!O88","v":7.9877090909090906},42,{"$f":"IF(J97=\" \",\" \",M$16*(J97*(L$17*J97-J$17*L97)/((J$16*(L$17*J97-J$17*L97))+(J$17*(J$16*L97-L$16*J97))))+M$17*((J97*(L$17*J97-J$17*L97)/((J$16*(L$17*J97-J$17*L97))+(J$17*(J$16*L97-L$16*J97))))*((J$16*L97-L$16*J97)/(L$17*J97-J$17*1.00000000000001*L97))))","v":20.093933671471657}]
[null,{"$f":"Futtermittel!A89","v":"Leinkuchen / Expeller 4-8% Fett 33% RP DLG 2014"},{"$f":"Futtermittel!E89","v":33},{"$f":"Futtermittel!F89","v":"DLG 2014"},{"$f":"Futtermittel!G89","v":0},{"$f":"Futtermittel!H89","v":900},{"$f":"Futtermittel!I89","v":333},{"$f":"Futtermittel!J89","v":249.75},{"$f":"Futtermittel!K89","v":95},{"$f":"Futtermittel!L89","v":11.627713},{"$f":"Futtermittel!N89","v":12.379090909090909},{"$f":"Futtermittel!O89","v":10.150854545454544},64,{"$f":"IF(J98=\" \",\" \",M$16*(J98*(L$17*J98-J$17*L98)/((J$16*(L$17*J98-J$17*L98))+(J$17*(J$16*L98-L$16*J98))))+M$17*((J98*(L$17*J98-J$17*L98)/((J$16*(L$17*J98-J$17*L98))+(J$17*(J$16*L98-L$16*J98))))*((J$16*L98-L$16*J98)/(L$17*J98-J$17*1.00000000000001*L98))))","v":22.668556651496175}]
[null,{"$f":"Futtermittel!A90","v":"Lupinen blau 30% RP DLG 2014"},{"$f":"Futtermittel!E90","v":30},{"$f":"Futtermittel!F90","v":"DLG 2014"},{"$f":"Futtermittel!G90","v":0},{"$f":"Futtermittel!H90","v":880},{"$f":"Futtermittel!I90","v":295},{"$f":"Futtermittel!J90","v":250.75},{"$f":"Futtermittel!K90","v":143},{"$f":"Futtermittel!L90","v":13.468937999999998},{"$f":"Futtermittel!N90","v":13.6225},{"$f":"Futtermittel!O90","v":11.4429},30,26.030468809778426]
[null,{"$f":"Futtermittel!A91","v":"Lupinen gelb 38% RP DLG 2014"},{"$f":"Futtermittel!E91","v":38},{"$f":"Futtermittel!F91","v":"DLG 2014"},{"$f":"Futtermittel!G91","v":0},{"$f":"Futtermittel!H91","v":880},{"$f":"Futtermittel!I91","v":378},{"$f":"Futtermittel!J91","v":332.64},{"$f":"Futtermittel!K91","v":148},{"$f":"Futtermittel!L91","v":13.606580000000003},{"$f":"Futtermittel!N91","v":18.028400000000001},{"$f":"Futtermittel!O91","v":15.143856000000001},30,28.883525061506852]
[null,{"$f":"Futtermittel!A92","v":"Lupinen weiß 33% RP DLG 2014"},{"$f":"Futtermittel!E92","v":33},{"$f":"Futtermittel!F92","v":"DLG 2014"},{"$f":"Futtermittel!G92","v":0},{"$f":"Futtermittel!H92","v":880},{"$f":"Futtermittel!I92","v":326},{"$f":"Futtermittel!J92","v":290.14},{"$f":"Futtermittel!K92","v":114},{"$f":"Futtermittel!L92","v":13.964832880000003},{"$f":"Futtermittel!N92","v":14.24},{"$f":"Futtermittel!O92","v":11.961599999999999},30,27.059155369497162]
[null,{"$f":"Futtermittel!A93","v":"eigene Lupinen (blau) 29% RP BRD 2016"},{"$f":"Futtermittel!E93","v":29},{"$f":"Futtermittel!F93","v":"BRD 2016"},{"$f":"Futtermittel!G93","v":0},{"$f":"Futtermittel!H93","v":880},{"$f":"Futtermittel!I93","v":293},{"$f":"Futtermittel!J93","v":249.04999999999998},{"$f":"Futtermittel!K93","v":138},{"$f":"Futtermittel!L93","v":13.504732000000001},{"$f":"Futtermittel!N93","v":13.547499999999999},{"$f":"Futtermittel!O93","v":11.379899999999999},30,26.032219567040663]
[null,{"$f":"Futtermittel!A94","v":"Malzkeime 27% RP DLG 2005"},{"$f":"Futtermittel!E94","v":27},{"$f":"Futtermittel!F94","v":"DLG 2005"},{"$f":"Futtermittel!G94","v":0},{"$f":"Futtermittel!H94","v":920},{"$f":"Futtermittel!I94","v":273},{"$f":"Futtermittel!J94","v":204.75},{"$f":"Futtermittel!K94","v":133},{"$f":"Futtermittel!L94","v":8.2323143999999981},{"$f":"Futtermittel!N94","v":13.548481818181818},{"$f":"Futtermittel!O94","v":9.6194220909090902},20,17.805129056109926]
[null,{"$f":"Futtermittel!A95","v":"Magermilchpulver 35% RP DLG 2014"},{"$f":"Futtermittel!E95","v":35},{"$f":"Futtermittel!F95","v":"DLG 2014"},{"$f":"Futtermittel!G95","v":0},{"$f":"Futtermittel!H95","v":960},{"$f":"Futtermittel!I95","v":350},{"$f":"Futtermittel!J95","v":332.5},{"$f":"Futtermittel!K95","v":0},{"$f":"Futtermittel!L95","v":15.010265839999999},{"$f":"Futtermittel!N95","v":26.9},{"$f":"Futtermittel!O95","v":26.092999999999996},119.7,38.63892131780576]
[null,{"$f":"Futtermittel!A96","v":"Rapsschrot-00Typ (RES) 36% RP DLG 2014"},{"$f":"Futtermittel!E96","v":36},{"$f":"Futtermittel!F96","v":"DLG 2014"},{"$f":"Futtermittel!G96","v":"6"},{"$f":"Futtermittel!H96","v":890},{"$f":"Futtermittel!I96","v":355},{"$f":"Futtermittel!J96","v":252.04999999999998},{"$f":"Futtermittel!K96","v":116},{"$f":"Futtermittel!L96","v":9.9248530000000024},{"$f":"Futtermittel!N96","v":19.944409090909087},{"$f":"Futtermittel!O96","v":14.559418636363633},32,23.60406075600368]
[null,{"$f":"Futtermittel!A97","v":"eigenes Rapsschrot "},{"$f":"Futtermittel!E97","v":" "},{"$f":"Futtermittel!F97","v":0},{"$f":"Futtermittel!G97","v":0},{"$f":"Futtermittel!H97","v":0},{"$f":"Futtermittel!I97","v":0},{"$f":"Futtermittel!J97","v":" "},{"$f":"Futtermittel!K97","v":0},{"$f":"Futtermittel!L97","v":" "},{"$f":"Futtermittel!N97","v":" "},{"$f":"Futtermittel!O97","v":" "},32," "]
[null,{"$f":"Futtermittel!A98","v":"RES Ø RES-Monitoring 2005-2014 34% RP Ø BRD"},{"$f":"Futtermittel!E98","v":34},{"$f":"Futtermittel!F98","v":"Ø BRD"},{"$f":"Futtermittel!G98","v":0},{"$f":"Futtermittel!H98","v":889},{"$f":"Futtermittel!I98","v":339},{"$f":"Futtermittel!J98","v":240.69},{"$f":"Futtermittel!K98","v":116},{"$f":"Futtermittel!L98","v":9.8607814999999999},{"$f":"Futtermittel!N98","v":19.600000000000001},{"$f":"Futtermittel!O98","v":14.308},32,23.338044996221115]
[null,{"$f":"Futtermittel!A99","v":"Rapskuchen  > 20 % Fett 22% RP "},{"$f":"Futtermittel!E99","v":22},{"$f":"Futtermittel!F99","v":0},{"$f":"Futtermittel!G99","v":"1"},{"$f":"Futtermittel!H99","v":900},{"$f":"Futtermittel!I99","v":220},{"$f":"Futtermittel!J99","v":187},{"$f":"Futtermittel!K99","v":96},{"$f":"Futtermittel!L99","v":15.185009999999998},{"$f":"Futtermittel!N99","v":14.629545454545454},{"$f":"Futtermittel!O99","v":10.825863636363636},36,27.849227584246997]
[null,{"$f":"Futtermittel!A100","v":"Rapskuchen 16 - 20 % Fett 27% RP "},{"$f":"Futtermittel!E100","v":27},{"$f":"Futtermittel!F100","v":0},{"$f":"Futtermittel!G100","v":"33"},{"$f":"Futtermittel!H100","v":900},{"$f":"Futtermittel!I100","v":267},{"$f":"Futtermittel!J100","v":226.95},{"$f":"Futtermittel!K100","v":112},{"$f":"Futtermittel!L100","v":14.427065999999998},{"$f":"Futtermittel!N100","v":16.509545454545457},{"$f":"Futtermittel!O100","v":12.217063636363637},36,27.853417837985301]
[null,{"$f":"Futtermittel!A101","v":"Rapskuchen 12 - 16 % Fett 28% RP "},{"$f":"Futtermittel!E101","v":28},{"$f":"Futtermittel!F101","v":0},{"$f":"Futtermittel!G101","v":"42"},{"$f":"Futtermittel!H101","v":900},{"$f":"Futtermittel!I101","v":280},{"$f":"Futtermittel!J101","v":238},{"$f":"Futtermittel!K101","v":108},{"$f":"Futtermittel!L101","v":13.693966000000001},{"$f":"Futtermittel!N101","v":17.029545454545453},{"$f":"Futtermittel!O101","v":12.601863636363635},36,27.163939006292367]
[null,{"$f":"Futtermittel!A102","v":"Rapskuchen   8 - 12 % Fett 30% RP "},{"$f":"Futtermittel!E102","v":30},{"$f":"Futtermittel!F102","v":0},{"$f":"Futtermittel!G102","v":"24"},{"$f":"Futtermittel!H102","v":900},{"$f":"Futtermittel!I102","v":299},{"$f":"Futtermittel!J102","v":254.15},{"$f":"Futtermittel!K102","v":114},{"$f":"Futtermittel!L102","v":13.092979999999999},{"$f":"Futtermittel!N102","v":17.789545454545454},{"$f":"Futtermittel!O102","v":13.164263636363636},36,26.776965557260027]
[null,{"$f":"Futtermittel!A103","v":"Sojabohne (dampferhitzt) 36% RP DLG 2014"},{"$f":"Futtermittel!E103","v":36},{"$f":"Futtermittel!F103","v":"DLG 2014"},{"$f":"Futtermittel!G103","v":0},{"$f":"Futtermittel!H103","v":890},{"$f":"Futtermittel!I103","v":356},{"$f":"Futtermittel!J103","v":270.56},{"$f":"Futtermittel!K103","v":55},{"$f":"Futtermittel!L103","v":15.76002783},{"$f":"Futtermittel!N103","v":22.553409090909092},{"$f":"Futtermittel!O103","v":18.042727272727273},64,33.817230129660203]
[null,{"$f":"Futtermittel!A104","v":"Sojakuchen / Expeller, Bioland 42% RP "},{"$f":"Futtermittel!E104","v":42},{"$f":"Futtermittel!F104","v":0},{"$f":"Futtermittel!G104","v":0},{"$f":"Futtermittel!H104","v":910},{"$f":"Futtermittel!I104","v":420},{"$f":"Futtermittel!J104","v":365.4},{"$f":"Futtermittel!K104","v":60},{"$f":"Futtermittel!L104","v":14.39615},{"$f":"Futtermittel!N104","v":26.337500000000006},{"$f":"Futtermittel!O104","v":23.440375000000007},null,35.913929252393061]
[null,{"$f":"Futtermittel!A105","v":"Sojakuchen 41% RP DLG 2014"},{"$f":"Futtermittel!E105","v":41},{"$f":"Futtermittel!F105","v":"DLG 2014"},{"$f":"Futtermittel!G105","v":0},{"$f":"Futtermittel!H105","v":890},{"$f":"Futtermittel!I105","v":405},{"$f":"Futtermittel!J105","v":352.35},{"$f":"Futtermittel!K105","v":53},{"$f":"Futtermittel!L105","v":14.19426},{"$f":"Futtermittel!N105","v":25.412499999999998},{"$f":"Futtermittel!O105","v":21.854749999999999},null,{"$f":"IF(J114=\" \",\" \",M$16*(J114*(L$17*J114-J$17*L114)/((J$16*(L$17*J114-J$17*L114))+(J$17*(J$16*L114-L$16*J114))))+M$17*((J114*(L$17*J114-J$17*L114)/((J$16*(L$17*J114-J$17*L114))+(J$17*(J$16*L114-L$16*J114))))*((J$16*L114-L$16*J114)/(L$17*J114-J$17*1.00000000000001*L114))))","v":34.503010738638217}]
[null,{"$f":"Futtermittel!A107","v":"Sojaschrot HP 48% RP DLG 2014"},{"$f":"Futtermittel!E107","v":48},{"$f":"Futtermittel!F107","v":"DLG 2014"},{"$f":"Futtermittel!G107","v":"6"},{"$f":"Futtermittel!H107","v":880},{"$f":"Futtermittel!I107","v":480},{"$f":"Futtermittel!J107","v":393.59999999999997},{"$f":"Futtermittel!K107","v":35},{"$f":"Futtermittel!L107","v":13.888607839999999},{"$f":"Futtermittel!N107","v":29.243999999999993},{"$f":"Futtermittel!O107","v":25.442279999999993},56.5,36.68931898334769]
[null,{"$f":"Futtermittel!A106","v":"Sojaschrot HP 49% RP "},{"$f":"Futtermittel!E106","v":49},{"$f":"Futtermittel!F106","v":0},{"$f":"Futtermittel!G106","v":"12"},{"$f":"Futtermittel!H106","v":890},{"$f":"Futtermittel!I106","v":485},{"$f":"Futtermittel!J106","v":397.7},{"$f":"Futtermittel!K106","v":44},{"$f":"Futtermittel!L106","v":13.961272000000001},{"$f":"Futtermittel!N106","v":29.552545454545456},{"$f":"Futtermittel!O106","v":25.710714545454547},56.5,36.978954297440502]
[null,{"$f":"Futtermittel!A108","v":"Sojaschrot HP 47% RP DLG FuDb"},{"$f":"Futtermittel!E108","v":47},{"$f":"Futtermittel!F108","v":"DLG FuDb"},{"$f":"Futtermittel!G108","v":0},{"$f":"Futtermittel!H108","v":890},{"$f":"Futtermittel!I108","v":473.65800000000007},{"$f":"Futtermittel!J108","v":388.39956000000001},{"$f":"Futtermittel!K108","v":35.697900000000004},{"$f":"Futtermittel!L108","v":13.980995938},{"$f":"Futtermittel!N108","v":28.95935885454546},{"$f":"Futtermittel!O108","v":25.194642203454549},56.5,36.632462175632718]
[null,{"$f":"Futtermittel!A109","v":"Sojaschrot HP 47% RP "},{"$f":"Futtermittel!E109","v":47},{"$f":"Futtermittel!F109","v":0},{"$f":"Futtermittel!G109","v":"26"},{"$f":"Futtermittel!H109","v":890},{"$f":"Futtermittel!I109","v":470},{"$f":"Futtermittel!J109","v":385.4},{"$f":"Futtermittel!K109","v":52},{"$f":"Futtermittel!L109","v":13.857122999999998},{"$f":"Futtermittel!N109","v":28.768045454545451},{"$f":"Futtermittel!O109","v":25.028199545454541},56.5,36.348883577238318]
[null,{"$f":"Futtermittel!A110","v":"Sojaschrot HP 46% RP "},{"$f":"Futtermittel!E110","v":46},{"$f":"Futtermittel!F110","v":0},{"$f":"Futtermittel!G110","v":"29"},{"$f":"Futtermittel!H110","v":890},{"$f":"Futtermittel!I110","v":459},{"$f":"Futtermittel!J110","v":376.38},{"$f":"Futtermittel!K110","v":47},{"$f":"Futtermittel!L110","v":13.838336999999999},{"$f":"Futtermittel!N110","v":28.192745454545456},{"$f":"Futtermittel!O110","v":24.527688545454545},56.5,35.962814784908652]
[null,{"$f":"Futtermittel!A111","v":"Sojaschrot GVO-frei, Brasil 45% RP "},{"$f":"Futtermittel!E111","v":45},{"$f":"Futtermittel!F111","v":0},{"$f":"Futtermittel!G111","v":0},{"$f":"Futtermittel!H111","v":870},{"$f":"Futtermittel!I111","v":448},{"$f":"Futtermittel!J111","v":367.35999999999996},{"$f":"Futtermittel!K111","v":61.766000000000005},{"$f":"Futtermittel!L111","v":13.626042000000002},{"$f":"Futtermittel!N111","v":27.523354545454545},{"$f":"Futtermittel!O111","v":23.945318454545454},64.5,35.262345685466308]
[null,{"$f":"Futtermittel!A112","v":"Sojaschrot  45% RP DLG FuDb"},{"$f":"Futtermittel!E112","v":45},{"$f":"Futtermittel!F112","v":"DLG FuDb"},{"$f":"Futtermittel!G112","v":0},{"$f":"Futtermittel!H112","v":890},{"$f":"Futtermittel!I112","v":446.42400000000004},{"$f":"Futtermittel!J112","v":366.06768},{"$f":"Futtermittel!K112","v":61.766000000000005},{"$f":"Futtermittel!L112","v":13.167056139},{"$f":"Futtermittel!N112","v":27.535020654545455},{"$f":"Futtermittel!O112","v":23.955467969454546},56.5,34.664094622594263]
[null,{"$f":"Futtermittel!A113","v":"eigenes Sojaschrot "},{"$f":"Futtermittel!E113","v":" "},{"$f":"Futtermittel!F113","v":0},{"$f":"Futtermittel!G113","v":0},{"$f":"Futtermittel!H113","v":0},{"$f":"Futtermittel!I113","v":0},{"$f":"Futtermittel!J113","v":" "},{"$f":"Futtermittel!K113","v":0},{"$f":"Futtermittel!L113","v":" "},{"$f":"Futtermittel!N113","v":" "},{"$f":"Futtermittel!O113","v":" "},52," "]
[null,{"$f":"Futtermittel!A114","v":"Sojaschrot 44% RP "},{"$f":"Futtermittel!E114","v":44},{"$f":"Futtermittel!F114","v":0},{"$f":"Futtermittel!G114","v":"14"},{"$f":"Futtermittel!H114","v":890},{"$f":"Futtermittel!I114","v":440},{"$f":"Futtermittel!J114","v":360.79999999999995},{"$f":"Futtermittel!K114","v":67},{"$f":"Futtermittel!L114","v":13.154765999999999},{"$f":"Futtermittel!N114","v":27.199045454545455},{"$f":"Futtermittel!O114","v":23.663169545454547},52,{"$f":"IF(J123=\" \",\" \",M$16*(J123*(L$17*J123-J$17*L123)/((J$16*(L$17*J123-J$17*L123))+(J$17*(J$16*L123-L$16*J123))))+M$17*((J123*(L$17*J123-J$17*L123)/((J$16*(L$17*J123-J$17*L123))+(J$17*(J$16*L123-L$16*J123))))*((J$16*L123-L$16*J123)/(L$17*J123-J$17*1.00000000000001*L123))))","v":34.436890032555603}]
[null,{"$f":"Futtermittel!A116","v":"Sojaschrot 43% RP "},{"$f":"Futtermittel!E116","v":43},{"$f":"Futtermittel!F116","v":0},{"$f":"Futtermittel!G116","v":"19"},{"$f":"Futtermittel!H116","v":890},{"$f":"Futtermittel!I116","v":429},{"$f":"Futtermittel!J116","v":351.78},{"$f":"Futtermittel!K116","v":69},{"$f":"Futtermittel!L116","v":13.097460999999999},{"$f":"Futtermittel!N116","v":26.623745454545457},{"$f":"Futtermittel!O116","v":23.162658545454548},52,{"$f":"IF(J124=\" \",\" \",M$16*(J124*(L$17*J124-J$17*L124)/((J$16*(L$17*J124-J$17*L124))+(J$17*(J$16*L124-L$16*J124))))+M$17*((J124*(L$17*J124-J$17*L124)/((J$16*(L$17*J124-J$17*L124))+(J$17*(J$16*L124-L$16*J124))))*((J$16*L124-L$16*J124)/(L$17*J124-J$17*1.00000000000001*L124))))","v":0}]
[null,{"$f":"Futtermittel!A115","v":"Sojaschrot 44% RP DLG 2014"},{"$f":"Futtermittel!E115","v":44},{"$f":"Futtermittel!F115","v":"DLG 2014"},{"$f":"Futtermittel!G115","v":0},{"$f":"Futtermittel!H115","v":880},{"$f":"Futtermittel!I115","v":440},{"$f":"Futtermittel!J115","v":360.79999999999995},{"$f":"Futtermittel!K115","v":60},{"$f":"Futtermittel!L115","v":13.002691999999998},{"$f":"Futtermittel!N115","v":27.152000000000001},{"$f":"Futtermittel!O115","v":23.622240000000001},52,{"$f":"IF(J125=\" \",\" \",M$16*(J125*(L$17*J125-J$17*L125)/((J$16*(L$17*J125-J$17*L125))+(J$17*(J$16*L125-L$16*J125))))+M$17*((J125*(L$17*J125-J$17*L125)/((J$16*(L$17*J125-J$17*L125))+(J$17*(J$16*L125-L$16*J125))))*((J$16*L125-L$16*J125)/(L$17*J125-J$17*1.00000000000001*L125))))","v":34.206702376357384}]
[null,{"$f":"Futtermittel!A118","v":"Sojaschrot, schalenreich 42% RP DLG FuDb"},{"$f":"Futtermittel!E118","v":42},{"$f":"Futtermittel!F118","v":"DLG FuDb"},{"$f":"Futtermittel!G118","v":0},{"$f":"Futtermittel!H118","v":880},{"$f":"Futtermittel!I118","v":424.16},{"$f":"Futtermittel!J118","v":347.81119999999999},{"$f":"Futtermittel!K118","v":83.036799999999999},{"$f":"Futtermittel!L118","v":12.583161327999999},{"$f":"Futtermittel!N118","v":26.323568000000002},{"$f":"Futtermittel!O118","v":23.42797552},52,33.512955980587982]
[null,{"$f":"Futtermittel!A119","v":"Sojaschrot, schalenreich 42% RP "},{"$f":"Futtermittel!E119","v":42},{"$f":"Futtermittel!F119","v":0},{"$f":"Futtermittel!G119","v":"13"},{"$f":"Futtermittel!H119","v":890},{"$f":"Futtermittel!I119","v":420},{"$f":"Futtermittel!J119","v":344.4},{"$f":"Futtermittel!K119","v":72},{"$f":"Futtermittel!L119","v":12.690603000000001},{"$f":"Futtermittel!N119","v":26.153045454545452},{"$f":"Futtermittel!O119","v":23.276210454545453},52,33.545164204149025]
[null,{"$f":"Futtermittel!A120","v":"Sojaschrot, schalenreich 41% RP "},{"$f":"Futtermittel!E120","v":41},{"$f":"Futtermittel!F120","v":0},{"$f":"Futtermittel!G120","v":"6"},{"$f":"Futtermittel!H120","v":890},{"$f":"Futtermittel!I120","v":410},{"$f":"Futtermittel!J120","v":336.2},{"$f":"Futtermittel!K120","v":77},{"$f":"Futtermittel!L120","v":12.729226999999998},{"$f":"Futtermittel!N120","v":25.630045454545453},{"$f":"Futtermittel!O120","v":22.810740454545453},52,33.26013465868165]
[null,{"$f":"Futtermittel!A121","v":"Sojaschrot, schalenreich 40% RP "},{"$f":"Futtermittel!E121","v":40},{"$f":"Futtermittel!F121","v":0},{"$f":"Futtermittel!G121","v":"3"},{"$f":"Futtermittel!H121","v":890},{"$f":"Futtermittel!I121","v":402},{"$f":"Futtermittel!J121","v":329.64},{"$f":"Futtermittel!K121","v":88},{"$f":"Futtermittel!L121","v":12.663584},{"$f":"Futtermittel!N121","v":25.211645454545458},{"$f":"Futtermittel!O121","v":22.438364454545457},52,32.904735068647938]
[null,{"$f":"Futtermittel!A122","v":"Sonnenblumenkuchen kaltgepresst 22% RP "},{"$f":"Futtermittel!E122","v":22},{"$f":"Futtermittel!F122","v":0},{"$f":"Futtermittel!G122","v":0},{"$f":"Futtermittel!H122","v":880},{"$f":"Futtermittel!I122","v":219},{"$f":"Futtermittel!J122","v":175.20000000000002},{"$f":"Futtermittel!K122","v":278},{"$f":"Futtermittel!L122","v":10.943737999999998},{"$f":"Futtermittel!N122","v":9.27},{"$f":"Futtermittel!O122","v":7.3232999999999997},null,19.725124671496808]
[null,{"$f":"Futtermittel!A123","v":"Sonnenblumenschrot teilgeschält 34% RP DLG 2014"},{"$f":"Futtermittel!E123","v":34},{"$f":"Futtermittel!F123","v":"DLG 2014"},{"$f":"Futtermittel!G123","v":0},{"$f":"Futtermittel!H123","v":890},{"$f":"Futtermittel!I123","v":338},{"$f":"Futtermittel!J123","v":260.26},{"$f":"Futtermittel!K123","v":200},{"$f":"Futtermittel!L123","v":9.8604830000000003},{"$f":"Futtermittel!N123","v":12.870681818181819},{"$f":"Futtermittel!O123","v":9.910425},30.5,20.163357999946772]
[null,{"$f":"Futtermittel!A124","v":"Trockenschlempe 29% RP "},{"$f":"Futtermittel!E124","v":29},{"$f":"Futtermittel!F124","v":0},{"$f":"Futtermittel!G124","v":0},{"$f":"Futtermittel!H124","v":930},{"$f":"Futtermittel!I124","v":292.02},{"$f":"Futtermittel!J124","v":210.25439999999998},{"$f":"Futtermittel!K124","v":69.75},{"$f":"Futtermittel!L124","v":11.897758770000001},{"$f":"Futtermittel!N124","v":6.6029999999999998},{"$f":"Futtermittel!O124","v":4.5560699999999992},33,18.986377295117173]
[null,{"$f":"Futtermittel!A125","v":"Trockenschlempe Gerste getrocknet 26% RP DLG 2014"},{"$f":"Futtermittel!E125","v":26},{"$f":"Futtermittel!F125","v":"DLG 2014"},{"$f":"Futtermittel!G125","v":0},{"$f":"Futtermittel!H125","v":910},{"$f":"Futtermittel!I125","v":255},{"$f":"Futtermittel!J125","v":198.9},{"$f":"Futtermittel!K125","v":113},{"$f":"Futtermittel!L125","v":11.033172},{"$f":"Futtermittel!N125","v":8.1999999999999993},{"$f":"Futtermittel!O125","v":6.7239999999999993},null,{"$f":"IF(J133=\" \",\" \",M$16*(J133*(L$17*J133-J$17*L133)/((J$16*(L$17*J133-J$17*L133))+(J$17*(J$16*L133-L$16*J133))))+M$17*((J133*(L$17*J133-J$17*L133)/((J$16*(L$17*J133-J$17*L133))+(J$17*(J$16*L133-L$16*J133))))*((J$16*L133-L$16*J133)/(L$17*J133-J$17*1.00000000000001*L133))))","v":19.410530626241886}]
[null,{"$f":"Futtermittel!A126","v":"Trockenschlempe Weizen getrocknet 35% RP DLG 2014"},{"$f":"Futtermittel!E126","v":35},{"$f":"Futtermittel!F126","v":"DLG 2014"},{"$f":"Futtermittel!G126","v":0},{"$f":"Futtermittel!H126","v":920},{"$f":"Futtermittel!I126","v":351},{"$f":"Futtermittel!J126","v":252.72},{"$f":"Futtermittel!K126","v":69},{"$f":"Futtermittel!L126","v":11.453660000000001},{"$f":"Futtermittel!N126","v":7.1},{"$f":"Futtermittel!O126","v":4.8989999999999991},null,{"$f":"IF(J134=\" \",\" \",M$16*(J134*(L$17*J134-J$17*L134)/((J$16*(L$17*J134-J$17*L134))+(J$17*(J$16*L134-L$16*J134))))+M$17*((J134*(L$17*J134-J$17*L134)/((J$16*(L$17*J134-J$17*L134))+(J$17*(J$16*L134-L$16*J134))))*((J$16*L134-L$16*J134)/(L$17*J134-J$17*1.00000000000001*L134))))","v":18.647978280535384}]
[null,{"$f":"Futtermittel!A127","v":"Trockenschlempe Weizen, Gerste getrocknet 34% RP DLG 2014"},{"$f":"Futtermittel!E127","v":34},{"$f":"Futtermittel!F127","v":"DLG 2014"},{"$f":"Futtermittel!G127","v":0},{"$f":"Futtermittel!H127","v":920},{"$f":"Futtermittel!I127","v":340},{"$f":"Futtermittel!J127","v":244.79999999999998},{"$f":"Futtermittel!K127","v":68},{"$f":"Futtermittel!L127","v":11.547073000000001},{"$f":"Futtermittel!N127","v":7.1},{"$f":"Futtermittel!O127","v":4.8989999999999991},null,{"$f":"IF(J135=\" \",\" \",M$16*(J135*(L$17*J135-J$17*L135)/((J$16*(L$17*J135-J$17*L135))+(J$17*(J$16*L135-L$16*J135))))+M$17*((J135*(L$17*J135-J$17*L135)/((J$16*(L$17*J135-J$17*L135))+(J$17*(J$16*L135-L$16*J135))))*((J$16*L135-L$16*J135)/(L$17*J135-J$17*1.00000000000001*L135))))","v":18.771225626739334}]
[]
[null,{"$f":"Futtermittel!A129","v":"Aminosäuren*** "},{"$f":"Futtermittel!E129","v":" "},{"$f":"Futtermittel!F129","v":0},{"$f":"Futtermittel!G129","v":0},{"$f":"Futtermittel!H129","v":0},{"$f":"Futtermittel!I129","v":0},{"$f":"Futtermittel!J129","v":0},{"$f":"Futtermittel!K129","v":0},{"$f":"Futtermittel!L129","v":0},{"$f":"Futtermittel!N129","v":0},{"$f":"Futtermittel!O129","v":0},null,{"$f":"IF(J137=0,\" \",M$16*(J137*(L$17*J137-J$17*L137)/((J$16*(L$17*J137-J$17*L137))+(J$17*(J$16*L137-L$16*J137))))+M$17*((J137*(L$17*J137-J$17*L137)/((J$16*(L$17*J137-J$17*L137))+(J$17*(J$16*L137-L$16*J137))))*((J$16*L137-L$16*J137)/(L$17*J137-J$17*1.00000000000001*L137))))","v":" "}]
[]
[null,{"$f":"Futtermittel!A131","v":"L-Lysin-HCL 95% RP "},{"$f":"Futtermittel!E131","v":95},{"$f":"Futtermittel!F131","v":0},{"$f":"Futtermittel!G131","v":0},{"$f":"Futtermittel!H131","v":995},{"$f":"Futtermittel!I131","v":954},{"$f":"Futtermittel!J131","v":954},{"$f":"Futtermittel!K131","v":0},{"$f":"Futtermittel!L131","v":19.557000000000002},{"$f":"Futtermittel!N131","v":780},{"$f":"Futtermittel!O131","v":780},200,588.82904593923763]
[null,{"$f":"Futtermittel!A132","v":"Methionin (DL-Meth.) 58% RP "},{"$f":"Futtermittel!E132","v":58},{"$f":"Futtermittel!F132","v":0},{"$f":"Futtermittel!G132","v":0},{"$f":"Futtermittel!H132","v":995},{"$f":"Futtermittel!I132","v":584},{"$f":"Futtermittel!J132","v":584},{"$f":"Futtermittel!K132","v":0},{"$f":"Futtermittel!L132","v":11.972000000000001},{"$f":"Futtermittel!N132","v":0},{"$f":"Futtermittel!O132","v":0},45,15.79563046635608]
[null,{"$f":"Futtermittel!A133","v":"Threonin (L-Thr.) 73% RP "},{"$f":"Futtermittel!E133","v":73},{"$f":"Futtermittel!F133","v":0},{"$f":"Futtermittel!G133","v":0},{"$f":"Futtermittel!H133","v":995},{"$f":"Futtermittel!I133","v":731},{"$f":"Futtermittel!J133","v":731},{"$f":"Futtermittel!K133","v":0},{"$f":"Futtermittel!L133","v":14.9855},{"$f":"Futtermittel!N133","v":0},{"$f":"Futtermittel!O133","v":0},46,19.77158539538749]
[null,{"$f":"Futtermittel!A134","v":"Tryptophan (L-Try.) 85% RP "},{"$f":"Futtermittel!E134","v":85},{"$f":"Futtermittel!F134","v":0},{"$f":"Futtermittel!G134","v":0},{"$f":"Futtermittel!H134","v":995},{"$f":"Futtermittel!I134","v":853},{"$f":"Futtermittel!J134","v":853},{"$f":"Futtermittel!K134","v":0},{"$f":"Futtermittel!L134","v":17.486499999999999},{"$f":"Futtermittel!N134","v":0},{"$f":"Futtermittel!O134","v":0},47,23.071357513359136]
[null,{"$f":"Futtermittel!A135","v":" "},{"$f":"Futtermittel!E135","v":" "},{"$f":"Futtermittel!F135","v":0},{"$f":"Futtermittel!G135","v":0},{"$f":"Futtermittel!H135","v":0},{"$f":"Futtermittel!I135","v":0},{"$f":"Futtermittel!J135","v":0},{"$f":"Futtermittel!K135","v":0},{"$f":"Futtermittel!L135","v":0},{"$f":"Futtermittel!N135","v":0},{"$f":"Futtermittel!O135","v":0}]
[null,{"$f":"Futtermittel!A136","v":"Sonstige Futtermittel "},{"$f":"Futtermittel!E136","v":" "},{"$f":"Futtermittel!F136","v":0},{"$f":"Futtermittel!G136","v":0},{"$f":"Futtermittel!H136","v":0},{"$f":"Futtermittel!I136","v":0},{"$f":"Futtermittel!J136","v":0},{"$f":"Futtermittel!K136","v":0},{"$f":"Futtermittel!L136","v":0},{"$f":"Futtermittel!N136","v":0},{"$f":"Futtermittel!O136","v":0},null,{"$f":"IF(J144=0,\" \",M$16*(J144*(L$17*J144-J$17*L144)/((J$16*(L$17*J144-J$17*L144))+(J$17*(J$16*L144-L$16*J144))))+M$17*((J144*(L$17*J144-J$17*L144)/((J$16*(L$17*J144-J$17*L144))+(J$17*(J$16*L144-L$16*J144))))*((J$16*L144-L$16*J144)/(L$17*J144-J$17*1.00000000000001*L144))))","v":" "}]
[null,{"$f":"Futtermittel!A137","v":" "},{"$f":"Futtermittel!E137","v":" "},{"$f":"Futtermittel!F137","v":0},{"$f":"Futtermittel!G137","v":0},{"$f":"Futtermittel!H137","v":0},{"$f":"Futtermittel!I137","v":0},{"$f":"Futtermittel!J137","v":0},{"$f":"Futtermittel!K137","v":0},{"$f":"Futtermittel!L137","v":0},{"$f":"Futtermittel!N137","v":0},{"$f":"Futtermittel!O137","v":0}]
[null,{"$f":"Futtermittel!A138","v":"Ameisensäure "},{"$f":"Futtermittel!E138","v":" "},{"$f":"Futtermittel!F138","v":0},{"$f":"Futtermittel!G138","v":0},{"$f":"Futtermittel!H138","v":850},{"$f":"Futtermittel!I138","v":0},{"$f":"Futtermittel!J138","v":0},{"$f":"Futtermittel!K138","v":0},{"$f":"Futtermittel!L138","v":5.8},{"$f":"Futtermittel!N138","v":0},{"$f":"Futtermittel!O138","v":0},null,7.6524103495543985]
[null,{"$f":"Futtermittel!A139","v":"Futterkalk CaCO3 "},{"$f":"Futtermittel!E139","v":" "},{"$f":"Futtermittel!F139","v":0},{"$f":"Futtermittel!G139","v":0},{"$f":"Futtermittel!H139","v":999},{"$f":"Futtermittel!I139","v":0},{"$f":"Futtermittel!J139","v":0},{"$f":"Futtermittel!K139","v":0},{"$f":"Futtermittel!L139","v":0},{"$f":"Futtermittel!N139","v":0},{"$f":"Futtermittel!O139","v":0}]
[null,{"$f":"Futtermittel!A141","v":"Haferschälkleie 6% RP DLG 2014"},{"$f":"Futtermittel!E141","v":6},{"$f":"Futtermittel!F141","v":"DLG 2014"},{"$f":"Futtermittel!G141","v":0},{"$f":"Futtermittel!H141","v":900},{"$f":"Futtermittel!I141","v":63},{"$f":"Futtermittel!J141","v":56.7},{"$f":"Futtermittel!K141","v":230},{"$f":"Futtermittel!L141","v":5.4123710000000003},{"$f":"Futtermittel!N141","v":2.2999999999999998},{"$f":"Futtermittel!O141","v":2.024},null,{"$f":"IF(J148=\" \",\" \",M$16*(J148*(L$17*J148-J$17*L148)/((J$16*(L$17*J148-J$17*L148))+(J$17*(J$16*L148-L$16*J148))))+M$17*((J148*(L$17*J148-J$17*L148)/((J$16*(L$17*J148-J$17*L148))+(J$17*(J$16*L148-L$16*J148))))*((J$16*L148-L$16*J148)/(L$17*J148-J$17*1.00000000000001*L148))))","v":8.6019600284789099}]
[null,{"$f":"Futtermittel!A142","v":"Heu Mitte bis Ende Blüte 11% RP DLG 2014"},{"$f":"Futtermittel!E142","v":11},{"$f":"Futtermittel!F142","v":"DLG 2014"},{"$f":"Futtermittel!G142","v":0},{"$f":"Futtermittel!H142","v":880},{"$f":"Futtermittel!I142","v":106},{"$f":"Futtermittel!J142","v":50.879999999999995},{"$f":"Futtermittel!K142","v":246},{"$f":"Futtermittel!L142","v":6.1480899999999998},{"$f":"Futtermittel!N142","v":4.8600000000000012},{"$f":"Futtermittel!O142","v":1.5066000000000004},null,9.1991799145812596]
[null,{"$f":"Futtermittel!A143","v":"Lignocellulose (Faserkonzentrat) 1% RP "},{"$f":"Futtermittel!E143","v":1},{"$f":"Futtermittel!F143","v":0},{"$f":"Futtermittel!G143","v":0},{"$f":"Futtermittel!H143","v":927},{"$f":"Futtermittel!I143","v":12},{"$f":"Futtermittel!J143","v":5.4},{"$f":"Futtermittel!K143","v":671},{"$f":"Futtermittel!L143","v":0},{"$f":"Futtermittel!N143","v":0},{"$f":"Futtermittel!O143","v":0}]
[null,{"$f":"Futtermittel!A144","v":"Luzerne, frisch 4% RP DLG 2014"},{"$f":"Futtermittel!E144","v":4},{"$f":"Futtermittel!F144","v":"DLG 2014"},{"$f":"Futtermittel!G144","v":0},{"$f":"Futtermittel!H144","v":170},{"$f":"Futtermittel!I144","v":37},{"$f":"Futtermittel!J144","v":17.39},{"$f":"Futtermittel!K144","v":43},{"$f":"Futtermittel!L144","v":1.558573},{"$f":"Futtermittel!N144","v":2.0839999999999996},{"$f":"Futtermittel!O144","v":1.0419999999999998},25,{"$f":"IF(J151=\" \",\" \",M$16*(J151*(L$17*J151-J$17*L151)/((J$16*(L$17*J151-J$17*L151))+(J$17*(J$16*L151-L$16*J151))))+M$17*((J151*(L$17*J151-J$17*L151)/((J$16*(L$17*J151-J$17*L151))+(J$17*(J$16*L151-L$16*J151))))*((J$16*L151-L$16*J151)/(L$17*J151-J$17*1.00000000000001*L151))))","v":2.808496620327082}]
[null,{"$f":"Futtermittel!A145","v":"Luzernegrünmehl jung unter 23% XF 20% RP DLG 2005"},{"$f":"Futtermittel!E145","v":20},{"$f":"Futtermittel!F145","v":"DLG 2005"},{"$f":"Futtermittel!G145","v":0},{"$f":"Futtermittel!H145","v":900},{"$f":"Futtermittel!I145","v":196},{"$f":"Futtermittel!J145","v":88.2},{"$f":"Futtermittel!K145","v":200},{"$f":"Futtermittel!L145","v":7.2117190000000004},{"$f":"Futtermittel!N145","v":9.6122727272727282},{"$f":"Futtermittel!O145","v":4.4216454545454553},26,12.706673600491435]
[null,{"$f":"Futtermittel!A146","v":"Luzernegrünmehl älter über 23% XF 17% RP DLG 2014"},{"$f":"Futtermittel!E146","v":17},{"$f":"Futtermittel!F146","v":"DLG 2014"},{"$f":"Futtermittel!G146","v":0},{"$f":"Futtermittel!H146","v":900},{"$f":"Futtermittel!I146","v":167},{"$f":"Futtermittel!J146","v":75.150000000000006},{"$f":"Futtermittel!K146","v":237},{"$f":"Futtermittel!L146","v":7.1883229999999996},{"$f":"Futtermittel!N146","v":7.8722727272727262},{"$f":"Futtermittel!O146","v":3.6212454545454542},26,12.098054157502071]
[null,{"$f":"Futtermittel!A147","v":"eigenes Grünmehl "},{"$f":"Futtermittel!E147","v":" "},{"$f":"Futtermittel!F147","v":0},{"$f":"Futtermittel!G147","v":0},{"$f":"Futtermittel!H147","v":0},{"$f":"Futtermittel!I147","v":0},{"$f":"Futtermittel!J147","v":" "},{"$f":"Futtermittel!K147","v":0},{"$f":"Futtermittel!L147","v":" "},{"$f":"Futtermittel!N147","v":" "},{"$f":"Futtermittel!O147","v":" "},26," "]
[null,{"$f":"Futtermittel!A148","v":"Melasseschnitzel 9% RP DLG 2014"},{"$f":"Futtermittel!E148","v":9},{"$f":"Futtermittel!F148","v":"DLG 2014"},{"$f":"Futtermittel!G148","v":0},{"$f":"Futtermittel!H148","v":910},{"$f":"Futtermittel!I148","v":91},{"$f":"Futtermittel!J148","v":22.75},{"$f":"Futtermittel!K148","v":137},{"$f":"Futtermittel!L148","v":10.532319000000001},{"$f":"Futtermittel!N148","v":4.8395454545454548},{"$f":"Futtermittel!O148","v":3.6296590909090911},23,16.516132459886972]
[null,{"$f":"Futtermittel!A149","v":"Melasseschnitzel zuckerreich 11% RP DLG 2005"},{"$f":"Futtermittel!E149","v":11},{"$f":"Futtermittel!F149","v":"DLG 2005"},{"$f":"Futtermittel!G149","v":0},{"$f":"Futtermittel!H149","v":900},{"$f":"Futtermittel!I149","v":113},{"$f":"Futtermittel!J149","v":28.25},{"$f":"Futtermittel!K149","v":129},{"$f":"Futtermittel!L149","v":10.93554},{"$f":"Futtermittel!N149","v":6.1663636363636369},{"$f":"Futtermittel!O149","v":4.6247727272727275},23,17.76643559934077]
[null,{"$f":"Futtermittel!A150","v":"Obstrester (Apfel), getrocknet 5% RP DLG FuDb"},{"$f":"Futtermittel!E150","v":5},{"$f":"Futtermittel!F150","v":"DLG FuDb"},{"$f":"Futtermittel!G150","v":0},{"$f":"Futtermittel!H150","v":900},{"$f":"Futtermittel!I150","v":50.301000000000002},{"$f":"Futtermittel!J150","v":36.216720000000002},{"$f":"Futtermittel!K150","v":186.39},{"$f":"Futtermittel!L150","v":7.5826408409999999},{"$f":"Futtermittel!N150","v":4.8600000000000003},{"$f":"Futtermittel!O150","v":2.2356000000000003},30,11.618111850956305]
[null,{"$f":"Futtermittel!A151","v":"Propionsäure "},{"$f":"Futtermittel!E151","v":" "},{"$f":"Futtermittel!F151","v":0},{"$f":"Futtermittel!G151","v":0},{"$f":"Futtermittel!H151","v":990},{"$f":"Futtermittel!I151","v":0},{"$f":"Futtermittel!J151","v":0},{"$f":"Futtermittel!K151","v":0},{"$f":"Futtermittel!L151","v":19.822217008797654},{"$f":"Futtermittel!N151","v":0},{"$f":"Futtermittel!O151","v":0},null,26.153058377454549]
[null,{"$f":"Futtermittel!A152","v":"Fischöl / Lachsöl DLG 2014"},{"$f":"Futtermittel!E152","v":" "},{"$f":"Futtermittel!F152","v":"DLG 2014"},{"$f":"Futtermittel!G152","v":0},{"$f":"Futtermittel!H152","v":999},{"$f":"Futtermittel!I152","v":0},{"$f":"Futtermittel!J152","v":0},{"$f":"Futtermittel!K152","v":0},{"$f":"Futtermittel!L152","v":38.925992000000001},{"$f":"Futtermittel!N152","v":0},{"$f":"Futtermittel!O152","v":0},null,{"$f":"IF(J159=\" \",\" \",M$16*(J159*(L$17*J159-J$17*L159)/((J$16*(L$17*J159-J$17*L159))+(J$17*(J$16*L159-L$16*J159))))+M$17*((J159*(L$17*J159-J$17*L159)/((J$16*(L$17*J159-J$17*L159))+(J$17*(J$16*L159-L$16*J159))))*((J$16*L159-L$16*J159)/(L$17*J159-J$17*1.00000000000001*L159))))","v":51.35821793921928}]
[null,{"$f":"Futtermittel!A153","v":"Rapsöl / Pflanzenöl DLG 2014"},{"$f":"Futtermittel!E153","v":" "},{"$f":"Futtermittel!F153","v":"DLG 2014"},{"$f":"Futtermittel!G153","v":0},{"$f":"Futtermittel!H153","v":999},{"$f":"Futtermittel!I153","v":0},{"$f":"Futtermittel!J153","v":0},{"$f":"Futtermittel!K153","v":0},{"$f":"Futtermittel!L153","v":38.925992000000001},{"$f":"Futtermittel!N153","v":0},{"$f":"Futtermittel!O153","v":0},125,51.35821793921928]
[null,{"$f":"Futtermittel!A154","v":"Sojaöl / Pflanzenöl DLG 2014"},{"$f":"Futtermittel!E154","v":" "},{"$f":"Futtermittel!F154","v":"DLG 2014"},{"$f":"Futtermittel!G154","v":0},{"$f":"Futtermittel!H154","v":999},{"$f":"Futtermittel!I154","v":0},{"$f":"Futtermittel!J154","v":0},{"$f":"Futtermittel!K154","v":0},{"$f":"Futtermittel!L154","v":38.925992000000001},{"$f":"Futtermittel!N154","v":0},{"$f":"Futtermittel!O154","v":0},120,51.35821793921928]
[null,{"$f":"Futtermittel!A155","v":"Reinglycerin 99,5 - 99,9 % "},{"$f":"Futtermittel!E155","v":" "},{"$f":"Futtermittel!F155","v":0},{"$f":"Futtermittel!G155","v":0},{"$f":"Futtermittel!H155","v":997},{"$f":"Futtermittel!I155","v":0},{"$f":"Futtermittel!J155","v":0},{"$f":"Futtermittel!K155","v":0},{"$f":"Futtermittel!L155","v":17.5},{"$f":"Futtermittel!N155","v":0},{"$f":"Futtermittel!O155","v":0},56,23.089169158138269]
[null,{"$f":"Futtermittel!A156","v":"Rohglycerin 80 - 82 % DLG 2014"},{"$f":"Futtermittel!E156","v":" "},{"$f":"Futtermittel!F156","v":"DLG 2014"},{"$f":"Futtermittel!G156","v":0},{"$f":"Futtermittel!H156","v":880},{"$f":"Futtermittel!I156","v":0},{"$f":"Futtermittel!J156","v":0},{"$f":"Futtermittel!K156","v":0},{"$f":"Futtermittel!L156","v":14.37224},{"$f":"Futtermittel!N156","v":0},{"$f":"Futtermittel!O156","v":0},45,18.962461745220644]
[null,{"$f":"Futtermittel!A157","v":"Sojabohnenschalen 12% RP DLG 2014"},{"$f":"Futtermittel!E157","v":12},{"$f":"Futtermittel!F157","v":"DLG 2014"},{"$f":"Futtermittel!G157","v":0},{"$f":"Futtermittel!H157","v":880},{"$f":"Futtermittel!I157","v":119},{"$f":"Futtermittel!J157","v":64.260000000000005},{"$f":"Futtermittel!K157","v":334},{"$f":"Futtermittel!L157","v":7.2218359999999997},{"$f":"Futtermittel!N157","v":7.9399999999999995},{"$f":"Futtermittel!O157","v":4.4464000000000006},25.5,12.737890305280802]
[null,{"$f":"Futtermittel!A158","v":"Stroh, Gerste 4% RP DLG 2014"},{"$f":"Futtermittel!E158","v":4},{"$f":"Futtermittel!F158","v":"DLG 2014"},{"$f":"Futtermittel!G158","v":0},{"$f":"Futtermittel!H158","v":860},{"$f":"Futtermittel!I158","v":39},{"$f":"Futtermittel!J158","v":3.9000000000000004},{"$f":"Futtermittel!K158","v":374},{"$f":"Futtermittel!L158","v":1.9308619999999999},{"$f":"Futtermittel!N158","v":0.8},{"$f":"Futtermittel!O158","v":0},null,2.547542819372639]
[null,{"$f":"Futtermittel!A159","v":"Stroh, Weizen 3% RP DLG 2014"},{"$f":"Futtermittel!E159","v":3},{"$f":"Futtermittel!F159","v":"DLG 2014"},{"$f":"Futtermittel!G159","v":0},{"$f":"Futtermittel!H159","v":860},{"$f":"Futtermittel!I159","v":34},{"$f":"Futtermittel!J159","v":3.4000000000000004},{"$f":"Futtermittel!K159","v":370},{"$f":"Futtermittel!L159","v":1.8986599999999998},{"$f":"Futtermittel!N159","v":0.7},{"$f":"Futtermittel!O159","v":0},null,{"$f":"IF(J166=\" \",\" \",M$16*(J166*(L$17*J166-J$17*L166)/((J$16*(L$17*J166-J$17*L166))+(J$17*(J$16*L166-L$16*J166))))+M$17*((J166*(L$17*J166-J$17*L166)/((J$16*(L$17*J166-J$17*L166))+(J$17*(J$16*L166-L$16*J166))))*((J$16*L166-L$16*J166)/(L$17*J166-J$17*1.00000000000001*L166))))","v":2.5050561093594745}]
[null,{"$f":"Futtermittel!A160","v":"Süßmolke 88 % TM 12% RP DLG 2014"},{"$f":"Futtermittel!E160","v":12},{"$f":"Futtermittel!F160","v":"DLG 2014"},{"$f":"Futtermittel!G160","v":0},{"$f":"Futtermittel!H160","v":880},{"$f":"Futtermittel!I160","v":117.33040000000003},{"$f":"Futtermittel!J160","v":105.59736000000002},{"$f":"Futtermittel!K160","v":0},{"$f":"Futtermittel!L160","v":12.626251616000003},{"$f":"Futtermittel!N160","v":8.8000000000000007},{"$f":"Futtermittel!O160","v":8.5359999999999996},null,22.820362252336665]
[null,{"$f":"Futtermittel!A161","v":"Süßmolke, frisch 1% RP DLG 2014"},{"$f":"Futtermittel!E161","v":1},{"$f":"Futtermittel!F161","v":"DLG 2014"},{"$f":"Futtermittel!G161","v":0},{"$f":"Futtermittel!H161","v":60},{"$f":"Futtermittel!I161","v":7.9998000000000014},{"$f":"Futtermittel!J161","v":6.3998400000000011},{"$f":"Futtermittel!K161","v":0},{"$f":"Futtermittel!L161","v":0.86088079199999989},{"$f":"Futtermittel!N161","v":0.6},{"$f":"Futtermittel!O161","v":0.58199999999999996},null,1.5559337899320447]
[null,{"$f":"Futtermittel!A162","v":"Sauermolke, milchsauer 88 % TM 8% RP DLG 2014"},{"$f":"Futtermittel!E162","v":8},{"$f":"Futtermittel!F162","v":"DLG 2014"},{"$f":"Futtermittel!G162","v":0},{"$f":"Futtermittel!H162","v":880},{"$f":"Futtermittel!I162","v":82.5},{"$f":"Futtermittel!J162","v":57.749999999999993},{"$f":"Futtermittel!K162","v":0},{"$f":"Futtermittel!L162","v":11.801490800000002},{"$f":"Futtermittel!N162","v":9.68},{"$f":"Futtermittel!O162","v":8.0343999999999998},null,21.370119454283774]
[null,{"$f":"Futtermittel!A163","v":"Sauermolke, milchsauer, frisch 1% RP DLG 2014"},{"$f":"Futtermittel!E163","v":1},{"$f":"Futtermittel!F163","v":"DLG 2014"},{"$f":"Futtermittel!G163","v":0},{"$f":"Futtermittel!H163","v":64},{"$f":"Futtermittel!I163","v":6},{"$f":"Futtermittel!J163","v":4.1999999999999993},{"$f":"Futtermittel!K163","v":0},{"$f":"Futtermittel!L163","v":0.85829024000000009},{"$f":"Futtermittel!N163","v":0.70399999999999996},{"$f":"Futtermittel!O163","v":0.58431999999999995},null,1.5541905057660927]
[null,{"$f":"Futtermittel!A164","v":"Trockenschnitzel 8% RP DLG 2014"},{"$f":"Futtermittel!E164","v":8},{"$f":"Futtermittel!F164","v":"DLG 2014"},{"$f":"Futtermittel!G164","v":0},{"$f":"Futtermittel!H164","v":900},{"$f":"Futtermittel!I164","v":75},{"$f":"Futtermittel!J164","v":30},{"$f":"Futtermittel!K164","v":171},{"$f":"Futtermittel!L164","v":10.142751000000001},{"$f":"Futtermittel!N164","v":3.8863636363636358},{"$f":"Futtermittel!O164","v":2.1374999999999997},22,14.925061459632863]
[null,{"$f":"Futtermittel!A165","v":"eigenes Trockenschnitzel "},{"$f":"Futtermittel!E165","v":" "},{"$f":"Futtermittel!F165","v":0},{"$f":"Futtermittel!G165","v":0},{"$f":"Futtermittel!H165","v":0},{"$f":"Futtermittel!I165","v":0},{"$f":"Futtermittel!J165","v":" "},{"$f":"Futtermittel!K165","v":0},{"$f":"Futtermittel!L165","v":" "},{"$f":"Futtermittel!N165","v":" "},{"$f":"Futtermittel!O165","v":" "},22," "]
[null,{"$f":"Futtermittel!A166","v":"Wasser "},{"$f":"Futtermittel!E166","v":" "},{"$f":"Futtermittel!F166","v":0},{"$f":"Futtermittel!G166","v":0},{"$f":"Futtermittel!H166","v":0},{"$f":"Futtermittel!I166","v":0},{"$f":"Futtermittel!J166","v":0},{"$f":"Futtermittel!K166","v":0},{"$f":"Futtermittel!L166","v":0},{"$f":"Futtermittel!N166","v":0},{"$f":"Futtermittel!O166","v":0},null,{"$error":"#DIV/0!"}]
[null,{"$f":"Futtermittel!A167","v":"Weizenkleie 14% RP DLG 2014"},{"$f":"Futtermittel!E167","v":14},{"$f":"Futtermittel!F167","v":"DLG 2014"},{"$f":"Futtermittel!G167","v":0},{"$f":"Futtermittel!H167","v":880},{"$f":"Futtermittel!I167","v":141},{"$f":"Futtermittel!J167","v":109.98},{"$f":"Futtermittel!K167","v":114},{"$f":"Futtermittel!L167","v":8.8198340000000002},{"$f":"Futtermittel!N167","v":6.04},{"$f":"Futtermittel!O167","v":4.2884000000000002},23,{"$f":"IF(J174=\" \",\" \",M$16*(J174*(L$17*J174-J$17*L174)/((J$16*(L$17*J174-J$17*L174))+(J$17*(J$16*L174-L$16*J174))))+M$17*((J174*(L$17*J174-J$17*L174)/((J$16*(L$17*J174-J$17*L174))+(J$17*(J$16*L174-L$16*J174))))*((J$16*L174-L$16*J174)/(L$17*J174-J$17*1.00000000000001*L174))))","v":14.732209817777321}]
[null,{"$f":"Futtermittel!A168","v":"eigene Weizenkleie "},{"$f":"Futtermittel!E168","v":" "},{"$f":"Futtermittel!F168","v":0},{"$f":"Futtermittel!G168","v":0},{"$f":"Futtermittel!H168","v":0},{"$f":"Futtermittel!I168","v":0},{"$f":"Futtermittel!J168","v":" "},{"$f":"Futtermittel!K168","v":0},{"$f":"Futtermittel!L168","v":" "},{"$f":"Futtermittel!N168","v":" "},{"$f":"Futtermittel!O168","v":" "},null,{"$f":"IF(J175=\" \",\" \",M$16*(J175*(L$17*J175-J$17*L175)/((J$16*(L$17*J175-J$17*L175))+(J$17*(J$16*L175-L$16*J175))))+M$17*((J175*(L$17*J175-J$17*L175)/((J$16*(L$17*J175-J$17*L175))+(J$17*(J$16*L175-L$16*J175))))*((J$16*L175-L$16*J175)/(L$17*J175-J$17*1.00000000000001*L175))))","v":" "}]
[null,{"$f":"Futtermittel!A169","v":"hier neues Futtermittel eingeben % RP "},{"$f":"Futtermittel!E169","v":""},{"$f":"Futtermittel!F169","v":0},{"$f":"Futtermittel!G169","v":0},{"$f":"Futtermittel!H169","v":0},{"$f":"Futtermittel!I169","v":0},{"$f":"Futtermittel!J169","v":0},{"$f":"Futtermittel!K169","v":0},{"$f":"Futtermittel!L169","v":" "},{"$f":"Futtermittel!N169","v":0},{"$f":"Futtermittel!O169","v":0},null,{"$f":"IF(J176=\" \",\" \",M$16*(J176*(L$17*J176-J$17*L176)/((J$16*(L$17*J176-J$17*L176))+(J$17*(J$16*L176-L$16*J176))))+M$17*((J176*(L$17*J176-J$17*L176)/((J$16*(L$17*J176-J$17*L176))+(J$17*(J$16*L176-L$16*J176))))*((J$16*L176-L$16*J176)/(L$17*J176-J$17*1.00000000000001*L176))))","v":" "}]
[]
[null,"* Häufigkeitsverteilung hessischer Proben"]
[null,"** berechnet nach Einzelfutterformel nur in Ausnahmefällen nach Mischfutterformel"]

{"sheet":"Ergänzungsfutter","index":14,"n_rows":47,"n_cols":41,"rows_kept":47,"cut":false,"hidden":false,"merged":[[3,2,3,17],[4,2,4,17],[7,23,8,23],[42,3,42,7],[41,9,41,17],[41,2,41,8],[7,20,8,20],[39,2,39,17],[42,15,42,16],[6,4,6,35],[7,32,8,32],[7,33,8,33],[7,19,8,19],[7,39,8,39],[7,40,8,40],[7,21,8,21],[7,22,8,22],[7,24,8,24],[7,25,8,25],[7,26,8,26],[7,27,8,27],[7,31,8,31],[7,29,8,29],[7,30,8,30],[7,28,8,28],[7,36,8,36],[7,34,8,34],[7,35,8,35]]}
[]
[]
[]
[null,null,"Orientierungswerte für Ergänzungsfuttermittel"]
[null,null,"(in jedem Fall die deklarierten Inhaltsstoffangaben beachten)"]
[]
[null,null,null,null,"                                                                         in 1000 g Futtermittel"]
[null,null,null,null,"TM","RP","Rfa","ME","Lys","M + C","Thr","Trp","Ca","     P   ","vP","Mg","Na","Rationsanteil","ME","Methionin                   (Met)","Rohfett                  (XL)","Stärke                     (S)","Zucker         (Z)","Rohasche                  (XA)","organi-scher Rest alt             (OR)                       ","organi-scher Rest                   (OR)","Polyen-säure-gehalt","Linol-säure-gehalt","Linolen-säure-gehalt","Vit A","Vit D3","Vit E","Kationen / Anionen-Bilanz (BE)","Säurebindungs-kapazität                  SBK bei pH 3","Säuren-Detergenz-Faser (ADF)","Neutrale-Detergenz-Faser (NDF)","N-frei Extrakt-stoffe (NfE)","NE_GP","NE_S","Desoxy-nivalenol (DON)","Zeara-lenon (ZEA)"]
[null,null,null,null,null,null,null,"MFF",null,null,null,null,null,null,"mit Phy-tase",null,null,"im Trockenfutter","MFF"]
[{"$f":"D10","v":"alle Ergänzungsfuttermittel mit Phytase!"},null,"NR.","alle Ergänzungsfuttermittel mit Phytase!","g ","g *","g","MJ","g *","g *","g *","g ","g *","g *","g **","g*","g ","% *","MJ","g","g","g","g","g","g","g","g","g","g","IE","IE","mg","mmol","meq","g","g","g","MJ","MJ","mg","mg"]
[{"$f":"IF(D11=\"\",\" \",D11)","v":"Eiweißr. Ergf. für Mastschweine"},null,{"$f":"COUNTA(E$11:E11)","v":1},"Eiweißr. Ergf. für Mastschweine",890,"380","45","12,6",30,11,"14,5","5,1","32,0","9,0",{"$f":"ROUND(N11*0.75,1)","v":6.8},1,"5,3","15 - 28","12,6",{"$f":"J11*0.58","v":6.38},null,null,null,125,{"$f":"IF(U11=\"\",\" \",E11-(F11+G11+U11+V11+W11+X11))","v":" "},{"$f":"IF(U11=\"\",\" \",E11-(F11+G11+U11+V11+X11))","v":" "},null,null,null,23200,7100,620,{"$f":"IF(M11=\"\",\"\",50*M11+83*P11+26*20/440*F11+44*Q11-59*N11-13*J11-28*(0.93*23*Q11/35.5+P11))","v":1573.8746837387962},{"$f":"IF(M11=\"\",\"\",M11/1000*20140+P11/1000*48600+1100/440*F11)","v":1643.08},{"$f":"IF(G11=\"\",\"\",G11*1.53)","v":68.849999999999994},{"$f":"IF(G11=\"\",\"\",AI11*2.23)","v":153.53549999999998}]
["Ergf. für tragende Zuchtsauen",null,{"$f":"COUNTA(E$11:E12)","v":2},"Ergf. für tragende Zuchtsauen","890","190",120,"10,6",16,7,"7,4","2,5","20,5","8,0",{"$f":"ROUND(N12*0.75,1)","v":6},1,"6,6","30 - 40","10,6",{"$f":"J12*0.47","v":3.29},null,null,null,110," ",{"$f":"IF(U12=\"\",\" \",E12-(F12+G12+U12+V12+X12))","v":" "},null,null,null,20000,3000,240,{"$f":"IF(M12=\"\",\"\",50*M12+83*P12+26*20/440*F12+44*Q12-59*N12-13*J12-28*(0.93*23*Q12/35.5+P12))","v":920.59694750320114},936.47,183.6,409.428]
["Ergf. für laktierende Zuchtsauen",null,{"$f":"COUNTA(E$11:E13)","v":3},"Ergf. für laktierende Zuchtsauen","890","270",100,"12,6",20,8.6999999999999993,"10,1","3,2","20,5","8,5",{"$f":"ROUND(N13*0.75,1)","v":6.4},1,"6,1","40","12,6",{"$f":"J13*0.5","v":4.3499999999999996},null,null,null,110," ",{"$f":"IF(U13=\"\",\" \",E13-(F13+G13+U13+V13+X13))","v":" "},null,null,null,30000,4250,340,949.97789500640215,1136.47,153,341.19]
["Eiweißr. Ergf. für Zuchtsauen",null,{"$f":"COUNTA(E$11:E14)","v":4},"Eiweißr. Ergf. für Zuchtsauen","890","380","45","12,6",30,10.7,"15,5","4,7","41","14,5",{"$f":"ROUND(N14*0.75,1)","v":10.9},2,"8","10 - 25","12,6",{"$f":"J14*0.55","v":5.8849999999999998},null,null,null,140," ",{"$f":"IF(U14=\"\",\" \",E14-(F14+G14+U14+V14+X14))","v":" "},null,null,null,42500,6000,480,1831.5230217669655,1872.94,68.849999999999994,153.53549999999998]
["Ergänzungsfutter für Ferkel",null,{"$f":"COUNTA(E$11:E15)","v":5},"Ergänzungsfutter für Ferkel","890","310","45","13,4",30,14,"13","3,6","22","11",{"$f":"ROUND(N15*0.75,1)","v":8.3000000000000007},1.3,"4","34 - 35","13,4",{"$f":"J15*0.62","v":8.68},null,null,null,115," ",{"$f":"IF(U15=\"\",\" \",E15-(F15+G15+U15+V15+X15))","v":" "},null,null,null,30000,4000,330,815.37969270166479,1281.26,68.849999999999994,153.53549999999998]
[" ",null,{"$f":"COUNTA(E$11:E16)","v":6},null,890,null,null,{"$f":"IF(F16=\"\",\" \",$F16*0.021503+0.032497*$U16+0.016309*$V16+0.014701*$Z16-0.021071*$G16)","v":" "},null,null,null,null,null,null,{"$f":"IF(N16=\"\",0,N16*0.75)","v":0},null,null,null,{"$f":"IF(U16=\"\",\" \",$F16*0.021503+0.032497*$U16+0.016309*$V16+0.014701*$Z16-0.021071*$G16)","v":" "},null,null,null,null,null," ",{"$f":"IF(F16=\"\",\" \",E16-(F16+G16+U16+V16+X16))","v":" "},null,null,null,null,null,null,"","","","",{"$f":"IF(F16=\"\",\"\",E16-G16-F16-U16-X16)","v":""},{"$f":"IF(F16=\"\",\" \",((((0.703*(4168-(91*X16/10/E16*1000)+(19*F16/10/E16*1000)+(39*U16/10/E16*1000)-(36*AJ16/10/E16*1000))+(15.8*X16/10/E16*1000)+(4.7*V16/10/E16*1000)-(9.7*F16/10/E16*1000)-(9.8*G16/10/E16*1000))*0.0041868)+((0.7*(4168-(91*X16/10/E16*1000)+(19*F16/10/E16*1000)+(39*U16/10/E16*1000)-(36*AJ16/10/E16*1000))+(16.1*U16/10/E16*1000)+(4.8*V16/10/E16*1000)-(9.1*F16/10/E16*1000)-(8.7*AI16/10/E16*1000))*0.0041868))/2)/1000*E16)","v":" "},{"$f":"IF(F16=\"\",\" \",((0.703*((((4168-(91*X16/10/E16*1000)+(19*F16/10/E16*1000)+(39*U16/10/E16*1000)-(36*AJ16/10/E16*1000))*0.0041868*1.014)+(0.066*G16/10/E16*1000))/0.0041868)+(15.8*U16/10/E16*1000)+(4.7*V16/10/E16*1000)-(9.7*F16/10/E16*1000)-(9.8*G16/10/E16*1000))*0.0041868)/1000*E16)","v":" "}]
[" ",null,{"$f":"COUNTA(E$11:E17)","v":7},null,890,null,null,{"$f":"IF(F17=\"\",\" \",$F17*0.021503+0.032497*$U17+0.016309*$V17+0.014701*$Z17-0.021071*$G17)","v":" "},null,null,null,null,null,null,0,null,null,null," ",null,null,null,null,null," ",{"$f":"IF(F17=\"\",\" \",E17-(F17+G17+U17+V17+X17))","v":" "},null,null,null,null,null,null,"","","","",{"$f":"IF(F17=\"\",\"\",E17-G17-F17-U17-X17)","v":""},{"$f":"IF(F17=\"\",\" \",((((0.703*(4168-(91*X17/10/E17*1000)+(19*F17/10/E17*1000)+(39*U17/10/E17*1000)-(36*AJ17/10/E17*1000))+(15.8*X17/10/E17*1000)+(4.7*V17/10/E17*1000)-(9.7*F17/10/E17*1000)-(9.8*G17/10/E17*1000))*0.0041868)+((0.7*(4168-(91*X17/10/E17*1000)+(19*F17/10/E17*1000)+(39*U17/10/E17*1000)-(36*AJ17/10/E17*1000))+(16.1*U17/10/E17*1000)+(4.8*V17/10/E17*1000)-(9.1*F17/10/E17*1000)-(8.7*AI17/10/E17*1000))*0.0041868))/2)/1000*E17)","v":" "},{"$f":"IF(F17=\"\",\" \",((0.703*((((4168-(91*X17/10/E17*1000)+(19*F17/10/E17*1000)+(39*U17/10/E17*1000)-(36*AJ17/10/E17*1000))*0.0041868*1.014)+(0.066*G17/10/E17*1000))/0.0041868)+(15.8*U17/10/E17*1000)+(4.7*V17/10/E17*1000)-(9.7*F17/10/E17*1000)-(9.8*G17/10/E17*1000))*0.0041868)/1000*E17)","v":" "}]
[" ",null,{"$f":"COUNTA(E$11:E18)","v":8},null,890,null,null," ",null,null,null,null,null,null,0,null,null,null," ",null,null,null,null,null," "," ",null,null,null,null,null,null,"","","","",""," "," "]
[" ",null,{"$f":"COUNTA(E$11:E19)","v":9},null,890,null,null," ",null,null,null,null,null,null,0,null,null,null," ",null,null,null,null,null," "," ",null,null,null,null,null,null,"","","","",""," "," "]
[" ",null,{"$f":"COUNTA(E$11:E20)","v":10},null,890,null,null," ",null,null,null,null,null,null,0,null,null,null," ",null,null,null,null,null," "," ",null,null,null,null,null,null,"","","","",""," "," "]
[{"$f":"IF(D21=\"\",\" \",D21)","v":" "},null,{"$f":"COUNTA(E$11:E21)","v":11},null,890,null,null," ",null,null,null,null,null,null,0,null,null,null,{"$f":"IF(U21=\"\",\" \",$F21*0.021503+0.032497*$U21+0.016309*$V21+0.014701*$Z21-0.021071*$G21)","v":" "},null,null,null,null,null,{"$f":"IF(U21=\"\",\" \",E21-(F21+G21+U21+V21+W21+X21))","v":" "}," ",null,null,null,null,null,null,{"$f":"IF(M21=\"\",\"\",50*M21+83*P21+26*20/440*F21+44*Q21-59*N21-13*J21-28*(0.93*23*Q21/35.5+P21))","v":""},{"$f":"IF(M21=\"\",\"\",M21/1000*20140+P21/1000*48600+1100/440*F21)","v":""},{"$f":"IF(G21=\"\",\"\",G21*1.53)","v":""},{"$f":"IF(G21=\"\",\"\",AI21*2.23)","v":""},""," "," "]
[" ",null,{"$f":"COUNTA(E$11:E22)","v":12},null,890,null,null," ",null,null,null,null,null,null,0,null,null,null," ",null,null,null,null,null," "," ",null,null,null,null,null,null,"","","","",""," "," "]
[" ",null,{"$f":"COUNTA(E$11:E23)","v":13},null,890,null,null," ",null,null,null,null,null,null,0,null,null,null," ",null,null,null,null,null," "," ",null,null,null,null,null,null,"","","","",""," "," "]
[{"$f":"IF(D24=\"\",\" \",D24)","v":" "},null,{"$f":"COUNTA(E$11:E24)","v":14},null,890,null,null,{"$f":"IF(F24=\"\",\" \",$F24*0.021503+0.032497*$U24+0.016309*$V24+0.014701*$Z24-0.021071*$G24)","v":" "},null,null,null,null,null,null,0,null,null,null,{"$f":"IF(U24=\"\",\" \",$F24*0.021503+0.032497*$U24+0.016309*$V24+0.014701*$Z24-0.021071*$G24)","v":" "},null,null,null,null,null,{"$f":"IF(U24=\"\",\" \",E24-(F24+G24+U24+V24+W24+X24))","v":" "},{"$f":"IF(F24=\"\",\" \",E24-(F24+G24+U24+V24+X24))","v":" "},null,null,null,null,null,null,{"$f":"IF(M24=\"\",\"\",50*M24+83*P24+26*20/440*F24+44*Q24-59*N24-13*J24-28*(0.93*23*Q24/35.5+P24))","v":""},{"$f":"IF(M24=\"\",\"\",M24/1000*20140+P24/1000*48600+1100/440*F24)","v":""},{"$f":"IF(G24=\"\",\"\",G24*1.53)","v":""},{"$f":"IF(G24=\"\",\"\",AI24*2.23)","v":""},{"$f":"IF(F24=\"\",\"\",E24-G24-F24-U24-X24)","v":""}," "," "]
[" ",null,{"$f":"COUNTA(E$11:E25)","v":15},null,890,null,null," ",null,null,null,null,null,null,0,null,null,null," ",null,null,null,null,null," "," ",null,null,null,null,null,null,"","","","",""," "," "]
[" ",null,{"$f":"COUNTA(E$11:E26)","v":16},null,890,null,null," ",null,null,null,null,null,null,0,null,null,null," ",null,null,null,null,null," "," ",null,null,null,null,null,null,"","","","",""," "," "]
[" ",null,{"$f":"COUNTA(E$11:E27)","v":17},null,890,null,null," ",null,null,null,null,null,null,0,null,null,null," ",null,null,null,null,null," "," ",null,null,null,null,null,null,"","","","",""," "," "]
[" ",null,{"$f":"COUNTA(E$11:E28)","v":18},null,890,null,null,{"$f":"IF(F28=\"\",\" \",$F28*0.021503+0.032497*$U28+0.016309*$V28+0.014701*$Z28-0.021071*$G28)","v":" "},null,null,null,null,null,null,0,null,null,null," ",null,null,null,null,null," ",{"$f":"IF(F28=\"\",\" \",E28-(F28+G28+U28+V28+X28))","v":" "},null,null,null,null,null,null,"","","","",{"$f":"IF(F28=\"\",\"\",E28-G28-F28-U28-X28)","v":""}," "," "]
[" ",null,{"$f":"COUNTA(E$11:E29)","v":19},null,890,null,null," ",null,null,null,null,null,null,0,null,null,null," ",null,null,null,null,null," "," ",null,null,null,null,null,null,"","","","",""," "," "]
[" ",null,{"$f":"COUNTA(E$11:E30)","v":20},null,890,null,null,{"$f":"IF(F30=\"\",\" \",$F30*0.021503+0.032497*$U30+0.016309*$V30+0.014701*$Z30-0.021071*$G30)","v":" "},null,null,null,null,null,null,0,null,null,null," ",null,null,null,null,null," ",{"$f":"IF(F30=\"\",\" \",E30-(F30+G30+U30+V30+X30))","v":" "},null,null,null,null,null,null,"","","","",{"$f":"IF(F30=\"\",\"\",E30-G30-F30-U30-X30)","v":""}," "," "]
[{"$f":"IF(D31=\"\",\" \",D31)","v":" "},null,{"$f":"COUNTA(E$11:E31)","v":21},null,890,null,null," ",null,null,null,null,null,null,0,null,null,null,{"$f":"IF(U31=\"\",\" \",$F31*0.021503+0.032497*$U31+0.016309*$V31+0.014701*$Z31-0.021071*$G31)","v":" "},null,null,null,null,null,{"$f":"IF(U31=\"\",\" \",E31-(F31+G31+U31+V31+W31+X31))","v":" "}," ",null,null,null,null,null,null,{"$f":"IF(M31=\"\",\"\",50*M31+83*P31+26*20/440*F31+44*Q31-59*N31-13*J31-28*(0.93*23*Q31/35.5+P31))","v":""},{"$f":"IF(M31=\"\",\"\",M31/1000*20140+P31/1000*48600+1100/440*F31)","v":""},{"$f":"IF(G31=\"\",\"\",G31*1.53)","v":""},{"$f":"IF(G31=\"\",\"\",AI31*2.23)","v":""},""," "," "]
[" ",null,{"$f":"COUNTA(E$11:E32)","v":22},null,890,null,null," ",null,null,null,null,null,null,0,null,null,null," ",null,null,null,null,null," "," ",null,null,null,null,null,null,"","","","",""," "," "]
[{"$f":"IF(D33=\"\",\" \",D33)","v":" "},null,{"$f":"COUNTA(E$11:E33)","v":23},null,890,null,null,{"$f":"IF(F33=\"\",\" \",$F33*0.021503+0.032497*$U33+0.016309*$V33+0.014701*$Z33-0.021071*$G33)","v":" "},null,null,null,null,null,null,0,null,null,null,{"$f":"IF(U33=\"\",\" \",$F33*0.021503+0.032497*$U33+0.016309*$V33+0.014701*$Z33-0.021071*$G33)","v":" "},null,null,null,null,null,{"$f":"IF(U33=\"\",\" \",E33-(F33+G33+U33+V33+W33+X33))","v":" "},{"$f":"IF(F33=\"\",\" \",E33-(F33+G33+U33+V33+X33))","v":" "},null,null,null,null,null,null,{"$f":"IF(M33=\"\",\"\",50*M33+83*P33+26*20/440*F33+44*Q33-59*N33-13*J33-28*(0.93*23*Q33/35.5+P33))","v":""},{"$f":"IF(M33=\"\",\"\",M33/1000*20140+P33/1000*48600+1100/440*F33)","v":""},{"$f":"IF(G33=\"\",\"\",G33*1.53)","v":""},{"$f":"IF(G33=\"\",\"\",AI33*2.23)","v":""},{"$f":"IF(F33=\"\",\"\",E33-G33-F33-U33-X33)","v":""}," "," "]
[" ",null,{"$f":"COUNTA(E$11:E34)","v":24},null,890,null,null," ",null,null,null,null,null,null,0,null,null,null," ",null,null,null,null,null," "," ",null,null,null,null,null,null,{"$f":"IF(M34=\"\",\"\",50*M34+83*P34+26*20/440*F34+44*Q34-59*N34-13*J34-28*(0.93*23*Q34/35.5+P34))","v":""},{"$f":"IF(M34=\"\",\"\",M34/1000*20140+P34/1000*48600+1100/440*F34)","v":""},{"$f":"IF(G34=\"\",\"\",G34*1.53)","v":""},{"$f":"IF(G34=\"\",\"\",AI34*2.23)","v":""},{"$f":"IF(F34=\"\",\"\",E34-G34-F34-U34-X34)","v":""}," "," "]
[" ",null,{"$f":"COUNTA(E$11:E35)","v":25},null,890,null,null,{"$f":"IF(F35=\"\",\" \",$F35*0.021503+0.032497*$U35+0.016309*$V35+0.014701*$Z35-0.021071*$G35)","v":" "},null,null,null,null,null,null,0,null,null,null," ",null,null,null,null,null," ",{"$f":"IF(F35=\"\",\" \",E35-(F35+G35+U35+V35+X35))","v":" "},null,null,null,null,null,null,{"$f":"IF(M35=\"\",\"\",50*M35+83*P35+26*20/440*F35+44*Q35-59*N35-13*J35-28*(0.93*23*Q35/35.5+P35))","v":""},{"$f":"IF(M35=\"\",\"\",M35/1000*20140+P35/1000*48600+1100/440*F35)","v":""},{"$f":"IF(G35=\"\",\"\",G35*1.53)","v":""},{"$f":"IF(G35=\"\",\"\",AI35*2.23)","v":""},{"$f":"IF(F35=\"\",\"\",E35-G35-F35-U35-X35)","v":""}," "," "]
[]
[null,null,null,"*     Mittel- bzw. repräsentative Werte der vergleichenden Mischfuttertests in der Region Hessen, Rheinland-Pfalz und Saarland in 2005 & 2006"]
[null,null,null,"**   Auf Anfrage teilt der Mischfutterhersteller den genauen Gehalt an vP mit."]
[]
[null,null,"Veränderung der Ration durch den Austausch von Energie- bzw. Proteinträgern (bei 88% TM)"]
[]
[null,null,"Energieveränderungen (Austausch gegen Gerste, Qualitäten DLG 2014)",null,null,null,null,null,null,"   Lysinveränderungen (Austausch gegen Gerste, Qualitäten DLG 2014)"]
[null,null,null,"Energie nach Einzelfuttermittelformel",null,null,null,null,null,null,null,null,null,null,null,"Lysin",null,"pcv Lysin"]
[null,null,null,"± 10% Weizen 13,7 MJ ME/kg","→","±  0,11 MJ ME / kg",null,null,null,"   ± 1% Sojaschrot 44,0% RP ",null,null,null,null,"→","  ±  0,23 g/kg",null,"± 0,21 g/kg"]
[null,null,null,"± 10% Hafer 11,7 MJ ME/kg","→","±  0,09 MJ ME / kg",null,null,null,"   ± 1% Fischmehl 57,3% RP ",null,null,null,null,"→","  ±  0,33 g/kg",null,"± 0,30 g/kg"]
[null,null,null,"±   5 % Rapsschrot 00  9,9 MJ ME/kg","→","±  0,13 MJ ME / kg",null,null,null,"   ± 1% Rapsschrot 00  35,5% RP",null,null,null,null,"→","  ±  0,16 g/kg",null,"± 0,12 g/kg"]
[null,null,null,"±   1 % Soja-Öl 38,9 MJ ME/kg","→","±  0,26 MJ ME / kg",null,null,null,"   ± 1% Erbsen 22,1% RP",null,null,null,null,"→","  ±  0,12 g/kg",null,"± 0,11 g/kg"]

{"sheet":"Mineralfutter","index":15,"n_rows":39,"n_cols":36,"rows_kept":39,"cut":false,"hidden":false,"merged":[[7,22,8,22],[7,23,8,23],[7,24,8,24],[7,25,8,25],[6,18,6,35],[7,33,8,33],[7,26,8,26],[7,27,8,27],[7,28,8,28],[7,32,8,32],[7,29,8,29],[7,30,8,30],[7,31,8,31],[3,2,3,17],[4,2,4,17],[7,19,8,19],[7,20,8,20],[7,21,8,21]]}
[]
[]
[]
[null,null,"Orientierungswerte für Mineralfutter"]
[null,null,"(in jedem Fall die deklarierten Inhaltsstoffangaben beachten)"]
[]
[null,null,null,null,"in 1000 g Futtermittel",null,null,null,null,null,null,null,null,null,null,null,null,null,"in 1000 g Futtermittel"]
[null,null,null,null,"TM","RP","Rfa","ME","Lys","Met","Thr","Trp","Ca","     P   ","vP","Mg","Na","Rationsanteil","ME","Methionin                   (Met)","Rohfett                  (XL)","Stärke                     (S)","Zucker         (Z)","Rohasche                  (XA)","organi-scher Rest alt             (OR)                       ","organi-scher Rest                   (OR)","Polyen-säure-gehalt","Linol-säure-gehalt","Linolen-säure-gehalt","Vit A","Vit D3","Vit E","Kationen / Anionen-Bilanz (BE)","Säurebindungs-kapazität                  SBK bei pH 3","NE_GP","NE_S"]
[null,null,null,null,null,null,null,"EFF",null,null,null,null,null,null,null,null,null,"im Trockenfutter","MFF",null,null,null,null,null,null,null,null,null,null,null,null,null,null,null,"(\"Mast\")","(\"Sauen\")"]
[null,null,"NR.",null,"g ","g *","g","MJ","g *","g *","g *","g ","g *","g *","g **","g*","g ","% *","MJ","g","g","g","g","g","g","g","g","g","g","IE","IE","mg","mmol","meq","MJ","MJ"]
[{"$f":"IF(D11=\"\",\" \",D11)","v":"Mineralfutter für Mastschweine ***"},null,{"$f":"COUNTA(E$11:E11)","v":1},"Mineralfutter für Mastschweine ***","960",{"$f":"IF(M11=0,\" \",I11*954/780+J11*584/990+K11*731/980+L11*853/980)","v":102.48675530818387},0,{"$f":"IF(M11=0,\" \",I11*19.56/780+J11*11.97/990+K11*14.99/980+L11*17.49/980)","v":2.1012569573283857},65,20,15,0,"220","40",32,7,"50","2 - 3,5",{"$f":"IF(M11=0,\" \",I11*20.51/780+J11*12.56/990+K11*15.72/980+L11*18.34/980)","v":2.2035162853019998},{"$f":"J11","v":20},null,null,null,760,null,null,null,null,null,185500,40000,2000,{"$f":"IF(M11=\"\",\"\",50*M11+83*P11+44*Q11-59*N11-13*J11-28*(0.93*23*Q11/35.5+P11))","v":10121.450704225352},{"$f":"IF(M11=\"\",\"\",M11/1000*20140+P11/1000*48600+1100/440*F11)","v":5027.21688827046},{"$f":"IF(M11=0,\" \",I11*13.75/780+J11*13.14/990+K11*13.38/980+L11*13.58/980)","v":1.6160837971552255},{"$f":"IF(M11=0,\" \",I11*13.91/780+J11*13.32/990+K11*13.55/980+L11*13.75/980)","v":1.6356555349412492}]
["Mineralfutter für Ferkel ***",null,{"$f":"COUNTA(E$11:E12)","v":2},"Mineralfutter für Ferkel ***","960",132.20230721659291,0,2.710493363779078,80,30,"20","2","170","40","32",10,"45","3 - 5",{"$f":"IF(M12=0,\" \",I12*20.51/780+J12*12.56/990+K12*15.72/980+L12*18.34/980)","v":2.8424407021549882},{"$f":"J12","v":30},null,null,null,630,null,null,null,null,null,320000,40000,2000,7520.8056338028164,4240.3057680414822,2.10921373864231,2.1348948670377239]
["Mineralfutter für Zuchtsauen ***",null,{"$f":"COUNTA(E$11:E13)","v":3},"Mineralfutter für Zuchtsauen ***","960",80.411009625295335,0,1.6486235193378049,50,20,10,0,"210","50",40,10,"55","2,5 - 4",1.7288891267462696,{"$f":"J13","v":20},null,null,null,790,null,null,null,null,null,300000,50000,2500,9332.0957746478871,4916.4275240632378,1.2833954141096997,1.2990228818800247]
[{"$f":"IF(D14=\"\",\" \",D14)","v":"Viehsalz (NaCl)"},null,{"$f":"COUNTA(E$11:E14)","v":4},"Viehsalz (NaCl)",960,null,null,null,null,null,null,null,3,null,{"$f":"IF(N14=\"\",0,N14*0.8)","v":0},0.1,380,null,null,{"$f":"IF(J14=\"\",0,J14)","v":0},null,null,null,960,null,null,null,null,null,null,null,null,-147,65.28,0,0]
["Opti. MinFu VM 850g TZ 3,5% + Phytase 17/18",null,{"$f":"COUNTA(E$11:E15)","v":5},"Opti. MinFu VM 850g TZ 3,5% + Phytase 17/18",960,{"$f":"IF(M15=0,\" \",I15*954/780+J15*584/990+K15*731/980+L15*853/980)","v":198.59622916765773},0,{"$f":"IF(M15=0,\" \",I15*19.56/780+J15*11.97/990+K15*14.99/980+L15*17.49/980)","v":4.0718238903953186},115,35,50,null,160,20,{"$f":"IF(N15=\"\",0,N15*0.8)","v":16},null,55,"3,5",{"$f":"IF(M15=0,\" \",I15*20.51/780+J15*12.56/990+K15*15.72/980+L15*18.34/980)","v":4.2699914767771912},{"$f":"IF(J15=\"\",0,J15)","v":35},null,null,null,650,null,null,null,null,null,173000,43250,1750,{"$f":"IF(M15=\"\",\"\",50*M15+83*P15+44*Q15-59*N15-13*J15-28*(0.93*23*Q15/35.5+P15))","v":7857.0957746478871},3718.8905729191442,3.1744421055135339,3.2130689548546689]
["Opti. MinFu AM 850g TZ 3,5% + Phytase 17/18",null,{"$f":"COUNTA(E$11:E16)","v":6},"Opti. MinFu AM 850g TZ 3,5% + Phytase 17/18",960,{"$f":"IF(M16=0,\" \",I16*954/780+J16*584/990+K16*731/980+L16*853/980)","v":163.72601208315496},0,{"$f":"IF(M16=0,\" \",I16*19.56/780+J16*11.97/990+K16*14.99/980+L16*17.49/980)","v":3.3568716997288424},95,30,40,null,145,15,{"$f":"IF(N16=\"\",0,N16*0.8)","v":12},null,50,"3,5",{"$f":"IF(M16=0,\" \",I16*20.51/780+J16*12.56/990+K16*15.72/980+L16*18.34/980)","v":3.5202515341801059},{"$f":"IF(J16=\"\",0,J16)","v":30},null,null,null,700,null,null,null,null,null,173000,43250,1750,{"$f":"IF(M16=\"\",\"\",50*M16+83*P16+44*Q16-59*N16-13*J16-28*(0.93*23*Q16/35.5+P16))","v":7331.4507042253517},{"$f":"IF(M16=\"\",\"\",M16/1000*20140+P16/1000*48600+1100/440*F16)","v":3329.6150302078872},2.6189837543408974,2.6508642547928263]
["Opti. MinFu MM 850g TZ 3,0% + Phytase 17/18",null,{"$f":"COUNTA(E$11:E17)","v":7},"Opti. MinFu MM 850g TZ 3,0% + Phytase 17/18",960,134.40747744319174,0,2.7557546025403168,85,20,25,null,145,0,{"$f":"IF(N17=\"\",0,N17*0.8)","v":0},null,55,"3",2.8898218844647419,20,null,null,null,725,null,null,null,null,null,167500,33500,1700,{"$f":"IF(M17=\"\",\"\",50*M17+83*P17+44*Q17-59*N17-13*J17-28*(0.93*23*Q17/35.5+P17))","v":8482.0957746478871},{"$f":"IF(M17=\"\",\"\",M17/1000*20140+P17/1000*48600+1100/440*F17)","v":3256.3186936079792},2.1051785119642261,2.1305875077303646]
[{"$f":"IF(D18=\"\",\" \",D18)","v":"Opti. MinFu EM 850g TZ 3,0% + Phytase 17/18"},null,{"$f":"COUNTA(E$11:E18)","v":8},"Opti. MinFu EM 850g TZ 3,0% + Phytase 17/18",960,{"$f":"IF(M18=0,\" \",I18*954/780+J18*584/990+K18*731/980+L18*853/980)","v":173.00728636442923},1,{"$f":"IF(M18=0,\" \",I18*19.56/780+J18*11.97/990+K18*14.99/980+L18*17.49/980)","v":3.5471863850435277},105,25,40,null,130,0,{"$f":"IF(N18=\"\",0,N18*0.8)","v":0},null,50,"3",3.7197659086944808,25,null,null,null,700,null,null,null,null,null,{"$f":"AD17/2.5*3","v":201000},{"$f":"AE17/2.5*3","v":40200},{"$f":"AF17/2.5*3","v":2040},7531.4507042253517,3050.7182159110735,2.7289021692593121,2.7619248608534317]
[" ",null,{"$f":"COUNTA(E$11:E19)","v":9},null,960," ",2," ",null,null,null,null,null,null,0,null,null,null," ",0,null,null,null,null,null,null,null,null,null,null,null,null,"","",{"$f":"IF(M19=0,\" \",I19*13.75/780+J19*13.14/990+K19*13.38/980+L19*13.58/980)","v":" "},{"$f":"IF(M19=0,\" \",I19*13.91/780+J19*13.32/990+K19*13.55/980+L19*13.75/980)","v":" "}]
[" ",null,{"$f":"COUNTA(E$11:E20)","v":10},null,960,{"$f":"IF(M20=0,\" \",I20*954/780+J20*584/990+K20*731/980+L20*853/980)","v":" "},0,{"$f":"IF(M20=0,\" \",I20*19.56/780+J20*11.97/990+K20*14.99/980+L20*17.49/980)","v":" "},null,null,null,null,null,null,0,null,null,null," ",0,null,null,null,null,null,null,null,null,null,null,null,null,{"$f":"IF(M20=\"\",\"\",50*M20+83*P20+44*Q20-59*N20-13*J20-28*(0.93*23*Q20/35.5+P20))","v":""},""," "," "]
[" ",null,{"$f":"COUNTA(E$11:E21)","v":11},null,960," ",0," ",null,null,null,null,null,null,0,null,null,null," ",0,null,null,null,null,null,null,null,null,null,null,null,null,"",""," "," "]
[" ",null,{"$f":"COUNTA(E$11:E22)","v":12},null,960," ",0," ",null,null,null,null,null,null,0,null,null,null," ",0,null,null,null,null,null,null,null,null,null,null,null,null,"",""," "," "]
[" ",null,{"$f":"COUNTA(E$11:E23)","v":13},null,960," ",0," ",null,null,null,null,null,null,0,null,null,null," ",0,null,null,null,null,null,null,null,null,null,null,null,null,"",""," "," "]
[{"$f":"IF(D24=\"\",\" \",D24)","v":" "},null,{"$f":"COUNTA(E$11:E24)","v":14},null,960," ",0," ",null,null,null,null,null,null,{"$f":"IF(N24=\"\",0,N24*0.8)","v":0},null,null,null," ",0,null,null,null,null,null,null,null,null,null,null,null,null,"",""," "," "]
[{"$f":"IF(D25=\"\",\" \",D25)","v":" "},null,{"$f":"COUNTA(E$11:E25)","v":15},null,960,{"$f":"IF(M25=0,\" \",I25*954/780+J25*584/990+K25*731/980+L25*853/980)","v":" "},0,{"$f":"IF(M25=0,\" \",I25*19.56/780+J25*11.97/990+K25*14.99/980+L25*17.49/980)","v":" "},null,null,null,null,null,null,{"$f":"IF(N25=\"\",0,N25*0.8)","v":0},null,null,null," ",0,null,null,null,null,null,null,null,null,null,null,null,null,{"$f":"IF(M25=\"\",\"\",50*M25+83*P25+44*Q25-59*N25-13*J25-28*(0.93*23*Q25/35.5+P25))","v":""},{"$f":"IF(M25=\"\",\"\",M25/1000*20140+P25/1000*48600+1100/440*F25)","v":""}," "," "]
[null,null,{"$f":"COUNTA(E$11:E26)","v":16},null,960," ",0," ",null,null,null,null,null,null,{"$f":"IF(N26=\"\",0,N26*0.8)","v":0},null,null,null," ",0,null,null,null,null,null,null,null,null,null,null,null,null,"",""," "," "]
[null,null,{"$f":"COUNTA(E$11:E27)","v":17},null,960," ",0," ",null,null,null,null,null,null,0,null,null,null," ",0,null,null,null,null,null,null,null,null,null,null,null,null,"",""," "," "]
[null,null,{"$f":"COUNTA(E$11:E28)","v":18},null,960," ",0," ",null,null,null,null,null,null,0,null,null,null," ",0,null,null,null,null,null,null,null,null,null,null,null,null,"",""," "," "]
[null,null,{"$f":"COUNTA(E$11:E29)","v":19},null,960," ",0," ",null,null,null,null,null,null,0,null,null,null," ",0,null,null,null,null,null,null,null,null,null,null,null,null,"",""," "," "]
[null,null,{"$f":"COUNTA(E$11:E30)","v":20},null,960," ",0," ",null,null,null,null,null,null,0,null,null,null," ",0,null,null,null,null,null,null,null,null,null,null,null,null,"",""," "," "]
[null,null,{"$f":"COUNTA(E$11:E31)","v":21},null,960," ",0," ",null,null,null,null,null,null,0,null,null,null," ",0,null,null,null,null,null,null,null,null,null,null,null,null,"",""," "," "]
[null,null,{"$f":"COUNTA(E$11:E32)","v":22},null,960," ",0," ",null,null,null,null,null,null,0,null,null,null," ",0,null,null,null,null,null,null,null,null,null,null,null,null,"",""," "," "]
[null,null,{"$f":"COUNTA(E$11:E33)","v":23},null,960," ",0," ",null,null,null,null,null,null,0,null,null,null," ",0,null,null,null,null,null,null,null,null,null,null,null,null,"",""," "," "]
[null,null,{"$f":"COUNTA(E$11:E34)","v":24},null,960," ",0," ",null,null,null,null,null,null,0,null,null,null," ",0,null,null,null,null,null,null,null,null,null,null,null,null,"",""," "," "]
[null,null,{"$f":"COUNTA(E$11:E35)","v":25},null,960," ",1," ",null,null,null,null,null,null,{"$f":"IF(N35=\"\",0,N35*0.8)","v":0},null,null,null," ",0,null,null,null,null,null,null,null,null,null,null,null,null,"",""," "," "]
[null,null,null,"*     Mittel- bzw. repräsentative Werte der vergleichenden Mischfuttertests in der Region Hessen, Rheinland-Pfalz und Saarland in 2005 & 2006"]
[null,null,null,"**   Auf Anfrage teilt der Mischfutterhersteller den genauen Gehalt an vP mit"]
[null,null,null,"***  Nach DLG Untersuchungsbefunde 2004 und Angaben von repräsentativen Mineralfutterherstellern (Vit. A nach neueren gesetzlichen Höchstgehalten angepasst)"]
[null,null,null,"RP Mineralfutter nach INRA Tab. 2004 (Rohproteinäquivalente der Aminosäuren) und ME der AS im Mineralfutter nach Mischfuttermittelformel"]

{"sheet":"Orientierungswerte","index":16,"n_rows":130,"n_cols":51,"rows_kept":130,"cut":false,"hidden":false,"merged":[[3,28,3,31],[6,1,6,31],[7,43,9,43],[9,31,10,31],[8,28,9,28],[7,1,7,31],[8,19,8,22],[8,39,8,41]]}
[]
[]
[]
[null,null,"  ","Rheinischer Erzeugerring für Mastschweine e.V.",null,null,null,null,null,null,null,null,null,null,null,null,null,null,null,null,null,null,null,null,null,null,null,null,"Ausgabe XXVII August 2018"]
[]
[]
[null,"Orientierungswerte für die Berechnung von Futtermischungen für Schweine"]
[null," geändert nach GFE 2006, DLG 2010, 2008 und Rechenmeister (RM) 2016, 2014, 2010, 2007 der LWK NRW",null,null,null,null,null,null,null,null,null,null,null,null,null,null,null,null,null,null,null,null,null,null,null,null,null,null,null,null,null,null,null,null,null,null,null,null,null,null,null,null,null,"Säurebin-dungs-kapazität                  SBK bei pH 3"]
[null,null,"Basis 88 % TM!",null,null,null,null,null,null,null,null,null,null,null,null,null,null,null,null,"Aminosäurerelation",null,null,null,null,null,null,null,null,"Soll Roh-faser",null,null,null,null,null,null,null,null,null,null,"Vit. In Anlehnung an RM"]
[null,null,"Orientierungswerte für Alleinfutter","ME","RP*** (XP)","vd. RP","Lys","pcv Lys","M+C**","pcv M+C","Thr","pcv Thr","Trp","pcv Trp","Ca***","P***","vP","Mg***","Na","pcv      Lys /","pcv      M+C /","pcv      Thr /","pcv      Trp /","Lys/ME","pcv Lys/ME","Ca / P","Ca / vP","Roh-faser****",null,"Met","pcv Met","Lys / 100g/kg RP","Rohfett                  (XL)","Stärke                     (S)","Zucker         (Z)","Roh-asche                  (XA)","Polyen-säure-g/kgehalt","Linol-säure-g/kgehalt","Linolen-säure-g/kgehalt","Vit A","Vit D","Vit E","Kationen-Anionen-Bilanz KAB",null,"ADF","NDF","BfS","NE _GP","NE _S","DON","ZEA"]
[null,"NR.","für","MJ/kg","g/kg","g/kg","g/kg","g/kg","g/kg","g/kg","g/kg","g/kg","g/kg","g/kg","g/kg","g/kg","g/kg","g/kg","g/kg","1:",null,null,null,"g / MJ","g / MJ",":1",":1","g/kg","g/kg","g/kg","g/kg",null,"g/kg","g/kg","g/kg","g/kg","g/kg","g/kg","g/kg","IE/kg","IE/kg","mg/kg","meq/kg","meq/kg","g/kg","g/kg","g/kg","MJ/kg","MJ/kg","mg/kg","mg/kg"]
[]
[{"$f":"IF(C13=\"\",\"\",C13)","v":"Ferkel DLG"},null,"Ferkel DLG"]
[]
[{"$f":"IF(C15=\"\",\"\",C15)","v":"Saugferkel DLG"},{"$f":"IF(G15=\"\",\" \",COUNTA($G1:G$11))","v":" "},"Saugferkel DLG",null,"***",null,null,null,null,null,null,null,null,null,"***","***",null,"***"]
["Saugferkel 5 - 8 kg LM - Prestarter DLG",{"$f":"IF(G16=\"\",\" \",COUNTA($G$11:G15))","v":1},"Saugferkel 5 - 8 kg LM - Prestarter DLG",13.8,{"$f":"185*D16/13.8","v":185},{"$f":"ROUND(E16*0.92,0)","v":170},{"$f":"D16","v":13.8},{"$f":"D16*0.92","v":12.696000000000002},{"$f":"G16*0.53","v":7.3140000000000009},{"$f":"H16*0.53","v":6.7288800000000011},{"$f":"G16*0.63","v":8.6940000000000008},{"$f":"H16*0.63","v":7.9984800000000007},{"$f":"G16*0.18","v":2.484},{"$f":"H16*0.18","v":2.2852800000000002},{"$f":"D16*0.615","v":8.4870000000000001},{"$f":"D16*0.4","v":5.5200000000000005},{"$f":"D16*0.25","v":3.45},{"$f":"1.5*D16/13.8","v":1.5000000000000002},{"$f":"1.5*D16/13.8","v":1.5000000000000002},1,{"$f":"ROUND(I16/$G16,2)","v":0.53},{"$f":"ROUND(K16/$G16,2)","v":0.63},{"$f":"ROUND(M16/$G16,2)","v":0.18},{"$f":"ROUND(G16/D16,2)","v":1},{"$f":"H16/D16","v":0.92},{"$f":"ROUND(O16/P16,2)","v":1.54},{"$f":"ROUND(O16/Q16,2)","v":2.46},null,"< 45",{"$f":"I16*0.525","v":3.8398500000000007},{"$f":"J16*0.525","v":3.5326620000000006},{"$f":"G16*100/E16","v":7.4594594594594597},null,null,null,null,null,null,null,16000,2000,100,null,700,null,null,null,{"$f":"$D16*0.74","v":10.212},null,1,0.25]
["Absetzfutter DLG",{"$f":"IF(G17=\"\",\" \",COUNTA($G$11:G16))","v":" "},"Absetzfutter DLG",null,"***",null,null,null,null,null,null,null,null,null,"***","***",null,"***"]
["Ferkel 8 - 12 kg LM - Absetzfutter DLG",{"$f":"IF(G18=\"\",\" \",COUNTA($G$11:G17))","v":2},"Ferkel 8 - 12 kg LM - Absetzfutter DLG",13.8,{"$f":"185*D18/13.8","v":185},{"$f":"ROUND(E18*0.91,0)","v":168},{"$f":"D18","v":13.8},{"$f":"D18*0.91","v":12.558000000000002},{"$f":"G18*0.53","v":7.3140000000000009},{"$f":"H18*0.53","v":6.6557400000000015},{"$f":"G18*0.63","v":8.6940000000000008},{"$f":"H18*0.63","v":7.9115400000000013},{"$f":"G18*0.18","v":2.484},{"$f":"H18*0.18","v":2.26044},{"$f":"D18*0.54","v":7.4520000000000008},{"$f":"D18*0.4","v":5.5200000000000005},{"$f":"D18*0.25","v":3.45},{"$f":"1.5*D18/13.8","v":1.5000000000000002},{"$f":"1.5*D18/13.8","v":1.5000000000000002},1,{"$f":"ROUND(I18/$G18,2)","v":0.53},{"$f":"ROUND(K18/$G18,2)","v":0.63},{"$f":"ROUND(M18/$G18,2)","v":0.18},{"$f":"ROUND(G18/D18,2)","v":1},{"$f":"H18/D18","v":0.91},{"$f":"ROUND(O18/P18,2)","v":1.35},{"$f":"ROUND(O18/Q18,2)","v":2.16},40,40,{"$f":"I18*0.525","v":3.8398500000000007},{"$f":"J18*0.525","v":3.4942635000000011},{"$f":"G18*100/E18","v":7.4594594594594597},60,null,null,null,null,null,null,14000,1800,80,null,700,60,110,null,{"$f":"$D18*0.74","v":10.212},null,1,0.25]
["Diät-Absetzfutter DLG",{"$f":"IF(G19=\"\",\" \",COUNTA($G$11:G18))","v":" "},"Diät-Absetzfutter DLG"]
["Ferkel 8 - 12 kg LM - Diät-Absetzfutter DLG",{"$f":"IF(G20=\"\",\" \",COUNTA($G$11:G19))","v":3},"Ferkel 8 - 12 kg LM - Diät-Absetzfutter DLG",13.8,{"$f":"160*D20/13.8","v":160},{"$f":"ROUND(E20*0.91,0)","v":146},{"$f":"D20","v":13.8},{"$f":"D20*0.91","v":12.558000000000002},{"$f":"G20*0.53","v":7.3140000000000009},{"$f":"H20*0.53","v":6.6557400000000015},{"$f":"G20*0.63","v":8.6940000000000008},{"$f":"H20*0.63","v":7.9115400000000013},{"$f":"G20*0.18","v":2.484},{"$f":"H20*0.18","v":2.26044},{"$f":"D20*0.47","v":6.4859999999999998},{"$f":"D20*0.365","v":5.0369999999999999},{"$f":"D20*0.24","v":3.3119999999999998},{"$f":"1.5*D20/13.8","v":1.5000000000000002},{"$f":"1.5*D20/13.8","v":1.5000000000000002},1,{"$f":"ROUND(I20/$G20,2)","v":0.53},{"$f":"ROUND(K20/$G20,2)","v":0.63},{"$f":"ROUND(M20/$G20,2)","v":0.18},{"$f":"ROUND(G20/D20,2)","v":1},{"$f":"H20/D20","v":0.91},{"$f":"ROUND(O20/P20,2)","v":1.29},{"$f":"ROUND(O20/Q20,2)","v":1.96},40,"> 40",{"$f":"I20*0.525","v":3.8398500000000007},{"$f":"J20*0.525","v":3.4942635000000011},{"$f":"G20*100/E20","v":8.625},60,null,null,null,null,null,null,14000,1800,80,null,700,60,110,null,{"$f":"$D20*0.74","v":10.212},null,1,0.25]
["Ferkelaufzuchtfutter I DLG",{"$f":"IF(G21=\"\",\" \",COUNTA($G$11:G20))","v":" "},"Ferkelaufzuchtfutter I DLG",null,"***",null,null,null,null,null,null,null,null,null,"***","***",null,"***"]
["Ferkel 12 - 20 kg LM - Ferkelaufzuchtfutter I DLG",{"$f":"IF(G22=\"\",\" \",COUNTA($G$11:G21))","v":4},"Ferkel 12 - 20 kg LM - Ferkelaufzuchtfutter I DLG",13.8,{"$f":"185*D22/13.8","v":185},{"$f":"ROUND(E22*0.91,0)","v":168},{"$f":"D22*0.95","v":13.11},{"$f":"D22*0.854","v":11.7852},{"$f":"G22*0.53","v":6.9482999999999997},{"$f":"H22*0.53","v":6.246156},{"$f":"G22*0.63","v":8.2592999999999996},{"$f":"H22*0.63","v":7.4246759999999998},{"$f":"G22*0.18","v":2.3597999999999999},{"$f":"H22*0.18","v":2.1213359999999999},{"$f":"D22*0.54","v":7.4520000000000008},{"$f":"D22*0.4","v":5.5200000000000005},{"$f":"D22*0.25","v":3.45},{"$f":"1.5*D22/13.8","v":1.5000000000000002},{"$f":"1.5*D22/13.8","v":1.5000000000000002},1,{"$f":"ROUND(I22/$G22,2)","v":0.53},{"$f":"ROUND(K22/$G22,2)","v":0.63},{"$f":"ROUND(M22/$G22,2)","v":0.18},{"$f":"ROUND(G22/D22,2)","v":0.95},{"$f":"H22/D22","v":0.85399999999999998},{"$f":"ROUND(O22/P22,2)","v":1.35},{"$f":"ROUND(O22/Q22,2)","v":2.16},35,35,{"$f":"I22*0.525","v":3.6478575000000002},{"$f":"J22*0.525","v":3.2792319000000001},{"$f":"G22*100/E22","v":7.0864864864864865},60,null,null,null,null,null,null,14000,1800,80,null,700,60,110,null,{"$f":"$D22*0.74","v":10.212},null,1,0.25]
["Ferkelaufzuchtfutter II DLG",{"$f":"IF(G23=\"\",\" \",COUNTA($G$11:G22))","v":" "},"Ferkelaufzuchtfutter II DLG",null,"***",null,null,null,null,null,null,null,null,null,"***","***",null,"***"]
["Ferkel 20 - 30 kg LM - Ferkelaufzuchtfutter II DLG",{"$f":"IF(G24=\"\",\" \",COUNTA($G$11:G23))","v":5},"Ferkel 20 - 30 kg LM - Ferkelaufzuchtfutter II DLG",13.4,{"$f":"180*D24/13.4","v":180},{"$f":"ROUND(E24*0.9,0)","v":162},{"$f":"D24*0.9","v":12.06},{"$f":"D24*0.81","v":10.854000000000001},{"$f":"G24*0.53","v":6.3918000000000008},{"$f":"H24*0.53","v":5.7526200000000012},{"$f":"G24*0.63","v":7.5978000000000003},{"$f":"H24*0.63","v":6.8380200000000011},{"$f":"G24*0.18","v":2.1707999999999998},{"$f":"H24*0.18","v":1.9537200000000001},{"$f":"D24*0.56","v":7.5040000000000013},{"$f":"D24*0.37","v":4.9580000000000002},{"$f":"D24*0.245","v":3.2829999999999999},{"$f":"1.5*D24/13.4","v":1.5},{"$f":"1.5*D24/13.4","v":1.5},1,{"$f":"ROUND(I24/$G24,2)","v":0.53},{"$f":"ROUND(K24/$G24,2)","v":0.63},{"$f":"ROUND(M24/$G24,2)","v":0.18},{"$f":"ROUND(G24/D24,2)","v":0.9},{"$f":"H24/D24","v":0.81},{"$f":"ROUND(O24/P24,2)","v":1.51},{"$f":"ROUND(O24/Q24,2)","v":2.29},35,"30 - 40",{"$f":"I24*0.525","v":3.3556950000000008},{"$f":"J24*0.525","v":3.0201255000000007},{"$f":"G24*100/E24","v":6.7},50,null,null,null,null,null,null,14000,1800,80,null,700,60,110,null,{"$f":"$D24*0.74","v":9.9160000000000004},null,1,0.25]
[]
["Ferkel Rechenmeister",null,"Ferkel Rechenmeister"]
[]
["Aufzuchtstarter Rechenmeister",{"$f":"IF(G28=\"\",\" \",COUNTA($G11:G$11))","v":" "},"Aufzuchtstarter Rechenmeister",null,"***",null,null,null,null,null,null,null,null,null,"***","***",null,"***"]
["Aufzuchtstarter bis 8 kg LM - Rechenmeister",{"$f":"IF(G29=\"\",\" \",COUNTA($G$11:G28))","v":6},"Aufzuchtstarter bis 8 kg LM - Rechenmeister",13.8,{"$f":"175*D29/13.8","v":175},{"$f":"ROUND(E29*0.92,0)","v":161},{"$f":"D29*1.015","v":14.007},{"$f":"D29*0.97","v":13.386000000000001},{"$f":"G29*0.53","v":7.4237099999999998},{"$f":"H29*0.53","v":7.0945800000000006},{"$f":"G29*0.63","v":8.8244100000000003},{"$f":"H29*0.63","v":8.4331800000000001},{"$f":"G29*0.18","v":2.5212599999999998},{"$f":"H29*0.18","v":2.4094800000000003},{"$f":"D29*0.615","v":8.4870000000000001},{"$f":"D29*0.42","v":5.7960000000000003},{"$f":"D29*0.279","v":3.8502000000000005},{"$f":"1.5*D29/13.8","v":1.5000000000000002},{"$f":"2.25*D29/13.8","v":2.25},1,{"$f":"ROUND(I29/$G29,2)","v":0.53},{"$f":"ROUND(K29/$G29,2)","v":0.63},{"$f":"ROUND(M29/$G29,2)","v":0.18},{"$f":"ROUND(G29/D29,2)","v":1.02},{"$f":"H29/D29","v":0.97},{"$f":"ROUND(O29/P29,2)","v":1.46},{"$f":"ROUND(O29/Q29,2)","v":2.2000000000000002},null,"< 45",{"$f":"I29*0.525","v":3.89744775},{"$f":"J29*0.525","v":3.7246545000000006},{"$f":"G29*100/E29","v":8.0039999999999996},null,null,null,null,null,null,null,16000,2000,100,null,700,null,null,null,{"$f":"$D29*0.74","v":10.212},null,1,0.25]
["Ferkelaufzuchtfutter I Rechenmeister",{"$f":"IF(G30=\"\",\" \",COUNTA($G$11:G29))","v":" "},"Ferkelaufzuchtfutter I Rechenmeister",null,"***",null,null,null,null,null,null,null,null,null,"***","***",null,"***"]
["Ferkel 7,5 - 15 kg LM - FAZ I Rechenmeister",{"$f":"IF(G31=\"\",\" \",COUNTA($G$11:G30))","v":7},"Ferkel 7,5 - 15 kg LM - FAZ I Rechenmeister",13.4,{"$f":"175*D31/13.4","v":175},{"$f":"ROUND(E31*0.91,0)","v":159},{"$f":"D31*0.97","v":12.997999999999999},{"$f":"D31*0.87","v":11.657999999999999},{"$f":"G31*0.53","v":6.8889399999999998},{"$f":"H31*0.53","v":6.1787400000000003},{"$f":"G31*0.63","v":8.1887399999999992},{"$f":"H31*0.63","v":7.3445399999999994},{"$f":"G31*0.18","v":2.3396399999999997},{"$f":"H31*0.18","v":2.0984399999999996},{"$f":"D31*0.54","v":7.2360000000000007},{"$f":"D31*0.42","v":5.6280000000000001},{"$f":"D31*0.265","v":3.5510000000000002},{"$f":"1.5*D31/13.8","v":1.4565217391304348},{"$f":"2.25*D31/13.8","v":2.1847826086956523},1,{"$f":"ROUND(I31/$G31,2)","v":0.53},{"$f":"ROUND(K31/$G31,2)","v":0.63},{"$f":"ROUND(M31/$G31,2)","v":0.18},{"$f":"ROUND(G31/D31,2)","v":0.97},{"$f":"H31/D31","v":0.86999999999999988},{"$f":"ROUND(O31/P31,2)","v":1.29},{"$f":"ROUND(O31/Q31,2)","v":2.04},35,35,{"$f":"I31*0.525","v":3.6166935000000002},{"$f":"J31*0.525","v":3.2438385000000003},{"$f":"G31*100/E31","v":7.427428571428571},60,null,null,null,null,null,null,14000,1800,80,null,700,60,110,null,{"$f":"$D31*0.74","v":9.9160000000000004},null,1,0.25]
["Ferkelaufzuchtfutter II Rechenmeister",{"$f":"IF(G32=\"\",\" \",COUNTA($G$11:G31))","v":" "},"Ferkelaufzuchtfutter II Rechenmeister",null,"***",null,null,null,null,null,null,null,null,null,"***","***",null,"***"]
["Ferkel 15 - 30 kg LM - FAZ II Rechenmeister",{"$f":"IF(G33=\"\",\" \",COUNTA($G$11:G32))","v":8},"Ferkel 15 - 30 kg LM - FAZ II Rechenmeister",13.2,{"$f":"165*D33/13","v":167.53846153846155},{"$f":"ROUND(E33*0.9,0)","v":151},{"$f":"D33*0.93","v":12.276},{"$f":"D33*0.835","v":11.021999999999998},{"$f":"G33*0.53","v":6.5062800000000003},5.8416599999999992,{"$f":"G33*0.63","v":7.7338800000000001},6.943859999999999,{"$f":"G33*0.18","v":2.2096800000000001},{"$f":"H33*0.18","v":1.9839599999999997},{"$f":"D33*0.52","v":6.8639999999999999},{"$f":"D33*0.39","v":5.1479999999999997},{"$f":"D33*0.2575","v":3.399},{"$f":"1.5*D33/13.4","v":1.4776119402985073},{"$f":"2.25*D33/13.4","v":2.216417910447761},1,{"$f":"ROUND(I33/$G33,2)","v":0.53},{"$f":"ROUND(K33/$G33,2)","v":0.63},{"$f":"ROUND(M33/$G33,2)","v":0.18},{"$f":"ROUND(G33/D33,2)","v":0.93},{"$f":"H33/D33","v":0.83499999999999996},{"$f":"ROUND(O33/P33,2)","v":1.33},{"$f":"ROUND(O33/Q33,2)","v":2.02},35,"30 - 40",{"$f":"I33*0.525","v":3.4157970000000004},{"$f":"J33*0.525","v":3.0668714999999995},{"$f":"G33*100/E33","v":7.3272727272727263},50,null,null,null,null,null,null,14000,1800,80,null,700,60,110,null,{"$f":"$D33*0.74","v":9.7679999999999989},null,1,0.25]
[]
["Mastschweine",{"$f":"IF(G35=\"\",\" \",COUNTA($G$11:G33))","v":" "},"Mastschweine",{"$f":"IF(Futterberechnung!B10=\"w\",'Futterkurve Mast'!J52,IF(Futterberechnung!B10=\"m\",'Futterkurve Mast'!J88,'Futterkurve Mast'!B9))","v":"Mast beider Geschlechter"}]
[]
["Vormast",{"$f":"IF(G37=\"\",\" \",COUNTA($G$11:G35))","v":" "},"Vormast"]
["28 - 40 Kg LM",{"$f":"IF(G38=\"\",\" \",COUNTA($G$11:G37))","v":" "},"28 - 40 Kg LM"]
["Vormast 28 - 40 Kg LM für 750 g TZ*",{"$f":"IF(G39=\"\",\" \",COUNTA($G$11:G38))","v":9},{"$f":"IF(Futterberechnung!$B$10=\"\",\"Vormast 28 - 40 Kg LM für 750 g TZ*\",IF(Futterberechnung!$B$10=\"w\",\"Vormast 28 - 40 Kg LM für 720 g TZ*\",IF(Futterberechnung!$B$10=\"m\",\"Vormast 28 - 40 Kg LM für 770 g TZ*\",\"Vormast 28 - 40 Kg LM für 750 g TZ*\")))","v":"Vormast 28 - 40 Kg LM für 750 g TZ*"},{"$f":"'Futterkurve Mast'!E$7","v":13.4},{"$f":"IF(AND(Futterberechnung!$B$10=\"m\",'Futterkurve Mast'!$T$6=\"hp\"),(170*D39/13.4)-(170*D39/13.4)*0.03,IF(Futterberechnung!$B$10=\"m\",(165*D39/13.4)-(165*D39/13.4)*0.03,IF('Futterkurve Mast'!$T$6=\"HP\",170*D39/13.4,165*D39/13.4)))","v":165},{"$f":"ROUND(E39*0.89,0)","v":147},{"$f":"H39/0.89","v":11.060824806980103},{"$f":"IF(Futterberechnung!B$10=\" \",'Futterkurve Mast'!E20,IF(Futterberechnung!B$10=\"W\",'Futterkurve Mast'!E60,IF(Futterberechnung!B$10=\"M\",'Futterkurve Mast'!E96,'Futterkurve Mast'!E20)))","v":9.8441340782122921},{"$f":"G39*0.54","v":5.972845395769256},{"$f":"H39*0.55","v":5.4142737430167607},{"$f":"G39*0.63","v":6.9683196283974649},{"$f":"H39*0.65","v":6.3986871508379899},{"$f":"G39*0.18","v":1.9909484652564184},1.7719441340782125,{"$f":"Q39*2.18","v":6.2014301675977661},{"$f":"O39/1.45","v":4.2768483914467357},{"$f":"'Futterkurve Mast'!E19","v":2.8446927374301678},{"$f":"D39*1/13.4","v":1},{"$f":"0.15*D39","v":2.0099999999999998},1,{"$f":"ROUND(I39/$G39,2)","v":0.54},{"$f":"ROUND(K39/$G39,2)","v":0.63},{"$f":"ROUND(M39/$G39,2)","v":0.18},{"$f":"ROUND(G39/D39,2)","v":0.83},{"$f":"H39/D39","v":0.73463687150837997},{"$f":"ROUND(O39/P39,2)","v":1.45},{"$f":"ROUND(O39/Q39,2)","v":2.1800000000000002},40,"35 - 50",{"$f":"I39*0.525","v":3.1357438327788594},2.8424937150837994,{"$f":"G39*100/E39","v":6.7035301860485461},null,null,null,null,{"$f":"18*$D39/13.4","v":18},{"$f":"10*$D39/13.4","v":10},null,6000,1500,60,null,null,70,120,null,{"$f":"$D39*0.74","v":9.9160000000000004},null,1,0.25]
["Vormast 28 - 40 Kg LM für 850 g TZ*",{"$f":"IF(G40=\"\",\" \",COUNTA($G$11:G39))","v":10},{"$f":"IF(Futterberechnung!$B$10=\"\",\"Vormast 28 - 40 Kg LM für 850 g TZ*\",IF(Futterberechnung!$B$10=\"w\",\"Vormast 28 - 40 Kg LM für 820 g TZ*\",IF(Futterberechnung!$B$10=\"m\",\"Vormast 28 - 40 Kg LM für 870 g TZ*\",\"Vormast 28 - 40 Kg LM für 850 g TZ*\")))","v":"Vormast 28 - 40 Kg LM für 850 g TZ*"},{"$f":"'Futterkurve Mast'!E$7","v":13.4},{"$f":"IF(AND(Futterberechnung!$B$10=\"m\",'Futterkurve Mast'!$T$6=\"hp\"),(175*D40/13.4)-(175*D40/13.4)*0.03,IF(Futterberechnung!$B$10=\"m\",(170*D40/13.4)-(170*D40/13.4)*0.03,IF('Futterkurve Mast'!$T$6=\"HP\",175*D40/13.4,170*D40/13.4)))","v":170},{"$f":"ROUND(E40*0.89,0)","v":151},{"$f":"H40/0.89","v":11.44576931896354},{"$f":"IF(Futterberechnung!B$10=\" \",'Futterkurve Mast'!E33,IF(Futterberechnung!B$10=\"W\",'Futterkurve Mast'!E71,IF(Futterberechnung!B$10=\"M\",'Futterkurve Mast'!E107,'Futterkurve Mast'!E33)))","v":10.18673469387755},{"$f":"G40*0.54","v":6.1807154322403122},5.6027040816326537,{"$f":"G40*0.63","v":7.2108346709470306},6.6213775510204078,2.0602384774134372,1.833612244897959,{"$f":"Q40*2.18","v":6.5205357142857148},{"$f":"O40/1.45","v":4.4969211822660107},{"$f":"'Futterkurve Mast'!E32","v":2.9910714285714284},{"$f":"D40*1/13.4","v":1},{"$f":"0.15*D40","v":2.0099999999999998},1,{"$f":"ROUND(I40/$G40,2)","v":0.54},{"$f":"ROUND(K40/$G40,2)","v":0.63},{"$f":"ROUND(M40/$G40,2)","v":0.18},{"$f":"ROUND(G40/D40,2)","v":0.85},{"$f":"H40/D40","v":0.76020408163265296},{"$f":"ROUND(O40/P40,2)","v":1.45},{"$f":"ROUND(O40/Q40,2)","v":2.1800000000000002},40,"35 - 50",3.244875601926164,2.9414196428571433,{"$f":"G40*100/E40","v":6.7328054817432585},null,null,null,null,{"$f":"18*$D40/13.4","v":18},{"$f":"10*$D40/13.4","v":10},null,6000,1500,60,null,null,70,120,null,{"$f":"$D40*0.74","v":9.9160000000000004},null,1,0.25]
["Vormast 28 - 40 Kg LM für 950 g TZ*",{"$f":"IF(G41=\"\",\" \",COUNTA($G$11:G40))","v":11},{"$f":"IF(Futterberechnung!$B$10=\"\",\"Vormast 28 - 40 Kg LM für 950 g TZ*\",IF(Futterberechnung!$B$10=\"w\",\"Vormast 28 - 40 Kg LM für 920 g TZ*\",IF(Futterberechnung!$B$10=\"m\",\"Vormast 28 - 40 Kg LM für 970 g TZ*\",\"Vormast 28 - 40 Kg LM für 950 g TZ*\")))","v":"Vormast 28 - 40 Kg LM für 950 g TZ*"},{"$f":"'Futterkurve Mast'!E$7","v":13.4},{"$f":"IF(AND(Futterberechnung!$B$10=\"m\",'Futterkurve Mast'!$T$6=\"hp\"),(180*D41/13.4)-(180*D41/13.4)*0.03,IF(Futterberechnung!$B$10=\"m\",(175*D41/13.4)-(175*D41/13.4)*0.03,IF('Futterkurve Mast'!$T$6=\"HP\",180*D41/13.4,175*D41/13.4)))","v":175},{"$f":"ROUND(E41*0.89,0)","v":156},{"$f":"H41/0.89","v":11.78927284290863},{"$f":"IF(Futterberechnung!B$10=\" \",'Futterkurve Mast'!E46,IF(Futterberechnung!B$10=\"W\",'Futterkurve Mast'!E82,IF(Futterberechnung!B$10=\"M\",'Futterkurve Mast'!E118,'Futterkurve Mast'!E46)))","v":10.492452830188681},{"$f":"G41*0.54","v":6.3662073351706612},5.7708490566037751,{"$f":"G41*0.63","v":7.4272418910324376},6.820094339622643,2.1220691117235533,1.8886415094339624,6.7518301886792464,{"$f":"O41/1.45","v":4.6564346128822391},{"$f":"'Futterkurve Mast'!E45","v":3.0971698113207551},{"$f":"D41*1/13.4","v":1},{"$f":"0.15*D41","v":2.0099999999999998},1,{"$f":"ROUND(I41/$G41,2)","v":0.54},{"$f":"ROUND(K41/$G41,2)","v":0.63},{"$f":"ROUND(M41/$G41,2)","v":0.18},{"$f":"ROUND(G41/D41,2)","v":0.88},{"$f":"H41/D41","v":0.78301886792452835},{"$f":"ROUND(O41/P41,2)","v":1.45},{"$f":"ROUND(O41/Q41,2)","v":2.1800000000000002},40,"35 - 50",3.3422588509645972,3.029695754716982,{"$f":"G41*100/E41","v":6.7367273388049318},null,null,null,null,{"$f":"18*$D41/13.4","v":18},{"$f":"10*$D41/13.4","v":10},null,6000,1500,60,null,null,70,120,null,9.9160000000000004,null,1,0.25]
["",{"$f":"IF(G42=\"\",\" \",COUNTA($G$11:G41))","v":" "}]
[null,null,"Anfangsmast 40 - 50 kg LM","Anfangsmast (Gehalte wie bei Universalmast)"]
["ab 40 kg LM",{"$f":"IF(G44=\"\",\" \",COUNTA($G$11:G42))","v":" "},"ab 40 kg LM"]
["Anfangsmast ab 40 Kg LM für 750 g TZ*",{"$f":"IF(G45=\"\",\" \",COUNTA($G$11:G44))","v":12},{"$f":"IF(Futterberechnung!$B$10=\"\",\"Anfangsmast ab 40 Kg LM für 750 g TZ*\",IF(Futterberechnung!$B$10=\"w\",\"Anfangsmast ab 40 Kg LM für 720 g TZ*\",IF(Futterberechnung!$B$10=\"m\",\"Anfangsmast ab 40 Kg LM für 770 g TZ*\",\"Anfangsmast ab 40 Kg LM für 750 g TZ*\")))","v":"Anfangsmast ab 40 Kg LM für 750 g TZ*"},{"$f":"'Futterkurve Mast'!G$7","v":13.2},{"$f":"IF(AND(Futterberechnung!$B$10=\"m\",'Futterkurve Mast'!$T$6=\"hp\"),(160*D45/13.4)-(160*D45/13.4)*0.03,IF(Futterberechnung!$B$10=\"m\",(155*D45/13.4)-(155*D45/13.4)*0.03,IF('Futterkurve Mast'!$T$6=\"HP\",160*D45/13.4,155*D45/13.4)))","v":152.68656716417911},{"$f":"ROUND(E45*0.88,0)","v":134},{"$f":"H45/0.88","v":9.8720930232558128},{"$f":"IF(Futterberechnung!B$10=\" \",'Futterkurve Mast'!G$20,IF(Futterberechnung!B$10=\"W\",'Futterkurve Mast'!G$60,IF(Futterberechnung!B$10=\"M\",'Futterkurve Mast'!G$96,'Futterkurve Mast'!G$20)))","v":8.6874418604651158},{"$f":"G45*0.54","v":5.3309302325581394},{"$f":"H45*0.55","v":4.7780930232558143},{"$f":"G45*0.63","v":6.2194186046511621},{"$f":"H45*0.65","v":5.6468372093023254},{"$f":"G45*0.18","v":1.7769767441860462},1.5637395348837209,{"$f":"Q45*2.2","v":5.7404651162790703},{"$f":"O45/1.35","v":4.2521963824289406},{"$f":"'Futterkurve Mast'!G$19","v":2.6093023255813952},{"$f":"D45*1/13.4","v":0.9850746268656716},{"$f":"0.14*D45","v":1.8480000000000001},1,{"$f":"ROUND(I45/$G45,2)","v":0.54},{"$f":"ROUND(K45/$G45,2)","v":0.63},{"$f":"ROUND(M45/$G45,2)","v":0.18},{"$f":"ROUND(G45/D45,2)","v":0.75},{"$f":"H45/D45","v":0.6581395348837209},{"$f":"ROUND(O45/P45,2)","v":1.35},{"$f":"ROUND(O45/Q45,2)","v":2.2000000000000002},40,"35 - 50",{"$f":"I45*0.525","v":2.7987383720930232},2.5084988372093027,{"$f":"G45*100/E45","v":6.4655936711450579},null,null,null,null,{"$f":"18*$D45/13.4","v":17.731343283582088},{"$f":"10*$D45/13.4","v":9.8507462686567155},null,6000,1500,60,null,null,70,120,null,{"$f":"$D45*0.74","v":9.7679999999999989},null,1,0.25]
["Anfangsmast ab 40 Kg LM für 850 g TZ*",{"$f":"IF(G46=\"\",\" \",COUNTA($G$11:G45))","v":13},{"$f":"IF(Futterberechnung!$B$10=\"\",\"Anfangsmast ab 40 Kg LM für 850 g TZ*\",IF(Futterberechnung!$B$10=\"w\",\"Anfangsmast ab 40 Kg LM für 820 g TZ*\",IF(Futterberechnung!$B$10=\"m\",\"Anfangsmast ab 40 Kg LM für 870 g TZ*\",\"Anfangsmast ab 40 Kg LM für 850 g TZ*\")))","v":"Anfangsmast ab 40 Kg LM für 850 g TZ*"},{"$f":"'Futterkurve Mast'!G$7","v":13.2},{"$f":"IF(AND(Futterberechnung!$B$10=\"m\",'Futterkurve Mast'!$T$6=\"hp\"),(165*D46/13.4)-(165*D46/13.4)*0.03,IF(Futterberechnung!$B$10=\"m\",(160*D46/13.4)-(160*D46/13.4)*0.03,IF('Futterkurve Mast'!$T$6=\"HP\",165*D46/13.4,160*D46/13.4)))","v":157.61194029850745},{"$f":"ROUND(E46*0.88,0)","v":139},{"$f":"H46/0.88","v":10.150862068965516},{"$f":"IF(Futterberechnung!B$10=\" \",'Futterkurve Mast'!G$33,IF(Futterberechnung!B$10=\"W\",'Futterkurve Mast'!G$71,IF(Futterberechnung!B$10=\"M\",'Futterkurve Mast'!G$107,'Futterkurve Mast'!G$33)))","v":8.9327586206896541},{"$f":"G46*0.54","v":5.4814655172413786},4.9130172413793103,{"$f":"G46*0.63","v":6.3950431034482751},5.806293103448275,1.8271551724137929,1.6078965517241377,{"$f":"Q46*2.2","v":5.9456896551724139},{"$f":"O46/1.35","v":4.4042145593869728},{"$f":"'Futterkurve Mast'!G$32","v":2.7025862068965516},{"$f":"D46*1/13.4","v":0.9850746268656716},{"$f":"0.14*D46","v":1.8480000000000001},1,{"$f":"ROUND(I46/$G46,2)","v":0.54},{"$f":"ROUND(K46/$G46,2)","v":0.63},{"$f":"ROUND(M46/$G46,2)","v":0.18},{"$f":"ROUND(G46/D46,2)","v":0.77},{"$f":"H46/D46","v":0.67672413793103448},{"$f":"ROUND(O46/P46,2)","v":1.35},{"$f":"ROUND(O46/Q46,2)","v":2.2000000000000002},40,"35 - 50",2.8777693965517237,2.5793340517241381,{"$f":"G46*100/E46","v":6.4404143808777432},null,null,null,null,{"$f":"18*$D46/13.4","v":17.731343283582088},{"$f":"10*$D46/13.4","v":9.8507462686567155},null,6000,1500,60,null,null,70,120,null,{"$f":"$D46*0.74","v":9.7679999999999989},null,1,0.25]
["Anfangsmast ab 40 Kg LM für 950 g TZ*",{"$f":"IF(G47=\"\",\" \",COUNTA($G$11:G46))","v":14},{"$f":"IF(Futterberechnung!$B$10=\"\",\"Anfangsmast ab 40 Kg LM für 950 g TZ*\",IF(Futterberechnung!$B$10=\"w\",\"Anfangsmast ab 40 Kg LM für 920 g TZ*\",IF(Futterberechnung!$B$10=\"m\",\"Anfangsmast ab 40 Kg LM für 970 g TZ*\",\"Anfangsmast ab 40 Kg LM für 950 g TZ*\")))","v":"Anfangsmast ab 40 Kg LM für 950 g TZ*"},{"$f":"'Futterkurve Mast'!G$7","v":13.2},{"$f":"IF(AND(Futterberechnung!$B$10=\"m\",'Futterkurve Mast'!$T$6=\"hp\"),(170*D47/13.4)-(170*D47/13.4)*0.03,IF(Futterberechnung!$B$10=\"m\",(165*D47/13.4)-(165*D47/13.4)*0.03,IF('Futterkurve Mast'!$T$6=\"HP\",170*D47/13.4,165*D47/13.4)))","v":162.53731343283582},{"$f":"ROUND(E47*0.88,0)","v":143},{"$f":"H47/0.88","v":10.379999999999999},{"$f":"IF(Futterberechnung!B$10=\" \",'Futterkurve Mast'!G$46,IF(Futterberechnung!B$10=\"W\",'Futterkurve Mast'!G$82,IF(Futterberechnung!B$10=\"M\",'Futterkurve Mast'!G$118,'Futterkurve Mast'!G$46)))","v":9.1343999999999994},{"$f":"G47*0.54","v":5.6052},5.0239200000000004,{"$f":"G47*0.63","v":6.5393999999999997},5.93736,1.8683999999999998,1.6441919999999999,6.0983999999999998,4.5173333333333332,{"$f":"'Futterkurve Mast'!G$45","v":2.7719999999999998},{"$f":"D47*1/13.4","v":0.9850746268656716},1.8480000000000001,1,{"$f":"ROUND(I47/$G47,2)","v":0.54},{"$f":"ROUND(K47/$G47,2)","v":0.63},{"$f":"ROUND(M47/$G47,2)","v":0.18},{"$f":"ROUND(G47/D47,2)","v":0.79},{"$f":"H47/D47","v":0.69199999999999995},{"$f":"ROUND(O47/P47,2)","v":1.35},{"$f":"ROUND(O47/Q47,2)","v":2.2000000000000002},40,"35 - 50",2.9427300000000001,2.6375580000000003,{"$f":"G47*100/E47","v":6.3862258953168043},null,null,null,null,{"$f":"18*$D47/13.4","v":17.731343283582088},{"$f":"10*$D47/13.4","v":9.8507462686567155},null,6000,1500,60,null,null,70,120,null,9.7679999999999989,null,1,0.25]
["",{"$f":"IF(G48=\"\",\" \",COUNTA($G$11:G47))","v":" "}]
["ab 50 kg LM",{"$f":"IF(G49=\"\",\" \",COUNTA($G$11:G48))","v":" "},"ab 50 kg LM"]
["Anfangsmast ab 50 Kg LM für 750 g TZ*",{"$f":"IF(G50=\"\",\" \",COUNTA($G$11:G49))","v":15},{"$f":"IF(Futterberechnung!$B$10=\"\",\"Anfangsmast ab 50 Kg LM für 750 g TZ*\",IF(Futterberechnung!$B$10=\"w\",\"Anfangsmast ab 50 Kg LM für 720 g TZ*\",IF(Futterberechnung!$B$10=\"m\",\"Anfangsmast ab 50 Kg LM für 770 g TZ*\",\"Anfangsmast ab 50 Kg LM für 750 g TZ*\")))","v":"Anfangsmast ab 50 Kg LM für 750 g TZ*"},{"$f":"'Futterkurve Mast'!G$7","v":13.2},{"$f":"IF(AND(Futterberechnung!$B$10=\"m\",'Futterkurve Mast'!$T$6=\"hp\"),(160*D50/13.4)-(160*D50/13.4)*0.03,IF(Futterberechnung!$B$10=\"m\",(155*D50/13.4)-(155*D50/13.4)*0.03,IF('Futterkurve Mast'!$T$6=\"HP\",160*D50/13.4,155*D50/13.4)))","v":152.68656716417911},{"$f":"ROUND(E50*0.877,0)","v":134},{"$f":"H50/0.877","v":9.2388130266707442},{"$f":"IF(Futterberechnung!B$10=\" \",'Futterkurve Mast'!I$20,IF(Futterberechnung!B$10=\"W\",'Futterkurve Mast'!I$60,IF(Futterberechnung!B$10=\"M\",'Futterkurve Mast'!I$96,'Futterkurve Mast'!I$20)))","v":8.1024390243902431},{"$f":"G50*0.54","v":4.9889590344022023},{"$f":"H50*0.55","v":4.4563414634146339},{"$f":"G50*0.63","v":5.8204522068025693},{"$f":"H50*0.65","v":5.2665853658536586},{"$f":"G50*0.18","v":1.6629863448007338},1.4584390243902436,{"$f":"Q50*2.13","v":5.2574634146341452},{"$f":"O50/1.23","v":4.2743604997025573},{"$f":"'Futterkurve Mast'!I$19","v":2.4682926829268288},{"$f":"D50*1/13.4","v":0.9850746268656716},1.8480000000000001,1,{"$f":"ROUND(I50/$G50,2)","v":0.54},{"$f":"ROUND(K50/$G50,2)","v":0.63},{"$f":"ROUND(M50/$G50,2)","v":0.18},{"$f":"ROUND(G50/D50,2)","v":0.7},{"$f":"H50/D50","v":0.61382113821138207},{"$f":"ROUND(O50/P50,2)","v":1.23},{"$f":"ROUND(O50/Q50,2)","v":2.13},40,"35 - 50",{"$f":"I50*0.525","v":2.6192034930611565},2.3395792682926828,{"$f":"G50*100/E50","v":6.0508355111137817},null,null,null,null,{"$f":"18*$D50/13.4","v":17.731343283582088},{"$f":"10*$D50/13.4","v":9.8507462686567155},null,6000,1500,60,null,null,70,120,null,{"$f":"$D50*0.74","v":9.7679999999999989},null,1,0.25]
["Anfangsmast ab 50 Kg LM für 850 g TZ*",{"$f":"IF(G51=\"\",\" \",COUNTA($G$11:G50))","v":16},{"$f":"IF(Futterberechnung!$B$10=\"\",\"Anfangsmast ab 50 Kg LM für 850 g TZ*\",IF(Futterberechnung!$B$10=\"w\",\"Anfangsmast ab 50 Kg LM für 820 g TZ*\",IF(Futterberechnung!$B$10=\"m\",\"Anfangsmast ab 50 Kg LM für 870 g TZ*\",\"Anfangsmast ab 50 Kg LM für 850 g TZ*\")))","v":"Anfangsmast ab 50 Kg LM für 850 g TZ*"},{"$f":"'Futterkurve Mast'!G$7","v":13.2},{"$f":"IF(AND(Futterberechnung!$B$10=\"m\",'Futterkurve Mast'!$T$6=\"hp\"),(165*D51/13.4)-(165*D51/13.4)*0.03,IF(Futterberechnung!$B$10=\"m\",(160*D51/13.4)-(160*D51/13.4)*0.03,IF('Futterkurve Mast'!$T$6=\"HP\",165*D51/13.4,160*D51/13.4)))","v":157.61194029850745},{"$f":"ROUND(E51*0.877,0)","v":138},{"$f":"H51/0.877","v":9.5703620834319398},{"$f":"IF(Futterberechnung!B$10=\" \",'Futterkurve Mast'!I$33,IF(Futterberechnung!B$10=\"W\",'Futterkurve Mast'!I$71,IF(Futterberechnung!B$10=\"M\",'Futterkurve Mast'!I$107,'Futterkurve Mast'!I$33)))","v":8.393207547169812},{"$f":"G51*0.54","v":5.1679955250532474},4.6162641509433966,{"$f":"G51*0.63","v":6.0293281125621219},5.4555849056603778,1.7226651750177491,1.5107773584905662,{"$f":"Q51*2.13","v":5.4640528301886793},{"$f":"O51/1.23","v":4.4423193741371376},{"$f":"'Futterkurve Mast'!I$32","v":2.5652830188679245},{"$f":"D51*1/13.4","v":0.9850746268656716},1.8480000000000001,1,{"$f":"ROUND(I51/$G51,2)","v":0.54},{"$f":"ROUND(K51/$G51,2)","v":0.63},{"$f":"ROUND(M51/$G51,2)","v":0.18},{"$f":"ROUND(G51/D51,2)","v":0.73},{"$f":"H51/D51","v":0.63584905660377367},{"$f":"ROUND(O51/P51,2)","v":1.23},{"$f":"ROUND(O51/Q51,2)","v":2.13},40,"35 - 50",2.7131976506529552,2.4235386792452833,{"$f":"G51*100/E51","v":6.0721047309653411},null,null,null,null,{"$f":"18*$D51/13.4","v":17.731343283582088},{"$f":"10*$D51/13.4","v":9.8507462686567155},null,6000,1500,60,null,null,70,120,null,{"$f":"$D51*0.74","v":9.7679999999999989},null,1,0.25]
["Anfangsmast ab 50 Kg LM für 950 g TZ*",{"$f":"IF(G52=\"\",\" \",COUNTA($G$11:G51))","v":17},{"$f":"IF(Futterberechnung!$B$10=\"\",\"Anfangsmast ab 50 Kg LM für 950 g TZ*\",IF(Futterberechnung!$B$10=\"w\",\"Anfangsmast ab 50 Kg LM für 920 g TZ*\",IF(Futterberechnung!$B$10=\"m\",\"Anfangsmast ab 50 Kg LM für 970 g TZ*\",\"Anfangsmast ab 50 Kg LM für 950 g TZ*\")))","v":"Anfangsmast ab 50 Kg LM für 950 g TZ*"},{"$f":"'Futterkurve Mast'!G$7","v":13.2},{"$f":"IF(AND(Futterberechnung!$B$10=\"m\",'Futterkurve Mast'!$T$6=\"hp\"),(170*D52/13.4)-(170*D52/13.4)*0.03,IF(Futterberechnung!$B$10=\"m\",(165*D52/13.4)-(165*D52/13.4)*0.03,IF('Futterkurve Mast'!$T$6=\"HP\",170*D52/13.4,165*D52/13.4)))","v":162.53731343283582},{"$f":"ROUND(E52*0.877,0)","v":143},{"$f":"H52/0.877","v":9.9105465174169307},{"$f":"IF(Futterberechnung!B$10=\" \",'Futterkurve Mast'!I$46,IF(Futterberechnung!B$10=\"W\",'Futterkurve Mast'!I$82,IF(Futterberechnung!B$10=\"M\",'Futterkurve Mast'!I$118,'Futterkurve Mast'!I$46)))","v":8.6915492957746476},{"$f":"G52*0.54","v":5.351695119405143},4.7803521126760566,{"$f":"G52*0.63","v":6.2436443059726665},5.6495070422535214,1.7838983731350475,1.5644788732394366,5.6430000000000007,4.5878048780487815,{"$f":"'Futterkurve Mast'!I$45","v":2.6492957746478876},{"$f":"D52*1/13.4","v":0.9850746268656716},1.8480000000000001,1,{"$f":"ROUND(I52/$G52,2)","v":0.54},{"$f":"ROUND(K52/$G52,2)","v":0.63},{"$f":"ROUND(M52/$G52,2)","v":0.18},{"$f":"ROUND(G52/D52,2)","v":0.75},{"$f":"H52/D52","v":0.65845070422535212},{"$f":"ROUND(O52/P52,2)","v":1.23},{"$f":"ROUND(O52/Q52,2)","v":2.13},40,"35 - 50",2.8096399376877002,2.5096848591549299,{"$f":"G52*100/E52","v":6.0973977655365879},null,null,null,null,{"$f":"18*$D52/13.4","v":17.731343283582088},{"$f":"10*$D52/13.4","v":9.8507462686567155},null,6000,1500,60,null,null,70,120,null,9.7679999999999989,null,1,0.25]
[{"$f":"IF(C53=\"\",\"\",C53)","v":""},{"$f":"IF(G53=\"\",\" \",COUNTA($G$11:G52))","v":" "}]
[null,null,"Mittelmast 60 - 90 kg LM","Mittelmast"]
[{"$f":"IF(C55=\"\",\"\",C55)","v":"ab 60 kg LM"},{"$f":"IF(G55=\"\",\" \",COUNTA($G$11:G69))","v":" "},"ab 60 kg LM"]
[{"$f":"IF(C56=\"\",\"\",C56)","v":"Mittelmast ab 60 Kg LM für 750 g TZ*"},{"$f":"IF(G56=\"\",\" \",COUNTA($G$11:G55))","v":18},{"$f":"IF(Futterberechnung!$B$10=\"\",\"Mittelmast ab 60 Kg LM für 750 g TZ*\",IF(Futterberechnung!$B$10=\"w\",\"Mittelmast ab 60 Kg LM für 720 g TZ*\",IF(Futterberechnung!$B$10=\"m\",\"Mittelmast ab 60 Kg LM für 770 g TZ*\",\"Mittelmast ab 60 Kg LM für 750 g TZ*\")))","v":"Mittelmast ab 60 Kg LM für 750 g TZ*"},{"$f":"'Futterkurve Mast'!K$7","v":13},{"$f":"IF(AND(Futterberechnung!$B$10=\"m\",'Futterkurve Mast'!$T$6=\"hp\"),(155*D56/13.4)-(155*D56/13.4)*0.03,IF(Futterberechnung!$B$10=\"m\",(150*D56/13.4)-(150*D56/13.4)*0.03,IF('Futterkurve Mast'!$T$6=\"HP\",155*D56/13.4,150*D56/13.4)))","v":145.52238805970148},{"$f":"ROUND(E56*0.874,0)","v":127},{"$f":"H56/0.874","v":8.4450256074970032},{"$f":"IF(Futterberechnung!B$10=\" \",'Futterkurve Mast'!K20,IF(Futterberechnung!B$10=\"W\",'Futterkurve Mast'!K60,IF(Futterberechnung!B$10=\"M\",'Futterkurve Mast'!K96,'Futterkurve Mast'!K20)))","v":7.3809523809523805},{"$f":"G56*0.54","v":4.5603138280483817},{"$f":"H56*0.55","v":4.0595238095238093},{"$f":"G56*0.63","v":5.3203661327231124},{"$f":"H56*0.65","v":4.7976190476190474},{"$f":"G56*0.18","v":1.5201046093494606},1.3285714285714285,{"$f":"Q56*2.12","v":4.9163809523809521},{"$f":"O56/1.26","v":3.9018896447467872},{"$f":"'Futterkurve Mast'!K19","v":2.3190476190476188},{"$f":"D56*1/13.4","v":0.97014925373134331},{"$f":"0.13*D56","v":1.69},1,{"$f":"ROUND(I56/$G56,2)","v":0.54},{"$f":"ROUND(K56/$G56,2)","v":0.63},{"$f":"ROUND(M56/$G56,2)","v":0.18},{"$f":"ROUND(G56/D56,2)","v":0.65},{"$f":"H56/D56","v":0.56776556776556775},{"$f":"ROUND(O56/P56,2)","v":1.26},{"$f":"ROUND(O56/Q56,2)","v":2.12},45,"40 - 50",{"$f":"I56*0.525","v":2.3941647597254003},2.1312500000000001,{"$f":"G56*100/E56","v":5.8032483661774288},null,null,null,null,{"$f":"18*$D56/13.4","v":17.46268656716418},{"$f":"10*$D56/13.4","v":9.7014925373134329},null,5000,1000,50,null,null,70,120,null,{"$f":"$D56*0.74","v":9.6199999999999992},null,1,0.25]
[{"$f":"IF(C57=\"\",\"\",C57)","v":"Mittelmast ab 60 Kg LM für 850 g TZ*"},{"$f":"IF(G57=\"\",\" \",COUNTA($G$11:G56))","v":19},{"$f":"IF(Futterberechnung!$B$10=\"\",\"Mittelmast ab 60 Kg LM für 850 g TZ*\",IF(Futterberechnung!$B$10=\"w\",\"Mittelmast ab 60 Kg LM für 820 g TZ*\",IF(Futterberechnung!$B$10=\"m\",\"Mittelmast ab 60 Kg LM für 870 g TZ*\",\"Mittelmast ab 60 Kg LM für 850 g TZ*\")))","v":"Mittelmast ab 60 Kg LM für 850 g TZ*"},{"$f":"'Futterkurve Mast'!K$7","v":13},{"$f":"IF(AND(Futterberechnung!$B$10=\"m\",'Futterkurve Mast'!$T$6=\"hp\"),(160*D57/13.4)-(160*D57/13.4)*0.03,IF(Futterberechnung!$B$10=\"m\",(155*D57/13.4)-(155*D57/13.4)*0.03,IF('Futterkurve Mast'!$T$6=\"HP\",160*D57/13.4,155*D57/13.4)))","v":150.37313432835822},{"$f":"ROUND(E57*0.874,0)","v":131},{"$f":"H57/0.874","v":8.7569606610382618},{"$f":"IF(Futterberechnung!B$10=\" \",'Futterkurve Mast'!K33,IF(Futterberechnung!B$10=\"W\",'Futterkurve Mast'!K71,IF(Futterberechnung!B$10=\"M\",'Futterkurve Mast'!K107,'Futterkurve Mast'!K33)))","v":7.6535836177474401},{"$f":"G57*0.54","v":4.7287587569606613},4.2094709897610922,{"$f":"G57*0.63","v":5.5168852164541047},4.9748293515358366,1.576252918986887,1.3776450511945391,{"$f":"Q57*2.12","v":5.1263481228668946},{"$f":"O57/1.26","v":4.0685302562435668},{"$f":"'Futterkurve Mast'!K32","v":2.4180887372013653},{"$f":"D57*1/13.4","v":0.97014925373134331},{"$f":"0.13*D57","v":1.69},1,{"$f":"ROUND(I57/$G57,2)","v":0.54},{"$f":"ROUND(K57/$G57,2)","v":0.63},{"$f":"ROUND(M57/$G57,2)","v":0.18},{"$f":"ROUND(G57/D57,2)","v":0.67},{"$f":"H57/D57","v":0.5887372013651877},{"$f":"ROUND(O57/P57,2)","v":1.26},{"$f":"ROUND(O57/Q57,2)","v":2.12},45,"40 - 50",2.4825983474043474,2.2099722696245734,{"$f":"G57*100/E57","v":5.823487486745047},null,null,null,null,{"$f":"18*$D57/13.4","v":17.46268656716418},{"$f":"10*$D57/13.4","v":9.7014925373134329},null,5000,1000,50,null,null,70,120,null,{"$f":"$D57*0.74","v":9.6199999999999992},null,1,0.25]
[{"$f":"IF(C58=\"\",\"\",C58)","v":"Mittelmast ab 60 Kg LM für 950 g TZ*"},{"$f":"IF(G58=\"\",\" \",COUNTA($G$11:G57))","v":20},{"$f":"IF(Futterberechnung!$B$10=\"\",\"Mittelmast ab 60 Kg LM für 950 g TZ*\",IF(Futterberechnung!$B$10=\"w\",\"Mittelmast ab 60 Kg LM für 920 g TZ*\",IF(Futterberechnung!$B$10=\"m\",\"Mittelmast ab 60 Kg LM für 970 g TZ*\",\"Mittelmast ab 60 Kg LM für 950 g TZ*\")))","v":"Mittelmast ab 60 Kg LM für 950 g TZ*"},{"$f":"'Futterkurve Mast'!K$7","v":13},{"$f":"IF(AND(Futterberechnung!$B$10=\"m\",'Futterkurve Mast'!$T$6=\"hp\"),(165*D58/13.4)-(165*D58/13.4)*0.03,IF(Futterberechnung!$B$10=\"m\",(160*D58/13.4)-(160*D58/13.4)*0.03,IF('Futterkurve Mast'!$T$6=\"HP\",165*D58/13.4,160*D58/13.4)))","v":155.22388059701493},{"$f":"ROUND(E58*0.874,0)","v":136},{"$f":"H58/0.874","v":9.0052711999473605},{"$f":"IF(Futterberechnung!B$10=\" \",'Futterkurve Mast'!K46,IF(Futterberechnung!B$10=\"W\",'Futterkurve Mast'!K82,IF(Futterberechnung!B$10=\"M\",'Futterkurve Mast'!K118,'Futterkurve Mast'!K46)))","v":7.8706070287539935},{"$f":"G58*0.54","v":4.8628464479715747},4.3288338658146968,{"$f":"G58*0.63","v":5.6733208559668373},5.1158945686900958,1.6209488159905248,1.4167092651757187,5.2390415335463265,{"$f":"O58/1.26","v":4.1579694710685127},{"$f":"'Futterkurve Mast'!K45","v":2.4712460063897765},{"$f":"D58*1/13.4","v":0.97014925373134331},{"$f":"0.13*D58","v":1.69},1,{"$f":"ROUND(I58/$G58,2)","v":0.54},{"$f":"ROUND(K58/$G58,2)","v":0.63},{"$f":"ROUND(M58/$G58,2)","v":0.18},{"$f":"ROUND(G58/D58,2)","v":0.69},{"$f":"H58/D58","v":0.60543130990415339},{"$f":"ROUND(O58/P58,2)","v":1.26},{"$f":"ROUND(O58/Q58,2)","v":2.12},45,"40 - 50",2.5529943851850767,2.2726377795527157,{"$f":"G58*100/E58","v":5.8014727922737803},null,null,null,null,{"$f":"18*$D58/13.4","v":17.46268656716418},{"$f":"10*$D58/13.4","v":9.7014925373134329},null,5000,1000,50,null,null,70,120,null,9.6199999999999992,null,1,0.25]
["",{"$f":"IF(G59=\"\",\" \",COUNTA($G$11:G52))","v":" "}]
["ab 70 kg LM",{"$f":"IF(G60=\"\",\" \",COUNTA($G$11:G59))","v":" "},"ab 70 kg LM"]
["Mittelmast ab 70 Kg LM für 750 g TZ*",{"$f":"IF(G61=\"\",\" \",COUNTA($G$11:G60))","v":21},{"$f":"IF(Futterberechnung!$B$10=\"\",\"Mittelmast ab 70 Kg LM für 750 g TZ*\",IF(Futterberechnung!$B$10=\"w\",\"Mittelmast ab 70 Kg LM für 720 g TZ*\",IF(Futterberechnung!$B$10=\"m\",\"Mittelmast ab 70 Kg LM für 770 g TZ*\",\"Mittelmast ab 70 Kg LM für 750 g TZ*\")))","v":"Mittelmast ab 70 Kg LM für 750 g TZ*"},{"$f":"'Futterkurve Mast'!M$7","v":13},{"$f":"IF(AND(Futterberechnung!$B$10=\"m\",'Futterkurve Mast'!$T$6=\"hp\"),(145*D61/13)-(145*D61/13)*0.03,IF(Futterberechnung!$B$10=\"m\",(140*D61/13)-(140*D61/13)*0.03,IF('Futterkurve Mast'!$T$6=\"HP\",140*D61/13,140*D61/13)))","v":140},{"$f":"ROUND(E61*0.87,0)","v":122},{"$f":"H61/0.87","v":8.1040347173352103},{"$f":"IF(Futterberechnung!B$10=\" \",'Futterkurve Mast'!M20,IF(Futterberechnung!B$10=\"W\",'Futterkurve Mast'!M60,IF(Futterberechnung!B$10=\"M\",'Futterkurve Mast'!M96,'Futterkurve Mast'!M20)))","v":7.0505102040816325},{"$f":"G61*0.56","v":4.5382594417077184},{"$f":"H61*0.55","v":3.8777806122448983},{"$f":"G61*0.65","v":5.2676225662678871},4.5828316326530611,{"$f":"G61*0.18","v":1.4587262491203379},1.2690918367346937,{"$f":"Q61*2.18","v":4.9161224489795918},{"$f":"O61/1.23","v":3.9968475194956032},{"$f":"'Futterkurve Mast'!M19","v":2.2551020408163263},{"$f":"D61*1/13","v":1},{"$f":"0.13*D61","v":1.69},1,{"$f":"ROUND(I61/$G61,2)","v":0.56000000000000005},{"$f":"ROUND(K61/$G61,2)","v":0.65},{"$f":"ROUND(M61/$G61,2)","v":0.18},{"$f":"ROUND(G61/D61,2)","v":0.62},{"$f":"H61/D61","v":0.54234693877551021},{"$f":"ROUND(O61/P61,2)","v":1.23},{"$f":"ROUND(O61/Q61,2)","v":2.1800000000000002},45,"40 - 50",{"$f":"I61*0.525","v":2.3825862068965522},2.0358348214285718,{"$f":"G61*100/E61","v":5.7885962266680071},null,null,null,null,{"$f":"18*$D61/13","v":18},{"$f":"10*$D61/13","v":10},null,5000,1000,50,null,null,70,120,null,{"$f":"$D61*0.74","v":9.6199999999999992},null,1,0.25]
["Mittelmast ab 70 Kg LM für 850 g TZ*",{"$f":"IF(G62=\"\",\" \",COUNTA($G$11:G61))","v":22},{"$f":"IF(Futterberechnung!$B$10=\"\",\"Mittelmast ab 70 Kg LM für 850 g TZ*\",IF(Futterberechnung!$B$10=\"w\",\"Mittelmast ab 70 Kg LM für 820 g TZ*\",IF(Futterberechnung!$B$10=\"m\",\"Mittelmast ab 70 Kg LM für 870 g TZ*\",\"Mittelmast ab 70 Kg LM für 850 g TZ*\")))","v":"Mittelmast ab 70 Kg LM für 850 g TZ*"},{"$f":"'Futterkurve Mast'!M$7","v":13},{"$f":"IF(AND(Futterberechnung!$B$10=\"m\",'Futterkurve Mast'!$T$6=\"hp\"),(150*D62/13)-(150*D62/13)*0.03,IF(Futterberechnung!$B$10=\"m\",(140*D62/13)-(145*D62/13)*0.03,IF('Futterkurve Mast'!$T$6=\"HP\",150*D62/13,145*D62/13)))","v":145},{"$f":"ROUND(E62*0.87,0)","v":126},{"$f":"H62/0.87","v":8.3697075512876467},{"$f":"IF(Futterberechnung!B$10=\" \",'Futterkurve Mast'!M33,IF(Futterberechnung!B$10=\"W\",'Futterkurve Mast'!M71,IF(Futterberechnung!B$10=\"M\",'Futterkurve Mast'!M107,'Futterkurve Mast'!M33)))","v":7.2816455696202524},{"$f":"G62*0.56","v":4.6870362287210829},4.0049050632911394,5.4403099083369701,4.7330696202531639,1.5065473592317764,1.3106962025316453,{"$f":"Q62*2.18","v":5.0222784810126582},{"$f":"O62/1.23","v":4.0831532365956571},{"$f":"'Futterkurve Mast'!M32","v":2.3037974683544302},{"$f":"D62*1/13","v":1},{"$f":"0.13*D62","v":1.69},1,{"$f":"ROUND(I62/$G62,2)","v":0.56000000000000005},{"$f":"ROUND(K62/$G62,2)","v":0.65},{"$f":"ROUND(M62/$G62,2)","v":0.18},{"$f":"ROUND(G62/D62,2)","v":0.64},{"$f":"H62/D62","v":0.560126582278481},{"$f":"ROUND(O62/P62,2)","v":1.23},{"$f":"ROUND(O62/Q62,2)","v":2.1800000000000002},45,"40 - 50",2.4606940200785687,2.1025751582278485,{"$f":"G62*100/E62","v":5.7722121043363082},null,null,null,null,{"$f":"18*$D62/13","v":18},{"$f":"10*$D62/13","v":10},null,5000,1000,50,null,null,70,120,null,{"$f":"$D62*0.74","v":9.6199999999999992},null,1,0.25]
["Mittelmast ab 70 Kg LM für 950 g TZ*",{"$f":"IF(G63=\"\",\" \",COUNTA($G$11:G62))","v":23},{"$f":"IF(Futterberechnung!$B$10=\"\",\"Mittelmast ab 70 Kg LM für 950 g TZ*\",IF(Futterberechnung!$B$10=\"w\",\"Mittelmast ab 70 Kg LM für 920 g TZ*\",IF(Futterberechnung!$B$10=\"m\",\"Mittelmast ab 70 Kg LM für 970 g TZ*\",\"Mittelmast ab 70 Kg LM für 950 g TZ*\")))","v":"Mittelmast ab 70 Kg LM für 950 g TZ*"},{"$f":"'Futterkurve Mast'!M$7","v":13},{"$f":"IF(AND(Futterberechnung!$B$10=\"m\",'Futterkurve Mast'!$T$6=\"hp\"),(155*D63/13)-(155*D63/13)*0.03,IF(Futterberechnung!$B$10=\"m\",(150*D63/13)-(150*D63/13)*0.03,IF('Futterkurve Mast'!$T$6=\"HP\",155*D63/13,150*D63/13)))","v":150},{"$f":"ROUND(E63*0.87,0)","v":131},{"$f":"H63/0.87","v":8.4689109451209106},{"$f":"IF(Futterberechnung!B$10=\" \",'Futterkurve Mast'!M46,IF(Futterberechnung!B$10=\"W\",'Futterkurve Mast'!M82,IF(Futterberechnung!B$10=\"M\",'Futterkurve Mast'!M118,'Futterkurve Mast'!M46)))","v":7.3679525222551927},{"$f":"G63*0.56","v":4.7425901292677102},4.0523738872403561,5.5047921143285921,4.7891691394658755,1.5244039701217638,1.3262314540059346,{"$f":"Q63*2.18","v":5.1297922848664683},{"$f":"O63/1.23","v":4.1705628332247713},{"$f":"'Futterkurve Mast'!M45","v":2.353115727002967},{"$f":"D63*1/13","v":1},{"$f":"0.13*D63","v":1.69},1,{"$f":"ROUND(I63/$G63,2)","v":0.56000000000000005},{"$f":"ROUND(K63/$G63,2)","v":0.65},{"$f":"ROUND(M63/$G63,2)","v":0.18},{"$f":"ROUND(G63/D63,2)","v":0.65},{"$f":"H63/D63","v":0.56676557863501487},{"$f":"ROUND(O63/P63,2)","v":1.23},{"$f":"ROUND(O63/Q63,2)","v":2.1800000000000002},45,"40 - 50",2.4898598178655478,2.127496290801187,{"$f":"G63*100/E63","v":5.6459406300806068},null,null,null,null,{"$f":"18*$D63/13","v":18},{"$f":"10*$D63/13","v":10},null,5000,1000,50,null,null,70,120,null,9.6199999999999992,null,1,0.25]
["",{"$f":"IF(G64=\"\",\" \",COUNTA($G$11:G63))","v":" "}]
["ab 80 kg LM",{"$f":"IF(G65=\"\",\" \",COUNTA($G$11:G64))","v":" "},"ab 80 kg LM"]
["Mittelmast ab 80 Kg LM für 750 g TZ*",{"$f":"IF(G66=\"\",\" \",COUNTA($G$11:G65))","v":24},{"$f":"IF(Futterberechnung!$B$10=\"\",\"Mittelmast ab 80 Kg LM für 750 g TZ*\",IF(Futterberechnung!$B$10=\"w\",\"Mittelmast ab 80 Kg LM für 720 g TZ*\",IF(Futterberechnung!$B$10=\"m\",\"Mittelmast ab 80 Kg LM für 770 g TZ*\",\"Mittelmast ab 80 Kg LM für 750 g TZ*\")))","v":"Mittelmast ab 80 Kg LM für 750 g TZ*"},{"$f":"'Futterkurve Mast'!M$7","v":13},{"$f":"IF(AND(Futterberechnung!$B$10=\"m\",'Futterkurve Mast'!$T$6=\"hp\"),(140*D66/13)-(140*D66/13)*0.03,IF(Futterberechnung!$B$10=\"m\",(135*D66/13)-(135*D66/13)*0.03,IF('Futterkurve Mast'!$T$6=\"HP\",140*D66/13,135*D66/13)))","v":135},{"$f":"ROUND(E66*0.865,0)","v":117},{"$f":"H66/0.865","v":7.9735330743638837},{"$f":"IF(Futterberechnung!B$10=\" \",'Futterkurve Mast'!O$20,IF(Futterberechnung!B$10=\"W\",'Futterkurve Mast'!O$60,IF(Futterberechnung!B$10=\"M\",'Futterkurve Mast'!O$96,'Futterkurve Mast'!O$20)))","v":6.897106109324759},{"$f":"G66*0.56","v":4.4651785216437752},{"$f":"H66*0.55","v":3.7934083601286179},{"$f":"G66*0.65","v":5.1827964983365247},4.4831189710610939,{"$f":"G66*0.18","v":1.435235953385499},1.2414790996784566,{"$f":"Q66*2.08","v":4.3298778135048241},{"$f":"O66/1.13","v":3.831750277437898},{"$f":"'Futterkurve Mast'!O$19","v":2.0816720257234729},{"$f":"D66*1/13","v":1},{"$f":"0.13*D66","v":1.69},1,{"$f":"ROUND(I66/$G66,2)","v":0.56000000000000005},{"$f":"ROUND(K66/$G66,2)","v":0.65},{"$f":"ROUND(M66/$G66,2)","v":0.18},{"$f":"ROUND(G66/D66,2)","v":0.61},{"$f":"H66/D66","v":0.53054662379421225},{"$f":"ROUND(O66/P66,2)","v":1.1299999999999999},{"$f":"ROUND(O66/Q66,2)","v":2.08},45,"40 - 50",{"$f":"I66*0.525","v":2.3442187238629821},1.9915393890675246,{"$f":"G66*100/E66","v":5.9063207958250992},null,null,null,null,{"$f":"18*$D66/13","v":18},{"$f":"10*$D66/13","v":10},null,5000,1000,50,null,null,70,120,null,{"$f":"$D66*0.74","v":9.6199999999999992},null,1,0.25]
["Mittelmast ab 80 Kg LM für 850 g TZ*",{"$f":"IF(G67=\"\",\" \",COUNTA($G$11:G66))","v":25},{"$f":"IF(Futterberechnung!$B$10=\"\",\"Mittelmast ab 80 Kg LM für 850 g TZ*\",IF(Futterberechnung!$B$10=\"w\",\"Mittelmast ab 80 Kg LM für 820 g TZ*\",IF(Futterberechnung!$B$10=\"m\",\"Mittelmast ab 80 Kg LM für 870 g TZ*\",\"Mittelmast ab 80 Kg LM für 850 g TZ*\")))","v":"Mittelmast ab 80 Kg LM für 850 g TZ*"},{"$f":"'Futterkurve Mast'!M$7","v":13},{"$f":"IF(AND(Futterberechnung!$B$10=\"m\",'Futterkurve Mast'!$T$6=\"hp\"),(145*D67/13)-(145*D67/13)*0.03,IF(Futterberechnung!$B$10=\"m\",(140*D67/13)-(140*D67/13)*0.03,IF('Futterkurve Mast'!$T$6=\"HP\",145*D67/13,140*D67/13)))","v":140},{"$f":"ROUND(E67*0.865,0)","v":121},{"$f":"H67/0.865","v":8.1914284226422946},{"$f":"IF(Futterberechnung!B$10=\" \",'Futterkurve Mast'!O$33,IF(Futterberechnung!B$10=\"W\",'Futterkurve Mast'!O$71,IF(Futterberechnung!B$10=\"M\",'Futterkurve Mast'!O$107,'Futterkurve Mast'!O$33)))","v":7.0855855855855854},{"$f":"G67*0.56","v":4.5871999166796851},3.8970720720720724,5.3244284747174921,4.6056306306306309,1.474457116075613,1.2754054054054054,{"$f":"Q67*2.08","v":4.4863663663663669},{"$f":"O67/1.13","v":3.9702357224481126},{"$f":"'Futterkurve Mast'!O$32","v":2.1569069069069071},{"$f":"D67*1/13","v":1},{"$f":"0.13*D67","v":1.69},1,{"$f":"ROUND(I67/$G67,2)","v":0.56000000000000005},{"$f":"ROUND(K67/$G67,2)","v":0.65},{"$f":"ROUND(M67/$G67,2)","v":0.18},{"$f":"ROUND(G67/D67,2)","v":0.63},{"$f":"H67/D67","v":0.54504504504504503},{"$f":"ROUND(O67/P67,2)","v":1.1299999999999999},{"$f":"ROUND(O67/Q67,2)","v":2.08},45,"40 - 50",2.4082799562568349,2.0459628378378381,{"$f":"G67*100/E67","v":5.8510203018873534},null,null,null,null,{"$f":"18*$D67/13","v":18},{"$f":"10*$D67/13","v":10},null,5000,1000,50,null,null,70,120,null,{"$f":"$D67*0.74","v":9.6199999999999992},null,1,0.25]
["Mittelmast ab 80 Kg LM für 950 g TZ*",{"$f":"IF(G68=\"\",\" \",COUNTA($G$11:G67))","v":26},{"$f":"IF(Futterberechnung!$B$10=\"\",\"Mittelmast ab 80 Kg LM für 950 g TZ*\",IF(Futterberechnung!$B$10=\"w\",\"Mittelmast ab 80 Kg LM für 920 g TZ*\",IF(Futterberechnung!$B$10=\"m\",\"Mittelmast ab 80 Kg LM für 970 g TZ*\",\"Mittelmast ab 80 Kg LM für 950 g TZ*\")))","v":"Mittelmast ab 80 Kg LM für 950 g TZ*"},{"$f":"'Futterkurve Mast'!M$7","v":13},{"$f":"IF(AND(Futterberechnung!$B$10=\"m\",'Futterkurve Mast'!$T$6=\"hp\"),(150*D68/13)-(150*D68/13)*0.03,IF(Futterberechnung!$B$10=\"m\",(145*D68/13)-(145*D68/13)*0.03,IF('Futterkurve Mast'!$T$6=\"HP\",150*D68/13,145*D68/13)))","v":145},{"$f":"ROUND(E68*0.865,0)","v":125},{"$f":"H68/0.865","v":8.4009872052997334},{"$f":"IF(Futterberechnung!B$10=\" \",'Futterkurve Mast'!O$46,IF(Futterberechnung!B$10=\"W\",'Futterkurve Mast'!O$82,IF(Futterberechnung!B$10=\"M\",'Futterkurve Mast'!O$118,'Futterkurve Mast'!O$46)))","v":7.2668539325842687},{"$f":"G68*0.56","v":4.7045528349678509},3.9967696629213481,5.4606416834448268,4.723455056179775,1.512177696953952,1.3080337078651683,{"$f":"Q68*2.08","v":4.6104719101123601},4.0800636372675756,{"$f":"'Futterkurve Mast'!O$45","v":2.2165730337078653},{"$f":"D68*1/13","v":1},{"$f":"0.13*D68","v":1.69},1,{"$f":"ROUND(I68/$G68,2)","v":0.56000000000000005},{"$f":"ROUND(K68/$G68,2)","v":0.65},{"$f":"ROUND(M68/$G68,2)","v":0.18},{"$f":"ROUND(G68/D68,2)","v":0.65},{"$f":"H68/D68","v":0.5589887640449438},{"$f":"ROUND(O68/P68,2)","v":1.1299999999999999},{"$f":"ROUND(O68/Q68,2)","v":2.08},45,"40 - 50",2.469890238358122,2.0983040730337077,{"$f":"G68*100/E68","v":5.7937842795170571},null,null,null,null,{"$f":"18*$D68/13","v":18},{"$f":"10*$D68/13","v":10},null,5000,1000,50,null,null,70,120,null,9.6199999999999992,null,1,0.25]
["",{"$f":"IF(G69=\"\",\" \",COUNTA($G$11:G68))","v":" "}]
[{"$f":"IF(C70=\"\",\"\",C70)","v":"Endmast 90 - 120 kg LM"},{"$f":"IF(G70=\"\",\" \",COUNTA($G$11:G69))","v":" "},"Endmast 90 - 120 kg LM","Endmast"]
[{"$f":"IF(C71=\"\",\"\",C71)","v":"ab 90 kg LM"},{"$f":"IF(G71=\"\",\" \",COUNTA($G$11:G50))","v":" "},"ab 90 kg LM"]
[{"$f":"IF(C72=\"\",\"\",C72)","v":"Endmast ab 90 Kg LM für 750 g TZ*"},{"$f":"IF(G72=\"\",\" \",COUNTA($G$11:G71))","v":27},{"$f":"IF(Futterberechnung!$B$10=\"\",\"Endmast ab 90 Kg LM für 750 g TZ*\",IF(Futterberechnung!$B$10=\"w\",\"Endmast ab 90 Kg LM für 720 g TZ*\",IF(Futterberechnung!$B$10=\"m\",\"Endmast ab 90 Kg LM für 770 g TZ*\",\"Endmast ab 90 Kg LM für 750 g TZ*\")))","v":"Endmast ab 90 Kg LM für 750 g TZ*"},{"$f":"'Futterkurve Mast'!Q$7","v":13},{"$f":"IF(AND(Futterberechnung!$B$10=\"m\",'Futterkurve Mast'!$T$6=\"hp\"),(130*D72/13)-(130*D72/13)*0.03,IF(Futterberechnung!$B$10=\"m\",(125*D72/13)-(125*D72/13)*0.03,IF('Futterkurve Mast'!$T$6=\"HP\",130*D72/13,125*D72/13)))","v":125},{"$f":"ROUND(E72*0.86,0)","v":108},{"$f":"H72/0.86","v":7.8501050496268938},{"$f":"IF(Futterberechnung!B$10=\" \",'Futterkurve Mast'!Q$20,IF(Futterberechnung!B$10=\"W\",'Futterkurve Mast'!Q$60,IF(Futterberechnung!B$10=\"M\",'Futterkurve Mast'!Q$96,'Futterkurve Mast'!Q$20)))","v":6.7510903426791282},{"$f":"G72*0.56","v":4.3960588277910606},{"$f":"H72*0.55","v":3.713099688473521},{"$f":"G72*0.65","v":5.1025682822574812},4.3882087227414335,{"$f":"G72*0.18","v":1.4130189089328409},1.2151962616822429,{"$f":"Q72*2.19","v":4.279369158878505},{"$f":"O72/1.12","v":3.8208653204272363},{"$f":"'Futterkurve Mast'!Q$19","v":1.9540498442367602},{"$f":"D72*1/13","v":1},{"$f":"0.12*D72","v":1.56},1,{"$f":"ROUND(I72/$G72,2)","v":0.56000000000000005},{"$f":"ROUND(K72/$G72,2)","v":0.65},{"$f":"ROUND(M72/$G72,2)","v":0.18},{"$f":"ROUND(G72/D72,2)","v":0.6},{"$f":"H72/D72","v":0.51931464174454833},{"$f":"ROUND(O72/P72,2)","v":1.1200000000000001},{"$f":"ROUND(O72/Q72,2)","v":2.19},45,"40 - 50",{"$f":"I72*0.525","v":2.307930884590307},1.9493773364485987,{"$f":"G72*100/E72","v":6.2800840397015154},null,null,null,null,{"$f":"18*$D72/13","v":18},{"$f":"10*$D72/13","v":10},null,5000,1000,50,null,null,70,120,null,{"$f":"$D72*0.74","v":9.6199999999999992},null,1,0.25]
[{"$f":"IF(C73=\"\",\"\",C73)","v":"Endmast ab 90 Kg LM für 850 g TZ*"},{"$f":"IF(G73=\"\",\" \",COUNTA($G$11:G72))","v":28},{"$f":"IF(Futterberechnung!$B$10=\"\",\"Endmast ab 90 Kg LM für 850 g TZ*\",IF(Futterberechnung!$B$10=\"w\",\"Endmast ab 90 Kg LM für 820 g TZ*\",IF(Futterberechnung!$B$10=\"m\",\"Endmast ab 90 Kg LM für 870 g TZ*\",\"Endmast ab 90 Kg LM für 850 g TZ*\")))","v":"Endmast ab 90 Kg LM für 850 g TZ*"},{"$f":"'Futterkurve Mast'!Q$7","v":13},{"$f":"IF(AND(Futterberechnung!$B$10=\"m\",'Futterkurve Mast'!$T$6=\"hp\"),(135*D73/13)-(135*D73/13)*0.03,IF(Futterberechnung!$B$10=\"m\",(130*D73/13)-(130*D73/13)*0.03,IF('Futterkurve Mast'!$T$6=\"HP\",135*D73/13,130*D73/13)))","v":130},{"$f":"ROUND(E73*0.86,0)","v":112},{"$f":"H73/0.86","v":7.9743849005729697},{"$f":"IF(Futterberechnung!B$10=\" \",'Futterkurve Mast'!Q$33,IF(Futterberechnung!B$10=\"W\",'Futterkurve Mast'!Q$71,IF(Futterberechnung!B$10=\"m\",'Futterkurve Mast'!Q$107,'Futterkurve Mast'!Q$33)))","v":6.8579710144927537},{"$f":"G73*0.56","v":4.4656555443208639},3.7718840579710147,5.1833501853724302,4.4576811594202903,1.4353892821031344,1.2344347826086957,{"$f":"Q73*2.19","v":4.4561739130434788},{"$f":"O73/1.12","v":3.9787267080745341},{"$f":"'Futterkurve Mast'!Q$32","v":2.0347826086956524},{"$f":"D73*1/13","v":1},{"$f":"0.12*D73","v":1.56},1,{"$f":"ROUND(I73/$G73,2)","v":0.56000000000000005},{"$f":"ROUND(K73/$G73,2)","v":0.65},{"$f":"ROUND(M73/$G73,2)","v":0.18},{"$f":"ROUND(G73/D73,2)","v":0.61},{"$f":"H73/D73","v":0.52753623188405796},{"$f":"ROUND(O73/P73,2)","v":1.1200000000000001},{"$f":"ROUND(O73/Q73,2)","v":2.19},45,"40 - 50",2.3444691607684538,1.9802391304347828,{"$f":"G73*100/E73","v":6.1341422312099763},null,null,null,null,{"$f":"18*$D73/13","v":18},{"$f":"10*$D73/13","v":10},null,5000,1000,50,null,null,70,120,null,{"$f":"$D73*0.74","v":9.6199999999999992},null,1,0.25]
[{"$f":"IF(C74=\"\",\"\",C74)","v":"Endmast ab 90 Kg LM für 950 g TZ*"},{"$f":"IF(G74=\"\",\" \",COUNTA($G$11:G73))","v":29},{"$f":"IF(Futterberechnung!$B$10=\"\",\"Endmast ab 90 Kg LM für 950 g TZ*\",IF(Futterberechnung!$B$10=\"w\",\"Endmast ab 90 Kg LM für 920 g TZ*\",IF(Futterberechnung!$B$10=\"m\",\"Endmast ab 90 Kg LM für 970 g TZ*\",\"Endmast ab 90 Kg LM für 950 g TZ*\")))","v":"Endmast ab 90 Kg LM für 950 g TZ*"},{"$f":"'Futterkurve Mast'!Q$7","v":13},{"$f":"IF(AND(Futterberechnung!$B$10=\"m\",'Futterkurve Mast'!$T$6=\"hp\"),(140*D74/13)-(140*D74/13)*0.03,IF(Futterberechnung!$B$10=\"m\",(135*D74/13)-(135*D74/13)*0.03,IF('Futterkurve Mast'!$T$6=\"HP\",140*D74/13,135*D74/13)))","v":135},{"$f":"ROUND(E74*0.86,0)","v":116},{"$f":"H74/0.86","v":8.2135879498329878},{"$f":"IF(Futterberechnung!B$10=\" \",'Futterkurve Mast'!Q$46,IF(Futterberechnung!B$10=\"W\",'Futterkurve Mast'!Q$82,IF(Futterberechnung!B$10=\"M\",'Futterkurve Mast'!Q$118,'Futterkurve Mast'!Q$46)))","v":7.0636856368563699},{"$f":"G74*0.56","v":4.5996092519064735},3.885027100271004,5.3388321673914421,4.5913956639566402,1.4784458309699378,1.2714634146341466,{"$f":"Q74*2.19","v":4.5714024390243901},{"$f":"O74/1.12","v":4.081609320557491},{"$f":"'Futterkurve Mast'!Q$45","v":2.0873983739837398},{"$f":"D74*1/13","v":1},{"$f":"0.12*D74","v":1.56},1,{"$f":"ROUND(I74/$G74,2)","v":0.56000000000000005},{"$f":"ROUND(K74/$G74,2)","v":0.65},{"$f":"ROUND(M74/$G74,2)","v":0.18},{"$f":"ROUND(G74/D74,2)","v":0.63},{"$f":"H74/D74","v":0.54336043360433617},{"$f":"ROUND(O74/P74,2)","v":1.1200000000000001},{"$f":"ROUND(O74/Q74,2)","v":2.19},45,"40 - 50",2.4147948572508988,2.0396392276422772,{"$f":"G74*100/E74","v":6.0841392220985098},null,null,null,null,{"$f":"18*$D74/13","v":18},{"$f":"10*$D74/13","v":10},null,5000,1000,50,null,null,70,120,null,9.6199999999999992,null,1,0.25]
[]
[{"$f":"IF(C76=\"\",\"\",C76)","v":"ab 100 kg LM"},{"$f":"IF(G76=\"\",\" \",COUNTA($G$11:G55))","v":" "},"ab 100 kg LM"]
[{"$f":"IF(C77=\"\",\"\",C77)","v":"Endmast ab 100 Kg LM für 750 g TZ*"},{"$f":"IF(G77=\"\",\" \",COUNTA($G$11:G76))","v":30},{"$f":"IF(Futterberechnung!$B$10=\"\",\"Endmast ab 100 Kg LM für 750 g TZ*\",IF(Futterberechnung!$B$10=\"w\",\"Endmast ab 100 Kg LM für 720 g TZ*\",IF(Futterberechnung!$B$10=\"m\",\"Endmast ab 100 Kg LM für 770 g TZ*\",\"Endmast ab 100 Kg LM für 750 g TZ*\")))","v":"Endmast ab 100 Kg LM für 750 g TZ*"},{"$f":"'Futterkurve Mast'!Q$7","v":13},{"$f":"IF(AND(Futterberechnung!$B$10=\"m\",'Futterkurve Mast'!$T$6=\"hp\"),(130*D77/13)-(130*D77/13)*0.03,IF(Futterberechnung!$B$10=\"m\",(125*D77/13)-(125*D77/13)*0.03,IF('Futterkurve Mast'!$T$6=\"HP\",130*D77/13,125*D77/13)))","v":125},{"$f":"ROUND(E77*0.855,0)","v":107},{"$f":"H77/0.855","v":7.8604432892931921},{"$f":"IF(Futterberechnung!B$10=\" \",'Futterkurve Mast'!S$20,IF(Futterberechnung!B$10=\"W\",'Futterkurve Mast'!S$60,IF(Futterberechnung!B$10=\"M\",'Futterkurve Mast'!S$96,'Futterkurve Mast'!S$20)))","v":6.7206790123456788},{"$f":"G77*0.56","v":4.4018482420041884},{"$f":"H77*0.55","v":3.6963734567901234},{"$f":"G77*0.65","v":5.1092881380405748},4.3684413580246915,{"$f":"G77*0.18","v":1.4148797920727745},1.2097222222222221,{"$f":"Q77*2.35","v":4.3137731481481483},{"$f":"O77/1.124","v":3.8378764663239751},{"$f":"'Futterkurve Mast'!S$19","v":1.8356481481481481},{"$f":"D77*1/13","v":1},{"$f":"0.12*D77","v":1.56},1,{"$f":"ROUND(I77/$G77,2)","v":0.56000000000000005},{"$f":"ROUND(K77/$G77,2)","v":0.65},{"$f":"ROUND(M77/$G77,2)","v":0.18},{"$f":"ROUND(G77/D77,2)","v":0.6},{"$f":"H77/D77","v":0.51697530864197527},{"$f":"ROUND(O77/P77,2)","v":1.1200000000000001},{"$f":"ROUND(O77/Q77,2)","v":2.35},45,"40 - 50",{"$f":"I77*0.525","v":2.3109703270521988},1.9405960648148148,{"$f":"G77*100/E77","v":6.2883546314345544},null,null,null,null,{"$f":"18*$D77/13","v":18},{"$f":"10*$D77/13","v":10},null,5000,1000,50,null,null,70,120,null,{"$f":"$D77*0.74","v":9.6199999999999992},null,1,0.25]
[{"$f":"IF(C78=\"\",\"\",C78)","v":"Endmast ab 100 Kg LM für 850 g TZ*"},{"$f":"IF(G78=\"\",\" \",COUNTA($G$11:G77))","v":31},{"$f":"IF(Futterberechnung!$B$10=\"\",\"Endmast ab 100 Kg LM für 850 g TZ*\",IF(Futterberechnung!$B$10=\"w\",\"Endmast ab 100 Kg LM für 820 g TZ*\",IF(Futterberechnung!$B$10=\"m\",\"Endmast ab 100 Kg LM für 870 g TZ*\",\"Endmast ab 100 Kg LM für 850 g TZ*\")))","v":"Endmast ab 100 Kg LM für 850 g TZ*"},{"$f":"'Futterkurve Mast'!Q$7","v":13},{"$f":"IF(AND(Futterberechnung!$B$10=\"m\",'Futterkurve Mast'!$T$6=\"hp\"),(135*D78/13)-(135*D78/13)*0.03,IF(Futterberechnung!$B$10=\"m\",(130*D78/13)-(130*D78/13)*0.03,IF('Futterkurve Mast'!$T$6=\"HP\",135*D78/13,130*D78/13)))","v":130},{"$f":"ROUND(E78*0.855,0)","v":111},{"$f":"H78/0.855","v":8.0367585630743523},{"$f":"IF(Futterberechnung!B$10=\" \",'Futterkurve Mast'!S$33,IF(Futterberechnung!B$10=\"W\",'Futterkurve Mast'!S$71,IF(Futterberechnung!B$10=\"m\",'Futterkurve Mast'!S$107,'Futterkurve Mast'!S$33)))","v":6.871428571428571},{"$f":"G78*0.56","v":4.5005847953216378},3.7792857142857144,5.2238930659983289,4.4664285714285716,1.4466165413533834,1.2368571428571427,4.4515714285714276,{"$f":"O78/1.124","v":3.9604728012201309},{"$f":"'Futterkurve Mast'!S$32","v":1.8942857142857139},{"$f":"D78*1/13","v":1},{"$f":"0.12*D78","v":1.56},1,{"$f":"ROUND(I78/$G78,2)","v":0.56000000000000005},{"$f":"ROUND(K78/$G78,2)","v":0.65},{"$f":"ROUND(M78/$G78,2)","v":0.18},{"$f":"ROUND(G78/D78,2)","v":0.62},{"$f":"H78/D78","v":0.52857142857142858},{"$f":"ROUND(O78/P78,2)","v":1.1200000000000001},{"$f":"ROUND(O78/Q78,2)","v":2.35},45,"40 - 50",2.3628070175438598,1.9841250000000001,{"$f":"G78*100/E78","v":6.182121971595655},null,null,null,null,{"$f":"18*$D78/13","v":18},{"$f":"10*$D78/13","v":10},null,5000,1000,50,null,null,70,120,null,{"$f":"$D78*0.74","v":9.6199999999999992},null,1,0.25]
[{"$f":"IF(C79=\"\",\"\",C79)","v":"Endmast ab 100 Kg LM für 950 g TZ*"},{"$f":"IF(G79=\"\",\" \",COUNTA($G$11:G78))","v":32},{"$f":"IF(Futterberechnung!$B$10=\"\",\"Endmast ab 100 Kg LM für 950 g TZ*\",IF(Futterberechnung!$B$10=\"w\",\"Endmast ab 100 Kg LM für 920 g TZ*\",IF(Futterberechnung!$B$10=\"m\",\"Endmast ab 100 Kg LM für 970 g TZ*\",\"Endmast ab 100 Kg LM für 950 g TZ*\")))","v":"Endmast ab 100 Kg LM für 950 g TZ*"},{"$f":"'Futterkurve Mast'!Q$7","v":13},{"$f":"IF(AND(Futterberechnung!$B$10=\"m\",'Futterkurve Mast'!$T$6=\"hp\"),(140*D79/13)-(140*D79/13)*0.03,IF(Futterberechnung!$B$10=\"m\",(135*D79/13)-(135*D79/13)*0.03,IF('Futterkurve Mast'!$T$6=\"HP\",140*D79/13,135*D79/13)))","v":135},{"$f":"ROUND(E79*0.855,0)","v":115},{"$f":"H79/0.855","v":8.2934609250398719},{"$f":"IF(Futterberechnung!B$10=\" \",'Futterkurve Mast'!S$46,IF(Futterberechnung!B$10=\"W\",'Futterkurve Mast'!S$82,IF(Futterberechnung!B$10=\"M\",'Futterkurve Mast'!S$118,'Futterkurve Mast'!S$46)))","v":7.0909090909090908},{"$f":"G79*0.56","v":4.6443381180223291},3.9000000000000004,5.3907496012759166,4.6090909090909093,1.4928229665071768,1.2763636363636364,{"$f":"Q79*2.35","v":4.6355949197860964},{"$f":"O79/1.124","v":4.1241947684929681},{"$f":"'Futterkurve Mast'!S$45","v":1.9725935828877004},{"$f":"D79*1/13","v":1},{"$f":"0.12*D79","v":1.56},1,{"$f":"ROUND(I79/$G79,2)","v":0.56000000000000005},{"$f":"ROUND(K79/$G79,2)","v":0.65},{"$f":"ROUND(M79/$G79,2)","v":0.18},{"$f":"ROUND(G79/D79,2)","v":0.64},{"$f":"H79/D79","v":0.54545454545454541},{"$f":"ROUND(O79/P79,2)","v":1.1200000000000001},{"$f":"ROUND(O79/Q79,2)","v":2.35},45,"40 - 50",2.438277511961723,2.0475000000000003,{"$f":"G79*100/E79","v":6.1433043889184233},null,null,null,null,{"$f":"18*$D79/13","v":18},{"$f":"10*$D79/13","v":10},null,5000,1000,50,null,null,70,120,null,9.6199999999999992,null,1,0.25]
[]
["ab 110 kg LM",{"$f":"IF(G81=\"\",\" \",COUNTA($G$11:G69))","v":" "},"ab 110 kg LM"]
["Endmast ab 110 Kg LM für 750 g TZ*",{"$f":"IF(G82=\"\",\" \",COUNTA($G$11:G81))","v":33},{"$f":"IF(Futterberechnung!$B$10=\"\",\"Endmast ab 110 Kg LM für 750 g TZ*\",IF(Futterberechnung!$B$10=\"w\",\"Endmast ab 110 Kg LM für 720 g TZ*\",IF(Futterberechnung!$B$10=\"m\",\"Endmast ab 110 Kg LM für 770 g TZ*\",\"Endmast ab 110 Kg LM für 750 g TZ*\")))","v":"Endmast ab 110 Kg LM für 750 g TZ*"},{"$f":"'Futterkurve Mast'!Q$7","v":13},{"$f":"IF(AND(Futterberechnung!$B$10=\"m\",'Futterkurve Mast'!$T$6=\"hp\"),(130*D82/13)-(130*D82/13)*0.03,IF(Futterberechnung!$B$10=\"m\",(125*D82/13)-(125*D82/13)*0.03,IF('Futterkurve Mast'!$T$6=\"HP\",130*D82/13,125*D82/13)))","v":125},{"$f":"ROUND(E82*0.85,0)","v":106},{"$f":"H82/0.85","v":7.9294117647058826},{"$f":"IF(Futterberechnung!B$10=\" \",'Futterkurve Mast'!U$20,IF(Futterberechnung!B$10=\"W\",'Futterkurve Mast'!U$60,IF(Futterberechnung!B$10=\"M\",'Futterkurve Mast'!U$96,'Futterkurve Mast'!U$20)))","v":6.74},{"$f":"G82*0.56","v":4.4404705882352946},{"$f":"H82*0.55","v":3.7070000000000003},{"$f":"G82*0.65","v":5.1541176470588237},4.3810000000000002,{"$f":"G82*0.18","v":1.4272941176470588},1.2132000000000001,{"$f":"Q82*2.525","v":4.343},{"$f":"O82/1.12","v":3.8776785714285711},{"$f":"'Futterkurve Mast'!U$19","v":1.72},{"$f":"D82*1/13","v":1},{"$f":"0.12*D82","v":1.56},1,{"$f":"ROUND(I82/$G82,2)","v":0.56000000000000005},{"$f":"ROUND(K82/$G82,2)","v":0.65},{"$f":"ROUND(M82/$G82,2)","v":0.18},{"$f":"ROUND(G82/D82,2)","v":0.61},{"$f":"H82/D82","v":0.51846153846153853},{"$f":"ROUND(O82/P82,2)","v":1.1200000000000001},{"$f":"ROUND(O82/Q82,2)","v":2.5299999999999998},45,"40 - 50",{"$f":"I82*0.525","v":2.3312470588235299},1.9461750000000002,{"$f":"G82*100/E82","v":6.3435294117647061},null,null,null,null,{"$f":"18*$D82/13","v":18},{"$f":"10*$D82/13","v":10},null,5000,1000,50,null,null,70,120,null,{"$f":"$D82*0.74","v":9.6199999999999992},null,1,0.25]
["Endmast ab 110 Kg LM für 850 g TZ*",{"$f":"IF(G83=\"\",\" \",COUNTA($G$11:G82))","v":34},{"$f":"IF(Futterberechnung!$B$10=\"\",\"Endmast ab 110 Kg LM für 850 g TZ*\",IF(Futterberechnung!$B$10=\"w\",\"Endmast ab 110 Kg LM für 820 g TZ*\",IF(Futterberechnung!$B$10=\"m\",\"Endmast ab 110 Kg LM für 870 g TZ*\",\"Endmast ab 110 Kg LM für 850 g TZ*\")))","v":"Endmast ab 110 Kg LM für 850 g TZ*"},{"$f":"'Futterkurve Mast'!Q$7","v":13},{"$f":"IF(AND(Futterberechnung!$B$10=\"m\",'Futterkurve Mast'!$T$6=\"hp\"),(135*D83/13)-(135*D83/13)*0.03,IF(Futterberechnung!$B$10=\"m\",(130*D83/13)-(130*D83/13)*0.03,IF('Futterkurve Mast'!$T$6=\"HP\",135*D83/13,130*D83/13)))","v":130},{"$f":"ROUND(E83*0.85,0)","v":111},{"$f":"H83/0.85","v":8.0815508021390379},{"$f":"IF(Futterberechnung!B$10=\" \",'Futterkurve Mast'!U$33,IF(Futterberechnung!B$10=\"W\",'Futterkurve Mast'!U$71,IF(Futterberechnung!B$10=\"m\",'Futterkurve Mast'!U$107,'Futterkurve Mast'!U$33)))","v":6.8693181818181817},{"$f":"G83*0.56","v":4.5256684491978616},3.7781250000000002,5.2530080213903751,4.465056818181818,1.4546791443850267,1.2364772727272726,{"$f":"Q83*2.525","v":4.457485795454545},{"$f":"O83/1.12","v":3.9798980316558432},{"$f":"'Futterkurve Mast'!U$32","v":1.7653409090909091},{"$f":"D83*1/13","v":1},{"$f":"0.12*D83","v":1.56},1,{"$f":"ROUND(I83/$G83,2)","v":0.56000000000000005},{"$f":"ROUND(K83/$G83,2)","v":0.65},{"$f":"ROUND(M83/$G83,2)","v":0.18},{"$f":"ROUND(G83/D83,2)","v":0.62},{"$f":"H83/D83","v":0.52840909090909094},{"$f":"ROUND(O83/P83,2)","v":1.1200000000000001},{"$f":"ROUND(O83/Q83,2)","v":2.5299999999999998},45,"40 - 50",2.3759759358288775,1.9835156250000001,{"$f":"G83*100/E83","v":6.216577540106953},null,null,null,null,{"$f":"18*$D83/13","v":18},{"$f":"10*$D83/13","v":10},null,5000,1000,50,null,null,70,120,null,{"$f":"$D83*0.74","v":9.6199999999999992},null,1,0.25]
["Endmast ab 110 Kg LM für 950 g TZ*",{"$f":"IF(G84=\"\",\" \",COUNTA($G$11:G83))","v":35},{"$f":"IF(Futterberechnung!$B$10=\"\",\"Endmast ab 110 Kg LM für 950 g TZ*\",IF(Futterberechnung!$B$10=\"w\",\"Endmast ab 110 Kg LM für 920 g TZ*\",IF(Futterberechnung!$B$10=\"m\",\"Endmast ab 110 Kg LM für 970 g TZ*\",\"Endmast ab 110 Kg LM für 950 g TZ*\")))","v":"Endmast ab 110 Kg LM für 950 g TZ*"},{"$f":"'Futterkurve Mast'!Q$7","v":13},{"$f":"IF(AND(Futterberechnung!$B$10=\"m\",'Futterkurve Mast'!$T$6=\"hp\"),(140*D84/13)-(140*D84/13)*0.03,IF(Futterberechnung!$B$10=\"m\",(135*D84/13)-(135*D84/13)*0.03,IF('Futterkurve Mast'!$T$6=\"HP\",140*D84/13,135*D84/13)))","v":135},{"$f":"ROUND(E84*0.85,0)","v":115},{"$f":"H84/0.85","v":8.3753501400560229},{"$f":"IF(Futterberechnung!B$10=\" \",'Futterkurve Mast'!U$46,IF(Futterberechnung!B$10=\"W\",'Futterkurve Mast'!U$82,IF(Futterberechnung!B$10=\"M\",'Futterkurve Mast'!U$118,'Futterkurve Mast'!U$46)))","v":7.1190476190476195},{"$f":"G84*0.56","v":4.6901960784313736},3.9154761904761912,5.4439775910364148,4.6273809523809533,1.507563025210084,1.2814285714285714,{"$f":"Q84*2.525","v":4.6458664021164022},{"$f":"O84/1.12","v":4.1480950018896445},{"$f":"'Futterkurve Mast'!U$45","v":1.83994708994709},{"$f":"D84*1/13","v":1},{"$f":"0.12*D84","v":1.56},1,{"$f":"ROUND(I84/$G84,2)","v":0.56000000000000005},{"$f":"ROUND(K84/$G84,2)","v":0.65},{"$f":"ROUND(M84/$G84,2)","v":0.18},{"$f":"ROUND(G84/D84,2)","v":0.64},{"$f":"H84/D84","v":0.54761904761904767},{"$f":"ROUND(O84/P84,2)","v":1.1200000000000001},{"$f":"ROUND(O84/Q84,2)","v":2.5299999999999998},45,"40 - 50",2.4623529411764711,2.0556250000000005,{"$f":"G84*100/E84","v":6.2039630667081651},null,null,null,null,{"$f":"18*$D84/13","v":18},{"$f":"10*$D84/13","v":10},null,5000,1000,50,null,null,70,120,null,9.6199999999999992,null,1,0.25]
[]
[{"$f":"IF(C86=\"\",\"\",C86)","v":"Ebermast nach Rechenmeister NRW"},{"$f":"IF(G86=\"\",\" \",COUNTA($G$11:G85))","v":" "},"Ebermast nach Rechenmeister NRW"]
[]
[{"$f":"IF(C88=\"\",\"\",C88)","v":"Vormast Eber 30 - 40 kg LM für 850 g TZ*"},{"$f":"IF(G88=\"\",\" \",COUNTA($G$11:G85))","v":36},"Vormast Eber 30 - 40 kg LM für 850 g TZ*",{"$f":"'Futterkurve Mast'!E$7","v":13.4},{"$f":"175*D88/13.4","v":175},{"$f":"ROUND(E88*0.89,0)","v":156},{"$f":"H88/0.89","v":12.57191011235955},{"$f":"'Futterkurve Mast'!E132","v":11.189},{"$f":"G88*0.56","v":7.0402696629213484},6.2658400000000007,{"$f":"G88*0.63","v":7.9203033707865167},{"$f":"H88*0.63","v":7.0490700000000004},{"$f":"G88*0.18","v":2.2629438202247187},2.0140199999999999,{"$f":"Q88*2.18","v":6.5205357142857148},{"$f":"O88/1.3","v":5.0157967032967035},{"$f":"Q40","v":2.9910714285714284},{"$f":"D88*1/13.4","v":1},{"$f":"0.15*D88","v":2.0099999999999998},1,{"$f":"ROUND(I88/$G88,2)","v":0.56000000000000005},{"$f":"ROUND(K88/$G88,2)","v":0.63},{"$f":"ROUND(M88/$G88,2)","v":0.18},{"$f":"ROUND(G88/D88,2)","v":0.94},{"$f":"H88/D88","v":0.83499999999999996},{"$f":"ROUND(O88/P88,2)","v":1.3},{"$f":"ROUND(O88/Q88,2)","v":2.1800000000000002},40,"30 - 50",{"$f":"I88*0.525","v":3.6961415730337079},3.2895660000000007,{"$f":"G88*100/E88","v":7.183948635634029},null,null,null,null,{"$f":"18*$D88/13.4","v":18},{"$f":"10*$D88/13.4","v":10},null,6500,1750,60,null,null,70,120,null,{"$f":"$D88*0.74","v":9.9160000000000004},null,1,0.25]
["Anfangsmast Eber ab 40 kg LM für 850 g TZ*",{"$f":"IF(G89=\"\",\" \",COUNTA($G$11:G88))","v":37},"Anfangsmast Eber ab 40 kg LM für 850 g TZ*",{"$f":"'Futterkurve Mast'!G$7","v":13.2},{"$f":"170*D89/13.4","v":167.46268656716418},{"$f":"ROUND(E89*0.88,0)","v":147},{"$f":"H89/0.88","v":11.420454545454547},{"$f":"'Futterkurve Mast'!G132","v":10.050000000000001},6.3954545454545464,5.628000000000001,{"$f":"G89*0.65","v":7.4232954545454559},6.5325000000000006,2.0556818181818182,1.8090000000000002,{"$f":"Q89*2.075","v":5.9276865671641783},{"$f":"O89/1.28","v":4.6310051305970141},{"$f":"2.9*D89/13.4","v":2.8567164179104472},{"$f":"D89*1/13.4","v":0.9850746268656716},{"$f":"0.14*D89","v":1.8480000000000001},1,0.56000000000000005,0.65,0.18,0.87,0.76136363636363646,1.28,2.08,40,"30 - 50",3.3576136363636371,2.9547000000000008,6.8197010209042306,null,null,null,null,{"$f":"18*$D89/13.4","v":17.731343283582088},{"$f":"10*$D89/13.4","v":9.8507462686567155},null,6500,1750,60,null,null,70,120,null,{"$f":"$D89*0.74","v":9.7679999999999989},null,1,0.25]
["Anfangsmast Eber ab 50 kg LM für 850 g TZ*",{"$f":"IF(G90=\"\",\" \",COUNTA($G$11:G89))","v":38},"Anfangsmast Eber ab 50 kg LM für 850 g TZ*",{"$f":"'Futterkurve Mast'!G$7","v":13.2},{"$f":"165*D90/13.4","v":162.53731343283582},{"$f":"ROUND(E90*0.88,0)","v":143},{"$f":"H90/0.88","v":11.025},{"$f":"'Futterkurve Mast'!I132","v":9.702},{"$f":"G90*0.56","v":6.1740000000000004},5.4331200000000006,{"$f":"G90*0.65","v":7.1662500000000007},6.3063000000000002,{"$f":"G90*0.18","v":1.9844999999999999},1.7463599999999999,{"$f":"Q90*2.2","v":5.4179104477611943},{"$f":"O90/1.23","v":4.4048052420822721},{"$f":"2.5*D90/13.4","v":2.4626865671641789},{"$f":"D90*1/13.4","v":0.9850746268656716},{"$f":"0.135*D90","v":1.782},1,0.56000000000000005,0.65,0.18,0.84,0.73499999999999999,1.23,2.2000000000000002,40,"30 - 50",{"$f":"I90*0.525","v":3.2413500000000002},2.8523880000000004,6.7830578512396693,null,null,null,null,{"$f":"18*$D90/13.4","v":17.731343283582088},{"$f":"10*$D90/13.4","v":9.8507462686567155},null,6500,1750,60,null,null,70,120,null,9.7679999999999989,null,1,0.25]
["Mittelmast Eber ab 60 kg LM für 850 g TZ*",{"$f":"IF(G91=\"\",\" \",COUNTA($G$11:G87))","v":36},"Mittelmast Eber ab 60 kg LM für 850 g TZ*",{"$f":"'Futterkurve Mast'!G$7","v":13.2},{"$f":"160*D91/13.4","v":157.61194029850745},{"$f":"ROUND(E91*0.88,0)","v":139},{"$f":"H91/0.88","v":9.99},{"$f":"'Futterkurve Mast'!K132","v":8.7911999999999999},5.5944000000000003,4.9230720000000003,6.4935,5.7142800000000005,1.7982,1.5824159999999998,{"$f":"Q91*2.2","v":5.201194029850746},{"$f":"O91/1.18","v":4.4077915507209715},{"$f":"2.4*D91/13.4","v":2.3641791044776115},{"$f":"D91*1/13","v":1.0153846153846153},{"$f":"0.125*D91","v":1.65},1,0.56000000000000005,0.65,0.18,0.76,0.66600000000000004,1.18,2.2000000000000002,45,"40 - 50",2.9370600000000002,2.5846128000000004,6.3383522727272732,null,null,null,null,{"$f":"18*$D91/13","v":18.276923076923076},{"$f":"10*$D91/13","v":10.153846153846153},null,6500,1750,60,null,null,70,120,null,9.7679999999999989,null,1,0.25]
["Mittelmast Eber ab 70 kg LM für 850 g TZ*",{"$f":"IF(G92=\"\",\" \",COUNTA($G$11:G88))","v":37},"Mittelmast Eber ab 70 kg LM für 850 g TZ*",{"$f":"'Futterkurve Mast'!M$7","v":13},{"$f":"155*D92/13.4","v":150.37313432835822},{"$f":"ROUND(E92*0.86,0)","v":129},{"$f":"H92/0.86","v":9.75},{"$f":"'Futterkurve Mast'!M132","v":8.3849999999999998},5.4600000000000009,4.6956000000000007,6.3375000000000004,5.4502500000000005,1.7549999999999999,1.5092999999999999,{"$f":"Q92*2.17","v":4.8935714285714278},{"$f":"O92/1.125","v":4.349841269841269},{"$f":"Q61","v":2.2551020408163263},{"$f":"D92*1/13","v":1},{"$f":"0.12*D92","v":1.56},1,0.56000000000000005,0.65,0.18,0.75,0.64500000000000002,1.1299999999999999,2.17,45,"40 - 50",2.8665000000000007,2.4651900000000007,6.4838709677419351,null,null,null,null,{"$f":"18*$D92/13","v":18},{"$f":"10*$D92/13","v":10},null,6500,1250,40,null,null,70,120,null,9.6199999999999992,null,1,0.25]
["Mittelmast Eber ab 80 kg LM für 850 g TZ*",{"$f":"IF(G93=\"\",\" \",COUNTA($G$11:G89))","v":38},"Mittelmast Eber ab 80 kg LM für 850 g TZ*",{"$f":"'Futterkurve Mast'!M$7","v":13},{"$f":"150*D93/13.4","v":145.52238805970148},{"$f":"ROUND(E93*0.86,0)","v":125},{"$f":"H93/0.86","v":9.3720930232558146},{"$f":"'Futterkurve Mast'!O132","v":8.06},5.2483720930232565,4.5136000000000003,6.0918604651162793,5.2390000000000008,1.6869767441860466,1.4508000000000001,{"$f":"Q93*2.025","v":4.3677364864864865},{"$f":"O93/1.01","v":4.3244915707786991},{"$f":"Q67","v":2.1569069069069071},{"$f":"D93*1/13","v":1},{"$f":"0.12*D93","v":1.56},1,0.56000000000000005,0.65,0.18,0.72,0.62,1.01,2.0299999999999998,45,"40 - 50",2.7553953488372098,2.3696400000000004,6.4403100775193804,null,null,null,null,{"$f":"18*$D93/13","v":18},{"$f":"10*$D93/13","v":10},null,6500,1250,40,null,null,70,120,null,9.6199999999999992,null,1,0.25]
["Endmast Eber ab 90 kg LM für 850 g TZ*",{"$f":"IF(G94=\"\",\" \",COUNTA($G$11:G93))","v":42},"Endmast Eber ab 90 kg LM für 850 g TZ*",{"$f":"'Futterkurve Mast'!Q$7","v":13},{"$f":"140*D94/13.4","v":135.82089552238804},{"$f":"ROUND(E94*0.86,0)","v":117},{"$f":"H94/0.86","v":8.9186046511627914},{"$f":"'Futterkurve Mast'!Q132","v":7.67},4.9944186046511634,4.2952000000000004,5.7970930232558144,4.9855,1.6053488372093023,1.3805999999999998,{"$f":"Q94*2.25","v":4.3966121495327108},{"$f":"O94/1.12","v":3.925546562082777},{"$f":"Q72","v":1.9540498442367602},{"$f":"D94*1/13","v":1},{"$f":"0.115*D94","v":1.4950000000000001},1,0.56000000000000005,0.65,0.18,0.69,0.59,1.1200000000000001,2.25,45,"40 - 50",2.6220697674418609,2.2549800000000002,6.5664451827242534,null,null,null,null,{"$f":"18*$D94/13","v":18},{"$f":"10*$D94/13","v":10},null,6500,1250,40,null,null,70,120,null,9.6199999999999992,null,1,0.25]
[]
[{"$f":"IF(C96=\"\",\"\",C96)","v":"Sauen"},null,"Sauen",null,null,null,null,null,null,null,null,null,null,null,null,null,null,null,null,null,null,null,null,null,null,null,null,"****","****"]
[]
["niedertragende Sauen sowie durchgängig für Altsauen",{"$f":"IF(G98=\"\",\" \",COUNTA($G$11:G96))","v":43},"niedertragende Sauen sowie durchgängig für Altsauen",12,130,{"$f":"E98*0.79","v":102.7},{"$f":"H98/0.79","v":5.4683544303797467},{"$f":"D98*0.36","v":4.32},{"$f":"G98*0.6","v":3.2810126582278478},2.5920000000000001,{"$f":"G98*0.65","v":3.5544303797468353},2.8080000000000003,{"$f":"G98*0.19","v":1.0389873417721518},0.82080000000000009,{"$f":"Q98*2.75","v":5.5},{"$f":"D98*4/12","v":4},{"$f":"2*D98/12","v":2},{"$f":"D98*1/12","v":1},{"$f":"2*D98/12","v":2},1,{"$f":"ROUND(I98/$G98,2)","v":0.6},{"$f":"ROUND(K98/$G98,2)","v":0.65},{"$f":"ROUND(M98/$G98,2)","v":0.19},{"$f":"ROUND(G98/D98,2)","v":0.46},{"$f":"H98/D98","v":0.36000000000000004},{"$f":"ROUND(O98/P98,2)","v":1.38},{"$f":"ROUND(O98/Q98,2)","v":2.75},{"$f":"80*0.88","v":70.400000000000006},"≥ 70,4",{"$f":"I98*0.525","v":1.7225316455696202},1.3608,{"$f":"G98*100/E98","v":4.2064264849074968},43,340,55,null,null,null,null,11000,1800,60,176,null,80,200,150,null,{"$f":"$D98*0.74","v":8.879999999999999},1,0.25]
["hochtragende Sauen und alternativ für Jungsauen",{"$f":"IF(G99=\"\",\" \",COUNTA($G$11:G98))","v":44},"hochtragende Sauen und alternativ für Jungsauen",12,140,{"$f":"E99*0.79","v":110.60000000000001},{"$f":"H99/0.79","v":6.075949367088608},{"$f":"D99*0.4","v":4.8000000000000007},3.6455696202531644,2.8800000000000003,3.9493670886075956,3.1200000000000006,1.1544303797468356,0.91200000000000014,{"$f":"Q99*2.75","v":6.0500000000000007},{"$f":"D99*4.5/12","v":4.5},{"$f":"2.2*D99/12","v":2.2000000000000002},{"$f":"D99*1/12","v":1},{"$f":"2*D99/12","v":2},1,{"$f":"ROUND(I99/$G99,2)","v":0.6},{"$f":"ROUND(K99/$G99,2)","v":0.65},{"$f":"ROUND(M99/$G99,2)","v":0.19},{"$f":"ROUND(G99/D99,2)","v":0.51},{"$f":"H99/D99","v":0.40000000000000008},{"$f":"ROUND(O99/P99,2)","v":1.34},{"$f":"ROUND(O99/Q99,2)","v":2.75},{"$f":"80*0.88","v":70.400000000000006},"≥ 70,4",1.9139240506329114,1.5120000000000002,4.3399638336347204,43,340,55,null,null,null,null,11000,1800,60,176,null,80,200,150,null,{"$f":"$D99*0.74","v":8.879999999999999},1,0.25]
["tragende Sauen",{"$f":"IF(G100=\"\",\" \",COUNTA($G$11:G99))","v":45},"tragende Sauen",12,140,{"$f":"E100*0.79","v":110.60000000000001},{"$f":"H100/0.79","v":6.075949367088608},{"$f":"D100*0.4","v":4.8000000000000007},3.6455696202531644,2.8800000000000003,3.9493670886075956,3.1200000000000006,1.1544303797468356,0.91200000000000014,{"$f":"Q100*2.75","v":6.0500000000000007},{"$f":"D100*4.5/12","v":4.5},{"$f":"2.2*D100/12","v":2.2000000000000002},{"$f":"D100*1/12","v":1},{"$f":"2*D100/12","v":2},1,{"$f":"ROUND(I100/$G100,2)","v":0.6},{"$f":"ROUND(K100/$G100,2)","v":0.65},{"$f":"ROUND(M100/$G100,2)","v":0.19},{"$f":"ROUND(G100/D100,2)","v":0.51},{"$f":"H100/D100","v":0.40000000000000008},{"$f":"ROUND(O100/P100,2)","v":1.34},{"$f":"ROUND(O100/Q100,2)","v":2.75},{"$f":"80*0.88","v":70.400000000000006},"≥ 70,4",1.9139240506329114,1.5120000000000002,4.3399638336347204,43,340,55,null,null,null,null,11000,1800,60,176,null,80,200,150,null,8.879999999999999,1,0.25]
["",{"$f":"IF(G101=\"\",\" \",COUNTA($G$11:G100))","v":" "}]
["säugende Sauen  16,5 % RP",{"$f":"IF(G102=\"\",\" \",COUNTA($G$11:G101))","v":46},{"$f":"\"säugende Sauen \"&\" \"&E102/10&\" \"&\"% RP\"","v":"säugende Sauen  16,5 % RP"},13,{"$f":"ROUND(165*D102/13,1)","v":165},{"$f":"E102*0.85","v":140.25},{"$f":"H102/0.85","v":9.1764705882352935},{"$f":"D102*0.6","v":7.8},{"$f":"G102*0.6","v":5.5058823529411756},{"$f":"H102*0.6","v":4.68},{"$f":"G102*0.65","v":5.9647058823529413},{"$f":"H102*0.65","v":5.07},{"$f":"G102*0.19","v":1.7435294117647058},{"$f":"H102*0.19","v":1.482},{"$f":"7.5*D102/13","v":7.5},{"$f":"5.5*D102/13","v":5.5},{"$f":"3.3*D102/13","v":3.3},{"$f":"D102*1/13","v":1},{"$f":"2*D102/13","v":2},1,{"$f":"ROUND(I102/$G102,2)","v":0.6},{"$f":"ROUND(K102/$G102,2)","v":0.65},{"$f":"ROUND(M102/$G102,2)","v":0.19},{"$f":"ROUND(G102/D102,2)","v":0.71},{"$f":"H102/D102","v":0.6},{"$f":"ROUND(O102/P102,2)","v":1.36},{"$f":"ROUND(O102/Q102,2)","v":2.27},55.4,"≥ 45",2.8905882352941172,2.4569999999999999,5.5614973262032086,55,375,60,null,null,null,null,11000,1800,60,176,null,70,160,120,null,9.6199999999999992,1,0.25]
["säugende Sauen  17,5 % RP",{"$f":"IF(G103=\"\",\" \",COUNTA($G$11:G102))","v":47},{"$f":"\"säugende Sauen \"&\" \"&E103/10&\" \"&\"% RP\"","v":"säugende Sauen  17,5 % RP"},13.4,175,{"$f":"E103*0.85","v":148.75},{"$f":"H103/0.85","v":9.4588235294117631},{"$f":"D103*0.6","v":8.0399999999999991},{"$f":"G103*0.6","v":5.6752941176470575},{"$f":"H103*0.6","v":4.823999999999999},{"$f":"G103*0.65","v":6.1482352941176464},{"$f":"H103*0.65","v":5.226},{"$f":"G103*0.19","v":1.7971764705882349},{"$f":"H103*0.19","v":1.5275999999999998},{"$f":"7.5*D103/13","v":7.7307692307692308},{"$f":"5.5*D103/13","v":5.6692307692307695},{"$f":"3.3*D103/13","v":3.4015384615384616},{"$f":"D103*1/13","v":1.0307692307692309},{"$f":"2*D103/13","v":2.0615384615384618},1,{"$f":"ROUND(I103/$G103,2)","v":0.6},{"$f":"ROUND(K103/$G103,2)","v":0.65},{"$f":"ROUND(M103/$G103,2)","v":0.19},{"$f":"ROUND(G103/D103,2)","v":0.71},{"$f":"H103/D103","v":0.59999999999999987},{"$f":"ROUND(O103/P103,2)","v":1.36},{"$f":"ROUND(O103/Q103,2)","v":2.27},55.4,"≥ 45",2.9795294117647053,2.5325999999999995,5.4050420168067221,55,375,60,null,null,null,null,11000,1800,60,176,null,70,160,120,null,9.9160000000000004,1,0.25]
[]
["Jungsauen",null,"Jungsauen"]
[]
["Aufzuchtphase",{"$f":"IF(G107=\"\",\" \",COUNTA($G$11:G84))","v":" "},"Aufzuchtphase"]
["Jungsauen 30 - 40 kg LM für 600 g TZ",{"$f":"IF(G108=\"\",\" \",COUNTA($G$11:G107))","v":48},"Jungsauen 30 - 40 kg LM für 600 g TZ",13,{"$f":"170*D108/13","v":170},{"$f":"E108*0.88","v":149.6},{"$f":"H108/0.88","v":9.8977272727272734},{"$f":"D108*0.67","v":8.7100000000000009},{"$f":"G108*0.54","v":5.3447727272727281},{"$f":"H108*0.56","v":4.877600000000001},{"$f":"G108*0.63","v":6.2355681818181825},{"$f":"H108*0.65","v":5.6615000000000011},{"$f":"G108*0.18","v":1.7815909090909092},1.5678000000000001,{"$f":"8*D108/13","v":8},{"$f":"O108/1.33","v":6.0150375939849621},{"$f":"O108/2.65","v":3.0188679245283021},{"$f":"D108*1/13","v":1},{"$f":"2*D108/13","v":2},1,{"$f":"ROUND(I108/$G108,2)","v":0.54},{"$f":"ROUND(K108/$G108,2)","v":0.63},{"$f":"ROUND(M108/$G108,2)","v":0.18},{"$f":"ROUND(G108/D108,2)","v":0.76},{"$f":"H108/D108","v":0.67},{"$f":"ROUND(O108/P108,2)","v":1.33},{"$f":"ROUND(O108/Q108,2)","v":2.65},44,"37 - 50",{"$f":"I108*0.525","v":2.8060056818181822},2.5607400000000005,{"$f":"G108*100/E108","v":5.8221925133689849},null,null,null,null,null,null,null,6000,1500,60,null,null,70,120,null,{"$f":"$D108*0.74","v":9.6199999999999992},null,1,0.05]
["Jungsauen 40 - 70 kg LM für 680 g TZ",{"$f":"IF(G109=\"\",\" \",COUNTA($G$11:G108))","v":49},"Jungsauen 40 - 70 kg LM für 680 g TZ",12.6,{"$f":"160*D109/13","v":155.07692307692307},{"$f":"E109*0.87","v":134.91692307692307},{"$f":"H109/0.87","v":9.1965517241379313},{"$f":"D109*0.635","v":8.0009999999999994},{"$f":"G109*0.54","v":4.9661379310344831},4.4805600000000005,5.9777586206896558,5.2006499999999996,1.6553793103448275,1.4401799999999998,{"$f":"7*D109/13","v":6.7846153846153845},{"$f":"O109/1.28","v":5.3004807692307692},{"$f":"O109/2.55","v":2.6606334841628962},{"$f":"D109*1/13","v":0.96923076923076923},{"$f":"2*D109/13","v":1.9384615384615385},1,{"$f":"ROUND(I109/$G109,2)","v":0.54},{"$f":"ROUND(K109/$G109,2)","v":0.65},{"$f":"ROUND(M109/$G109,2)","v":0.18},{"$f":"ROUND(G109/D109,2)","v":0.73},{"$f":"H109/D109","v":0.63500000000000001},{"$f":"ROUND(O109/P109,2)","v":1.28},{"$f":"ROUND(O109/Q109,2)","v":2.5499999999999998},44,"38 - 50",2.6072224137931039,2.3522940000000006,{"$f":"G109*100/E109","v":5.9303160919540234},null,null,null,null,null,null,null,6000,1500,60,null,null,70,120,null,9.3239999999999998,null,1,0.05]
["Jungsauen 70 - 95 kg LM für 700 g TZ",{"$f":"IF(G110=\"\",\" \",COUNTA($G$11:G109))","v":50},"Jungsauen 70 - 95 kg LM für 700 g TZ",12.6,{"$f":"150*D110/13","v":145.38461538461539},{"$f":"E110*0.86","v":125.03076923076924},{"$f":"H110/0.86","v":8.2046511627906984},{"$f":"D110*0.56","v":7.056},4.5946046511627916,3.9513600000000002,5.3330232558139539,4.5864000000000003,1.4768372093023256,1.2700799999999999,{"$f":"6*D110/13","v":5.8153846153846152},{"$f":"O110/1.2","v":4.8461538461538458},{"$f":"O110/2.4","v":2.4230769230769229},{"$f":"D110*1/13","v":0.96923076923076923},{"$f":"2*D110/13","v":1.9384615384615385},1,{"$f":"ROUND(I110/$G110,2)","v":0.56000000000000005},{"$f":"ROUND(K110/$G110,2)","v":0.65},{"$f":"ROUND(M110/$G110,2)","v":0.18},{"$f":"ROUND(G110/D110,2)","v":0.65},{"$f":"H110/D110","v":0.56000000000000005},{"$f":"ROUND(O110/P110,2)","v":1.2},{"$f":"ROUND(O110/Q110,2)","v":2.4},45,"40 - 50",2.4121674418604657,2.0744640000000003,{"$f":"G110*100/E110","v":5.6434108527131794},null,null,null,null,null,null,null,6000,1500,60,null,null,70,120,null,9.3239999999999998,null,1,0.05]
[]
["Eingliederungsphase",{"$f":"IF(G112=\"\",\" \",COUNTA($G$11:G110))","v":" "},"Eingliederungsphase"]
[{"$f":"IF(C113=\"\",\"\",C113)","v":"Jungsauen 95 - 120 kg LM für 700 g TZ"},{"$f":"IF(G113=\"\",\" \",COUNTA($G$11:G112))","v":51},"Jungsauen 95 - 120 kg LM für 700 g TZ",13,{"$f":"140*D113/13","v":140},{"$f":"E113*0.8","v":112},{"$f":"H113/0.8","v":6.5},{"$f":"D113*0.4","v":5.2},{"$f":"G113*0.56","v":3.6400000000000006},{"$f":"H113*0.56","v":2.9120000000000004},{"$f":"G113*0.65","v":4.2250000000000005},{"$f":"H113*0.65","v":3.3800000000000003},{"$f":"G113*0.18","v":1.17},{"$f":"H113*0.18","v":0.93599999999999994},{"$f":"6*D113/13","v":6},{"$f":"O113/1.2","v":5},{"$f":"O113/2.4","v":2.5},{"$f":"D113*1/13","v":1},{"$f":"2*D113/13","v":2},1,{"$f":"ROUND(I113/$G113,2)","v":0.56000000000000005},{"$f":"ROUND(K113/$G113,2)","v":0.65},{"$f":"ROUND(M113/$G113,2)","v":0.18},{"$f":"ROUND(G113/D113,2)","v":0.5},{"$f":"H113/D113","v":0.4},{"$f":"ROUND(O113/P113,2)","v":1.2},{"$f":"ROUND(O113/Q113,2)","v":2.4},45,"40 - 80",{"$f":"I113*0.525","v":1.9110000000000005},{"$f":"J113*0.525","v":1.5288000000000002},{"$f":"G113*100/E113","v":4.6428571428571432},null,null,null,null,null,null,null,11000,1800,60,176,null,70,120,null,{"$f":"$D113*0.74","v":9.6199999999999992},null,1,0.05]
["Jungsauen 120 - 140 kg LM für 725 g TZ",{"$f":"IF(G114=\"\",\" \",COUNTA($G$11:G113))","v":52},"Jungsauen 120 - 140 kg LM für 725 g TZ",13,{"$f":"130*D114/13","v":130},{"$f":"E114*0.8","v":104},{"$f":"H114/0.8","v":5.7687499999999998},{"$f":"D114*0.355","v":4.6150000000000002},{"$f":"G114*0.56","v":3.2305000000000001},{"$f":"H114*0.56","v":2.5844000000000005},{"$f":"G114*0.65","v":3.7496874999999998},{"$f":"H114*0.65","v":2.9997500000000001},{"$f":"G114*0.18","v":1.0383749999999998},{"$f":"H114*0.18","v":0.83069999999999999},{"$f":"6*D114/13","v":6},{"$f":"O114/1.2","v":5},{"$f":"O114/2.4","v":2.5},{"$f":"D114*1/13","v":1},{"$f":"2*D114/13","v":2},1,{"$f":"ROUND(I114/$G114,2)","v":0.56000000000000005},{"$f":"ROUND(K114/$G114,2)","v":0.65},{"$f":"ROUND(M114/$G114,2)","v":0.18},{"$f":"ROUND(G114/D114,2)","v":0.44},{"$f":"H114/D114","v":0.35500000000000004},{"$f":"ROUND(O114/P114,2)","v":1.2},{"$f":"ROUND(O114/Q114,2)","v":2.4},45,"40 - 80",{"$f":"I114*0.525","v":1.6960125000000001},{"$f":"J114*0.525","v":1.3568100000000003},{"$f":"G114*100/E114","v":4.4375},null,null,null,null,null,null,null,11000,1800,60,176,null,70,120,null,9.6199999999999992,null,1,0.05]
[]
["Eber (Zucht)",null,"Eber (Zucht)"]
[]
["Aufzuchtphase Jungeber (Zucht)",{"$f":"IF(G118=\"\",\" \",COUNTA($G$11:G107))","v":" "},"Aufzuchtphase Jungeber (Zucht)"]
["Jungeber 28 - 60 kg LM für 700 g TZ (Zucht)",{"$f":"IF(G119=\"\",\" \",COUNTA($G$11:G118))","v":53},"Jungeber 28 - 60 kg LM für 700 g TZ (Zucht)",12.2,{"$f":"185*D119/12.2","v":185},{"$f":"E119*0.88","v":162.80000000000001},{"$f":"H119/0.88","v":9.773863636363636},{"$f":"D119*0.705","v":8.6009999999999991},{"$f":"G119*0.6","v":5.8643181818181818},{"$f":"H119*0.56","v":4.81656},{"$f":"G119*0.65","v":6.3530113636363632},5.5906499999999992,{"$f":"G119*0.18","v":1.7592954545454544},1.5481799999999999,{"$f":"6.8*D119/12.2","v":6.8},{"$f":"O119/1.28","v":5.3125},{"$f":"O119/2.33","v":2.9184549356223175},{"$f":"D119*1/12.2","v":1},{"$f":"2.35*D119/12.2","v":2.35},1,{"$f":"ROUND(I119/$G119,2)","v":0.6},{"$f":"ROUND(K119/$G119,2)","v":0.65},{"$f":"ROUND(M119/$G119,2)","v":0.18},{"$f":"ROUND(G119/D119,2)","v":0.8},{"$f":"H119/D119","v":0.70499999999999996},{"$f":"ROUND(O119/P119,2)","v":1.28},{"$f":"ROUND(O119/Q119,2)","v":2.33},50,"40 - 80",{"$f":"I119*0.525","v":3.0787670454545455},{"$f":"J119*0.525","v":2.5286940000000002},{"$f":"G119*100/E119","v":5.2831695331695334},null,null,null,null,18,10,null,6000,1500,60,null,null,70,120,null,{"$f":"$D119*0.74","v":9.0279999999999987},null,1,0.25]
["Jungeber 60 - 90 kg LM für 850 g TZ (Zucht)",{"$f":"IF(G120=\"\",\" \",COUNTA($G$11:G119))","v":54},"Jungeber 60 - 90 kg LM für 850 g TZ (Zucht)",12,{"$f":"180*D120/12","v":180},{"$f":"E120*0.87","v":156.6},{"$f":"H120/0.87","v":9.3793103448275872},{"$f":"D120*0.68","v":8.16},{"$f":"G120*0.6","v":5.6275862068965523},{"$f":"H120*0.56","v":4.5696000000000003},6.0965517241379317,5.3040000000000003,1.6882758620689657,1.4687999999999999,{"$f":"6.8*D120/12","v":6.8},{"$f":"O120/1.28","v":5.3125},{"$f":"O120/2.53","v":2.6877470355731226},{"$f":"D120*1/12","v":1},{"$f":"2.2*D120/12","v":2.2000000000000002},1,{"$f":"ROUND(I120/$G120,2)","v":0.6},{"$f":"ROUND(K120/$G120,2)","v":0.65},{"$f":"ROUND(M120/$G120,2)","v":0.18},{"$f":"ROUND(G120/D120,2)","v":0.78},{"$f":"H120/D120","v":0.68},{"$f":"ROUND(O120/P120,2)","v":1.28},{"$f":"ROUND(O120/Q120,2)","v":2.5299999999999998},60,"40 - 80",2.9544827586206899,2.3990400000000003,5.2107279693486594,null,null,null,null,18,10,null,6000,1500,60,null,null,70,120,null,8.879999999999999,null,1,0.25]
["Jungeber 90 - 120 kg LM für 750 g TZ (Zucht)",{"$f":"IF(G121=\"\",\" \",COUNTA($G$11:G120))","v":55},"Jungeber 90 - 120 kg LM für 750 g TZ (Zucht)",11.6,{"$f":"175*D121/11.6","v":175},{"$f":"E121*0.85","v":148.75},{"$f":"H121/0.85","v":8.8432941176470585},{"$f":"D121*0.648","v":7.5167999999999999},5.3059764705882353,{"$f":"H121*0.56","v":4.2094080000000007},5.7481411764705879,4.8859200000000005,1.5917929411764704,1.353024,{"$f":"6*D121/11.6","v":6},{"$f":"O121/1.27","v":4.7244094488188972},{"$f":"O121/2.7","v":2.2222222222222219},{"$f":"D121*1/11.6","v":1},{"$f":"2.1*D121/11.6","v":2.1},1,{"$f":"ROUND(I121/$G121,2)","v":0.6},{"$f":"ROUND(K121/$G121,2)","v":0.65},{"$f":"ROUND(M121/$G121,2)","v":0.18},{"$f":"ROUND(G121/D121,2)","v":0.76},{"$f":"H121/D121","v":0.64800000000000002},{"$f":"ROUND(O121/P121,2)","v":1.27},{"$f":"ROUND(O121/Q121,2)","v":2.7},70,"40 - 80",2.7856376470588238,2.2099392000000004,5.0533109243697476,null,null,null,null,18,10,null,6000,1500,60,null,null,70,160,null,8.5839999999999996,null,1,0.25]
[]
["Zuchteber",{"$f":"IF(G123=\"\",\" \",COUNTA($G$11:G121))","v":" "},"Zuchteber"]
["Zuchteber 120 - 180 kg LM für 400 g TZ",{"$f":"IF(G124=\"\",\" \",COUNTA($G$11:G123))","v":56},"Zuchteber 120 - 180 kg LM für 400 g TZ",11.6,{"$f":"160*D124/11.6","v":160},{"$f":"E124*0.85","v":136},{"$f":"H124/0.85","v":8.1882352941176464},{"$f":"D124*0.6","v":6.96},{"$f":"G124*0.7","v":5.7317647058823518},{"$f":"H124*0.56","v":3.8976000000000002},{"$f":"G124*0.65","v":5.3223529411764705},{"$f":"H124*0.65","v":4.524},{"$f":"G124*0.18","v":1.4738823529411762},{"$f":"H124*0.18","v":1.2527999999999999},{"$f":"7.2*D124/11.6","v":7.2},{"$f":"O124/1.27","v":5.6692913385826769},{"$f":"O124/2.75","v":2.6181818181818182},{"$f":"D124*1/11.6","v":1},{"$f":"1.9*D124/11.6","v":1.9},1,{"$f":"ROUND(I124/$G124,2)","v":0.7},{"$f":"ROUND(K124/$G124,2)","v":0.65},{"$f":"ROUND(M124/$G124,2)","v":0.18},{"$f":"ROUND(G124/D124,2)","v":0.71},{"$f":"H124/D124","v":0.6},{"$f":"ROUND(O124/P124,2)","v":1.27},{"$f":"ROUND(O124/Q124,2)","v":2.75},80,"≥ 70",3.0091764705882347,2.0462400000000001,5.117647058823529,null,null,null,null,18,10,null,15000,1500,60,null,null,80,200,null,{"$f":"$D124*0.74","v":8.5839999999999996},null,1,0.25]
["Zuchteber über 180 kg LM für 200 g TZ",{"$f":"IF(G125=\"\",\" \",COUNTA($G$11:G124))","v":57},"Zuchteber über 180 kg LM für 200 g TZ",11.4,{"$f":"150*D125/11.4","v":150},{"$f":"E125*0.85","v":127.5},{"$f":"H125/0.85","v":7.1752941176470593},{"$f":"D125*0.535","v":6.0990000000000002},{"$f":"G125*0.7","v":5.0227058823529411},{"$f":"H125*0.56","v":3.4154400000000003},{"$f":"G125*0.65","v":4.6639411764705887},{"$f":"H125*0.65","v":3.9643500000000005},{"$f":"G125*0.18","v":1.2915529411764706},{"$f":"H125*0.18","v":1.09782},{"$f":"7*D125/11.4","v":6.9999999999999991},{"$f":"O125/1.27","v":5.5118110236220463},{"$f":"O125/2.75","v":2.545454545454545},{"$f":"D125*1/11.4","v":1},{"$f":"1.9*D125/11.4","v":1.9},1,{"$f":"ROUND(I125/$G125,2)","v":0.7},{"$f":"ROUND(K125/$G125,2)","v":0.65},{"$f":"ROUND(M125/$G125,2)","v":0.18},{"$f":"ROUND(G125/D125,2)","v":0.63},{"$f":"H125/D125","v":0.53500000000000003},{"$f":"ROUND(O125/P125,2)","v":1.27},{"$f":"ROUND(O125/Q125,2)","v":2.75},80,"≥ 70",2.6369205882352942,1.7931060000000003,4.7835294117647065,null,null,null,null,18,10,null,15000,1500,60,null,null,80,200,null,8.4359999999999999,null,1,0.25]
[""]
[null,"*","mittlere tägliche Zunahme im Abschnitt von 28 bis 120 kg Lebendmasse"]
[null,"**","davon mindestens 50 % Methionin"]
[null,"***","bei Fütterungsstrategien zur Vorbeugung von Durchfällen sind für einen begrenzten Zeitraum neben anderen Fütterungsmaßnahmen geringere Gehalte ratsam."]
[null,"****","bei tragenden Sauen muss nach der Tierschutz-Nutztierhaltungsverordnung mindestens 8 % Rohfaser  in der Trockenmasse enthalten sein (7,04 % in 88% TM) oder es ist so zu füttern, dass mindestens 200 g Rohfaser je Tier und Tag aufgenommen werden."]

{"sheet":"Höchstgehalte","index":17,"n_rows":66,"n_cols":21,"rows_kept":66,"cut":false,"hidden":false,"merged":[[42,13,42,14],[42,16,42,17],[42,19,42,20],[3,0,3,20],[4,0,4,21],[8,2,8,4],[8,5,8,6],[8,8,8,9],[8,13,8,15],[8,16,8,17],[8,19,8,20],[9,3,9,4],[9,14,9,15],[41,13,41,14],[41,16,41,17],[41,19,41,20],[48,16,48,17],[50,12,50,20],[51,12,51,20],[52,12,52,20],[43,13,43,14],[43,16,43,17],[43,19,43,20],[44,13,44,14],[44,16,44,17],[44,19,44,20]]}
[]
[]
[]
["Empfohlene Höchstanteile verschiedener Einzelfuttermittel in Alleinfutter"]
["für Schweine in % bezogen auf lufttrockenes Futter bzw. 880 g TM"]
[]
[]
[]
[null,"Futtermittel","Ferkel",null,null,"Zucht",null,null,"Mast",null,null,null,"Futtermittel","Ferkel",null,null,"Zucht",null,null,"Mast"]
[null,null,"< 15 kg","> 15 kg",null,"tr. ","säug.",null,"AM","EM",null,null,null,"< 15 kg","> 15 kg",null,"tr. ","säug.",null,"AM","EM"]
[]
[]
[null,"Trockenfutter:",null,null,null,null,null,null,null,null,null,null,"Feucht-, Fließfutter:"]
[]
[null,"Ackerbohnen","-","5",null,"8","15",null,"15","25",null,null,"CCM",10,10,null,20,50,null,50,50]
[null,"Backabfälle, Brot",10,10,null,20,30,null,50,50,null,null,"Maiskornsilage",30,30,null,20,50,null,50,50]
[null,"Bierhefe getrocknet","3-5","3-5",null,"10","10",null,"5-10","10-15",null,null,"Maiskolbenschrot",5,5,null,30,15,null,30,30]
[null,"Biertreber",5,5,null,40,10,null,10,10,null,null,"Lieschkolbenschrot",5,5,null,30,10,null,20,20]
[null,"Erbsen 1)","10","20",null,"8","20",null,"20","25",null,null,"Kartoffel, gedämpft","-","-",null,20,30,null,40,40]
[null,"Fischmehl","5","8",null,"5","10",null,"5-10","5-10",null,null,"Kartoffel, roh","-","-",null,20,20,null,15,15]
[null,"Futterzucker",5,5,null,5,10,null,20,20,null,null,"Kartoffelschalen, ged.","-","-",null,20,10,null,25,25]
[null,"Gerste","25","25",null,"o. B.","o. B.",null,"o. B.","o. B.",null,null,"Kartoffelschalen, roh","-","-",null,20,10,null,15,15]
[null,"Glycerin","5","5",null,"5","5",null,"5","5",null,null,"Kartoffelpreßpülpe","-","-",null,10,5,null,10,10]
[null,"Grascobs",4,4,null,25,5,null,5,5,null,null,"Melasse",5,5,null,10,5,null,15,15]
[null,"Hafer","5-10","5-10",null,"o. B.",10,null,"10","10",null,null,"Milchzuckermelasse",5,5,null,15,15,null,15,15]
[null,"Hirse - Sorghum","0","10",null,"20","15",null,"25","30",null,null,"Naß-/Preßschnitzel",5,5,null,10,5,null,10,10]
[null,"Kartoffeleiweiß",10,10,null,3,10,null,10,10,null,null,"Mager-/Buttermilch",20,20,null,20,30,null,20,20]
[null,"Leinkuchen","3",5,null,10,10,null,5,5,null,null,"Molke, 5,6 % TM",10,10,null,50,30,null,20,20]
[null,"Leinsamen","3",5,null,10,10,null,3,3,null,null,"Molke, 12 % TM",10,10,null,50,30,null,30,30]
[null,"Leinschrot",5,5,null,10,10,null,10,10,null,null,"Permeatmolke",5,5,null,50,30,null,20,20]
[null,"Luzernecobs",4,4,null,"10-15","2-5",null,"2-5","2-5",null,null,"Vollmilch",20,20,null,20,25,null,25,25]
[null,"Maiskleber",4,4,null,10,5,null,10,"5",null,null,"Schlempen","-","-",null,20,10,null,20,20]
[null,"Maiskörner","50","50",null,20,"40",null,"45","60",null,null,"Zuckerrüben frisch","-","-",null,20,30,null,30,30]
[null,"Malzkeime",2,2,null,"10-15","3-5",null,"3-5","3-5"]
[null,"Melasseschnitzel",5,5,null,20,5,null,10,10]
[null,"Molkepulver","20","20",null,10,20,null,20,20]
[null,"Rapskuchen 3)","5-10","5-10",null,"5-10","5-10",null,"7-10","7-10"]
[null,"Rapsöl 2)","2","2-3",null,"2","3",null,"2-3","2-3"]
[null,"Rapssamen 2)",5,5,null,"5","10",null,8,8,null,null,"Aminosäuren in Mineralfuttern:"]
[null,"Rapsschrot 3)","2-5","5-10",null,"6-10","10",null,"5-10","10-15",null,null,"Marktübliche Höchstgehalte bezogen auf 96 % TM"]
[null,"Roggen","-",10,null,"20","30",null,"40","50"]
[null,"Roggenkleie","-",5,null,20,10,null,10,10,null,null,"L-Lysin-HCL","6 - 10",null,null,"4 - 7,7",null,null,"4 - 12 4)"]
[null,"Sonnenblumenkuchen","3","3",null,"5",3,null,"5","5",null,null,"DL-Methionin","1,5 - 3,8",null,null,"1 - 3,5",null,null,"1 - 2,5"]
[null,"Sojabohnenschalen","0","0",null,"15","5",null,"0","0",null,null,"L-Threonin","2 - 4,5",null,null,"0 - 3,5",null,null,"1 - 4"]
[null,"Sojabohne Vollfett","10","15",null,"5","20",null,"15","10",null,null,"Tryptophan","0 - 0,5",null,null,"-",null,null,"-"]
[null,"Sojakuchen ","20","20",null,"6","20",null,"15","15"]
[null,"Sojaöl 2)","2","3",null,"2","3",null,"1-1,5","1-1,5"]
[null,"Sojaschrot & HP-S.","20","25",null,"15","25",null,"30","25"]
[null,"Sonnenblumen","-","-",null,10,5,null,5,5]
[null,"Sonnenblumenschrot","2-5","2-5",null,"10-15","5-10",null,"5-10","5-10"]
[null,"Süßlupine blau","-","5",null,"8","10",null,"15","20",null,null,"Quelle: 2009 sowie 2016/2018 aktuelle UFOP-Praxisinformationen,"]
[null,"Süßlupine gelb","-","5",null,"20-25","20-25",null,"15-20","15-20",null,null,"futtermittelspezifische Restriktionen vom AK \"Futter und Fütterung im "]
[null,"Süßlupine weiß","-","5",null,"20-25","20-25",null,"10-15","15-20",null,null,"Freistaat Sachsen\" und LfL-Informationen 2007 (teilweise geändert)"]
[null,"Triticale","20","30",null,"20","30",null,"35",50]
[null,"Trockenschlempe","-","-",null,"4","8",null,"10","15"]
[null,"Trockenschnitzel","0",5,null,"20","5",null,"5",10]
[null,"Weizen","45","60",null,"20","50",null,"60","50"]
[null,"Weizenfuttermehl",10,"15",null,"10",20,null,"30","15"]
[null,"Weizenkleie",5,5,null,20,10,null,10,10]
[]
[]
[null,"o. B. = ohne Beschränkungen "]
[null,"1) bei mehr als 25 % in der Trockenfuttermischung kann durch starke Quellung der Futterbrei nicht mehr pumpfähig sein!"]
[null,"2) bei maisfreien Mischungen sowie alternativ"]
[null,"3) wenn der Glucosinolatgehalt unbekannt ist, sollte sich die Dosierung eher an der unteren Grenze bewegen "]
[null,"4) 12 % i.d.R nur bei RAM-Fütterung"]

{"sheet":"Futterkurve Mast","index":18,"n_rows":134,"n_cols":25,"rows_kept":134,"cut":false,"hidden":false,"merged":[[57,24,59,24],[74,24,75,24],[79,24,81,24],[122,1,122,23],[124,24,125,24],[110,24,111,24],[115,24,117,24],[63,24,64,24],[68,24,70,24],[129,24,131,24],[86,1,86,23],[3,1,3,23],[10,24,11,24],[17,24,19,24],[23,24,24,24],[8,1,8,23],[50,1,50,23],[93,24,95,24],[30,24,32,24],[36,24,37,24],[43,24,45,24],[52,24,53,24],[88,24,89,24],[99,24,100,24],[104,24,106,24]]}
[]
[]
[]
[null,"Futterkurven für Mastschweine nach GFE 2006, DLG 2010 und Rechenmeister 2010 + 2014"]
[]
[null,null,null,null,"MJ ME VM         ab 30 kg",null,"MJ ME AM            ab 40 kg",null,null,null,"MJ ME MM          ab 60 kg",null,"MJ ME MM                  ab 70 kg",null,null,null,"MJ ME EM              ab 90 kg"]
[null,null,null,null,13.4,null,13.2,null,null,null,13,null,13,null,null,null,13]
[null,null,null,null,"Norm 13,4",null,"Norm 13,4",null,null,null,"Norm 13,4",null,"Norm 13,0",null,null,null,"Norm 13,0"]
[null,{"$f":"IF($T$6=\"HP\",\"Mast beider Geschlechter mit hohem Proteinansatz & für die Jungebermast geeignet\",\"Mast beider Geschlechter\")","v":"Mast beider Geschlechter"}]
[null,null,null,null,null,null,null,null,null,{"$f":"B9","v":"Mast beider Geschlechter"}]
[null,"Gewicht","kg",25,30,35,40,45,50,55,60,65,70,75,80,85,90,95,100,105,110,115,120,125,"Masttage von 30 bis 120 kg"]
[null,"TZ",{"$f":"ROUND(AVERAGE(E12:W12),-1)","v":750},617,660,697,730,758,781,799,812,820,823,821,814,802,785,762,735,703,666,624,577,525]
[null,"Tage + 5 kg","d",{"$f":"5/D12*1000","v":8.1037277147487838},{"$f":"5/E12*1000","v":7.5757575757575761},7.1736011477761839,6.8493150684931505,6.5963060686015833,6.4020486555697822,6.2578222778473087,6.1576354679802963,6.0975609756097562,6.0753341433778862,6.0901339829476244,6.142506142506142,6.2344139650872821,6.369426751592357,6.5616797900262469,6.8027210884353737,7.1123755334281649,7.5075075075075075,8.0128205128205128,8.6655112651646444,9.5238095238095255,{"$f":"ROUND(SUM(E13:V13),0)","v":120}]
[null,"ME ","MJ/Tag",16,17.899999999999999,19.7,21.5,23.1,24.6,26,27.3,28.4,{"$f":"IF($T$6=\"HP\",M27-3,29.4)","v":29.4},{"$f":"IF($T$6=\"HP\",N27-3,30.3)","v":30.3},{"$f":"IF($T$6=\"HP\",O27-2,31.1)","v":31.1},{"$f":"IF($T$6=\"HP\",P27-2,31.7)","v":31.7},{"$f":"IF($T$6=\"HP\",Q27-2,32.1)","v":32.1},{"$f":"IF($T$6=\"HP\",R27-2,32.3)","v":32.299999999999997},{"$f":"IF($T$6=\"HP\",S27-2,32.4)","v":32.4},{"$f":"IF($T$6=\"HP\",T27-2,32.6)","v":32.6},{"$f":"IF($T$6=\"HP\",U27-2,32.5)","v":32.5},{"$f":"IF($T$6=\"HP\",V27-2,32.3)","v":32.299999999999997},{"$f":"IF($T$6=\"HP\",W27-2,31.9)","v":31.9},{"$f":"IF($T$6=\"HP\",X27-2,31.3)","v":31.3}]
[null,"pcv Lysin","g/Tag",{"$f":"IF($T$6=\"HP\",D28-2,12.3)","v":12.3},{"$f":"IF($T$6=\"HP\",E28-2,13.15)","v":13.15},{"$f":"IF($T$6=\"HP\",F28-2,13.6)","v":13.6},{"$f":"IF($T$6=\"HP\",G28-2,14.15)","v":14.15},{"$f":"IF($T$6=\"HP\",H28-2,14.65)","v":14.65},{"$f":"IF($T$6=\"HP\",I28-2,15.1)","v":15.1},{"$f":"IF($T$6=\"HP\",J28-2,15.35)","v":15.35},{"$f":"IF($T$6=\"HP\",K28-2,15.5)","v":15.5},{"$f":"IF($T$6=\"HP\",L28-2,15.7)","v":15.7},{"$f":"IF($T$6=\"HP\",M28-2,15.945)","v":15.945},{"$f":"IF($T$6=\"HP\",N28-2,16.2)","v":16.2},{"$f":"IF($T$6=\"HP\",O28-2,16.5)","v":16.5},{"$f":"IF($T$6=\"HP\",P28-2,16.6)","v":16.600000000000001},{"$f":"IF($T$6=\"HP\",Q28-2,16.67)","v":16.670000000000002},{"$f":"IF($T$6=\"HP\",R28-2,16.75)","v":16.75},{"$f":"IF($T$6=\"HP\",S28-2,16.75)","v":16.75},{"$f":"IF($T$6=\"HP\",T28-2,16.9)","v":16.899999999999999},{"$f":"IF($T$6=\"HP\",U28-2,16.85)","v":16.850000000000001},{"$f":"IF($T$6=\"HP\",V28-2,15.2)","v":15.2},{"$f":"IF($T$6=\"HP\",W28-2,14)","v":14},{"$f":"IF($T$6=\"HP\",X28-2,12.8)","v":12.8}]
[null,"ME ","MJ/kg Futter",{"$f":"$E$7","v":13.4},{"$f":"$E$7","v":13.4},{"$f":"$E$7","v":13.4},{"$f":"$G$7","v":13.2},{"$f":"$G$7","v":13.2},{"$f":"$G$7","v":13.2},{"$f":"$G$7","v":13.2},{"$f":"$K$7","v":13},{"$f":"$K$7","v":13},{"$f":"$M$7","v":13},{"$f":"$M$7","v":13},{"$f":"$M$7","v":13},{"$f":"$M$7","v":13},{"$f":"$Q$7","v":13},{"$f":"$Q$7","v":13},13,13,13,13,13,13]
[null,"verdaulicher Phosphor","g/Tag",3.5,3.8,4,4.25,4.4000000000000004,4.5999999999999996,4.7,4.87,4.93,5.0999999999999996,5.3,4.9800000000000004,4.92,4.8250000000000002,4.7,4.5750000000000002,4.4249999999999998,4.3,4.0999999999999996,4,3.7250000000000001]
[null,"Futter","kg/Tag",{"$f":"D14/D16","v":1.1940298507462686},1.3358208955223878,1.4701492537313432,1.6287878787878789,1.7500000000000002,1.8636363636363638,1.9696969696969697,2.1,2.1846153846153844,2.2615384615384615,2.3307692307692309,2.3923076923076922,2.4384615384615382,2.4692307692307693,2.4846153846153842,2.4923076923076923,2.5076923076923077,2.5,2.4846153846153842,2.4538461538461536,2.4076923076923076,"Ø bzw. Summe von 30 bis 120 kg"]
[null,"verdaulicher Phosphor","g/kg",{"$f":"D17/D18","v":2.9312500000000004},{"$f":"E17/E18","v":2.8446927374301678},2.7208121827411169,2.6093023255813952,2.5142857142857142,2.4682926829268288,2.3861538461538463,2.3190476190476188,2.2566901408450706,2.2551020408163263,2.2739273927392736,2.0816720257234729,2.0176656151419561,1.9540498442367602,1.8916408668730653,1.8356481481481481,1.7645705521472392,1.72,1.6501547987616101,1.6300940438871476,1.5471246006389778]
[null,"pcv Lysin","g/kg",{"$f":"D15/D18","v":10.301250000000001},{"$f":"E15/E18","v":9.8441340782122921},9.2507614213197975,8.6874418604651158,8.3714285714285701,8.1024390243902431,7.7930769230769226,7.3809523809523805,7.1866197183098599,7.0505102040816325,6.9504950495049496,6.897106109324759,6.8075709779179823,6.7510903426791282,6.7414860681114561,6.7206790123456788,6.7392638036809807,6.74,6.1176470588235299,5.7053291536050166,5.3162939297124607]
[null,"Futterverwertung","kg Futter/kg Zuwachs",{"$f":"D18/(D12/1000)","v":1.9352185587459783},{"$f":"E18/(E12/1000)","v":2.0239710538217994},2.109252874793893,2.2312162723121629,2.3087071240105543,2.386218135257828,2.4652027155156064,2.5862068965517242,2.6641651031894935,2.7479203663893821,2.8389393797432776,2.938952938952939,3.0404757337425661,3.1455169034786867,3.2606501110438111,3.390894819466248,3.5671298829193567,3.7537537537537538,3.9817554240631159,4.2527662978269563,4.5860805860805858,{"$f":"Y22/90","v":2.8578294160559001}]
[null,"ges. Futterverbrauch","kg/Abschnitt",{"$f":"D18*5/(D12/1000)","v":9.6760927937298913},{"$f":"E18*5/(E12/1000)","v":10.119855269108998},10.546264373969464,11.156081361560815,11.543535620052772,11.93109067628914,12.326013577578031,12.931034482758619,13.320825515947465,13.73960183194691,14.194696898716389,14.694764694764697,15.202378668712832,15.727584517393435,16.303250555219059,16.954474097331239,17.835649414596784,18.768768768768769,19.90877712031558,21.26383148913478,22.930402930402931,{"$f":"SUM(E22:V22)","v":257.20464744503101}]
[]
[null,"Gewicht","kg",25,30,35,40,45,50,55,60,65,70,75,80,85,90,95,100,105,110,115,120,125,"Masttage von 30 bis 120 kg"]
[null,"TZ",{"$f":"ROUND(AVERAGE(E25:W25),-1)","v":850},717,760,797,830,858,881,899,912,920,923,921,914,902,885,862,835,803,766,724,677,625]
[null,null,"d",{"$f":"5/D25*1000","v":6.9735006973500697},6.5789473684210522,6.2735257214554583,6.024096385542169,5.8275058275058278,5.6753688989784337,5.5617352614015578,5.4824561403508767,5.4347826086956523,5.4171180931744312,5.4288816503800215,5.4704595185995624,5.5432372505543244,5.6497175141242941,5.8004640371229694,5.9880239520958085,6.2266500622665006,6.5274151436031325,6.9060773480662982,7.385524372230428,8,{"$f":"ROUND(SUM(E26:V26),0)","v":106}]
[null,"ME ","MJ/Tag",17.5,19.600000000000001,21.5,23.2,24.9,26.5,27.9,29.3,30.5,{"$f":"IF($T$6=\"HP\",31.46,31.6)","v":31.6},{"$f":"IF($T$6=\"HP\",31.42,32.5)","v":32.5},{"$f":"IF($T$6=\"HP\",32.28,33.3)","v":33.299999999999997},{"$f":"IF($T$6=\"HP\",33,34)","v":34},{"$f":"IF($T$6=\"HP\",32.7,34.5)","v":34.5},{"$f":"IF($T$6=\"HP\",32.2,34.8)","v":34.799999999999997},{"$f":"IF($T$6=\"HP\",32.7,35)","v":35},{"$f":"IF($T$6=\"HP\",32,35.1)","v":35.1},{"$f":"IF($T$6=\"HP\",31.32,35.2)","v":35.200000000000003},{"$f":"IF($T$6=\"HP\",30.54,35)","v":35},{"$f":"IF($T$6=\"HP\",30.54,34.7)","v":34.700000000000003},{"$f":"IF($T$6=\"HP\",29.5,34.1)","v":34.1}]
[null,"pcv Lysin","g/Tag",{"$f":"IF($T$6=\"HP\",14.7-0.4,14.1)","v":14.1},{"$f":"IF($T$6=\"HP\",15.7-0.4,14.9)","v":14.9},{"$f":"IF($T$6=\"HP\",16.4-0.4,15.4)","v":15.4},{"$f":"IF($T$6=\"HP\",17-0.45,15.7)","v":15.7},{"$f":"IF($T$6=\"HP\",17.2-0.45,16.2)","v":16.2},{"$f":"IF($T$6=\"HP\",18.2-0.55,16.85)","v":16.850000000000001},{"$f":"IF($T$6=\"HP\",18.6-0.55,17.1)","v":17.100000000000001},{"$f":"IF($T$6=\"HP\",18.8-0.55,17.25)","v":17.25},{"$f":"IF($T$6=\"HP\",19.1-0.55,17.6)","v":17.600000000000001},{"$f":"IF($T$6=\"HP\",19.2-0.55,17.7)","v":17.7},{"$f":"IF($T$6=\"HP\",19.2-0.55,17.9)","v":17.899999999999999},{"$f":"IF($T$6=\"HP\",19.2-0.55,18.15)","v":18.149999999999999},{"$f":"IF($T$6=\"HP\",18.9-0.55,18.2)","v":18.2},{"$f":"IF($T$6=\"HP\",18.7-0.55,18.2)","v":18.2},{"$f":"IF($T$6=\"HP\",18.2-0.55,18.4)","v":18.399999999999999},{"$f":"IF($T$6=\"HP\",17.8-0.5,18.5)","v":18.5},{"$f":"IF($T$6=\"HP\",17.1-0.5,18.5)","v":18.5},{"$f":"IF($T$6=\"HP\",16.5-0.5,18.6)","v":18.600000000000001},{"$f":"IF($T$6=\"HP\",15.7-0.5,17.5)","v":17.5},{"$f":"IF($T$6=\"HP\",14.8-0.5,16.25)","v":16.25},{"$f":"IF($T$6=\"HP\",13.8-0.5,15.3)","v":15.3}]
[null,"ME ","MJ/kg Futter",{"$f":"$E$7","v":13.4},{"$f":"$E$7","v":13.4},{"$f":"$E$7","v":13.4},{"$f":"$G$7","v":13.2},{"$f":"$G$7","v":13.2},{"$f":"$G$7","v":13.2},{"$f":"$G$7","v":13.2},{"$f":"$K$7","v":13},{"$f":"$K$7","v":13},{"$f":"$M$7","v":13},{"$f":"$M$7","v":13},{"$f":"$M$7","v":13},{"$f":"$M$7","v":13},{"$f":"$Q$7","v":13},{"$f":"$Q$7","v":13},13,13,13,13,13,13]
[null,"verdaulicher Phosphor","g/Tag",4.0999999999999996,4.375,4.5,4.75,4.875,5.15,5.3,5.45,5.5,5.6,5.5,5.5250000000000004,5.5,5.4,5.27,5.0999999999999996,4.9000000000000004,4.78,4.5999999999999996,4.4749999999999996,4.2]
[null,"Futter","kg/Tag",{"$f":"D27/D29","v":1.3059701492537312},1.4626865671641791,1.6044776119402984,1.7575757575757576,1.8863636363636365,2.0075757575757578,2.1136363636363638,2.2538461538461538,2.3461538461538463,2.430769230769231,2.5,2.5615384615384613,2.6153846153846154,2.6538461538461537,2.6769230769230767,2.6923076923076925,2.7,2.7076923076923078,2.6923076923076925,2.6692307692307695,2.6230769230769231,"Ø bzw. Summe von 30 bis 120 kg"]
[null,"verdaulicher Phosphor","g/kg",{"$f":"D30/D31","v":3.1394285714285712},2.9910714285714284,2.804651162790698,2.7025862068965516,2.5843373493975901,2.5652830188679245,2.5075268817204299,2.4180887372013653,2.3442622950819669,2.3037974683544302,2.2000000000000002,2.1569069069069071,2.1029411764705883,2.0347826086956524,1.9686781609195403,1.8942857142857139,1.8148148148148149,1.7653409090909091,1.7085714285714284,1.6765129682997115,1.6011730205278594]
[null,"pcv Lysin","g/kg",{"$f":"D28/D31","v":10.796571428571429},{"$f":"E28/E31","v":10.18673469387755},9.5981395348837228,8.9327586206896541,8.5879518072289152,8.393207547169812,8.0903225806451609,7.6535836177474401,7.5016393442622951,7.2816455696202524,7.1599999999999993,7.0855855855855854,6.958823529411764,6.8579710144927537,6.8735632183908049,6.871428571428571,6.8518518518518512,6.8693181818181817,6.4999999999999991,6.0878962536023051,5.8328445747800588]
[null,"Futterverwertung","kg Futter/kg Zuwachs",{"$f":"D31/(D25/1000)","v":1.821436749307854},{"$f":"E31/(E25/1000)","v":1.9245875883739199},2.0131463136013781,2.1175611537057319,2.1985590167408349,2.2787466033777046,2.3510971786833856,2.4713225371120107,2.5501672240802677,2.633552796066339,2.7144408251900107,2.8025584918363911,2.8995394849053384,2.9986962190352018,3.1054792075673743,3.2243205895900511,3.3623910336239105,3.5348463546896967,3.7186570335741611,3.9427337802522442,4.1969230769230768,{"$f":"Y35/90","v":2.7166483139863176}]
[null,"ges. Futterverbrauch","kg/Abschnitt",{"$f":"D31*5/(D25/1000)","v":9.1071837465392704},{"$f":"E31*5/(E25/1000)","v":9.6229379418695995},10.065731568006889,10.587805768528661,10.992795083704175,11.393733016888524,11.755485893416928,12.356612685560055,12.750836120401338,13.167763980331696,13.572204125950053,14.012792459181954,14.497697424526692,14.993481095176008,15.527396037836871,16.121602947950258,16.81195516811955,17.674231773448486,18.593285167870807,19.713668901261219,20.984615384615385,{"$f":"SUM(E35:V35)","v":244.49834825876857}]
[]
[null,"Gewicht","kg",25,30,35,40,45,50,55,60,65,70,75,80,85,90,95,100,105,110,115,120,125,"Masttage von 30 bis 120 kg"]
[null,"TZ",{"$f":"ROUND(AVERAGE(E38:W38),-1)","v":950},817,860,897,930,958,981,999,1012,1020,1023,1021,1014,1002,985,962,935,903,866,824,777,725]
[null,null,"d",{"$f":"5/D38*1000","v":6.119951040391677},5.8139534883720927,5.574136008918618,5.3763440860215059,5.2192066805845512,5.0968399592252807,5.005005005005005,4.9407114624505928,4.9019607843137258,4.8875855327468232,4.8971596474045054,4.9309664694280082,4.9900199600798407,5.0761421319796947,5.1975051975051976,5.3475935828877006,5.5370985603543748,5.7736720554272516,6.0679611650485432,6.4350064350064349,6.8965517241379306,{"$f":"ROUND(SUM(E39:V39),0)","v":95}]
[null,"ME ","MJ/Tag",19.100000000000001,21.2,23.2,25,26.7,28.4,29.9,31.3,32.6,{"$f":"IF($T$6=\"HP\",M27+3,33.7)","v":33.700000000000003},{"$f":"IF($T$6=\"HP\",N27+3,34.7)","v":34.700000000000003},{"$f":"IF($T$6=\"HP\",O27+2,35.6)","v":35.6},{"$f":"IF($T$6=\"HP\",P27+2,36.3)","v":36.299999999999997},{"$f":"IF($T$6=\"HP\",Q27+2,36.9)","v":36.9},{"$f":"IF($T$6=\"HP\",R27+2,37.2)","v":37.200000000000003},{"$f":"IF($T$6=\"HP\",S27+2,37.4)","v":37.4},{"$f":"IF($T$6=\"HP\",T27+2,37.7)","v":37.700000000000003},{"$f":"IF($T$6=\"HP\",U27+2,37.8)","v":37.799999999999997},{"$f":"IF($T$6=\"HP\",V27+2,37.7)","v":37.700000000000003},{"$f":"IF($T$6=\"HP\",W27+2,37.4)","v":37.4},{"$f":"IF($T$6=\"HP\",X27+2,36.9)","v":36.9}]
[null,"pcv Lysin","g/Tag",{"$f":"IF($T$6=\"HP\",D28+2,16)","v":16},{"$f":"IF($T$6=\"HP\",E28+2,16.6)","v":16.600000000000001},{"$f":"IF($T$6=\"HP\",F28+2,17.1)","v":17.100000000000001},{"$f":"IF($T$6=\"HP\",G28+2,17.3)","v":17.3},{"$f":"IF($T$6=\"HP\",H28+2,18)","v":18},{"$f":"IF($T$6=\"HP\",I28+2,18.7)","v":18.7},{"$f":"IF($T$6=\"HP\",J28+2,18.8)","v":18.8},{"$f":"IF($T$6=\"HP\",K28+2,18.95)","v":18.95},{"$f":"IF($T$6=\"HP\",L28+2,19)","v":19},{"$f":"IF($T$6=\"HP\",M28+2,19.1)","v":19.100000000000001},{"$f":"IF($T$6=\"HP\",N28+2,19.65)","v":19.649999999999999},{"$f":"IF($T$6=\"HP\",O28+2,19.9)","v":19.899999999999999},{"$f":"IF($T$6=\"HP\",P28+2,19.95)","v":19.95},{"$f":"IF($T$6=\"HP\",Q28+2,20.05)","v":20.05},{"$f":"IF($T$6=\"HP\",R28+2,20.2)","v":20.2},{"$f":"IF($T$6=\"HP\",S28+2,20.4)","v":20.399999999999999},{"$f":"IF($T$6=\"HP\",T28+2,20.6)","v":20.6},{"$f":"IF($T$6=\"HP\",U28+2,20.7)","v":20.7},{"$f":"IF($T$6=\"HP\",V28+2,20)","v":20},{"$f":"IF($T$6=\"HP\",W28+2,18.75)","v":18.75},{"$f":"IF($T$6=\"HP\",X28+2,18)","v":18}]
[null,"ME ","MJ/kg Futter",{"$f":"$E$7","v":13.4},{"$f":"$E$7","v":13.4},{"$f":"$E$7","v":13.4},{"$f":"$G$7","v":13.2},{"$f":"$G$7","v":13.2},{"$f":"$G$7","v":13.2},{"$f":"$G$7","v":13.2},{"$f":"$K$7","v":13},{"$f":"$K$7","v":13},{"$f":"$M$7","v":13},{"$f":"$M$7","v":13},{"$f":"$M$7","v":13},{"$f":"$M$7","v":13},{"$f":"$Q$7","v":13},{"$f":"$Q$7","v":13},13,13,13,13,13,13]
[null,"verdaulicher Phosphor","g/Tag",4.5999999999999996,4.9000000000000004,5,5.25,5.4,5.7,5.8,5.95,6,6.1,6.15,6.07,6,5.9249999999999998,5.8,5.6749999999999998,5.5,5.35,5.07,4.88,4.7]
[null,"Futter","kg/Tag",{"$f":"D40/D42","v":1.4253731343283582},1.5820895522388059,1.7313432835820894,1.893939393939394,2.0227272727272729,2.1515151515151514,2.2651515151515151,2.4076923076923076,2.5076923076923077,2.5923076923076924,2.6692307692307695,2.7384615384615385,2.7923076923076922,2.8384615384615381,2.8615384615384616,2.8769230769230769,2.9000000000000004,2.9076923076923076,2.9000000000000004,2.8769230769230769,2.8384615384615381,"Ø bzw. Summe von 30 bis 120 kg"]
[null,"verdaulicher Phosphor","g/kg",{"$f":"D43/D44","v":3.2272251308900519},3.0971698113207551,2.8879310344827589,2.7719999999999998,2.6696629213483147,2.6492957746478876,2.560535117056856,2.4712460063897765,2.3926380368098159,2.353115727002967,2.3040345821325645,2.2165730337078653,2.1487603305785123,2.0873983739837398,2.0268817204301075,1.9725935828877004,1.8965517241379308,1.83994708994709,1.7482758620689653,1.6962566844919786,1.6558265582655829]
[null,"pcv Lysin","g/kg",{"$f":"D41/D44","v":11.225130890052355},{"$f":"E41/E44","v":10.492452830188681},9.8767241379310367,9.1343999999999994,8.8988764044943807,8.6915492957746476,8.2996655518394657,7.8706070287539935,7.5766871165644174,7.3679525222551927,7.3616714697406325,7.2668539325842687,7.1446280991735538,7.0636856368563699,7.0591397849462361,7.0909090909090908,7.1034482758620685,7.1190476190476195,6.8965517241379306,6.5173796791443852,6.3414634146341466]
[null,"Futterverwertung","kg Futter/kg Zuwachs",{"$f":"D44/(D38/1000)","v":1.7446427592758365},{"$f":"E44/(E38/1000)","v":1.8396390142311696},1.9301485881628644,2.0364939719778428,2.1114063389637505,2.1931856794242113,2.2674189340856006,2.3791425965339008,2.4585218702865763,2.5340251146702761,2.6143298425374826,2.7006524047944165,2.7867342238599724,2.8816868410777037,2.9745722053414361,3.0769230769230766,3.2115171650055374,3.3576123645407709,3.5194174757281558,3.7026037026037026,3.9151193633952253,{"$f":"Y48/90","v":2.6040793171191523}]
[null,"ges. Futterverbrauch","kg/Abschnitt",{"$f":"D44*5/(D38/1000)","v":8.7232137963791825},{"$f":"E44*5/(E38/1000)","v":9.1981950711558476},9.6507429408143217,10.182469859889215,10.557031694818754,10.965928397121058,11.337094670428003,11.895712982669504,12.29260935143288,12.670125573351381,13.071649212687412,13.503262023972084,13.933671119299861,14.408434205388518,14.872861026707183,15.384615384615385,16.057585825027687,16.788061822703856,17.597087378640779,18.513018513018512,19.575596816976123,{"$f":"SUM(E48:V48)","v":234.36713854072372}]
[]
[]
[null,{"$f":"IF($T$6=\"HP\",\"Mast weiblicher Tiere mit sehr hohem Proteinansatz\",\"Mast weiblicher Tiere\")","v":"Mast weiblicher Tiere"}]
[null,null,null,null,null,null,null,null,null,{"$f":"B51","v":"Mast weiblicher Tiere"}]
[null,"Gewicht","kg",25,30,35,40,45,50,55,60,65,70,75,80,85,90,95,100,105,110,115,120,125,"Masttage von 30 bis 120 kg"]
[null,"TZ",{"$f":"ROUND(AVERAGE(E54:W54),-1)","v":720},{"$f":"D65-100","v":592},{"$f":"E65-100","v":635},672,705,733,756,774,787,795,798,796,789,777,760,737,710,678,641,599,552,500]
[null,"Tage + 5 kg","d",{"$f":"5/D54*1000","v":8.4459459459459456},7.8740157480314963,7.4404761904761898,7.0921985815602833,6.8212824010914055,6.6137566137566131,6.459948320413436,6.3532401524777633,6.2893081761006293,6.2656641604010019,6.2814070351758797,6.337135614702154,6.4350064350064349,6.5789473684210522,6.7842605156037994,7.042253521126761,7.3746312684365778,7.8003120124804992,8.3472454090150254,9.0579710144927539,10,{"$f":"ROUND(SUM(E55:V55),0)","v":124}]
[null,"ME ","MJ/Tag",15.5,17.5,19,20.5,22,23.5,24.5,25.5,26.5,{"$f":"IF($T$6=\"HP\",M67-3,27.5)","v":27.5},{"$f":"IF($T$6=\"HP\",N67-3,28.5)","v":28.5},{"$f":"IF($T$6=\"HP\",O67-2,29)","v":29},{"$f":"IF($T$6=\"HP\",P67-2,29.5)","v":29.5},{"$f":"IF($T$6=\"HP\",Q67-2,30)","v":30},{"$f":"IF($T$6=\"HP\",R67-2,30)","v":30},{"$f":"IF($T$6=\"HP\",S67-2,30)","v":30},30,30,30,30,30]
[null,"pcv Lysin","g/Tag",{"$f":"IF($T$6=\"HP\",D68-2,D68-2)","v":11.8},{"$f":"IF($T$6=\"HP\",E68-2,E68-2)","v":12.6},13.2,13.8,14.3,14.600000000000001,14.899999999999999,15,15.100000000000001,15.100000000000001,15,14.8,14.5,14.100000000000001,13.9,13.1,12.5,11.8,11,10.199999999999999,9.4]
[null,"ME ","MJ/kg Futter",{"$f":"$E$7","v":13.4},{"$f":"$E$7","v":13.4},{"$f":"$E$7","v":13.4},{"$f":"$G$7","v":13.2},{"$f":"$G$7","v":13.2},{"$f":"$G$7","v":13.2},{"$f":"$G$7","v":13.2},{"$f":"$K$7","v":13},{"$f":"$K$7","v":13},{"$f":"$M$7","v":13},{"$f":"$M$7","v":13},{"$f":"$M$7","v":13},{"$f":"$M$7","v":13},{"$f":"$Q$7","v":13},{"$f":"$Q$7","v":13},13,13,13,13,13,13,"Ø bzw. Summe von 30 bis 120 kg"]
[null,"Futter","kg/Tag",{"$f":"D56/D58","v":1.1567164179104477},{"$f":"E56/E58","v":1.3059701492537312},1.4179104477611939,1.5530303030303032,1.6666666666666667,1.7803030303030305,1.8560606060606062,1.9615384615384615,2.0384615384615383,2.1153846153846154,2.1923076923076925,2.2307692307692308,2.2692307692307692,2.3076923076923075,2.3076923076923075,2.3076923076923075,2.3076923076923075,2.3076923076923075,2.3076923076923075,2.3076923076923075,2.3076923076923075]
[null,"pcv Lysin","g/kg",{"$f":"D57/D59","v":10.201290322580647},9.6480000000000015,9.309473684210527,8.8858536585365844,8.58,8.2008510638297878,8.0277551020408158,7.6470588235294121,7.4075471698113216,7.1381818181818186,6.8421052631578938,6.63448275862069,6.3898305084745761,6.1100000000000012,6.0233333333333343,5.6766666666666667,5.416666666666667,5.1133333333333342,4.7666666666666675,4.42,4.0733333333333341]
[null,"Futterverwertung","kg Futter/kg Zuwachs",{"$f":"D59/(D54/1000)","v":1.9539128680919724},{"$f":"E59/(E54/1000)","v":2.0566459043365848},2.1099857853589192,2.2028798624543309,2.2737608003638017,2.3548981882315219,2.3980111189413518,2.4924249828951224,2.5641025641025639,2.6508579140158086,2.7541553923463473,2.8273374280978842,2.9205029205029205,3.0364372469635623,3.1311971610479072,3.2502708559046587,3.4036759700476509,3.6001440057602299,3.8525748041607808,4.1806020066889626,4.615384615384615,{"$f":"Y62/90","v":2.7711034947517752}]
[null,"ges. Futterverbrauch","kg/Abschnitt",{"$f":"D59*5/(D54/1000)","v":9.769564340459862},{"$f":"E59*5/(E54/1000)","v":10.283229521682923},10.549928926794598,11.014399312271655,11.36880400181901,11.774490941157609,11.990055594706758,12.462124914475611,12.820512820512819,13.254289570079044,13.770776961731737,14.136687140489421,14.602514602514603,15.182186234817811,15.655985805239535,16.251354279523291,17.018379850238254,18.000720028801148,19.262874020803903,20.903010033444811,23.076923076923073,{"$f":"SUM(E62:V62)","v":249.39931452765975}]
[]
[null,"Gewicht","kg",25,30,35,40,45,50,55,60,65,70,75,80,85,90,95,100,105,110,115,120,125,"Masttage von 30 bis 120 kg"]
[null,"TZ",{"$f":"ROUND(AVERAGE(E65:W65),-1)","v":820},692,735,772,805,833,856,874,887,895,898,896,889,877,860,837,810,778,741,699,652,600]
[null,"Tage + 5 kg","d",{"$f":"5/D65*1000","v":7.2254335260115603},6.8027210884353737,6.4766839378238341,6.2111801242236018,6.0024009603841542,5.8411214953271022,5.7208237986270021,5.636978579481398,5.5865921787709496,5.5679287305122491,5.5803571428571432,5.6242969628796393,5.7012542759407072,5.8139534883720927,5.9737156511350067,6.1728395061728394,6.4267352185089974,6.7476383265856956,7.1530758226037197,7.6687116564417179,8.3333333333333339,{"$f":"ROUND(SUM(E66:V66),0)","v":109}]
[null,"ME ","MJ/Tag",17,19,20.5,22,24,25,26.5,27.5,28.5,{"$f":"IF($T$6=\"HP\",31,29.5)","v":29.5},{"$f":"IF($T$6=\"HP\",31,30.5)","v":30.5},{"$f":"IF($T$6=\"HP\",32.8,31)","v":31},{"$f":"IF($T$6=\"HP\",31.2,31.5)","v":31.5},{"$f":"IF($T$6=\"HP\",32.2,32)","v":32},{"$f":"IF($T$6=\"HP\",31.8,32)","v":32},{"$f":"IF($T$6=\"HP\",32.2,32)","v":32},{"$f":"IF($T$6=\"HP\",32.4,32)","v":32},{"$f":"IF($T$6=\"HP\",30.8,32)","v":32},{"$f":"IF($T$6=\"HP\",30,32)","v":32},{"$f":"IF($T$6=\"HP\",30,32)","v":32},{"$f":"IF($T$6=\"HP\",29,32)","v":32}]
[null,"pcv Lysin","g/Tag",{"$f":"IF($T$6=\"HP\",14.19,13.8)","v":13.8},{"$f":"IF($T$6=\"HP\",15.1,14.6)","v":14.6},{"$f":"IF($T$6=\"HP\",15.89,15.2)","v":15.2},{"$f":"IF($T$6=\"HP\",16.6,15.8)","v":15.8},{"$f":"IF($T$6=\"HP\",17.21,16.3)","v":16.3},{"$f":"IF($T$6=\"HP\",17.72,16.6)","v":16.600000000000001},{"$f":"IF($T$6=\"HP\",18.05,16.9)","v":16.899999999999999},{"$f":"IF($T$6=\"HP\",18.44,17)","v":17},{"$f":"IF($T$6=\"HP\",18.65,17.1)","v":17.100000000000001},{"$f":"IF($T$6=\"HP\",18.76,17.1)","v":17.100000000000001},{"$f":"IF($T$6=\"HP\",18.77,17)","v":17},{"$f":"IF($T$6=\"HP\",18.68,16.8)","v":16.8},{"$f":"IF($T$6=\"HP\",18.49,16.5)","v":16.5},{"$f":"IF($T$6=\"HP\",18.2,16.1)","v":16.100000000000001},{"$f":"IF($T$6=\"HP\",17.79,15.9)","v":15.9},{"$f":"IF($T$6=\"HP\",17.3,15.1)","v":15.1},{"$f":"IF($T$6=\"HP\",16.71,14.5)","v":14.5},{"$f":"IF($T$6=\"HP\",16.02,13.8)","v":13.8},{"$f":"IF($T$6=\"HP\",15.23,13)","v":13},{"$f":"IF($T$6=\"HP\",14.24,12.2)","v":12.2},{"$f":"IF($T$6=\"HP\",13.35,11.4)","v":11.4}]
[null,"ME ","MJ/kg Futter",{"$f":"$E$7","v":13.4},{"$f":"$E$7","v":13.4},{"$f":"$E$7","v":13.4},{"$f":"$G$7","v":13.2},{"$f":"$G$7","v":13.2},{"$f":"$G$7","v":13.2},{"$f":"$G$7","v":13.2},{"$f":"$K$7","v":13},{"$f":"$K$7","v":13},{"$f":"$M$7","v":13},{"$f":"$M$7","v":13},{"$f":"$M$7","v":13},{"$f":"$M$7","v":13},{"$f":"$Q$7","v":13},{"$f":"$Q$7","v":13},13,13,13,13,13,13,"Ø bzw. Summe von 30 bis 120 kg"]
[null,"Futter","kg/Tag",{"$f":"D67/D69","v":1.2686567164179103},1.4179104477611939,1.5298507462686566,1.6666666666666667,1.8181818181818183,1.893939393939394,2.0075757575757578,2.1153846153846154,2.1923076923076925,2.2692307692307692,2.3461538461538463,2.3846153846153846,2.4230769230769229,2.4615384615384617,2.4615384615384617,2.4615384615384617,2.4615384615384617,2.4615384615384617,2.4615384615384617,2.4615384615384617,{"$f":"X67/X69","v":2.4615384615384617}]
[null,"pcv Lysin","g/kg",10.877647058823531,10.296842105263158,9.9356097560975609,9.48,8.9649999999999999,8.764800000000001,8.4181132075471687,8.036363636363637,7.8,7.5355932203389839,7.2459016393442619,7.0451612903225813,6.8095238095238102,6.5406250000000004,6.4593749999999996,6.1343749999999995,5.890625,5.6062500000000002,5.28125,4.9562499999999998,{"$f":"X68/X70","v":4.6312499999999996}]
[null,"Futterverwertung","kg Futter/kg Zuwachs",{"$f":"D70/(D65/1000)","v":1.8333189543611423},{"$f":"E70/(E65/1000)","v":1.9291298608995835},1.9816719511252028,2.0703933747412009,2.1826912583215106,2.2125460209572361,2.2969974342972059,2.3848755528575145,2.4495058014611089,2.5269830392324821,2.6184752747252746,2.6823570130656744,2.7629155337251117,2.8622540250447228,2.9409061667126184,3.0389363722697054,3.1639311844967373,3.3219142530883423,3.5215142511279853,3.7753657385559225,4.1025641025641031,{"$f":"Y73/90","v":2.6082221315638452}]
[null,"ges. Futterverbrauch","kg/Abschnitt",{"$f":"D70*5/(D65/1000)","v":9.1665947718057108},{"$f":"E70*5/(E65/1000)","v":9.645649304497919},9.9083597556260141,10.351966873706004,10.913456291607554,11.062730104786182,11.484987171486029,11.924377764287572,12.247529007305545,12.634915196162412,13.092376373626374,13.411785065328372,13.814577668625558,14.311270125223615,14.704530833563092,15.194681861348528,15.819655922483687,16.609571265441712,17.607571255639929,18.876828692779615,20.512820512820515,{"$f":"SUM(E73:V73)","v":234.73999184074609}]
[]
[null,"Gewicht","kg",25,30,35,40,45,50,55,60,65,70,75,80,85,90,95,100,105,110,115,120,125,"Masttage von 30 bis 120 kg"]
[null,"TZ",{"$f":"ROUND(AVERAGE(E76:W76),-1)","v":920},{"$f":"D65+100","v":792},{"$f":"E65+100","v":835},{"$f":"F65+100","v":872},905,933,956,974,987,995,998,996,989,977,960,937,910,878,841,799,752,700]
[null,"Tage + 5 kg","d",{"$f":"5/D76*1000","v":6.3131313131313131},5.9880239520958085,5.7339449541284404,5.5248618784530388,5.359056806002144,5.2301255230125516,5.1334702258726894,5.0658561296859173,5.025125628140704,5.0100200400801604,5.0200803212851408,5.0556117290192111,5.1177072671443193,5.208333333333333,5.3361792956243335,5.4945054945054945,5.6947608200455582,5.9453032104637336,6.2578222778473087,6.6489361702127656,7.1428571428571423,{"$f":"ROUND(SUM(E77:V77),0)","v":97}]
[null,"ME ","MJ/Tag",18.5,20.5,22.5,24,25.5,27,28,29.5,30.5,{"$f":"IF($T$6=\"HP\",M67+3,31.5)","v":31.5},{"$f":"IF($T$6=\"HP\",N67+3,32.5)","v":32.5},{"$f":"IF($T$6=\"HP\",O67+2,33)","v":33},{"$f":"IF($T$6=\"HP\",P67+2,33.5)","v":33.5},{"$f":"IF($T$6=\"HP\",Q67+2,34)","v":34},{"$f":"IF($T$6=\"HP\",R67+2,34.5)","v":34.5},34.5,34.5,34.5,34.5,34.5,34.5]
[null,"pcv Lysin","g/Tag",{"$f":"IF($T$6=\"HP\",D68+2,D68+2)","v":15.8},{"$f":"IF($T$6=\"HP\",E68+2,E68+2)","v":16.600000000000001},17.2,17.8,18.3,18.600000000000001,18.899999999999999,19,19.100000000000001,19.100000000000001,19,18.8,18.5,18.100000000000001,17.899999999999999,17.100000000000001,16.5,15.8,15,14.2,13.4]
[null,"ME ","MJ/kg Futter",{"$f":"$E$7","v":13.4},{"$f":"$E$7","v":13.4},{"$f":"$E$7","v":13.4},{"$f":"$G$7","v":13.2},{"$f":"$G$7","v":13.2},{"$f":"$G$7","v":13.2},{"$f":"$G$7","v":13.2},{"$f":"$K$7","v":13},{"$f":"$K$7","v":13},{"$f":"$M$7","v":13},{"$f":"$M$7","v":13},{"$f":"$M$7","v":13},{"$f":"$M$7","v":13},{"$f":"$Q$7","v":13},{"$f":"$Q$7","v":13},13,13,13,13,13,13,"Ø bzw. Summe von 30 bis 120 kg"]
[null,"Futter","kg/Tag",{"$f":"D78/D80","v":1.380597014925373},1.5298507462686566,1.6791044776119401,1.8181818181818183,1.9318181818181819,2.0454545454545454,2.1212121212121211,2.2692307692307692,2.3461538461538463,2.4230769230769229,2.5,2.5384615384615383,2.5769230769230771,2.6153846153846154,2.6538461538461537,2.6538461538461537,2.6538461538461537,2.6538461538461537,2.6538461538461537,2.6538461538461537,{"$f":"X78/X80","v":2.6538461538461537}]
[null,"pcv Lysin","g/kg",11.444324324324326,10.850731707317076,10.243555555555556,9.7899999999999991,9.472941176470588,9.0933333333333337,8.91,8.3728813559322042,8.1409836065573771,7.8825396825396838,7.6,7.4060606060606071,7.1791044776119399,6.9205882352941179,6.7449275362318835,6.4434782608695658,6.2173913043478262,5.953623188405798,5.6521739130434785,5.350724637681159,{"$f":"X79/X81","v":5.0492753623188413}]
[null,"Futterverwertung","kg Futter/kg Zuwachs",{"$f":"D81/(D76/1000)","v":1.7431780491481981},{"$f":"E81/(E76/1000)","v":1.8321565823576726},1.9255785293714911,2.0090406830738323,2.0705446750462828,2.1395968048687712,2.1778358534005351,2.2991193203959162,2.357943563973715,2.4279327886542315,2.5100401606425704,2.566695185502061,2.6375875915282263,2.7243589743589745,2.8322797799852224,2.9163144547759932,3.0226038198703344,3.1555840117076741,3.3214595167035714,3.529050736497545,3.7912087912087915,{"$f":"Y84/90","v":2.4959262386787264}]
[null,"ges. Futterverbrauch","kg/Abschnitt",{"$f":"D81*5/(D76/1000)","v":8.7158902457409901},{"$f":"E81*5/(E76/1000)","v":9.1607829117883632},9.6278926468574557,10.045203415369162,10.352723375231415,10.697984024343857,10.889179267002675,11.495596601979582,11.789717819868574,12.139663943271158,12.550200803212851,12.833475927510305,13.187937957641131,13.621794871794872,14.161398899926112,14.581572273879965,15.113019099351673,15.777920058538369,16.607297583517855,17.645253682487724,18.956043956043956,{"$f":"SUM(E84:V84)","v":224.63336148108539}]
[]
[]
[null,{"$f":"IF($T$6=\"HP\",\"Mast männlicher Tiere mit sehr hohem Proteinansatz\",\"Mast männlicher Tiere\")","v":"Mast männlicher Tiere"}]
[null,null,null,null,null,null,null,null,null,{"$f":"B87","v":"Mast männlicher Tiere"}]
[null,"Gewicht","kg",25,30,35,40,45,50,55,60,65,70,75,80,85,90,95,100,105,110,115,120,125,"Masttage von 30 bis 120 kg"]
[null,"TZ",{"$f":"ROUND(AVERAGE(E90:W90),-1)","v":770},{"$f":"D101-100","v":642},{"$f":"E101-100","v":685},722,755,783,806,824,837,845,848,846,836,827,810,787,760,728,691,649,602,550]
[null,"Tage + 5 kg","d",{"$f":"5/D90*1000","v":7.7881619937694708},7.2992700729927007,6.9252077562326866,6.6225165562913908,6.3856960408684547,6.2034739454094296,6.0679611650485432,5.9737156511350067,5.9171597633136095,5.8962264150943398,5.9101654846335698,5.9808612440191391,6.045949214026602,6.1728395061728394,6.3532401524777633,6.5789473684210522,6.8681318681318677,7.2358900144717797,7.704160246533128,8.3056478405315612,9.0909090909090899,{"$f":"ROUND(SUM(E91:V91),0)","v":116}]
[null,"ME ","MJ/Tag",16.5,18.5,20.5,22.5,24,26,27.5,29,30,{"$f":"IF($T$6=\"HP\",M103-3,31.5)","v":31.5},{"$f":"IF($T$6=\"HP\",N103-3,32.5)","v":32.5},{"$f":"IF($T$6=\"HP\",O103-2,33)","v":33},{"$f":"IF($T$6=\"HP\",P103-2,34)","v":34},{"$f":"IF($T$6=\"HP\",Q103-2,34.5)","v":34.5},{"$f":"IF($T$6=\"HP\",R103-2,35)","v":35},{"$f":"IF($T$6=\"HP\",S103-2,35.5)","v":35.5},{"$f":"IF($T$6=\"HP\",T103-2,35)","v":35},{"$f":"IF($T$6=\"HP\",U103-2,32.35)","v":32.35},{"$f":"IF($T$6=\"HP\",V103-2,32.35)","v":32.35},{"$f":"IF($T$6=\"HP\",W103-2,32.35)","v":32.35},{"$f":"IF($T$6=\"HP\",X103-2,32.35)","v":32.35}]
[null,"pcv Lysin","g/Tag",{"$f":"IF($T$6=\"HP\",D104-1.9,D104-1.9)","v":12.799999999999999},{"$f":"IF($T$6=\"HP\",E104-1.9,E104-1.9)","v":13.6},{"$f":"IF($T$6=\"HP\",F104-1.9,F104-1.9)","v":14.118},{"$f":"IF($T$6=\"HP\",G104-1.9,G104-1.9)","v":14.795},{"$f":"IF($T$6=\"HP\",H104-1.85,H104-1.85)","v":15.35},{"$f":"IF($T$6=\"HP\",I104-1.8,I104-1.8)","v":15.814},{"$f":"IF($T$6=\"HP\",J104-1.8,J104-1.8)","v":16},{"$f":"IF($T$6=\"HP\",K104-1.8,K104-1.8)","v":16.2},{"$f":"IF($T$6=\"HP\",L104-1.85,L104-1.85)","v":16.149999999999999},{"$f":"IF($T$6=\"HP\",M104-1.9,M104-1.9)","v":16.100000000000001},{"$f":"IF($T$6=\"HP\",N104-1.9,N104-1.9)","v":15.999999999999998},15.799999999999999,15.499999999999998,15.1,14.6,14.1,{"$f":"IF($T$6=\"HP\",T104-1.85,T104-1.85)","v":13.450000000000001},{"$f":"IF($T$6=\"HP\",U104-1.8,U104-1.8)","v":12.799999999999999},{"$f":"IF($T$6=\"HP\",V104-1.8,V104-1.8)","v":12.1},{"$f":"IF($T$6=\"HP\",W104-1.8,W104-1.8)","v":11.2},{"$f":"IF($T$6=\"HP\",X104-1.8,X104-1.8)","v":10.399999999999999}]
[null,"ME ","MJ/kg Futter",{"$f":"$E$7","v":13.4},{"$f":"$E$7","v":13.4},{"$f":"$E$7","v":13.4},{"$f":"$G$7","v":13.2},{"$f":"$G$7","v":13.2},{"$f":"$G$7","v":13.2},{"$f":"$G$7","v":13.2},{"$f":"$K$7","v":13},{"$f":"$K$7","v":13},{"$f":"$M$7","v":13},{"$f":"$M$7","v":13},{"$f":"$M$7","v":13},{"$f":"$M$7","v":13},{"$f":"$Q$7","v":13},{"$f":"$Q$7","v":13},13,13,13,13,13,13,"Ø bzw. Summe von 30 bis 120 kg"]
[null,"Futter","kg/Tag",{"$f":"D92/D94","v":1.2313432835820894},1.380597014925373,1.5298507462686566,1.7045454545454546,1.8181818181818183,1.9696969696969697,2.0833333333333335,2.2307692307692308,2.3076923076923075,2.4230769230769229,2.5,2.5384615384615383,2.6153846153846154,2.6538461538461537,2.6923076923076925,2.7307692307692308,2.6923076923076925,2.4884615384615385,2.4884615384615385,2.4884615384615385,{"$f":"X92/X94","v":2.4884615384615385}]
[null,"pcv Lysin","g/kg",10.395151515151515,9.8508108108108114,9.2283512195121968,8.6797333333333331,8.442499999999999,8.0286461538461538,7.68,7.2620689655172406,6.9983333333333331,6.6444444444444457,6.3999999999999995,6.2242424242424246,5.9264705882352935,5.689855072463768,5.4228571428571426,5.1633802816901406,4.9957142857142856,5.1437403400309112,4.8624420401854715,4.5007727975270475,{"$f":"X93/X95","v":4.1792890262751152}]
[null,"Futterverwertung","kg Futter/kg Zuwachs",{"$f":"D95/(D90/1000)","v":1.9179801924954665},{"$f":"E95/(E90/1000)","v":2.0154700947815662},2.1189068507876132,2.2576760987357014,2.3220712875885292,2.4437927663734116,2.5283171521035603,2.6651962135833105,2.7309968138370504,2.8574020319303335,2.9550827423167849,3.0364372469635628,3.1624965119523769,3.2763532763532761,3.4209754667187959,3.5931174089068825,3.6982248520710064,3.6012467995101862,3.8343012919284103,4.1336570406337847,4.5244755244755241,{"$f":"Y98/90","v":2.9176702725801311}]
[null,"ges. Futterverbrauch","kg/Abschnitt",{"$f":"D95*5/(D90/1000)","v":9.5899009624773317},{"$f":"E95*5/(E90/1000)","v":10.077350473907831},10.594534253938065,11.288380493678508,11.610356437942645,12.218963831867056,12.641585760517801,13.325981067916551,13.65498406918525,14.287010159651668,14.775413711583925,15.182186234817813,15.812482559761882,16.381766381766379,17.104877333593979,17.965587044534413,18.491124260355033,18.006233997550932,19.171506459642053,20.668285203168928,22.622377622377623,{"$f":"SUM(E98:V98)","v":262.59032453221181}]
[]
[null,"Gewicht","kg",25,30,35,40,45,50,55,60,65,70,75,80,85,90,95,100,105,110,115,120,125,"Masttage von 30 bis 120 kg"]
[null,"TZ",{"$f":"ROUND(AVERAGE(E101:W101),-1)","v":870},742,785,822,855,883,906,924,937,945,948,946,936,927,910,887,860,828,791,749,702,650]
[null,"Tage + 5 kg","d",{"$f":"5/D101*1000","v":6.7385444743935317},6.369426751592357,6.0827250608272507,5.8479532163742682,5.6625141562853907,5.5187637969094929,5.4112554112554108,5.3361792956243335,5.2910052910052912,5.2742616033755274,5.2854122621564485,5.3418803418803416,5.3937432578209279,5.4945054945054945,5.636978579481398,5.8139534883720927,6.0386473429951693,6.3211125158027812,6.6755674232309747,7.1225071225071224,7.6923076923076925,{"$f":"ROUND(SUM(E102:V102),0)","v":103}]
[null,"ME ","MJ/Tag",18,20.5,22,24,26,28,29.5,31,32,{"$f":"IF($T$6=\"HP\",32,33.5)","v":33.5},{"$f":"IF($T$6=\"HP\",33,35)","v":35},{"$f":"IF($T$6=\"HP\",32.8,36)","v":36},{"$f":"IF($T$6=\"HP\",32.6,36.5)","v":36.5},{"$f":"IF($T$6=\"HP\",33.2,37)","v":37},{"$f":"IF($T$6=\"HP\",32.7,37.5)","v":37.5},{"$f":"IF($T$6=\"HP\",33.2,38)","v":38},{"$f":"IF($T$6=\"HP\",32.6,38)","v":38},{"$f":"IF($T$6=\"HP\",33.2,38)","v":38},{"$f":"IF($T$6=\"HP\",31.5,38)","v":38},{"$f":"IF($T$6=\"HP\",31,38)","v":38},{"$f":"IF($T$6=\"HP\",30,38)","v":38}]
[null,"pcv Lysin","g/Tag",{"$f":"IF($T$6=\"HP\",14.35,14.7)","v":14.7},{"$f":"IF($T$6=\"HP\",15.32,15.5)","v":15.5},{"$f":"IF($T$6=\"HP\",16.02,15.6+1.9*0.22)","v":16.018000000000001},{"$f":"IF($T$6=\"HP\",16.7,15.65+1.9*0.55)","v":16.695},{"$f":"IF($T$6=\"HP\",17.33,17.2)","v":17.2},{"$f":"IF($T$6=\"HP\",17.61,17.5+1.9*0.06)","v":17.614000000000001},{"$f":"IF($T$6=\"HP\",17.99,17.8)","v":17.8},{"$f":"IF($T$6=\"HP\",18.27,18)","v":18},{"$f":"IF($T$6=\"HP\",18.46,18)","v":18},{"$f":"IF($T$6=\"HP\",18.56,18)","v":18},{"$f":"IF($T$6=\"HP\",18.58,17.9)","v":17.899999999999999},{"$f":"IF($T$6=\"HP\",18.45,17.7)","v":17.7},{"$f":"IF($T$6=\"HP\",18.34,17.4)","v":17.399999999999999},{"$f":"IF($T$6=\"HP\",18.08,17)","v":17},{"$f":"IF($T$6=\"HP\",17.7,16.5)","v":16.5},{"$f":"IF($T$6=\"HP\",17.15,16)","v":16},{"$f":"IF($T$6=\"HP\",16.68,15.3)","v":15.3},{"$f":"IF($T$6=\"HP\",16.03,14.6)","v":14.6},{"$f":"IF($T$6=\"HP\",15.28,13.9)","v":13.9},{"$f":"IF($T$6=\"HP\",14.34,13)","v":13},{"$f":"IF($T$6=\"HP\",13.55,12.2)","v":12.2}]
[null,"ME ","MJ/kg Futter",{"$f":"$E$7","v":13.4},{"$f":"$E$7","v":13.4},{"$f":"$E$7","v":13.4},{"$f":"$G$7","v":13.2},{"$f":"$G$7","v":13.2},{"$f":"$G$7","v":13.2},{"$f":"$G$7","v":13.2},{"$f":"$K$7","v":13},{"$f":"$K$7","v":13},{"$f":"$M$7","v":13},{"$f":"$M$7","v":13},{"$f":"$M$7","v":13},{"$f":"$M$7","v":13},{"$f":"$Q$7","v":13},{"$f":"$Q$7","v":13},13,13,13,13,13,13,"Ø bzw. Summe von 30 bis 120 kg"]
[null,"Futter","kg/Tag",{"$f":"D103/D105","v":1.3432835820895521},1.5298507462686566,1.6417910447761193,1.8181818181818183,1.9696969696969697,2.1212121212121211,2.2348484848484849,2.3846153846153846,2.4615384615384617,2.5769230769230771,2.6923076923076925,2.7692307692307692,2.8076923076923075,2.8461538461538463,2.8846153846153846,2.9230769230769229,2.9230769230769229,2.9230769230769229,2.9230769230769229,2.9230769230769229,{"$f":"X103/X105","v":2.9230769230769229}]
[null,"pcv Lysin","g/kg",10.943333333333333,10.131707317073172,9.7564181818181837,9.1822499999999998,8.7323076923076925,8.3037428571428578,7.964745762711865,7.5483870967741939,7.3125,6.9850746268656714,6.6485714285714277,6.3916666666666666,6.1972602739726028,5.9729729729729728,5.72,5.4736842105263159,5.2342105263157901,4.9947368421052634,4.7552631578947375,4.4473684210526319,{"$f":"X104/X106","v":4.1736842105263161}]
[null,"Futterverwertung","kg Futter/kg Zuwachs",{"$f":"D106/(D101/1000)","v":1.8103552319266201},{"$f":"E106/(E101/1000)","v":1.9488544538454222},1.9973127065402911,2.126528442317916,2.2306873949003054,2.3412937320222085,2.418667191394464,2.5449470486823742,2.6048026048026052,2.7182732878935414,2.8459912180842415,2.9585798816568043,3.0287942909302128,3.1276415891800506,3.2521030266238835,3.3989266547406083,3.5302861389817912,3.6954196246231641,3.9026394166581082,4.1639272408503176,4.4970414201183431,{"$f":"Y109/90","v":2.8150971502154438}]
[null,"ges. Futterverbrauch","kg/Abschnitt",{"$f":"D106*5/(D101/1000)","v":9.0517761596330999},{"$f":"E106*5/(E101/1000)","v":9.7442722692271104},9.9865635327014566,10.632642211589582,11.153436974501526,11.706468660111044,12.09333595697232,12.724735243411871,13.024013024013026,13.591366439467706,14.22995609042121,14.792899408284024,15.143971454651064,15.638207945900254,16.260515133119416,16.994633273703041,17.651430694908957,18.47709812311582,19.513197083290542,20.819636204251591,22.485207100591715,{"$f":"SUM(E109:V109)","v":253.35874351938995}]
[]
[null,"Gewicht","kg",25,30,35,40,45,50,55,60,65,70,75,80,85,90,95,100,105,110,115,120,125,"Masttage von 30 bis 120 kg"]
[null,"TZ",{"$f":"ROUND(AVERAGE(E112:W112),-1)","v":970},{"$f":"D101+100","v":842},{"$f":"E101+100","v":885},{"$f":"F101+100","v":922},955,983,1006,1024,1037,1045,1048,1046,1036,1027,1010,987,960,928,891,849,802,750]
[null,"Tage + 5 kg","d",{"$f":"5/D112*1000","v":5.9382422802850359},5.6497175141242941,5.4229934924078087,5.2356020942408383,5.0864699898270604,4.9701789264413518,4.8828125,4.8216007714561231,4.7846889952153111,4.770992366412214,4.7801147227533463,4.8262548262548259,4.8685491723466408,4.9504950495049505,5.0658561296859173,5.208333333333333,5.3879310344827589,5.6116722783389443,5.8892815076560661,6.2344139650872821,6.666666666666667,{"$f":"ROUND(SUM(E113:V113),0)","v":92}]
[null,"ME ","MJ/Tag",20,22,24,26,28,30,31.5,33,34.5,{"$f":"IF($T$6=\"HP\",M103+3,36)","v":36},{"$f":"IF($T$6=\"HP\",N103+3,37)","v":37},{"$f":"IF($T$6=\"HP\",O103+2,38)","v":38},{"$f":"IF($T$6=\"HP\",P103+2,39)","v":39},{"$f":"IF($T$6=\"HP\",Q103+2,39.5)","v":39.5},{"$f":"IF($T$6=\"HP\",R103+2,40)","v":40},{"$f":"IF($T$6=\"HP\",S103+2,40.5)","v":40.5},{"$f":"IF($T$6=\"HP\",T103+2,41)","v":41},{"$f":"IF($T$6=\"HP\",U103+2,41)","v":41},{"$f":"IF($T$6=\"HP\",V103+2,41)","v":41},{"$f":"IF($T$6=\"HP\",W103+2,41)","v":41},{"$f":"IF($T$6=\"HP\",X103+2,41)","v":41}]
[null,"pcv Lysin","g/Tag",{"$f":"IF($T$6=\"HP\",D104+1.9,D104+1.9)","v":16.599999999999998},{"$f":"IF($T$6=\"HP\",E104+1.9,E104+1.9)","v":17.399999999999999},{"$f":"IF($T$6=\"HP\",F104+1.9,F104+1.9)","v":17.917999999999999},{"$f":"IF($T$6=\"HP\",G104+1.9,G104+1.9)","v":18.594999999999999},{"$f":"IF($T$6=\"HP\",H104+1.9,H104+1.9)","v":19.099999999999998},{"$f":"IF($T$6=\"HP\",I104+1.9,I104+1.9)","v":19.513999999999999},19.7,19.899999999999999,19.899999999999999,19.899999999999999,19.799999999999997,19.599999999999998,{"$f":"IF($T$6=\"HP\",P104+1.85,P104+1.85)","v":19.25},{"$f":"IF($T$6=\"HP\",Q104+1.8,Q104+1.8)","v":18.8},{"$f":"IF($T$6=\"HP\",R104+1.8,R104+1.8)","v":18.3},{"$f":"IF($T$6=\"HP\",S104+1.8,S104+1.8)","v":17.8},{"$f":"IF($T$6=\"HP\",T104+1.85,T104+1.85)","v":17.150000000000002},16.5,15.8,14.9,14.1]
[null,"ME ","MJ/kg Futter",{"$f":"$E$7","v":13.4},{"$f":"$E$7","v":13.4},{"$f":"$E$7","v":13.4},{"$f":"$G$7","v":13.2},{"$f":"$G$7","v":13.2},{"$f":"$G$7","v":13.2},{"$f":"$G$7","v":13.2},{"$f":"$K$7","v":13},{"$f":"$K$7","v":13},{"$f":"$M$7","v":13},{"$f":"$M$7","v":13},{"$f":"$M$7","v":13},{"$f":"$M$7","v":13},{"$f":"$Q$7","v":13},{"$f":"$Q$7","v":13},13,13,13,13,13,13,"Ø bzw. Summe von 30 bis 120 kg"]
[null,"Futter","kg/Tag",{"$f":"D114/D116","v":1.4925373134328357},1.6417910447761193,1.791044776119403,1.9696969696969697,2.1212121212121211,2.2727272727272729,2.3863636363636367,2.5384615384615383,2.6538461538461537,2.7692307692307692,2.8461538461538463,2.9230769230769229,3,3.0384615384615383,3.0769230769230771,3.1153846153846154,3.1538461538461537,3.1538461538461537,3.1538461538461537,3.1538461538461537,{"$f":"X114/X116","v":3.1538461538461537}]
[null,"pcv Lysin","g/kg",11.122,10.598181818181818,10.004216666666666,9.4405384615384609,9.0042857142857144,8.5861599999999996,8.2552380952380933,7.8393939393939389,7.4985507246376812,7.1861111111111109,6.9567567567567554,6.7052631578947368,6.416666666666667,6.1873417721518988,5.9474999999999998,5.7135802469135806,5.4378048780487811,5.2317073170731705,5.0097560975609756,4.7243902439024392,{"$f":"X115/X117","v":4.4707317073170731}]
[null,"Futterverwertung","kg Futter/kg Zuwachs",{"$f":"D117/(D112/1000)","v":1.7726096359059806},{"$f":"E117/(E112/1000)","v":1.8551311240408126},1.9425648331013048,2.0625099159130573,2.1578963593205707,2.2591722392915239,2.3304332386363638,2.4478896224315703,2.5395656974604344,2.6423957721667644,2.7209883806442123,2.8215028215028211,2.9211295034079847,3.008377760853008,3.1174499259605644,3.2451923076923079,3.398541114058355,3.539670206336873,3.7147775663676725,3.9324765010550542,4.2051282051282053,{"$f":"Y120/90","v":2.7069549105103445}]
[null,"ges. Futterverbrauch","kg/Abschnitt",{"$f":"D117*5/(D112/1000)","v":8.863048179529903},{"$f":"E117*5/(E112/1000)","v":9.2756556202040645},9.7128241655065253,10.312549579565285,10.789481796602853,11.295861196457619,11.65216619318182,12.239448112157852,12.697828487302171,13.211978860833822,13.604941903221063,14.107514107514106,14.605647517039923,15.04188880426504,15.587249629802821,16.22596153846154,16.992705570291776,17.698351031684364,18.573887831838363,19.662382505275271,21.025641025641026,{"$f":"SUM(E120:V120)","v":243.625941945931}]
[]
[]
[null,"Futterkurve  Ebermast 850g TZ in Anlehnung an den Rechenmeister NRW 2010 + 2014"]
[null,null,null,null,null,null,null,null,null,{"$f":"B123","v":"Futterkurve  Ebermast 850g TZ in Anlehnung an den Rechenmeister NRW 2010 + 2014"}]
[null,"kg",25,25,30,35,40,45,50,55,60,65,70,75,80,85,90,95,100,105,110,115,120,125,"Masttage von 30 bis 120 kg"]
[null,"TZ",{"$f":"ROUND(AVERAGE(E126:W126),-1)","v":850},{"$f":"692-20+50","v":722},{"$f":"760-70+50","v":740},{"$f":"797-70+50","v":777},{"$f":"830-70+50","v":810},{"$f":"858-70+50","v":838},{"$f":"881-80+50","v":851},{"$f":"899-90+50","v":859},{"$f":"912-90+50","v":872},{"$f":"920-90+50","v":880},{"$f":"923-80+50","v":893},{"$f":"921-70+50","v":901},{"$f":"914-20+50","v":944},{"$f":"902-20+50","v":932},{"$f":"885-20+50","v":915},{"$f":"862-20+50","v":892},{"$f":"835-20+50","v":865},{"$f":"803-20+50","v":833},{"$f":"766-20+50","v":796},{"$f":"724-20+50","v":754},{"$f":"677-20+50","v":707},{"$f":"625-20+50","v":655}]
[null,"Tage + 5 kg","d",{"$f":"5/D126*1000","v":6.9252077562326866},{"$f":"5/E126*1000","v":6.756756756756757},6.4350064350064349,6.1728395061728394,5.9665871121718377,5.8754406580493539,5.8207217694994187,5.7339449541284404,5.6818181818181817,5.5991041433370663,5.5493895671476139,5.2966101694915251,5.3648068669527893,5.4644808743169397,5.6053811659192823,5.7803468208092479,6.0024009603841542,6.2814070351758797,6.6312997347480112,7.0721357850070721,7.6335877862595414,{"$f":"ROUND(SUM(E127:V127),0)","v":106}]
[null,"ME ","MJ/Tag",17,19,21,23,24.5,28,29.5,31,31.5,32,32.5,33,33,33,33,33,33,33,33,33,33]
[null,"pcv Lysin","g/Tag",{"$f":"0.87*D128","v":14.79},{"$f":"0.835*E128","v":15.864999999999998},{"$f":"0.8*F128","v":16.8},{"$f":"0.75*G128","v":17.25},{"$f":"0.744*H128","v":18.228000000000002},{"$f":"0.735*I128","v":20.58},{"$f":"0.7*J128","v":20.65},{"$f":"0.666*K128","v":20.646000000000001},{"$f":"0.645*L128","v":20.317499999999999},{"$f":"0.645*M128","v":20.64},{"$f":"0.633*N128","v":20.572500000000002},{"$f":"0.62*O128","v":20.46},{"$f":"0.605*P128","v":19.965},{"$f":"0.59*Q128","v":19.47},19.47,19.47,19.47,19.47,19.47,19.47,19.47]
[null,"ME ","MJ/kg Futter",{"$f":"$E$7","v":13.4},{"$f":"$E$7","v":13.4},{"$f":"$E$7","v":13.4},{"$f":"$E$7","v":13.4},{"$f":"$G$7","v":13.2},{"$f":"$G$7","v":13.2},{"$f":"$G$7","v":13.2},{"$f":"$G$7","v":13.2},{"$f":"$K$7","v":13},{"$f":"$K$7","v":13},{"$f":"$M$7","v":13},{"$f":"$M$7","v":13},{"$f":"$M$7","v":13},{"$f":"$M$7","v":13},{"$f":"$Q$7","v":13},{"$f":"$Q$7","v":13},13,13,13,13,13,"Ø bzw. Summe von 30 bis 120 kg"]
[null,"Futter","kg/Tag",{"$f":"D128/D130","v":1.2686567164179103},{"$f":"E128/E130","v":1.4179104477611939},{"$f":"F128/F130","v":1.5671641791044775},1.716417910447761,1.8560606060606062,2.1212121212121211,2.2348484848484849,2.3484848484848486,2.4230769230769229,2.4615384615384617,2.5,2.5384615384615383,2.5384615384615383,2.5384615384615383,2.5384615384615383,2.5384615384615383,2.5384615384615383,2.5384615384615383,2.5384615384615383,2.5384615384615383,2.5384615384615383]
[null,"pcv Lysin","g/kg",{"$f":"D129/D131","v":11.658000000000001},{"$f":"E129/E131","v":11.189},10.72,10.050000000000001,9.8208000000000002,9.702,9.2399999999999984,8.7911999999999999,8.3849999999999998,8.3849999999999998,8.229000000000001,8.06,7.8650000000000002,7.67,7.67,7.67,7.67,7.67,7.67,7.67,7.67]
[null,"Futterverwertung","kg Futter/kg Zuwachs",{"$f":"D131/(D126/1000)","v":1.7571422665068011},{"$f":"E131/(E126/1000)","v":1.916095199677289},{"$f":"F131/(F126/1000)","v":2.0169423154497781},2.1190344573429147,2.2148694583062127,2.4926111882633619,2.6016862454580734,2.6932165693633587,2.7534965034965033,2.7564820397967096,2.7746947835738069,2.6890482398956976,2.7236711786068004,2.774274905422446,2.8458088996205588,2.9346376167185415,3.0473727952719547,3.1890220332431385,3.3666598653336051,3.5904689370035903,3.8755137991779209,{"$f":"Y134/90","v":2.66164579415782}]
[null,"ges. Futterverbrauch","kg/Abschnitt",{"$f":"D131*5/(D126/1000)","v":8.7857113325340048},{"$f":"E131*5/(E126/1000)","v":9.5804759983864454},{"$f":"F131*5/(F126/1000)","v":10.084711577248889},10.595172286714574,11.074347291531064,12.46305594131681,13.008431227290366,13.466082846816791,13.767482517482517,13.782410198983548,13.873473917869035,13.445241199478488,13.618355893034003,13.871374527112231,14.229044498102793,14.673188083592708,15.236863976359775,15.945110166215692,16.833299326668026,17.952344685017952,19.377568995889604,{"$f":"SUM(E134:V134)","v":239.54812147420378}]

{"sheet":"Futterkurve Sauen","index":19,"n_rows":49,"n_cols":11,"rows_kept":49,"cut":false,"hidden":false,"merged":[[3,1,3,10],[15,1,18,1],[29,1,45,1],[46,1,47,1],[4,1,4,2],[20,1,22,1],[23,1,27,1]]}
[]
[]
[]
[null,"Futterkurve für Sauen nach GFE 2006"]
[null,null,null,null,null,null,null,"kg Wurfzuwachs pro Tag",{"$f":"I6*0.2","v":2.4000000000000004},"Lebendmasse-verlust der Jungsau wäh-rend der Lak-tation ca 10kg",10]
[null,"Temperatur im Stall - Abferkelung Basis 19 °C",19,"Temperatur im Stall - Deckzentrum Basis 19 °C",19,"Temperatur im Stall - Wartebereich              Basis 14 °C",14,"Anzahl Ferkel Jungsau",12,"Lebendmasse der Jungsau          1.Wurf in kg                            ca. Ø 185 kg",140]
[null,"MJ ME pro kg Futter für niedertragen-de Sauen                 11,8-12,2 MJ",12,"MJ ME pro kg Futter für hochtragende Sauen normal 11,8-12,2 MJ",12,"MJ ME pro kg Futter für lak-tierende Sau-en normal 13,0-13,4 MJ",13,"Anzahl Ferkel",13,"Lebendmasse der Sau           3.Wurf in kg             ca. Ø 255 kg",225]
[null,"Gesamter Futterver-brauch Tragefutter                in kg / Jahr",{"$f":"((SUM(D!C2:C115,D!C144:C148)+SUM(D!E2:E115,D!E144:E148)+SUM(D!G2:G115,D!G144:G148)+SUM(D!I2:I115,D!I144:I148)*2)/5+((SUM(D!C2:C28,D!C144:C148)+SUM(D!E2:E28,D!E144:E148)+SUM(D!G2:G28,D!G144:G148)+SUM(D!I2:I28,D!I144:I148)*2)/5)*'Futterkurve Sauen'!G10)*365/(115+5+E10)","v":925.50260770975001},"Gesamter Futterver-brauch Säugefutter                in kg / Jahr",{"$f":"((SUM(D!C116:C133)+SUM(D!E116:E133)+SUM(D!G116:G133)+SUM(D!I116:I133)*2)/5+(D!C143+D!E143+D!G143+D!I143*2)/5*('Futterkurve Sauen'!E10-18))*C10","v":359.05786373484671},"Gesamter Futterver-brauch                 in kg / Jahr",{"$f":"C8+E8","v":1284.5604714445967},"kg Wurfzuwachs pro Tag",{"$f":"I7*0.2","v":2.6},"Lebendmasse-verlust der Sau während der Laktation (ca. 10-20 kg)",15]
[null,"Prozent",{"$f":"C8/G8","v":0.72048193003241345},"Prozent",{"$f":"E8/G8","v":0.27951806996758649},"Prozent",1]
[null,"Anzahl Würfe / Sau & Jahr",{"$f":"365/(120+E10+G10*E10)","v":2.4382097528390116},"Säugezeit ",27,"% Umrauscher",0.1]
[]
[]
[]
[]
[null,"Phase","Tag","MJ ME                   1. Trächtigkeit 140 kg LM","kg Futter                            1. Trächtigkeit 140 kg LM","MJ ME                 2. Trächtigkeit 185 kg LM","kg Futter                    2. Trächtigkeit 185 kg LM","MJ ME                 3. Trächtigkeit 225 kg LM","kg Futter                          3. Trächtigkeit 225 kg LM","MJ ME                      4. Trächtigkeit 255 kg LM","kg Futter                            4. Trächtigkeit 255 kg LM"]
[null,"niedertragend (nach 28 Tagen Umstallung)",1,{"$f":"D!B2","v":29},{"$f":"D!C2","v":2.4166666666666665},{"$f":"D!D2","v":32},{"$f":"D!E2","v":2.6666666666666665},{"$f":"D!F2","v":33},{"$f":"D!G2","v":2.75},{"$f":"D!H2","v":31},{"$f":"D!I2","v":2.5833333333333335}]
[null,null,{"$f":"D!A29","v":28},{"$f":"D!B29","v":29},{"$f":"D!C29","v":2.4166666666666665},{"$f":"D!D29","v":32},{"$f":"D!E29","v":2.6666666666666665},{"$f":"D!F29","v":33},{"$f":"D!G29","v":2.75},{"$f":"D!H29","v":31},{"$f":"D!I29","v":2.5833333333333335}]
[null,null,{"$f":"D!A30","v":29},{"$f":"D!B30","v":33},{"$f":"D!C30","v":2.75},{"$f":"D!D30","v":38},{"$f":"D!E30","v":3.1666666666666665},{"$f":"D!F30","v":39},{"$f":"D!G30","v":3.25},{"$f":"D!H30","v":37},{"$f":"D!I30","v":3.0833333333333335}]
[null,null,70,{"$f":"D!B66","v":33},{"$f":"D!C66","v":2.75},{"$f":"D!D66","v":38},{"$f":"D!E66","v":3.1666666666666665},{"$f":"D!F66","v":39},{"$f":"D!G66","v":3.25},{"$f":"D!H66","v":37},{"$f":"D!I66","v":3.0833333333333335}]
[null,"Übergangs-phase",{"$f":"D!A72","v":71},{"$f":"D!B72","v":37},{"$f":"D!C72","v":3.0833333333333335},{"$f":"D!D72","v":42},{"$f":"D!E72","v":3.5},{"$f":"D!F72","v":43},{"$f":"D!G72","v":3.5833333333333335},{"$f":"D!H72","v":40},{"$f":"D!I72","v":3.3333333333333335}]
[null,"hochtragend 108. Tag Umstallung!",86,{"$f":"D!B87","v":39},{"$f":"D!C87","v":3.25},{"$f":"D!D87","v":42},{"$f":"D!E87","v":3.5},{"$f":"D!F87","v":43},{"$f":"D!G87","v":3.5833333333333335},{"$f":"D!H87","v":40},{"$f":"D!I87","v":3.3333333333333335}]
[null,null,{"$f":"D!A109","v":108},{"$f":"D!B109","v":39},{"$f":"D!C109","v":3.25},{"$f":"D!D109","v":42},{"$f":"D!E109","v":3.5},{"$f":"D!F109","v":43},{"$f":"D!G109","v":3.5833333333333335},{"$f":"D!H109","v":39},{"$f":"D!I109","v":3.25}]
[null,null,109,{"$f":"D!B110","v":39},{"$f":"D!C110","v":3.25},{"$f":"D!D110","v":42},{"$f":"D!E110","v":3.5},{"$f":"D!F110","v":43},{"$f":"D!G110","v":3.5833333333333335},{"$f":"D!H110","v":39},{"$f":"D!I110","v":3.25}]
[null,"Geburts-vorberei-tungsphase kann geändert werden",110,{"$f":"D!B111","v":36},{"$f":"D!C111","v":3},{"$f":"D!D111","v":39},{"$f":"D!E111","v":3.25},{"$f":"D!F111","v":40},{"$f":"D!G111","v":3.3333333333333335},{"$f":"D!H111","v":39},{"$f":"D!I111","v":3.25}]
[null,null,111,{"$f":"D!B112","v":33},{"$f":"D!C112","v":2.75},{"$f":"D!D112","v":36},{"$f":"D!E112","v":3},{"$f":"D!F112","v":37},{"$f":"D!G112","v":3.0833333333333335},{"$f":"D!H112","v":36},{"$f":"D!I112","v":3}]
[null,null,112,{"$f":"D!B113","v":31},{"$f":"D!C113","v":2.5833333333333335},{"$f":"D!D113","v":33},{"$f":"D!E113","v":2.75},{"$f":"D!F113","v":34},{"$f":"D!G113","v":2.8333333333333335},{"$f":"D!H113","v":33},{"$f":"D!I113","v":2.75}]
[null,null,113,{"$f":"D!B114","v":29},{"$f":"D!C114","v":2.4166666666666665},{"$f":"D!D114","v":30},{"$f":"D!E114","v":2.5},{"$f":"D!F114","v":30},{"$f":"D!G114","v":2.5},{"$f":"D!H114","v":30},{"$f":"D!I114","v":2.5}]
[null,null,114,{"$f":"D!B115","v":26},{"$f":"D!C115","v":2.1666666666666665},{"$f":"D!D115","v":26},{"$f":"D!E115","v":2.1666666666666665},{"$f":"D!F115","v":26},{"$f":"D!G115","v":2.1666666666666665},{"$f":"D!H115","v":26},{"$f":"D!I115","v":2.1666666666666665}]
[null,"Geburt",115,{"$f":"D!B116","v":26},{"$f":"D!C116","v":2},{"$f":"D!D116","v":26},{"$f":"D!E116","v":2},{"$f":"D!F116","v":26},{"$f":"D!G116","v":2},{"$f":"D!H116","v":26},{"$f":"D!I116","v":2}]
[null,"Anfütter-rungsphase: Jungsauen + 0,4 kg/Tag Sauen + 0,5 kg/Tag. Alle 3 Tage mit Steigerung der Futtermenge einen Tag ausetzen!",{"$f":"D!A117","v":116},{"$f":"D!B117","v":31.2},{"$f":"D!C117","v":2.4},{"$f":"D!D117","v":32.5},{"$f":"D!E117","v":2.5},{"$f":"D!F117","v":32.5},{"$f":"D!G117","v":2.5},{"$f":"D!H117","v":32.5},{"$f":"D!I117","v":2.5}]
[null,null,{"$f":"D!A118","v":117},{"$f":"D!B118","v":36.4},{"$f":"D!C118","v":2.8},{"$f":"D!D118","v":39},{"$f":"D!E118","v":3},{"$f":"D!F118","v":39},{"$f":"D!G118","v":3},{"$f":"D!H118","v":39},{"$f":"D!I118","v":3}]
[null,null,{"$f":"D!A119","v":118},{"$f":"D!B119","v":41.599999999999994},{"$f":"D!C119","v":3.1999999999999997},{"$f":"D!D119","v":45.5},{"$f":"D!E119","v":3.5},{"$f":"D!F119","v":45.5},{"$f":"D!G119","v":3.5},{"$f":"D!H119","v":45.5},{"$f":"D!I119","v":3.5}]
[null,null,{"$f":"D!A120","v":119},{"$f":"D!B120","v":41.599999999999994},{"$f":"D!C120","v":3.1999999999999997},{"$f":"D!D120","v":45.5},{"$f":"D!E120","v":3.5},{"$f":"D!F120","v":45.5},{"$f":"D!G120","v":3.5},{"$f":"D!H120","v":45.5},{"$f":"D!I120","v":3.5}]
[null,null,{"$f":"D!A121","v":120},{"$f":"D!B121","v":46.8},{"$f":"D!C121","v":3.5999999999999996},{"$f":"D!D121","v":52},{"$f":"D!E121","v":4},{"$f":"D!F121","v":52},{"$f":"D!G121","v":4},{"$f":"D!H121","v":52},{"$f":"D!I121","v":4}]
[null,null,{"$f":"D!A122","v":121},{"$f":"D!B122","v":51.999999999999993},{"$f":"D!C122","v":3.9999999999999996},{"$f":"D!D122","v":58.5},{"$f":"D!E122","v":4.5},{"$f":"D!F122","v":58.5},{"$f":"D!G122","v":4.5},{"$f":"D!H122","v":58.5},{"$f":"D!I122","v":4.5}]
[null,null,{"$f":"D!A123","v":122},{"$f":"D!B123","v":57.199999999999996},{"$f":"D!C123","v":4.3999999999999995},{"$f":"D!D123","v":65},{"$f":"D!E123","v":5},{"$f":"D!F123","v":65},{"$f":"D!G123","v":5},{"$f":"D!H123","v":65},{"$f":"D!I123","v":5}]
[null,null,{"$f":"D!A124","v":123},{"$f":"D!B124","v":57.199999999999996},{"$f":"D!C124","v":4.3999999999999995},{"$f":"D!D124","v":65},{"$f":"D!E124","v":5},{"$f":"D!F124","v":65},{"$f":"D!G124","v":5},{"$f":"D!H124","v":65},{"$f":"D!I124","v":5}]
[null,null,{"$f":"D!A125","v":124},{"$f":"D!B125","v":62.4},{"$f":"D!C125","v":4.8},{"$f":"D!D125","v":71.5},{"$f":"D!E125","v":5.5},{"$f":"D!F125","v":71.5},{"$f":"D!G125","v":5.5},{"$f":"D!H125","v":71.5},{"$f":"D!I125","v":5.5}]
[null,null,{"$f":"D!A126","v":125},{"$f":"D!B126","v":67.600000000000009},{"$f":"D!C126","v":5.2},{"$f":"D!D126","v":78},{"$f":"D!E126","v":6},{"$f":"D!F126","v":78},{"$f":"D!G126","v":6},{"$f":"D!H126","v":78},{"$f":"D!I126","v":6}]
[null,null,{"$f":"D!A127","v":126},{"$f":"D!B127","v":72.800000000000011},{"$f":"D!C127","v":5.6000000000000005},{"$f":"D!D127","v":82.471480868778784},{"$f":"D!E127","v":6.3439600668291369},{"$f":"D!F127","v":84.5},{"$f":"D!G127","v":6.5},{"$f":"D!H127","v":84.5},{"$f":"D!I127","v":6.5}]
[null,null,{"$f":"D!A128","v":127},{"$f":"D!B128","v":72.800000000000011},{"$f":"D!C128","v":5.6000000000000005},{"$f":"D!D128","v":82.471480868778784},{"$f":"D!E128","v":6.3439600668291369},{"$f":"D!F128","v":84.5},{"$f":"D!G128","v":6.5},{"$f":"D!H128","v":84.5},{"$f":"D!I128","v":6.5}]
[null,null,{"$f":"D!A129","v":128},{"$f":"D!B129","v":77.50806669862115},{"$f":"D!C129","v":5.9621589768170118},{"$f":"D!D129","v":82.471480868778784},{"$f":"D!E129","v":6.3439600668291369},{"$f":"D!F129","v":85.961690084968936},{"$f":"D!G129","v":6.6124376988437641},{"$f":"D!H129","v":88.477459651087315},{"$f":"D!I129","v":6.8059584346990238}]
[null,null,{"$f":"D!A130","v":129},{"$f":"D!B130","v":77.50806669862115},{"$f":"D!C130","v":5.9621589768170118},{"$f":"D!D130","v":82.471480868778784},{"$f":"D!E130","v":6.3439600668291369},{"$f":"D!F130","v":85.961690084968936},{"$f":"D!G130","v":6.6124376988437641},{"$f":"D!H130","v":88.477459651087315},{"$f":"D!I130","v":6.8059584346990238}]
[null,null,{"$f":"D!A131","v":130},{"$f":"D!B131","v":77.50806669862115},{"$f":"D!C131","v":5.9621589768170118},{"$f":"D!D131","v":82.471480868778784},{"$f":"D!E131","v":6.3439600668291369},{"$f":"D!F131","v":85.961690084968936},{"$f":"D!G131","v":6.6124376988437641},{"$f":"D!H131","v":88.477459651087315},{"$f":"D!I131","v":6.8059584346990238}]
[null,null,{"$f":"D!A132","v":131},{"$f":"D!B132","v":77.50806669862115},{"$f":"D!C132","v":5.9621589768170118},{"$f":"D!D132","v":82.471480868778784},{"$f":"D!E132","v":6.3439600668291369},{"$f":"D!F132","v":85.961690084968936},{"$f":"D!G132","v":6.6124376988437641},{"$f":"D!H132","v":88.477459651087315},{"$f":"D!I132","v":6.8059584346990238}]
[null,null,{"$f":"D!A133","v":132},{"$f":"D!B133","v":77.50806669862115},{"$f":"D!C133","v":5.9621589768170118},{"$f":"D!D133","v":82.471480868778784},{"$f":"D!E133","v":6.3439600668291369},{"$f":"D!F133","v":85.961690084968936},{"$f":"D!G133","v":6.6124376988437641},{"$f":"D!H133","v":88.477459651087315},{"$f":"D!I133","v":6.8059584346990238}]
[null,"Laktation",133,{"$f":"D!B134","v":77.50806669862115},{"$f":"D!C134","v":5.9621589768170118},{"$f":"D!D134","v":82.471480868778784},{"$f":"D!E134","v":6.3439600668291369},{"$f":"D!F134","v":85.961690084968936},{"$f":"D!G134","v":6.6124376988437641},{"$f":"D!H134","v":88.477459651087315},{"$f":"D!I134","v":6.8059584346990238}]
[null,null,139,{"$f":"D!B142","v":77.50806669862115},{"$f":"D!C142","v":5.9621589768170118},{"$f":"D!D142","v":82.471480868778784},{"$f":"D!E142","v":6.3439600668291369},{"$f":"D!F142","v":85.961690084968936},{"$f":"D!G142","v":6.6124376988437641},{"$f":"D!H142","v":88.477459651087315},{"$f":"D!I142","v":6.8059584346990238}]
[null,"Güst",140,{"$f":"D!B144","v":37},{"$f":"D!C144","v":3.0833333333333335},{"$f":"D!D144","v":42},{"$f":"D!E144","v":3.5},{"$f":"D!F144","v":43},{"$f":"D!G144","v":3.5833333333333335},{"$f":"D!H144","v":40},{"$f":"D!I144","v":3.3333333333333335}]

{"sheet":"Futterkurve Ferkel","index":20,"n_rows":31,"n_cols":16,"rows_kept":31,"cut":false,"hidden":false,"merged":[[11,12,11,13],[12,12,12,13],[13,12,13,13],[11,2,11,3],[11,4,11,5],[12,2,12,3],[12,4,12,5],[11,6,13,11],[13,2,13,3],[13,4,13,5],[3,4,3,6],[7,1,7,15],[10,6,10,7],[10,2,10,3],[10,4,10,5],[10,8,10,9],[9,6,9,7],[9,8,9,9],[9,10,9,11],[10,10,10,11],[9,12,9,13],[10,12,10,13],[9,1,10,1],[9,2,9,3],[9,4,9,5],[30,1,31,15],[14,2,14,3],[14,4,14,5],[14,10,14,11],[27,6,27,9],[14,6,14,7],[14,8,14,9],[15,2,15,15],[26,6,26,9],[29,1,29,5],[14,12,14,13],[25,6,25,9]]}
[]
[]
[]
[null,null,null,null,"Absetzfutter",null,null,null,"Ferkel I",null,null,"Ferkel II"]
[null,null,null,null,null,"MJ ME          ab 7,5 kg",null,null,"MJ ME            ab 12 kg",null,null,"MJ ME            ab 20 kg"]
[null,null,null,null,null,13.8,null,null,13.4,null,null,13]
[null,null,null,null,null,"Norm 13,8",null,null,"Norm 13,4",null,null,"Norm 13"]
[null,"Empfehlungen zur Nährstoffversorgung von Ferkeln für mittlere und hohe Tageszunahmen in der Aufzucht (DLG 2008 ergänzt)"]
[]
[null,"Lebens-woche","tägliche Zunahmen",null,"Gewicht Wochenende",null,"Energieaufnahme",null,"Futteraufnahme",null,"Futteraufnahme",null,"Futterverwertung",null,"pcv Lysin","Brutto Lysin"]
[null,null,"g",null,"kg",null,"MJ ME / Tag",null,"g / Tag 3)",null,"kg / Woche",null,"kg Futter/kg Zuwachs",null,"g / MJ ME","g / MJ ME"]
[null,"1.",200,null,2.9,null,"Sauenmilch eventuell Beifütterung"]
[null,"2.",225,null,4.5]
[null,"3.",260,null,6.3]
[null,"4. 1)",300,null,7.5,null,null,null,"20 - 50",null,"0,08 - 0,2",null,null,null,0.9,1]
[null,"Absetzen","Leitungsniveau (durschnschnittliche Tageszunahmen in g nach dem Absetzen)"]
[null,"(25. Tag)",450,500,450,500,450,500,450,500,450,500,450,500]
[null,"4. 2)",200,200,8.1,8.1,4.0999999999999996,4.0999999999999996,{"$f":"ROUND(G18*1000/$F$6,0)","v":297},{"$f":"ROUND(H18*1000/$F$6,0)","v":297},{"$f":"I18*3/1000","v":0.89100000000000001},{"$f":"J18*3/1000","v":0.89100000000000001},{"$f":"(K18)/(E18-$E$15)","v":1.485000000000001},{"$f":"(L18)/(F18-$E$15)","v":1.485000000000001},0.9,1]
[null,"5.",270,300,10,10.199999999999999,6,6.5,{"$f":"ROUND(G19*1000/$F$6,0)","v":435},{"$f":"ROUND(H19*1000/$F$6,0)","v":471},{"$f":"I19*7/1000","v":3.0449999999999999},{"$f":"J19*7/1000","v":3.2970000000000002},{"$f":"((K19))/(E19-E18)","v":1.6026315789473682},1.5700000000000003,0.9,1]
[null,"6.",350,400,12.4,13,7.6,8.3000000000000007,{"$f":"ROUND(G20*1000/$I$6,0)","v":567},{"$f":"ROUND(H20*1000/$I$6,0)","v":619},{"$f":"I20*7/1000","v":3.9689999999999999},4.3330000000000002,1.6537499999999996,1.5474999999999997,0.85,0.95]
[null,"7.",420,480,15.4,16.399999999999999,9.1999999999999993,10.3,{"$f":"ROUND(G21*1000/$I$6,0)","v":687},{"$f":"ROUND(H21*1000/$I$6,0)","v":769},4.8090000000000002,5.383,1.603,1.5832352941176477,0.85,0.95]
[null,"8.",510,580,19,20.399999999999999,11.3,12.6,{"$f":"ROUND(G22*1000/$L$6,0)","v":869},969,6.0830000000000002,6.7830000000000004,1.6897222222222223,1.6957500000000001,0.8,0.9]
[null,"9.",610,650,23.2,25,13.8,14.8,1062,1138,7.4340000000000002,7.9660000000000002,1.7700000000000002,1.7317391304347822,0.8,0.9]
[null,"10.",680,720,28,30,16.100000000000001,17.3,1238,1331,8.6660000000000004,9.3170000000000002,1.8054166666666664,1.8633999999999999,0.8,0.9]
[]
[null,null,null,null,null,null,"Summe Absetzfutterverbrauch in kg:",null,null,null,{"$f":"0.08*13.8/F6+K18+K19","v":4.016},{"$f":"0.2*13.8/F6+L18+L19","v":4.3879999999999999}]
[null,null,null,null,null,null,"Summe Ferkel I - Futterverbrauch in kg:",null,null,null,{"$f":"K20+K21","v":8.7780000000000005},{"$f":"L20+L21","v":9.7160000000000011}]
[null,null,null,null,null,null,"Summe Ferkel II - Futterverbrauch in kg:",null,null,null,{"$f":"K22+K23+K24","v":22.183},{"$f":"L22+L23+L24","v":24.066000000000003}]
[]
[null,"Summe bzw Ø:",null,null,null,null,460,501,null,null,{"$f":"SUM(K18:K24,0.08*13.8/F6)","v":34.976999999999997},{"$f":"SUM(L18:L24,0.2*13.8/F6)","v":38.17},{"$f":"(K30-(0.08*13.8/F6))/(E24-$E$15)","v":1.7022926829268292},{"$f":"(L30-(0.2*13.8/F6))/(F24-$E$15)","v":1.6875555555555555}]
[null,"1) bis zum 25. Tag; 2) 26-28. Tag; Absetzen mit 7,5 kg Lebendmasse; 3) je kg Futter; ab 4. Lebenswoche Absetzfutter mit normal 13,8 MJ ME, ab 6. Lebenswoche Ferkel I mit normal 13,4 MJ ME, ab 8. Lebenswoche Ferkel II mit normal 13,0 MJ ME"]

{"sheet":"Futterkurve Jungsauen","index":21,"n_rows":27,"n_cols":16,"rows_kept":27,"cut":false,"hidden":false,"merged":[[26,1,26,15],[12,1,12,15],[16,1,16,15],[20,1,20,15],[24,1,24,7],[24,10,24,15]]}
[]
[]
[]
[]
[null,null,"MJ ME          ab 28 kg",null,null,"MJ ME          ab 40 kg",null,null,"MJ ME            ab 70 kg",null,null,"MJ ME            ab 95 kg",null,null,"MJ ME          ab 120 kg"]
[null,null,13,null,null,13,null,null,13,null,null,13,null,null,13]
[null,null,"Norm 13,0",null,null,"Norm 12,6 - 13,0",null,null,"Norm 12,2 - 13,0",null,null,"Norm 13,0 - 13,4",null,null,"Norm 13,0 - 13,4"]
[]
[]
[]
[]
[]
[null,"Empfehlungen zur Nährstoffversorgung von Zuchtläufern und Jungsauen (GfE 2006 und DLG 2008 ergänzt)"]
[]
[null,"Lebend-gewicht","Zuwachs","ME","pcv Lysin *","ME","Rohprotein-gehalt","Futterauf-nahme","Futterauf-nahme gesamt","Futterver- wertung","pcv Lysin *","Lysin *","Lysin / MJ ME","Calcium","Phoshor ohne Phytase","verd. Phosphor ohne Phyt."]
[null,"kg","g / Tag","MJ / Tag","g / Tag","MJ / kg Futter","%","kg / Tag","kg ","kg Futter / kg Zuwachs","g / kg Futter","g / kg Futter","g / MJ ME","g / kg Futter","g / kg Futter","g / kg Futter"]
[null,"Aufzuchtphase"]
[null,"28 - 40",600,{"$f":"17*C18/600","v":17},{"$f":"11.4*C18/600","v":11.4},{"$f":"C6","v":13},"≥ 17",{"$f":"D18/F18","v":1.3076923076923077},{"$f":"12/(C18/1000)*H18","v":26.153846153846153},{"$f":"H18/(C18/1000)","v":2.1794871794871797},{"$f":"E18/H18","v":8.7176470588235304},{"$f":"K18/0.885","v":9.8504486540378871},{"$f":"L18/F18","v":0.75772681954137588},{"$f":"8*C6/13","v":8},{"$f":"N18/1.33","v":6.0150375939849621},{"$f":"N18/2.65","v":3.0188679245283021}]
[null,"40 - 70",680,{"$f":"24*C19/680","v":24},{"$f":"14*C19/680","v":14},{"$f":"F6","v":13},"≥ 16",{"$f":"D19/F19","v":1.8461538461538463},{"$f":"30/(C19/1000)*H19","v":81.447963800904986},{"$f":"H19/(C19/1000)","v":2.7149321266968327},{"$f":"E19/H19","v":7.583333333333333},{"$f":"K19/0.8","v":9.4791666666666661},{"$f":"L19/F19","v":0.72916666666666663},{"$f":"7*F6/13","v":7},{"$f":"N19/1.2","v":5.8333333333333339},{"$f":"N19/2.55","v":2.7450980392156863}]
[null,"70 - 95",700,{"$f":"30*C20/700","v":30},{"$f":"15.5*C20/700","v":15.5},{"$f":"I6","v":13},"≥ 15",{"$f":"D20/F20","v":2.3076923076923075},{"$f":"25/(C20/1000)*H20","v":82.417582417582409},{"$f":"H20/(C20/1000)","v":3.2967032967032965},{"$f":"E20/H20","v":6.7166666666666677},{"$f":"K20/0.8","v":8.3958333333333339},{"$f":"L20/F20","v":0.64583333333333337},{"$f":"6*I6/13","v":6},{"$f":"N20/1.2","v":5},{"$f":"N20/2.4","v":2.5}]
[null,"Eingliederungsphase"]
[null,"95 - 120",700,{"$f":"33*C22/700","v":33},{"$f":"13.1*C22/700","v":13.1},{"$f":"L6","v":13},14,{"$f":"D22/F22","v":2.5384615384615383},{"$f":"25/(C22/1000)*H22","v":90.659340659340657},{"$f":"H22/(C22/1000)","v":3.6263736263736264},{"$f":"E22/H22","v":5.1606060606060611},{"$f":"K22/0.8","v":6.4507575757575761},{"$f":"L22/F22","v":0.49621212121212122},{"$f":"6*L6/13","v":6},{"$f":"N22/1.2","v":5},{"$f":"N22/2.4","v":2.5}]
[null,"120 - 140",725,{"$f":"39*C23/700","v":40.392857142857146},{"$f":"13.9*C23/700","v":14.396428571428572},{"$f":"O6","v":13},"13 - 14",{"$f":"D23/F23","v":3.1071428571428572},{"$f":"20/(C23/1000)*H23","v":85.714285714285722},{"$f":"H23/(C23/1000)","v":4.2857142857142856},{"$f":"E23/H23","v":4.6333333333333337},{"$f":"K23/0.8","v":5.791666666666667},{"$f":"L23/F23","v":0.44551282051282054},{"$f":"6*O6/13","v":6},{"$f":"N23/1.2","v":5},{"$f":"N23/2.4","v":2.5}]
[]
[null,"Summe kg Futter und Ø Futterverwertung in kg Futter / kg Zuwachs:",null,null,null,null,null,null,{"$f":"SUM(I22:I24,I18:I20)","v":366.39301874595998},{"$f":"I25/112","v":3.2713662388032141}]
[]
[null,"* übrige Aminosäuren im Verhältnis: Lysin : Methionin / Cystin : Threonin : Tryptophan = 1 : 0,55 : 0,65 : 0,18"]

{"sheet":"Futterkurve Eber","index":22,"n_rows":27,"n_cols":17,"rows_kept":27,"cut":false,"hidden":false,"merged":[[26,1,26,16],[12,1,12,16],[16,1,16,16],[20,1,20,16],[24,1,24,7],[24,10,24,16]]}
[]
[]
[]
[]
[null,null,"MJ ME          ab 28 kg",null,null,"MJ ME          ab 60 kg",null,null,"MJ ME            ab 90 kg",null,null,null,"MJ ME            ab 120 kg",null,null,"MJ ME          ab 180 kg"]
[null,null,12.2,null,null,12,null,null,11.6,null,null,null,11.6,null,null,11.4]
[null,null,"Norm 11,8 - 12,6",null,null,"Norm 11,4 - 12,6",null,null,"Norm 11,4 - 12,6",null,null,null,"Norm 11,4 - 11,6",null,null,"Norm 11,4 - 11,6"]
[]
[]
[]
[]
[]
[null,"Empfehlungen zur Nährstoffversorgung von Jung- und Zuchtebern (GfE 2006 und Hühn 2008 ergänzt)"]
[]
[null,"Lebend-gewicht","Zuwachs","ME","pcv Lysin *","ME","Rohprotein-gehalt","Futterauf-nahme","Futterauf-nahme gesamt","Futterver- wertung","pcv Lysin *","Lysin *","Lysin / MJ ME","pcv Lysin / MJ ME","Calcium","Phoshor ohne Phytase","verd. Phosphor ohne Phyt."]
[null,"kg","g / Tag","MJ / Tag","g / Tag","MJ / kg Futter","%","kg / Tag","kg ","kg Futter / kg Zuwachs","g / kg Futter","g / kg Futter","g / MJ ME","g / MJ ME","g / kg Futter","g / kg Futter","g / kg Futter"]
[null,"Aufzuchtphase Jungeber"]
[null,"28 - 60",700,{"$f":"21*C18/700","v":21},{"$f":"14.8*C18/700","v":14.8},{"$f":"C6","v":12.2},"≥ 18",{"$f":"D18/F18","v":1.7213114754098362},{"$f":"32/(C18/1000)*H18","v":78.688524590163937},{"$f":"H18/(C18/1000)","v":2.4590163934426235},{"$f":"E18/H18","v":8.5980952380952385},{"$f":"K18/0.88","v":9.7705627705627709},{"$f":"L18/F18","v":0.80086580086580095},{"$f":"K18/F18","v":0.70476190476190481},{"$f":"12.5/H18*C6/13","v":6.815018315018313},{"$f":"O18/1.28","v":5.3242330586080566},{"$f":"O18/2.33","v":2.9249005643855419}]
[null,"60 - 90",850,{"$f":"27*C19/850","v":27},{"$f":"18.4*C19/850","v":18.399999999999999},{"$f":"F6","v":12},"≥ 18",{"$f":"D19/F19","v":2.25},{"$f":"30/(C19/1000)*H19","v":79.411764705882362},{"$f":"H19/(C19/1000)","v":2.6470588235294117},{"$f":"E19/H19","v":8.1777777777777771},{"$f":"K19/0.87","v":9.3997445721583652},{"$f":"L19/F19","v":0.78331204767986373},{"$f":"K19/F19","v":0.68148148148148147},{"$f":"16.5/H19*F6/13","v":6.7692307692307692},{"$f":"O19/1.28","v":5.2884615384615383},{"$f":"O19/2.5","v":2.7076923076923078}]
[null,"90 - 120",750,{"$f":"31*C20/750","v":31},{"$f":"20.1*C20/750","v":20.100000000000001},{"$f":"I6","v":11.6},"17 - 18",{"$f":"D20/F20","v":2.6724137931034484},{"$f":"30/(C20/1000)*H20","v":106.89655172413794},{"$f":"H20/(C20/1000)","v":3.563218390804598},{"$f":"E20/H20","v":7.5212903225806453},{"$f":"K20/0.86","v":8.7456864216054022},{"$f":"L20/F20","v":0.75393848462115542},{"$f":"K20/F20","v":0.64838709677419359},{"$f":"18/H20*I6/13","v":6.0101240694789073},{"$f":"O20/1.28","v":4.6954094292803958},{"$f":"O20/2.2","v":2.7318745770358666}]
[null,"Zuchteber"]
[null,"120 - 180",400,{"$f":"30*C22/400","v":30},{"$f":"18*C22/400","v":18},{"$f":"M6","v":11.6},"≥ 16",{"$f":"D22/F22","v":2.5862068965517242},{"$f":"60/(C22/1000)*H22","v":387.93103448275861},{"$f":"H22/(C22/1000)","v":6.4655172413793105},{"$f":"E22/H22","v":6.96},{"$f":"K22/0.85","v":8.1882352941176464},{"$f":"L22/F22","v":0.70588235294117641},{"$f":"K22/F22","v":0.6},{"$f":"21/H22*M6/13","v":7.2455384615384606},{"$f":"O22/1.28","v":5.6605769230769223},{"$f":"O22/2.75","v":2.6347412587412582}]
[null,"über 180",200,{"$f":"30*C23/200","v":30},{"$f":"16*C23/200","v":16},{"$f":"P6","v":11.4},"≥ 15",{"$f":"D23/F23","v":2.6315789473684208},null,null,{"$f":"E23/H23","v":6.080000000000001},{"$f":"K23/0.85","v":7.1529411764705895},{"$f":"L23/F23","v":0.62745098039215697},{"$f":"K23/F23","v":0.53333333333333344},{"$f":"21/H23*P6/13","v":6.9978461538461545},{"$f":"O23/1.28","v":5.4670673076923082},{"$f":"O23/2.75","v":2.5446713286713289}]
[]
[null,"Summe kg Futter und Ø Futterverwertung in kg Futter / kg Zuwachs bis 180 kg LM:",null,null,null,null,null,null,{"$f":"SUM(I22:I24,I18:I20)","v":652.92787550294281},{"$f":"I25/152","v":4.2955781283088346}]
[]
[null,"* übrige Aminosäuren im Verhältnis: Lysin : Methionin / Cystin : Threonin : Tryptophan = 1 : 0,7 : 0,65 : 0,18"]

{"sheet":"Vit. & Spurenel.","index":23,"n_rows":161,"n_cols":9,"rows_kept":161,"cut":false,"hidden":false,"merged":[[138,1,138,8],[134,5,134,6],[134,7,134,8],[135,5,135,6],[135,7,135,8],[136,5,136,6],[137,5,137,6],[137,7,137,8],[133,5,133,6],[133,7,133,8],[127,5,127,6],[127,7,127,8],[128,5,128,6],[128,7,128,8],[129,5,129,6],[129,7,129,8],[130,5,130,6],[131,5,131,6],[131,7,131,8],[132,5,132,6],[132,7,132,8],[126,5,126,6],[126,7,126,8],[120,5,120,6],[120,7,120,8],[121,5,121,6],[121,7,121,8],[122,5,122,6],[122,7,122,8],[123,5,123,6],[123,7,123,8],[124,5,124,6],[125,5,125,6],[125,7,125,8],[119,5,119,6],[119,7,119,8],[112,5,112,6],[113,5,113,6],[113,7,113,8],[114,5,114,6],[114,7,114,8],[115,5,115,6],[115,7,115,8],[116,5,116,6],[116,7,116,8],[117,5,117,6],[117,7,117,8],[118,5,118,6],[109,5,109,6],[109,7,109,8],[110,5,110,6],[110,7,110,8],[111,5,111,6],[111,7,111,8],[108,5,108,6],[108,7,108,8],[102,5,102,6],[102,7,102,8],[103,5,103,6],[103,7,103,8],[104,5,104,6],[104,7,104,8],[105,5,105,6],[105,7,105,8],[106,5,106,6],[107,5,107,6],[107,7,107,8],[99,2,101,3],[4,0,4,9],[6,2,6,3],[6,5,6,6],[6,7,6,8],[7,2,9,3],[30,4,31,4],[30,6,31,6],[30,7,31,7],[80,2,82,2],[97,1,97,8],[98,2,98,3],[98,5,98,6],[98,7,98,8]]}
[]
[]
[]
[]
["Vergleich Empfehlungen zu Vitamin- und Spurenelementegehalten je kg Alleinfutter (88% TM)"]
[]
[null,"von","Vitamine",null,"Zuchtsauen","Ferkel",null,"Mast"]
[null,null,null,null,"a) tragende Sauen"]
[null,null,null,null,"und Zuchtläufer"]
[null,null,null,null,"b) laktierende Sauen","Saugferkel","Aufzuchtferkel","Anfangsmast","Endmast"]
[null,"DLG","A ","I.E.","4000a) - 2300b)",4000,4000,2200,2200]
[null,"LfL",null,null," 5000a) - 3000b)",10000,"5000 - 10000 1)",7000,5000]
[null,"LWK Nds.",null,null,"10000 - 12000","-","10000 - 15000",6000,5000]
[null,"RM",null,null,"12000","-","12000 - 16000","6500","6500"]
[null,"NSNG",null,null,8800,6600,6600,5500,4400]
[null,"AWT",null,null,"12000 - 20000","15000 - 20000","12000 - 20000","10000 - 12000","8000 - 10000"]
[null,null,"höchstens*",null,"(12000 *)","(16000 *)","(16000 *)","(6500 *)","(6500 *)"]
[null,"DLG","D3 ","I.E.",200,500,500,"150-200","150 - 200"]
[null,"LfL",null,null,500,1000,"500 - 1000 1)",500,300]
[null,"LWK Nds.",null,null,"1000 - 1500","-","1000 - 1500","1000 - 1500","600 - 1000"]
[null,"RM",null,null,"1500 - 2000","-","1500 - 2000","1500 - 2000","1000 - 1500"]
[null,"NSNG",null,null,660,660,660,550,440]
[null,"AWT",null,null,"1500 - 2000","1800 - 2000","1500 - 2000","1500 - 2000","1000 - 1500"]
[null,null,"höchstens*",null,"(2000 *)","(10000 *)","(10000 *)","(2000 *)","(2000 *)"]
[null,"DLG","E","I.E.","15 a) - 30 b)",15,15,15,15]
[null,null,null,null,null,"225 - 285 2)",null,null,"170 - 335 3)"]
[null,"LfL",null,null,"60 - 100","60 - 100","60 - 100","60 - 80","60 - 80"]
[null,"LWK Nds.",null,null,"40 - 80","-","50 - 100","40 - 80","30 - 60"]
[null,"RM",null,null,"40 - 80","-","50 - 100","40 - 80","20 - 60"]
[null,"NSNG",null,null,66,66,66,33,26]
[null,"AWT",null,null,"60 - 80","80 - 120","70 - 100","60 - 80","40 - 60"]
[null,null,null,null,null,"250 1)",null,null,"150 - 200 3)"]
[null,"DLG","K3","mg","(0,1) 4)",0.15,0.15,"(0,1) 4)","(0,1) 4)"]
[null,"LfL",null,null,"(0 - 2)","2 - 4","2 - 4","1 - 2","0,5 - 1"]
[null,"LWK Nds.",null,null,"0 - 2","-","1 - 3","-","-"]
[null,"RM",null,null,"0 - 2","-","2 - 3","2 - 3",2]
[null,"NSNG",null,null,4.4000000000000004,4.4000000000000004,4.4000000000000004,2.2000000000000002,1.8]
[null,"AWT",null,null,2,"2 - 4","2 - 3","2 - 3","2"]
[null,"DLG","B1","mg",1.7,1.7,1.7,1.7,1.7]
[null,"LfL",null,null,"2","2 - 3","2 - 3","2","2"]
[null,"LWK Nds.",null,null,"1 - 2","-","2 - 3","-","-"]
[null,"RM",null,null,"1,5 - 2","-","2 - 3",2,1]
[null,"NSNG",null,null,"-","-","-","-","-"]
[null,"AWT",null,null,"2","3 - 4","2 - 3","2","1"]
[null,"DLG","B2","mg",4.2,4.4000000000000004,3.7,2.8,2.2999999999999998]
[null,"LfL",null,null,"5 - 7","5 - 7","5 - 7","4","3"]
[null,"LWK Nds.",null,null,"4 - 7","-","4 - 7","4 - 6","3 - 5"]
[null,"RM",null,null,"5 - 7","-","5 - 7","4 - 6","3 - 5"]
[null,"NSNG",null,null,8.8000000000000007,8.8000000000000007,8.8000000000000007,8.8000000000000007,6.6]
[null,"AWT",null,null,"5 - 7","6 - 8","5 - 7","4 - 6","3 - 5"]
[null,"DLG","B6","mg",1.5,3,3,3,3]
[null,"LfL",null,null,"2 - 4","3 - 5","3 - 5","4","3"]
[null,"LWK Nds.",null,null,"2 - 5","-","3 - 6","3 - 4","2 - 3"]
[null,"RM",null,null,"4 - 6","-","4 - 6","3 - 5","2 - 4"]
[null,"NSNG",null,null,0,0,0,0,0]
[null,"AWT",null,null,"4 - 6","5 - 7","4 - 6","3 - 5","2 - 4"]
[null,"DLG","B12","mcg",17,40,23,10,10]
[null,"LfL",null,null,"20 - 25","30 - 50","30 - 50","20 - 30","15 - 25"]
[null,"LWK Nds.",null,null,"15 - 20","-","20 - 40","20 - 30","15 - 20"]
[null,"RM",null,null,"20 - 30","-","30 - 50","20 - 30","15 - 25"]
[null,"NSNG",null,null,22,44,44,22,18]
[null,"AWT",null,null,"20 - 30","40 - 60","30 - 50","20 - 30","15 - 25"]
[null,"DLG","Biotin","mcg",220,90,90,60,60]
[null,"LfL",null,null,"200 - 300","150 - 250","150 - 250","100 - 150","50 - 80"]
[null,"LWK Nds.",null,null,"200","-","100 - 150","-","-"]
[null,"RM",null,null,"200 - 300","-","150 - 250","100 - 150","50 - 80"]
[null,"NSNG",null,null,220,0,0,0,0]
[null,"AWT",null,null,"200 - 300","250 - 350","150 - 250","100 - 150","50 - 80"]
[null,"DLG","Cholin","mg",1200,1000,1000,800,500]
[null,"LfL",null,null,"1200","1000","1000","800","500"]
[null,"LWK Nds.",null,null,"1200","-","1200","-","-"]
[null,"RM",null,null,"300 - 500","-","300 - 500","250 - 400","250 - 400"]
[null,"NSNG",null,null,550,0,0,0,0]
[null,"AWT",null,null,"300 - 500","400 - 600","300 - 500","250 - 400","200 - 350"]
[null,"DLG","Folsäure","mg",1.44,0.33,0.33,0.33,0.33]
[null,"LfL",null,null,"2 - 3","0,5 - 1","0,5 - 1","0,5","0,3"]
[null,"LWK Nds.",null,null,"2 - 3","-","1 - 2","-","-"]
[null,"RM",null,null,"2 - 3","-",2,1,"-"]
[null,"NSNG",null,null,1.65,0,0,0,0]
[null,"AWT",null,null,"2 - 3","2","2","1","1"]
[null,"DLG","Niacin (Nikotinsäure)","mg",11,20,15,15,15]
[null,"LfL",null,null,"20 - 40","30 - 40","30 - 40","20 - 30","15 - 25"]
[null,"LWK Nds.",null,null,"20 - 40","-","25 - 45","20 - 30","15 - 20"]
[null,"RM",null,null,"30 - 40","-","30 - 40","20 - 30","15 - 25"]
[null,"NSNG",null,null,33,49,49,24,20]
[null,"AWT",null,null,"30 - 40","40 - 50","30 - 40","20 - 30","15 - 25"]
[null,"DLG","Panthothensäure","mg",13,13,13,10,10]
[null,"LfL",null,null,"15 - 20","10 - 15","10 - 15","10 - 14","8 - 12"]
[null,"LWK Nds.",null,null,"10 - 16","-","10 - 16","10 - 14","8 - 12"]
[null,"RM",null,null,"12 - 16","-","12 - 16","10 - 14","6 - 12"]
[null,"NSNG",null,null,22,26,26,15,13]
[null,"AWT",null,null,"12 - 16","15 - 20","12 - 16","10 - 14","8 - 12"]
[null,"LfL","Vit. C (bei Streß)","mg","(100 - 200)","100 - 150 5)","100 - 150 5)","-","-"]
[null,"RM",null,null,"150 - 200 5)","-","100 - 150 5)","-","-"]
[null,"AWT",null,null,"150 - 200 6)","150 - 200","100 - 150 5)","50 - 100 5)","50 - 100 5)"]
[null,"LfL","L-Carnitin","mg","50","-","-","-","-"]
[null,"AWT","ß-Carotin","mg","300 6)","-","-","-","-"]
[]
[null,"von","Spurenelemente",null,"Zuchtsauen","Ferkel",null,"Mast"]
[null,null,null,null,"a) tragende Sauen"]
[null,null,null,null,"und Zuchtläufer"]
[null,null,null,null,"b) laktierende Sauen","Saugferkel","Aufzuchtferkel","Anfangsmast","Endmast"]
[null,"DLG","Eisen (Fe)","mg",80,"100 7)",null,"50 - 60"]
[null,"LfL",null,null,"80 - 100","100 - 120 7)",null,"50 - 60"]
[null,"LWK Nds.",null,null,"80 - 100","100 - 150 7)",null,"> 50"]
[null,"RM",null,null,"100 - 150","100 - 150 7)",null,"50 - 75"]
[null,"NSNG",null,null,165,"165 7)",null,125,100]
[null,null,"höchstens *",null,"(750 *)","(250/Tag bis 1 Woche vor dem Absetzen ansonsten 750 *)",null,"(750 *)"]
[null,"DLG","Kupfer (Cu)","mg","8a) - 10b)",6,null,"4 - 5"]
[null,"LfL",null,null,"15 - 20","20 - 170",null,"10 - 15"]
[null,"LWK Nds.",null,null,"10 - 15","20",null,"> 10"]
[null,"RM",null,null,"10 - 25","25 - 170",null,"15 - 25"]
[null,"NSNG",null,null,"16","16",null,"12","10"]
[null,null,"höchstens *",null,"(25 *)","(170 bis 12. Lebenswoche *)",null,"(25 *)"]
[null,"DLG","Zink (Zn)","mg",50,"80 - 100",null,"50 - 60"]
[null,"LfL",null,null,"60 - 80","70 - 100",null,"50 - 60"]
[null,"LWK Nds.",null,null,"50 - 80","100",null,"> 50"]
[null,"RM",null,null,"100 - 150","100 - 150",null,"50 - 60"]
[null,"NSNG",null,null,165,165,null,125,100]
[null,null,"höchstens *",null,"(150 *)","(150 *)",null,"(150 *)"]
[null,"DLG","Mangan (Mn)","mg","20 - 25",20,null,20]
[null,"LfL",null,null,"30b) - 50a)","30 - 501)",null,"30 - 50"]
[null,"LWK Nds.",null,null,"20 - 40","30 - 50",null,"> 20"]
[null,"RM",null,null,"50 - 100","50 - 100",null,"20 - 40"]
[null,"NSNG",null,null,30,10,null,6,5]
[null,null,"höchstens *",null,"(150 *)","(150 *)",null,"(150 *)"]
[null,"DLG","Jod (J)","mg","0,6 8)","0,15 8)",null,"0,15 8)"]
[null,"LfL",null,null,"1 - 1,5","1 - 1,5",null,"1 - 1,5"]
[null,"LWK Nds.",null,null,"0,6 - 0,7 (1,0) 8)","0,15 - 0,20 (0,30) 8)",null,"> 0,15 (0,5) 8)"]
[null,"RM",null,null,"1 - 1,5","0,25 - 0,5",null,0.15]
[null,"NSNG",null,null,0.3,0.3,null,0.25,0.2]
[null,null,"höchstens *",null,"(10 *)","(10 *)",null,"(10 *)"]
[null,"DLG","Selen (Se)","mg",0.2,0.25,null,"0,15 - 0,20"]
[null,"LfL",null,null,"0,2 - 0,4","0,2 - 0,4",null,"0,2 - 0,3"]
[null,"LWK Nds.",null,null,"0,3 - 0,4","0,3 - 0,4",null,"> 0,2"]
[null,"RM",null,null,"0,3 - 0,5","0,3 - 0,5",null,"0,2 - 0,5"]
[null,"NSNG",null,null,0.3,0.3,null,0.25,0.2]
[null,null,"höchstens *",null,"   (0,5 *)","(0,5 *)",null,"(0,5 *)"]
[null,"Quelle: DLG-Information 1/2008, DLG \"Erfolgreiche Mastschweinefütterung\" 2010, LfL \"Futterberechnung für Schweine\" 21. Auflage 2014, offizielle Beraterempfehlungen der LWK Nds. 2015, RM=Rechenmeister NRW 2016, National Swine Nutrition Guide 2006 Autoren: Duane E. Reese, University of Nebraska, Gretchen Myers Hill, Michigan State University, AWT \"Vitamine in der Tierernährung\" 2001 und Grüne Broschüre Futtermittelrecht 2009"]
[]
[null,null,"1)  im Ferkelfutter bis 20 kg LM"]
[null,null,"2)     zur Verbesserung der Immunität"]
[null,null,"3)    zur Verbesserung der Fleischqualität durch antioxidative Wirkung"]
[null,null,"4)    Empfehlung unsicher (mikrobielle Synthese)"]
[null,null,"5)    unter Stressbedingungen und zur Steigerung der Reproduktionsleistung"]
[null,null,"6)   zur Verbesserung der Fruchtbarkeit vom Absetzen bis zum erfolreichen Wiederholen (mg/Tier/Tag)"]
[null,null,"7)    bei Saugferkeln mind. 200 mg Fe intramuskulär 2. - 3. Tag nach der Geburt oder oral nach der Geburt"]
[null,null,"8)    bei Einsatz von glucosinolathaltigen Futtermitteln (z.B. Rapsschrot) Erhöhung erforderlich,"]
[null,null,"    wenn Glucosinolatgehalt > 1,5 mmol/kg Futter"]
[]
[null,null,"* z.Zt. futtermittelrechtliche zulässige Höchstgehalte je kg Alleinfutter (mit 88 % Trockenmasse)"]
[null,null,"* Vitamin A","Mastschweine 6500 I.E. Ferkel 16000 I.E., Sauen 12000 I.E"]
[null,null,"* Vitamin D","Ferkel 10000 I.E. und sonstige Schweine 2000 I.E."]
[null,null,"* Eisen","max. 750 mg und Saugferkel max. 250 mg/Tag bis 1 Woche vor dem Absetzen"]
[null,null,"* Kupfer","bis 12. Lebenswoche 170 mg, über 12. Lebenswoche 25 mg. Wachstumsfördernde Wirkung "]
[null,null,null,"durch bedarfsüberschreitende Versorgung insbesondere bei Ferkeln"]
[null,null,"* Zink","max. 150 mg. Mast max. 120 mg. Positive Effekte auf Futterverwertung, "]
[null,null,null,"Wachstum u. Durchfallerkrankungen"]
[null,null,"* Mangan","max. 150 mg"]
[null,null,"* Jod","max. 10 mg"]
[null,null,"* Selen","max. 0,5 mg. Antioxidativ und immunstimulierend"]

{"sheet":"XP u. ME-Rechner Min.fu.","index":24,"n_rows":35,"n_cols":12,"rows_kept":35,"cut":false,"hidden":false,"merged":[[23,2,23,3],[34,2,34,3],[23,8,23,9]]}
[]
[]
[]
[null,null,"XP* in 1 kg","% im Minfu"]
[null,null,null,"hier Eingabe"]
[null,"L-Lysin-HCL",954,0.1,{"$f":"D6*C6/0.78","v":122.30769230769231}]
[null,"Methionin (DL-Meth.)",584,0.03,{"$f":"D7*C7/0.99","v":17.696969696969695}]
[null,"Thr (L-Thr.)",731,2.5000000000000001E-2,{"$f":"D8*C8/0.98","v":18.647959183673471}]
[null,"Tryptophan (L-Try.)",853,2E-3,{"$f":"D9*C9/0.98","v":1.7408163265306122}]
[]
[null,null,null,"Ergebnis",{"$f":"SUM(E6:E9)","v":160.39343751486609},"g XP/kg Min.fu."]
[]
[null,null,"* Rohproteinäquivalente"]
[]
[null,null,"MJ ME** in 1 kg",null,null,null,null,null,"MJ NE_GP in 1 kg"]
[]
[null,"L-Lysin-HCL",19.559999999999999,{"$f":"D6","v":0.1},{"$f":"D17*C17/0.78","v":2.5076923076923077},null,null,"L-Lysin-HCL",13.75,{"$f":"D6","v":0.1},{"$f":"D17*I17/0.78","v":1.7628205128205128}]
[null,"Methionin (DL-Meth.)",11.97,{"$f":"D7","v":0.03},{"$f":"D18*C18/0.99","v":0.36272727272727279},null,null,"Methionin (DL-Meth.)",13.14,{"$f":"D7","v":0.03},{"$f":"D18*I18/0.99","v":0.39818181818181819}]
[null,"Thr (L-Thr.)",14.99,{"$f":"D8","v":2.5000000000000001E-2},{"$f":"D19*C19/0.98","v":0.38239795918367353},null,null,"Thr (L-Thr.)",13.38,{"$f":"D8","v":2.5000000000000001E-2},{"$f":"D19*I19/0.98","v":0.34132653061224494}]
[null,"Tryptophan (L-Try.)",17.489999999999998,{"$f":"D9","v":2E-3},{"$f":"D20*C20/0.98","v":3.5693877551020409E-2},null,null,"Tryptophan (L-Try.)",13.58,{"$f":"D9","v":2E-3},{"$f":"D20*I20/0.98","v":2.7714285714285716E-2}]
[]
[null,null,null,"Ergebnis",{"$f":"SUM(E17:E20)","v":3.2885114171542744},"MJ ME/kg Min.fu.",null,null,null,"Ergebnis",{"$f":"SUM(K17:K20)","v":2.5300431473288616},"MJ ME/kg Min.fu."]
[]
[null,null,"** nach Einzelfutterformel",null,null,null,null,null,"** nach Einzelfutterformel"]
[]
[null,null,"MJ ME*** in 1 kg",null,null,null,null,null,"MJ NE_S in 1 kg"]
[]
[null,"L-Lysin-HCL",{"$f":"Futtermittel!M131","v":20.513862},{"$f":"D17","v":0.1},{"$f":"D28*C28/0.78","v":2.6299823076923077},null,null,"L-Lysin-HCL",13.91,{"$f":"D17","v":0.1},{"$f":"D28*I28/0.78","v":1.7833333333333332}]
[null,"Methionin (DL-Meth.)",{"$f":"Futtermittel!M132","v":12.557752000000001},{"$f":"D18","v":0.03},{"$f":"D29*C29/0.99","v":0.38053793939393937},null,null,"Methionin (DL-Meth.)",13.32,{"$f":"D18","v":0.03},{"$f":"D29*I29/0.99","v":0.40363636363636363}]
[null,"Thr (L-Thr.)",{"$f":"Futtermittel!M133","v":15.718693000000002},{"$f":"D19","v":2.5000000000000001E-2},{"$f":"D30*C30/0.98","v":0.40098706632653069},null,null,"Thr (L-Thr.)",13.55,{"$f":"D19","v":2.5000000000000001E-2},{"$f":"D30*I30/0.98","v":0.34566326530612251}]
[null,"Tryptophan (L-Try.)",{"$f":"Futtermittel!M134","v":18.342059000000003},{"$f":"D20","v":2E-3},{"$f":"D31*C31/0.98","v":3.7432773469387767E-2},null,null,"Tryptophan (L-Try.)",13.75,{"$f":"D20","v":2E-3},{"$f":"D31*I31/0.98","v":2.8061224489795918E-2}]
[]
[null,null,null,"Ergebnis",{"$f":"SUM(E28:E31)","v":3.4489400868821654},"MJ ME/kg Min.fu.",null,null,null,"Ergebnis",{"$f":"SUM(K28:K31)","v":2.5606941867656152},"MJ ME/kg Min.fu."]
[]
[null,null,"*** nach Mischfutterformel neu"]

{"sheet":"Ausdruck NIRS-Analysen","index":25,"n_rows":34,"n_cols":14,"rows_kept":34,"cut":false,"hidden":false,"merged":[[10,12,10,13],[5,1,5,13],[10,10,10,11],[10,3,10,9],[7,2,7,4],[7,7,7,11]]}
[]
[]
[]
[]
[null,null,null,null,null,null,null,null,null,null,null,null,"Datum:","2018-08-01"]
[null,"Ausdruck Vergleich Ration zu NIRS Futteranalyse Futterberechnung 1"]
[]
[null,null,{"$f":"IF(Futterberechnung!C33=\"\",\"\",Futterberechnung!C33)","v":"Vormast 28 - 40 Kg LM für 850 g TZ*"},null,null,null,"Betrieb:",{"$f":"IF(Futterberechnung!H5=\"\",\"\",Futterberechnung!H5)","v":"Mustermann"}]
[]
[null,{"$f":"IF(Futterberechnung!C12=\"\",\"\",Futterberechnung!C12)","v":"Futtermittel + % RP in der FM"},"Anteil in FM","TM","Rohasche XA","Rohprotein XP","Rohfaser XF","Rohfett XL","Stärke S","Zucker Z","Energie EFF","Energie MFF","DON","ZEA"]
[null,null,"%","in Prozent/kg",null,null,null,null,null,null,"in MJ ME",null,"in mg/kg"]
[]
[null,{"$f":"IF(Futterberechnung!C13=\"\",\"\",Futterberechnung!C13)","v":"eigener Weizen 10% RP Ø 2018"},{"$f":"IF(B13=\"\",\"\",Futterberechnung!F13)","v":0.53849999999999998},{"$f":"IFERROR(IF(Futterberechnung!I13=\" \",\"\",Futterberechnung!I13/Futterberechnung!F13%/1000),\"\")","v":88},{"$f":"IFERROR(IF(Futterberechnung!L46=\" \",\"\",Futterberechnung!L46/Futterberechnung!F13%/1000),\"\")","v":1.66},{"$f":"IFERROR(IF(Futterberechnung!J13=\" \",\"\",Futterberechnung!J13/Futterberechnung!$F13%/1000),\"\")","v":9.9039999999999999},{"$f":"IFERROR(IF(Futterberechnung!L13=\" \",\"\",Futterberechnung!L13/Futterberechnung!$F13%/1000),\"\")","v":2.637},{"$f":"IFERROR(IF(Futterberechnung!I46=\" \",\"\",Futterberechnung!I46/Futterberechnung!$F13%/1000),\"\")","v":1.766},{"$f":"IFERROR(IF(Futterberechnung!J46=\" \",\"\",Futterberechnung!J46/Futterberechnung!$F13%/1000),\"\")","v":59.859999999999992},{"$f":"IFERROR(IF(Futterberechnung!K46=\" \",\"\",Futterberechnung!K46/Futterberechnung!$F13%/1000),\"\")","v":2.8},{"$f":"IFERROR(IF(Futterberechnung!M13=\" \",\"\",Futterberechnung!M13/Futterberechnung!$F13%/100),\"\")","v":13.627244000000001},{"$f":"IFERROR(IF(Futterberechnung!N13=\" \",\"\",Futterberechnung!N13/Futterberechnung!$F13%/100),\"\")","v":13.700031999999998},{"$f":"IFERROR(IF(Futterberechnung!AC46=\" \",\"\",Futterberechnung!AC46/Futterberechnung!$F13%/100),\"\")","v":0},{"$f":"IFERROR(IF(Futterberechnung!AD46=\" \",\"\",Futterberechnung!AD46/Futterberechnung!$F13%/100),\"\")","v":0}]
[null,{"$f":"IF(Futterberechnung!C14=\"\",\"\",Futterberechnung!C14)","v":"eigene Gerste 10% RP Ø 2018"},{"$f":"IF(B14=\"\",\"\",Futterberechnung!F14)","v":0.25},{"$f":"IFERROR(IF(Futterberechnung!I14=\" \",\"\",Futterberechnung!I14/Futterberechnung!F14%/1000),\"\")","v":88},{"$f":"IFERROR(IF(Futterberechnung!L47=\" \",\"\",Futterberechnung!L47/Futterberechnung!F14%/1000),\"\")","v":2.36},{"$f":"IFERROR(IF(Futterberechnung!J14=\" \",\"\",Futterberechnung!J14/Futterberechnung!$F14%/1000),\"\")","v":9.7129999999999992},{"$f":"IFERROR(IF(Futterberechnung!L14=\" \",\"\",Futterberechnung!L14/Futterberechnung!$F14%/1000),\"\")","v":5.5590000000000002},{"$f":"IFERROR(IF(Futterberechnung!I47=\" \",\"\",Futterberechnung!I47/Futterberechnung!$F14%/1000),\"\")","v":2.379},{"$f":"IFERROR(IF(Futterberechnung!J47=\" \",\"\",Futterberechnung!J47/Futterberechnung!$F14%/1000),\"\")","v":50.23},{"$f":"IFERROR(IF(Futterberechnung!K47=\" \",\"\",Futterberechnung!K47/Futterberechnung!$F14%/1000),\"\")","v":2.2999999999999998},{"$f":"IFERROR(IF(Futterberechnung!M14=\" \",\"\",Futterberechnung!M14/Futterberechnung!$F14%/100),\"\")","v":12.512543189999999},{"$f":"IFERROR(IF(Futterberechnung!N14=\" \",\"\",Futterberechnung!N14/Futterberechnung!$F14%/100),\"\")","v":12.493114420000001},{"$f":"IFERROR(IF(Futterberechnung!AC47=\" \",\"\",Futterberechnung!AC47/Futterberechnung!$F14%/100),\"\")","v":0},{"$f":"IFERROR(IF(Futterberechnung!AD47=\" \",\"\",Futterberechnung!AD47/Futterberechnung!$F14%/100),\"\")","v":0}]
[null,{"$f":"IF(Futterberechnung!C15=\"\",\"\",Futterberechnung!C15)","v":"Sojaschrot HP 47% RP "},{"$f":"IF(B15=\"\",\"\",Futterberechnung!F15)","v":0.161},{"$f":"IFERROR(IF(Futterberechnung!I15=\" \",\"\",Futterberechnung!I15/Futterberechnung!F15%/1000),\"\")","v":88.999999999999986},{"$f":"IFERROR(IF(Futterberechnung!L48=\" \",\"\",Futterberechnung!L48/Futterberechnung!F15%/1000),\"\")","v":6.7},{"$f":"IFERROR(IF(Futterberechnung!J15=\" \",\"\",Futterberechnung!J15/Futterberechnung!$F15%/1000),\"\")","v":47},{"$f":"IFERROR(IF(Futterberechnung!L15=\" \",\"\",Futterberechnung!L15/Futterberechnung!$F15%/1000),\"\")","v":5.2},{"$f":"IFERROR(IF(Futterberechnung!I48=\" \",\"\",Futterberechnung!I48/Futterberechnung!$F15%/1000),\"\")","v":1.9},{"$f":"IFERROR(IF(Futterberechnung!J48=\" \",\"\",Futterberechnung!J48/Futterberechnung!$F15%/1000),\"\")","v":4.2},{"$f":"IFERROR(IF(Futterberechnung!K48=\" \",\"\",Futterberechnung!K48/Futterberechnung!$F15%/1000),\"\")","v":9.1},{"$f":"IFERROR(IF(Futterberechnung!M15=\" \",\"\",Futterberechnung!M15/Futterberechnung!$F15%/100),\"\")","v":13.857122999999996},{"$f":"IFERROR(IF(Futterberechnung!N15=\" \",\"\",Futterberechnung!N15/Futterberechnung!$F15%/100),\"\")","v":13.841379},{"$f":"IFERROR(IF(Futterberechnung!AC48=\" \",\"\",Futterberechnung!AC48/Futterberechnung!$F15%/100),\"\")","v":0},{"$f":"IFERROR(IF(Futterberechnung!AD48=\" \",\"\",Futterberechnung!AD48/Futterberechnung!$F15%/100),\"\")","v":0}]
[null,{"$f":"IF(Futterberechnung!C16=\"\",\"\",Futterberechnung!C16)","v":"Rapsöl / Pflanzenöl DLG 2014"},{"$f":"IF(B16=\"\",\"\",Futterberechnung!F16)","v":1.55E-2},{"$f":"IFERROR(IF(Futterberechnung!I16=\" \",\"\",Futterberechnung!I16/Futterberechnung!F16%/1000),\"\")","v":99.9},{"$f":"IFERROR(IF(Futterberechnung!L49=\" \",\"\",Futterberechnung!L49/Futterberechnung!F16%/1000),\"\")","v":0},{"$f":"IFERROR(IF(Futterberechnung!J16=\" \",\"\",Futterberechnung!J16/Futterberechnung!$F16%/1000),\"\")","v":0},{"$f":"IFERROR(IF(Futterberechnung!L16=\" \",\"\",Futterberechnung!L16/Futterberechnung!$F16%/1000),\"\")","v":0},{"$f":"IFERROR(IF(Futterberechnung!I49=\" \",\"\",Futterberechnung!I49/Futterberechnung!$F16%/1000),\"\")","v":99.8},{"$f":"IFERROR(IF(Futterberechnung!J49=\" \",\"\",Futterberechnung!J49/Futterberechnung!$F16%/1000),\"\")","v":0},{"$f":"IFERROR(IF(Futterberechnung!K49=\" \",\"\",Futterberechnung!K49/Futterberechnung!$F16%/1000),\"\")","v":0},{"$f":"IFERROR(IF(Futterberechnung!M16=\" \",\"\",Futterberechnung!M16/Futterberechnung!$F16%/100),\"\")","v":38.925992000000001},{"$f":"IFERROR(IF(Futterberechnung!N16=\" \",\"\",Futterberechnung!N16/Futterberechnung!$F16%/100),\"\")","v":32.432006000000008},{"$f":"IFERROR(IF(Futterberechnung!AC49=\" \",\"\",Futterberechnung!AC49/Futterberechnung!$F16%/100),\"\")","v":0},{"$f":"IFERROR(IF(Futterberechnung!AD49=\" \",\"\",Futterberechnung!AD49/Futterberechnung!$F16%/100),\"\")","v":0}]
[null,{"$f":"IF(Futterberechnung!C17=\"\",\"\",Futterberechnung!C17)","v":""},{"$f":"IF(B17=\"\",\"\",Futterberechnung!F17)","v":""},{"$f":"IFERROR(IF(Futterberechnung!I17=\" \",\"\",Futterberechnung!I17/Futterberechnung!F17%/1000),\"\")","v":""},{"$f":"IFERROR(IF(Futterberechnung!L50=\" \",\"\",Futterberechnung!L50/Futterberechnung!F17%/1000),\"\")","v":""},{"$f":"IFERROR(IF(Futterberechnung!J17=\" \",\"\",Futterberechnung!J17/Futterberechnung!$F17%/1000),\"\")","v":""},{"$f":"IFERROR(IF(Futterberechnung!L17=\" \",\"\",Futterberechnung!L17/Futterberechnung!$F17%/1000),\"\")","v":""},{"$f":"IFERROR(IF(Futterberechnung!I50=\" \",\"\",Futterberechnung!I50/Futterberechnung!$F17%/1000),\"\")","v":""},{"$f":"IFERROR(IF(Futterberechnung!J50=\" \",\"\",Futterberechnung!J50/Futterberechnung!$F17%/1000),\"\")","v":""},{"$f":"IFERROR(IF(Futterberechnung!K50=\" \",\"\",Futterberechnung!K50/Futterberechnung!$F17%/1000),\"\")","v":""},{"$f":"IFERROR(IF(Futterberechnung!M17=\" \",\"\",Futterberechnung!M17/Futterberechnung!$F17%/100),\"\")","v":""},{"$f":"IFERROR(IF(Futterberechnung!N17=\" \",\"\",Futterberechnung!N17/Futterberechnung!$F17%/100),\"\")","v":""},{"$f":"IFERROR(IF(Futterberechnung!AC50=\" \",\"\",Futterberechnung!AC50/Futterberechnung!$F17%/100),\"\")","v":""},{"$f":"IFERROR(IF(Futterberechnung!AD50=\" \",\"\",Futterberechnung!AD50/Futterberechnung!$F17%/100),\"\")","v":""}]
[null,{"$f":"IF(Futterberechnung!C18=\"\",\"\",Futterberechnung!C18)","v":""},{"$f":"IF(B18=\"\",\"\",Futterberechnung!F18)","v":""},{"$f":"IFERROR(IF(Futterberechnung!I18=\" \",\"\",Futterberechnung!I18/Futterberechnung!F18%/1000),\"\")","v":""},{"$f":"IFERROR(IF(Futterberechnung!L51=\" \",\"\",Futterberechnung!L51/Futterberechnung!F18%/1000),\"\")","v":""},{"$f":"IFERROR(IF(Futterberechnung!J18=\" \",\"\",Futterberechnung!J18/Futterberechnung!$F18%/1000),\"\")","v":""},{"$f":"IFERROR(IF(Futterberechnung!L18=\" \",\"\",Futterberechnung!L18/Futterberechnung!$F18%/1000),\"\")","v":""},{"$f":"IFERROR(IF(Futterberechnung!I51=\" \",\"\",Futterberechnung!I51/Futterberechnung!$F18%/1000),\"\")","v":""},{"$f":"IFERROR(IF(Futterberechnung!J51=\" \",\"\",Futterberechnung!J51/Futterberechnung!$F18%/1000),\"\")","v":""},{"$f":"IFERROR(IF(Futterberechnung!K51=\" \",\"\",Futterberechnung!K51/Futterberechnung!$F18%/1000),\"\")","v":""},{"$f":"IFERROR(IF(Futterberechnung!M18=\" \",\"\",Futterberechnung!M18/Futterberechnung!$F18%/100),\"\")","v":""},{"$f":"IFERROR(IF(Futterberechnung!N18=\" \",\"\",Futterberechnung!N18/Futterberechnung!$F18%/100),\"\")","v":""},{"$f":"IFERROR(IF(Futterberechnung!AC51=\" \",\"\",Futterberechnung!AC51/Futterberechnung!$F18%/100),\"\")","v":""},{"$f":"IFERROR(IF(Futterberechnung!AD51=\" \",\"\",Futterberechnung!AD51/Futterberechnung!$F18%/100),\"\")","v":""}]
[null,{"$f":"IF(Futterberechnung!C19=\"\",\"\",Futterberechnung!C19)","v":""},{"$f":"IF(B19=\"\",\"\",Futterberechnung!F19)","v":""},{"$f":"IFERROR(IF(Futterberechnung!I19=\" \",\"\",Futterberechnung!I19/Futterberechnung!F19%/1000),\"\")","v":""},{"$f":"IFERROR(IF(Futterberechnung!L52=\" \",\"\",Futterberechnung!L52/Futterberechnung!F19%/1000),\"\")","v":""},{"$f":"IFERROR(IF(Futterberechnung!J19=\" \",\"\",Futterberechnung!J19/Futterberechnung!$F19%/1000),\"\")","v":""},{"$f":"IFERROR(IF(Futterberechnung!L19=\" \",\"\",Futterberechnung!L19/Futterberechnung!$F19%/1000),\"\")","v":""},{"$f":"IFERROR(IF(Futterberechnung!I52=\" \",\"\",Futterberechnung!I52/Futterberechnung!$F19%/1000),\"\")","v":""},{"$f":"IFERROR(IF(Futterberechnung!J52=\" \",\"\",Futterberechnung!J52/Futterberechnung!$F19%/1000),\"\")","v":""},{"$f":"IFERROR(IF(Futterberechnung!K52=\" \",\"\",Futterberechnung!K52/Futterberechnung!$F19%/1000),\"\")","v":""},{"$f":"IFERROR(IF(Futterberechnung!M19=\" \",\"\",Futterberechnung!M19/Futterberechnung!$F19%/100),\"\")","v":""},{"$f":"IFERROR(IF(Futterberechnung!N19=\" \",\"\",Futterberechnung!N19/Futterberechnung!$F19%/100),\"\")","v":""},{"$f":"IFERROR(IF(Futterberechnung!AC52=\" \",\"\",Futterberechnung!AC52/Futterberechnung!$F19%/100),\"\")","v":""},{"$f":"IFERROR(IF(Futterberechnung!AD52=\" \",\"\",Futterberechnung!AD52/Futterberechnung!$F19%/100),\"\")","v":""}]
[null,{"$f":"IF(Futterberechnung!C20=\"\",\"\",Futterberechnung!C20)","v":""},{"$f":"IF(B20=\"\",\"\",Futterberechnung!F20)","v":""},{"$f":"IFERROR(IF(Futterberechnung!I20=\" \",\"\",Futterberechnung!I20/Futterberechnung!F20%/1000),\"\")","v":""},{"$f":"IFERROR(IF(Futterberechnung!L53=\" \",\"\",Futterberechnung!L53/Futterberechnung!F20%/1000),\"\")","v":""},{"$f":"IFERROR(IF(Futterberechnung!J20=\" \",\"\",Futterberechnung!J20/Futterberechnung!$F20%/1000),\"\")","v":""},{"$f":"IFERROR(IF(Futterberechnung!L20=\" \",\"\",Futterberechnung!L20/Futterberechnung!$F20%/1000),\"\")","v":""},{"$f":"IFERROR(IF(Futterberechnung!I53=\" \",\"\",Futterberechnung!I53/Futterberechnung!$F20%/1000),\"\")","v":""},{"$f":"IFERROR(IF(Futterberechnung!J53=\" \",\"\",Futterberechnung!J53/Futterberechnung!$F20%/1000),\"\")","v":""},{"$f":"IFERROR(IF(Futterberechnung!K53=\" \",\"\",Futterberechnung!K53/Futterberechnung!$F20%/1000),\"\")","v":""},{"$f":"IFERROR(IF(Futterberechnung!M20=\" \",\"\",Futterberechnung!M20/Futterberechnung!$F20%/100),\"\")","v":""},{"$f":"IFERROR(IF(Futterberechnung!N20=\" \",\"\",Futterberechnung!N20/Futterberechnung!$F20%/100),\"\")","v":""},{"$f":"IFERROR(IF(Futterberechnung!AC53=\" \",\"\",Futterberechnung!AC53/Futterberechnung!$F20%/100),\"\")","v":""},{"$f":"IFERROR(IF(Futterberechnung!AD53=\" \",\"\",Futterberechnung!AD53/Futterberechnung!$F20%/100),\"\")","v":""}]
[null,{"$f":"IF(Futterberechnung!C21=\"\",\"\",Futterberechnung!C21)","v":""},{"$f":"IF(B21=\"\",\"\",Futterberechnung!F21)","v":""},{"$f":"IFERROR(IF(Futterberechnung!I21=\" \",\"\",Futterberechnung!I21/Futterberechnung!F21%/1000),\"\")","v":""},{"$f":"IFERROR(IF(Futterberechnung!L54=\" \",\"\",Futterberechnung!L54/Futterberechnung!F21%/1000),\"\")","v":""},{"$f":"IFERROR(IF(Futterberechnung!J21=\" \",\"\",Futterberechnung!J21/Futterberechnung!$F21%/1000),\"\")","v":""},{"$f":"IFERROR(IF(Futterberechnung!L21=\" \",\"\",Futterberechnung!L21/Futterberechnung!$F21%/1000),\"\")","v":""},{"$f":"IFERROR(IF(Futterberechnung!I54=\" \",\"\",Futterberechnung!I54/Futterberechnung!$F21%/1000),\"\")","v":""},{"$f":"IFERROR(IF(Futterberechnung!J54=\" \",\"\",Futterberechnung!J54/Futterberechnung!$F21%/1000),\"\")","v":""},{"$f":"IFERROR(IF(Futterberechnung!K54=\" \",\"\",Futterberechnung!K54/Futterberechnung!$F21%/1000),\"\")","v":""},{"$f":"IFERROR(IF(Futterberechnung!M21=\" \",\"\",Futterberechnung!M21/Futterberechnung!$F21%/100),\"\")","v":""},{"$f":"IFERROR(IF(Futterberechnung!N21=\" \",\"\",Futterberechnung!N21/Futterberechnung!$F21%/100),\"\")","v":""},{"$f":"IFERROR(IF(Futterberechnung!AC54=\" \",\"\",Futterberechnung!AC54/Futterberechnung!$F21%/100),\"\")","v":""},{"$f":"IFERROR(IF(Futterberechnung!AD54=\" \",\"\",Futterberechnung!AD54/Futterberechnung!$F21%/100),\"\")","v":""}]
[null,{"$f":"IF(Futterberechnung!C22=\"\",\"\",Futterberechnung!C22)","v":""},{"$f":"IF(B22=\"\",\"\",Futterberechnung!F22)","v":""},{"$f":"IFERROR(IF(Futterberechnung!I22=\" \",\"\",Futterberechnung!I22/Futterberechnung!F22%/1000),\"\")","v":""},{"$f":"IFERROR(IF(Futterberechnung!L55=\" \",\"\",Futterberechnung!L55/Futterberechnung!F22%/1000),\"\")","v":""},{"$f":"IFERROR(IF(Futterberechnung!J22=\" \",\"\",Futterberechnung!J22/Futterberechnung!$F22%/1000),\"\")","v":""},{"$f":"IFERROR(IF(Futterberechnung!L22=\" \",\"\",Futterberechnung!L22/Futterberechnung!$F22%/1000),\"\")","v":""},{"$f":"IFERROR(IF(Futterberechnung!I55=\" \",\"\",Futterberechnung!I55/Futterberechnung!$F22%/1000),\"\")","v":""},{"$f":"IFERROR(IF(Futterberechnung!J55=\" \",\"\",Futterberechnung!J55/Futterberechnung!$F22%/1000),\"\")","v":""},{"$f":"IFERROR(IF(Futterberechnung!K55=\" \",\"\",Futterberechnung!K55/Futterberechnung!$F22%/1000),\"\")","v":""},{"$f":"IFERROR(IF(Futterberechnung!M22=\" \",\"\",Futterberechnung!M22/Futterberechnung!$F22%/100),\"\")","v":""},{"$f":"IFERROR(IF(Futterberechnung!N22=\" \",\"\",Futterberechnung!N22/Futterberechnung!$F22%/100),\"\")","v":""},{"$f":"IFERROR(IF(Futterberechnung!AC55=\" \",\"\",Futterberechnung!AC55/Futterberechnung!$F22%/100),\"\")","v":""},{"$f":"IFERROR(IF(Futterberechnung!AD55=\" \",\"\",Futterberechnung!AD55/Futterberechnung!$F22%/100),\"\")","v":""}]
[null,{"$f":"IF(Futterberechnung!C23=\"\",\"\",Futterberechnung!C23)","v":""},{"$f":"IF(B23=\"\",\"\",Futterberechnung!F23)","v":""},{"$f":"IFERROR(IF(Futterberechnung!I23=\" \",\"\",Futterberechnung!I23/Futterberechnung!F23%/1000),\"\")","v":""},{"$f":"IFERROR(IF(Futterberechnung!L56=\" \",\"\",Futterberechnung!L56/Futterberechnung!F23%/1000),\"\")","v":""},{"$f":"IFERROR(IF(Futterberechnung!J23=\" \",\"\",Futterberechnung!J23/Futterberechnung!$F23%/1000),\"\")","v":""},{"$f":"IFERROR(IF(Futterberechnung!L23=\" \",\"\",Futterberechnung!L23/Futterberechnung!$F23%/1000),\"\")","v":""},{"$f":"IFERROR(IF(Futterberechnung!I56=\" \",\"\",Futterberechnung!I56/Futterberechnung!$F23%/1000),\"\")","v":""},{"$f":"IFERROR(IF(Futterberechnung!J56=\" \",\"\",Futterberechnung!J56/Futterberechnung!$F23%/1000),\"\")","v":""},{"$f":"IFERROR(IF(Futterberechnung!K56=\" \",\"\",Futterberechnung!K56/Futterberechnung!$F23%/1000),\"\")","v":""},{"$f":"IFERROR(IF(Futterberechnung!M23=\" \",\"\",Futterberechnung!M23/Futterberechnung!$F23%/100),\"\")","v":""},{"$f":"IFERROR(IF(Futterberechnung!N23=\" \",\"\",Futterberechnung!N23/Futterberechnung!$F23%/100),\"\")","v":""},{"$f":"IFERROR(IF(Futterberechnung!AC56=\" \",\"\",Futterberechnung!AC56/Futterberechnung!$F23%/100),\"\")","v":""},{"$f":"IFERROR(IF(Futterberechnung!AD56=\" \",\"\",Futterberechnung!AD56/Futterberechnung!$F23%/100),\"\")","v":""}]
[null,{"$f":"IF(Futterberechnung!C24=\"\",\"\",Futterberechnung!C24)","v":"Ergänzungsfutter "}]
[null,{"$f":"IF(Futterberechnung!C25=\"\",\"\",Futterberechnung!C25)","v":""},{"$f":"IF(B25=\"\",\"\",Futterberechnung!F25)","v":""},{"$f":"IFERROR(IF(Futterberechnung!I25=\" \",\"\",Futterberechnung!I25/Futterberechnung!F25%/1000),\"\")","v":""},{"$f":"IFERROR(IF(Futterberechnung!L58=\" \",\"\",Futterberechnung!L58/Futterberechnung!F25%/1000),\"\")","v":""},{"$f":"IFERROR(IF(Futterberechnung!J25=\" \",\"\",Futterberechnung!J25/Futterberechnung!$F25%/1000),\"\")","v":""},{"$f":"IFERROR(IF(Futterberechnung!L25=\" \",\"\",Futterberechnung!L25/Futterberechnung!$F25%/1000),\"\")","v":""},{"$f":"IFERROR(IF(Futterberechnung!I58=\" \",\"\",Futterberechnung!I58/Futterberechnung!$F25%/1000),\"\")","v":""},{"$f":"IFERROR(IF(Futterberechnung!J58=\" \",\"\",Futterberechnung!J58/Futterberechnung!$F25%/1000),\"\")","v":""},{"$f":"IFERROR(IF(Futterberechnung!K58=\" \",\"\",Futterberechnung!K58/Futterberechnung!$F25%/1000),\"\")","v":""},{"$f":"IFERROR(IF(Futterberechnung!M25=\" \",\"\",Futterberechnung!M25/Futterberechnung!$F25%/100),\"\")","v":""},{"$f":"IFERROR(IF(Futterberechnung!N25=\" \",\"\",Futterberechnung!N25/Futterberechnung!$F25%/100),\"\")","v":""},{"$f":"IFERROR(IF(Futterberechnung!AC58=\" \",\"\",Futterberechnung!AC58/Futterberechnung!$F25%/100),\"\")","v":""},{"$f":"IFERROR(IF(Futterberechnung!AD58=\" \",\"\",Futterberechnung!AD58/Futterberechnung!$F25%/100),\"\")","v":""}]
[null,{"$f":"IF(Futterberechnung!C26=\"\",\"\",Futterberechnung!C26)","v":""},{"$f":"IF(B26=\"\",\"\",Futterberechnung!F26)","v":""},{"$f":"IFERROR(IF(Futterberechnung!I26=\" \",\"\",Futterberechnung!I26/Futterberechnung!F26%/1000),\"\")","v":""},{"$f":"IFERROR(IF(Futterberechnung!L59=\" \",\"\",Futterberechnung!L59/Futterberechnung!F26%/1000),\"\")","v":""},{"$f":"IFERROR(IF(Futterberechnung!J26=\" \",\"\",Futterberechnung!J26/Futterberechnung!$F26%/1000),\"\")","v":""},{"$f":"IFERROR(IF(Futterberechnung!L26=\" \",\"\",Futterberechnung!L26/Futterberechnung!$F26%/1000),\"\")","v":""},{"$f":"IFERROR(IF(Futterberechnung!I59=\" \",\"\",Futterberechnung!I59/Futterberechnung!$F26%/1000),\"\")","v":""},{"$f":"IFERROR(IF(Futterberechnung!J59=\" \",\"\",Futterberechnung!J59/Futterberechnung!$F26%/1000),\"\")","v":""},{"$f":"IFERROR(IF(Futterberechnung!K59=\" \",\"\",Futterberechnung!K59/Futterberechnung!$F26%/1000),\"\")","v":""},{"$f":"IFERROR(IF(Futterberechnung!M26=\" \",\"\",Futterberechnung!M26/Futterberechnung!$F26%/100),\"\")","v":""},{"$f":"IFERROR(IF(Futterberechnung!N26=\" \",\"\",Futterberechnung!N26/Futterberechnung!$F26%/100),\"\")","v":""},{"$f":"IFERROR(IF(Futterberechnung!AC59=\" \",\"\",Futterberechnung!AC59/Futterberechnung!$F26%/100),\"\")","v":""},{"$f":"IFERROR(IF(Futterberechnung!AD59=\" \",\"\",Futterberechnung!AD59/Futterberechnung!$F26%/100),\"\")","v":""}]
[null,"In der berechneten und gegebenfalls analysierten Ration",null,{"$f":"IF(Futterberechnung!I30=\" \",\"\",Futterberechnung!I30/Futterberechnung!F30%/1000)","v":88.625450000000001},{"$f":"IF(Futterberechnung!L63=\" \",\"\",Futterberechnung!L63/10)","v":4.8376100000000006},{"$f":"IF(Futterberechnung!J30=\" \",\"\",Futterberechnung!J30/10)","v":16.023640802086806},{"$f":"IF(Futterberechnung!L30=\" \",\"\",Futterberechnung!L30/10)","v":3.6469745000000002},{"$f":"IF(Futterberechnung!I63=\" \",\"\",Futterberechnung!I63/10)","v":3.3985410000000003},{"$f":"IF(Futterberechnung!J63=\" \",\"\",Futterberechnung!J63/10)","v":45.468309999999995},{"$f":"IF(Futterberechnung!K63=\" \",\"\",Futterberechnung!K63/10)","v":3.5478999999999998},{"$f":"IF(Futterberechnung!M30=\" \",\"\",Futterberechnung!M30)","v":13.443270206663836},{"$f":"IF(Futterberechnung!N30=\" \",\"\",Futterberechnung!N30)","v":13.381404933797725},{"$f":"IF(Futterberechnung!AC63=\" \",\"\",Futterberechnung!AC63)","v":0},{"$f":"IF(Futterberechnung!AD63=\" \",\"\",Futterberechnung!AD63)","v":0}]
[null,"In der Ration auf 88% TM",null,{"$f":"IF(Futterberechnung!I31=\" \",\"\",Futterberechnung!I31/Futterberechnung!$F$31%/1000)","v":88},{"$f":"IF(Futterberechnung!L64=\" \",\"\",Futterberechnung!L64/10)","v":4.8},{"$f":"IF(Futterberechnung!J31=\" \",\"\",Futterberechnung!J31/10)","v":15.9},{"$f":"IF(Futterberechnung!L31=\" \",\"\",Futterberechnung!L31/10)","v":3.6},{"$f":"IF(Futterberechnung!I64=\" \",\"\",Futterberechnung!I64/10)","v":3.4},{"$f":"IF(Futterberechnung!J64=\" \",\"\",Futterberechnung!J64/10)","v":45.1},{"$f":"IF(Futterberechnung!K64=\" \",\"\",Futterberechnung!K64/10)","v":3.5},{"$f":"IF(Futterberechnung!M31=\" \",\"\",Futterberechnung!M31)","v":13.35},{"$f":"IF(Futterberechnung!N31=\" \",\"\",Futterberechnung!N31)","v":13.29},{"$f":"IF(Futterberechnung!AC64=\" \",\"\",Futterberechnung!AC64)","v":0},{"$f":"IF(Futterberechnung!AD64=\" \",\"\",Futterberechnung!AD64)","v":0}]
[null,"In der Ration nach Futteranalyse auf FM-Basis",null,86.4,4.8,17,3.6,3.2,45,null,"-",13]
[null,"In der Ration nach Futteranalyse auf 88% TM",null,{"$f":"IF(D29=\"\",\"\",D29/D29*88)","v":88},{"$f":"IF(E29=\"\",\"\",E29/$D$29*88)","v":4.8888888888888884},17.314814814814813,3.6666666666666665,3.2592592592592591,45.833333333333329,"","-",13.24074074074074,{"$f":"IF(M29=\"\",\"\",M29/$D$29*88)","v":""},""]
[null,"Differenz analysiert zu berechnet auf 88% TM",null,{"$f":"IFERROR((D30-D28),\"\")","v":0},{"$f":"IFERROR((E30-E28),\"\")","v":8.8888888888888573E-2},{"$f":"IFERROR((F30-F28),\"\")","v":1.4148148148148127},{"$f":"IFERROR((G30-G28),\"\")","v":6.666666666666643E-2},{"$f":"IFERROR((H30-H28),\"\")","v":-0.14074074074074083},{"$f":"IFERROR((I30-I28),\"\")","v":0.73333333333332718},{"$f":"IFERROR((J30-J28),\"\")","v":""},"-",{"$f":"IFERROR((L30-L28),\"\")","v":-4.925925925925867E-2},{"$f":"IFERROR((M30-M28),\"\")","v":""},""]
[]
[]
[null,{"$f":"IF(Futterberechnung!C68=\"\",\"\",Futterberechnung!C68)","v":""}]

{"sheet":"Ausdruck NIRS-Analysen (2)","index":26,"n_rows":34,"n_cols":14,"rows_kept":34,"cut":false,"hidden":false,"merged":[[10,12,10,13],[5,1,5,13],[10,3,10,9],[10,10,10,11],[7,2,7,4],[7,7,7,11]]}
[]
[]
[]
[]
[null,null,null,null,null,null,null,null,null,null,null,null,"Datum:","2018-08-01"]
[null,"Ausdruck Vergleich Ration zu NIRS Futteranalyse Futterberechnung 2"]
[]
[null,null,{"$f":"IF('Futterberechnung (2)'!C33=\"\",\"\",'Futterberechnung (2)'!C33)","v":"Anfangsmast ab 40 Kg LM für 850 g TZ*"},null,null,null,"Betrieb:",{"$f":"IF('Futterberechnung (2)'!H5=\"\",\"\",'Futterberechnung (2)'!H5)","v":"Mustermann"}]
[]
[null,{"$f":"IF(Futterberechnung!C12=\"\",\"\",Futterberechnung!C12)","v":"Futtermittel + % RP in der FM"},"Anteil in FM","TM","Rohasche XA","Rohprotein XP","Rohfaser XF","Rohfett XL","Stärke S","Zucker Z","Energie EFF","Energie MFF","DON","ZEA"]
[null,null,"%","in Prozent/kg",null,null,null,null,null,null,"in MJ ME",null,"in mg/kg"]
[]
[null,{"$f":"IF('Futterberechnung (2)'!C13=\"\",\"\",'Futterberechnung (2)'!C13)","v":"eigener Weizen 10% RP Ø 2018"},{"$f":"IF(B13=\"\",\"\",'Futterberechnung (2)'!F13)","v":0.51},{"$f":"IFERROR(IF('Futterberechnung (2)'!I13=\" \",\"\",'Futterberechnung (2)'!I13/'Futterberechnung (2)'!F13%/1000),\"\")","v":88},{"$f":"IFERROR(IF('Futterberechnung (2)'!L46=\" \",\"\",'Futterberechnung (2)'!L46/'Futterberechnung (2)'!F13%/1000),\"\")","v":1.66},{"$f":"IFERROR(IF('Futterberechnung (2)'!J13=\" \",\"\",'Futterberechnung (2)'!J13/'Futterberechnung (2)'!$F13%/1000),\"\")","v":9.9039999999999999},{"$f":"IFERROR(IF('Futterberechnung (2)'!L13=\" \",\"\",'Futterberechnung (2)'!L13/'Futterberechnung (2)'!$F13%/1000),\"\")","v":2.637},{"$f":"IFERROR(IF('Futterberechnung (2)'!I46=\" \",\"\",'Futterberechnung (2)'!I46/'Futterberechnung (2)'!$F13%/1000),\"\")","v":1.766},{"$f":"IFERROR(IF('Futterberechnung (2)'!J46=\" \",\"\",'Futterberechnung (2)'!J46/'Futterberechnung (2)'!$F13%/1000),\"\")","v":59.859999999999992},{"$f":"IFERROR(IF('Futterberechnung (2)'!K46=\" \",\"\",'Futterberechnung (2)'!K46/'Futterberechnung (2)'!$F13%/1000),\"\")","v":2.8},{"$f":"IFERROR(IF('Futterberechnung (2)'!M13=\" \",\"\",'Futterberechnung (2)'!M13/'Futterberechnung (2)'!$F13%/100),\"\")","v":13.627244000000001},{"$f":"IFERROR(IF('Futterberechnung (2)'!N13=\" \",\"\",'Futterberechnung (2)'!N13/'Futterberechnung (2)'!$F13%/100),\"\")","v":13.700031999999998},{"$f":"IFERROR(IF('Futterberechnung (2)'!AC46=\" \",\"\",'Futterberechnung (2)'!AC46/'Futterberechnung (2)'!$F13%/100),\"\")","v":0},{"$f":"IFERROR(IF('Futterberechnung (2)'!AD46=\" \",\"\",'Futterberechnung (2)'!AD46/'Futterberechnung (2)'!$F13%/100),\"\")","v":0}]
[null,{"$f":"IF('Futterberechnung (2)'!C14=\"\",\"\",'Futterberechnung (2)'!C14)","v":"eigene Gerste 10% RP Ø 2018"},{"$f":"IF(B14=\"\",\"\",'Futterberechnung (2)'!F14)","v":0.314},{"$f":"IFERROR(IF('Futterberechnung (2)'!I14=\" \",\"\",'Futterberechnung (2)'!I14/'Futterberechnung (2)'!F14%/1000),\"\")","v":88},{"$f":"IFERROR(IF('Futterberechnung (2)'!L47=\" \",\"\",'Futterberechnung (2)'!L47/'Futterberechnung (2)'!F14%/1000),\"\")","v":2.36},{"$f":"IFERROR(IF('Futterberechnung (2)'!J14=\" \",\"\",'Futterberechnung (2)'!J14/'Futterberechnung (2)'!$F14%/1000),\"\")","v":9.7129999999999992},{"$f":"IFERROR(IF('Futterberechnung (2)'!L14=\" \",\"\",'Futterberechnung (2)'!L14/'Futterberechnung (2)'!$F14%/1000),\"\")","v":5.5590000000000011},{"$f":"IFERROR(IF('Futterberechnung (2)'!I47=\" \",\"\",'Futterberechnung (2)'!I47/'Futterberechnung (2)'!$F14%/1000),\"\")","v":2.379},{"$f":"IFERROR(IF('Futterberechnung (2)'!J47=\" \",\"\",'Futterberechnung (2)'!J47/'Futterberechnung (2)'!$F14%/1000),\"\")","v":50.230000000000004},{"$f":"IFERROR(IF('Futterberechnung (2)'!K47=\" \",\"\",'Futterberechnung (2)'!K47/'Futterberechnung (2)'!$F14%/1000),\"\")","v":2.2999999999999998},{"$f":"IFERROR(IF('Futterberechnung (2)'!M14=\" \",\"\",'Futterberechnung (2)'!M14/'Futterberechnung (2)'!$F14%/100),\"\")","v":12.512543189999999},{"$f":"IFERROR(IF('Futterberechnung (2)'!N14=\" \",\"\",'Futterberechnung (2)'!N14/'Futterberechnung (2)'!$F14%/100),\"\")","v":12.493114420000001},{"$f":"IFERROR(IF('Futterberechnung (2)'!AC47=\" \",\"\",'Futterberechnung (2)'!AC47/'Futterberechnung (2)'!$F14%/100),\"\")","v":0},{"$f":"IFERROR(IF('Futterberechnung (2)'!AD47=\" \",\"\",'Futterberechnung (2)'!AD47/'Futterberechnung (2)'!$F14%/100),\"\")","v":0}]
[null,{"$f":"IF('Futterberechnung (2)'!C15=\"\",\"\",'Futterberechnung (2)'!C15)","v":"Sojaschrot HP 47% RP "},{"$f":"IF(B15=\"\",\"\",'Futterberechnung (2)'!F15)","v":0.13},{"$f":"IFERROR(IF('Futterberechnung (2)'!I15=\" \",\"\",'Futterberechnung (2)'!I15/'Futterberechnung (2)'!F15%/1000),\"\")","v":89},{"$f":"IFERROR(IF('Futterberechnung (2)'!L48=\" \",\"\",'Futterberechnung (2)'!L48/'Futterberechnung (2)'!F15%/1000),\"\")","v":6.7000000000000011},{"$f":"IFERROR(IF('Futterberechnung (2)'!J15=\" \",\"\",'Futterberechnung (2)'!J15/'Futterberechnung (2)'!$F15%/1000),\"\")","v":47},{"$f":"IFERROR(IF('Futterberechnung (2)'!L15=\" \",\"\",'Futterberechnung (2)'!L15/'Futterberechnung (2)'!$F15%/1000),\"\")","v":5.2},{"$f":"IFERROR(IF('Futterberechnung (2)'!I48=\" \",\"\",'Futterberechnung (2)'!I48/'Futterberechnung (2)'!$F15%/1000),\"\")","v":1.9000000000000001},{"$f":"IFERROR(IF('Futterberechnung (2)'!J48=\" \",\"\",'Futterberechnung (2)'!J48/'Futterberechnung (2)'!$F15%/1000),\"\")","v":4.2},{"$f":"IFERROR(IF('Futterberechnung (2)'!K48=\" \",\"\",'Futterberechnung (2)'!K48/'Futterberechnung (2)'!$F15%/1000),\"\")","v":9.1},{"$f":"IFERROR(IF('Futterberechnung (2)'!M15=\" \",\"\",'Futterberechnung (2)'!M15/'Futterberechnung (2)'!$F15%/100),\"\")","v":13.857123},{"$f":"IFERROR(IF('Futterberechnung (2)'!N15=\" \",\"\",'Futterberechnung (2)'!N15/'Futterberechnung (2)'!$F15%/100),\"\")","v":13.841379},{"$f":"IFERROR(IF('Futterberechnung (2)'!AC48=\" \",\"\",'Futterberechnung (2)'!AC48/'Futterberechnung (2)'!$F15%/100),\"\")","v":0},{"$f":"IFERROR(IF('Futterberechnung (2)'!AD48=\" \",\"\",'Futterberechnung (2)'!AD48/'Futterberechnung (2)'!$F15%/100),\"\")","v":0}]
[null,{"$f":"IF('Futterberechnung (2)'!C16=\"\",\"\",'Futterberechnung (2)'!C16)","v":"Rapsöl / Pflanzenöl DLG 2014"},{"$f":"IF(B16=\"\",\"\",'Futterberechnung (2)'!F16)","v":1.0999999999999999E-2},{"$f":"IFERROR(IF('Futterberechnung (2)'!I16=\" \",\"\",'Futterberechnung (2)'!I16/'Futterberechnung (2)'!F16%/1000),\"\")","v":99.9},{"$f":"IFERROR(IF('Futterberechnung (2)'!L49=\" \",\"\",'Futterberechnung (2)'!L49/'Futterberechnung (2)'!F16%/1000),\"\")","v":0},{"$f":"IFERROR(IF('Futterberechnung (2)'!J16=\" \",\"\",'Futterberechnung (2)'!J16/'Futterberechnung (2)'!$F16%/1000),\"\")","v":0},{"$f":"IFERROR(IF('Futterberechnung (2)'!L16=\" \",\"\",'Futterberechnung (2)'!L16/'Futterberechnung (2)'!$F16%/1000),\"\")","v":0},{"$f":"IFERROR(IF('Futterberechnung (2)'!I49=\" \",\"\",'Futterberechnung (2)'!I49/'Futterberechnung (2)'!$F16%/1000),\"\")","v":99.8},{"$f":"IFERROR(IF('Futterberechnung (2)'!J49=\" \",\"\",'Futterberechnung (2)'!J49/'Futterberechnung (2)'!$F16%/1000),\"\")","v":0},{"$f":"IFERROR(IF('Futterberechnung (2)'!K49=\" \",\"\",'Futterberechnung (2)'!K49/'Futterberechnung (2)'!$F16%/1000),\"\")","v":0},{"$f":"IFERROR(IF('Futterberechnung (2)'!M16=\" \",\"\",'Futterberechnung (2)'!M16/'Futterberechnung (2)'!$F16%/100),\"\")","v":38.925992000000008},{"$f":"IFERROR(IF('Futterberechnung (2)'!N16=\" \",\"\",'Futterberechnung (2)'!N16/'Futterberechnung (2)'!$F16%/100),\"\")","v":32.432006000000001},{"$f":"IFERROR(IF('Futterberechnung (2)'!AC49=\" \",\"\",'Futterberechnung (2)'!AC49/'Futterberechnung (2)'!$F16%/100),\"\")","v":0},{"$f":"IFERROR(IF('Futterberechnung (2)'!AD49=\" \",\"\",'Futterberechnung (2)'!AD49/'Futterberechnung (2)'!$F16%/100),\"\")","v":0}]
[null,{"$f":"IF('Futterberechnung (2)'!C17=\"\",\"\",'Futterberechnung (2)'!C17)","v":""},{"$f":"IF(B17=\"\",\"\",'Futterberechnung (2)'!F17)","v":""},{"$f":"IFERROR(IF('Futterberechnung (2)'!I17=\" \",\"\",'Futterberechnung (2)'!I17/'Futterberechnung (2)'!F17%/1000),\"\")","v":""},{"$f":"IFERROR(IF('Futterberechnung (2)'!L50=\" \",\"\",'Futterberechnung (2)'!L50/'Futterberechnung (2)'!F17%/1000),\"\")","v":""},{"$f":"IFERROR(IF('Futterberechnung (2)'!J17=\" \",\"\",'Futterberechnung (2)'!J17/'Futterberechnung (2)'!$F17%/1000),\"\")","v":""},{"$f":"IFERROR(IF('Futterberechnung (2)'!L17=\" \",\"\",'Futterberechnung (2)'!L17/'Futterberechnung (2)'!$F17%/1000),\"\")","v":""},{"$f":"IFERROR(IF('Futterberechnung (2)'!I50=\" \",\"\",'Futterberechnung (2)'!I50/'Futterberechnung (2)'!$F17%/1000),\"\")","v":""},{"$f":"IFERROR(IF('Futterberechnung (2)'!J50=\" \",\"\",'Futterberechnung (2)'!J50/'Futterberechnung (2)'!$F17%/1000),\"\")","v":""},{"$f":"IFERROR(IF('Futterberechnung (2)'!K50=\" \",\"\",'Futterberechnung (2)'!K50/'Futterberechnung (2)'!$F17%/1000),\"\")","v":""},{"$f":"IFERROR(IF('Futterberechnung (2)'!M17=\" \",\"\",'Futterberechnung (2)'!M17/'Futterberechnung (2)'!$F17%/100),\"\")","v":""},{"$f":"IFERROR(IF('Futterberechnung (2)'!N17=\" \",\"\",'Futterberechnung (2)'!N17/'Futterberechnung (2)'!$F17%/100),\"\")","v":""},{"$f":"IFERROR(IF('Futterberechnung (2)'!AC50=\" \",\"\",'Futterberechnung (2)'!AC50/'Futterberechnung (2)'!$F17%/100),\"\")","v":""},{"$f":"IFERROR(IF('Futterberechnung (2)'!AD50=\" \",\"\",'Futterberechnung (2)'!AD50/'Futterberechnung (2)'!$F17%/100),\"\")","v":""}]
[null,{"$f":"IF('Futterberechnung (2)'!C18=\"\",\"\",'Futterberechnung (2)'!C18)","v":""},{"$f":"IF(B18=\"\",\"\",'Futterberechnung (2)'!F18)","v":""},{"$f":"IFERROR(IF('Futterberechnung (2)'!I18=\" \",\"\",'Futterberechnung (2)'!I18/'Futterberechnung (2)'!F18%/1000),\"\")","v":""},{"$f":"IFERROR(IF('Futterberechnung (2)'!L51=\" \",\"\",'Futterberechnung (2)'!L51/'Futterberechnung (2)'!F18%/1000),\"\")","v":""},{"$f":"IFERROR(IF('Futterberechnung (2)'!J18=\" \",\"\",'Futterberechnung (2)'!J18/'Futterberechnung (2)'!$F18%/1000),\"\")","v":""},{"$f":"IFERROR(IF('Futterberechnung (2)'!L18=\" \",\"\",'Futterberechnung (2)'!L18/'Futterberechnung (2)'!$F18%/1000),\"\")","v":""},{"$f":"IFERROR(IF('Futterberechnung (2)'!I51=\" \",\"\",'Futterberechnung (2)'!I51/'Futterberechnung (2)'!$F18%/1000),\"\")","v":""},{"$f":"IFERROR(IF('Futterberechnung (2)'!J51=\" \",\"\",'Futterberechnung (2)'!J51/'Futterberechnung (2)'!$F18%/1000),\"\")","v":""},{"$f":"IFERROR(IF('Futterberechnung (2)'!K51=\" \",\"\",'Futterberechnung (2)'!K51/'Futterberechnung (2)'!$F18%/1000),\"\")","v":""},{"$f":"IFERROR(IF('Futterberechnung (2)'!M18=\" \",\"\",'Futterberechnung (2)'!M18/'Futterberechnung (2)'!$F18%/100),\"\")","v":""},{"$f":"IFERROR(IF('Futterberechnung (2)'!N18=\" \",\"\",'Futterberechnung (2)'!N18/'Futterberechnung (2)'!$F18%/100),\"\")","v":""},{"$f":"IFERROR(IF('Futterberechnung (2)'!AC51=\" \",\"\",'Futterberechnung (2)'!AC51/'Futterberechnung (2)'!$F18%/100),\"\")","v":""},{"$f":"IFERROR(IF('Futterberechnung (2)'!AD51=\" \",\"\",'Futterberechnung (2)'!AD51/'Futterberechnung (2)'!$F18%/100),\"\")","v":""}]
[null,{"$f":"IF('Futterberechnung (2)'!C19=\"\",\"\",'Futterberechnung (2)'!C19)","v":""},{"$f":"IF(B19=\"\",\"\",'Futterberechnung (2)'!F19)","v":""},{"$f":"IFERROR(IF('Futterberechnung (2)'!I19=\" \",\"\",'Futterberechnung (2)'!I19/'Futterberechnung (2)'!F19%/1000),\"\")","v":""},{"$f":"IFERROR(IF('Futterberechnung (2)'!L52=\" \",\"\",'Futterberechnung (2)'!L52/'Futterberechnung (2)'!F19%/1000),\"\")","v":""},{"$f":"IFERROR(IF('Futterberechnung (2)'!J19=\" \",\"\",'Futterberechnung (2)'!J19/'Futterberechnung (2)'!$F19%/1000),\"\")","v":""},{"$f":"IFERROR(IF('Futterberechnung (2)'!L19=\" \",\"\",'Futterberechnung (2)'!L19/'Futterberechnung (2)'!$F19%/1000),\"\")","v":""},{"$f":"IFERROR(IF('Futterberechnung (2)'!I52=\" \",\"\",'Futterberechnung (2)'!I52/'Futterberechnung (2)'!$F19%/1000),\"\")","v":""},{"$f":"IFERROR(IF('Futterberechnung (2)'!J52=\" \",\"\",'Futterberechnung (2)'!J52/'Futterberechnung (2)'!$F19%/1000),\"\")","v":""},{"$f":"IFERROR(IF('Futterberechnung (2)'!K52=\" \",\"\",'Futterberechnung (2)'!K52/'Futterberechnung (2)'!$F19%/1000),\"\")","v":""},{"$f":"IFERROR(IF('Futterberechnung (2)'!M19=\" \",\"\",'Futterberechnung (2)'!M19/'Futterberechnung (2)'!$F19%/100),\"\")","v":""},{"$f":"IFERROR(IF('Futterberechnung (2)'!N19=\" \",\"\",'Futterberechnung (2)'!N19/'Futterberechnung (2)'!$F19%/100),\"\")","v":""},{"$f":"IFERROR(IF('Futterberechnung (2)'!AC52=\" \",\"\",'Futterberechnung (2)'!AC52/'Futterberechnung (2)'!$F19%/100),\"\")","v":""},{"$f":"IFERROR(IF('Futterberechnung (2)'!AD52=\" \",\"\",'Futterberechnung (2)'!AD52/'Futterberechnung (2)'!$F19%/100),\"\")","v":""}]
[null,{"$f":"IF('Futterberechnung (2)'!C20=\"\",\"\",'Futterberechnung (2)'!C20)","v":""},{"$f":"IF(B20=\"\",\"\",'Futterberechnung (2)'!F20)","v":""},{"$f":"IFERROR(IF('Futterberechnung (2)'!I20=\" \",\"\",'Futterberechnung (2)'!I20/'Futterberechnung (2)'!F20%/1000),\"\")","v":""},{"$f":"IFERROR(IF('Futterberechnung (2)'!L53=\" \",\"\",'Futterberechnung (2)'!L53/'Futterberechnung (2)'!F20%/1000),\"\")","v":""},{"$f":"IFERROR(IF('Futterberechnung (2)'!J20=\" \",\"\",'Futterberechnung (2)'!J20/'Futterberechnung (2)'!$F20%/1000),\"\")","v":""},{"$f":"IFERROR(IF('Futterberechnung (2)'!L20=\" \",\"\",'Futterberechnung (2)'!L20/'Futterberechnung (2)'!$F20%/1000),\"\")","v":""},{"$f":"IFERROR(IF('Futterberechnung (2)'!I53=\" \",\"\",'Futterberechnung (2)'!I53/'Futterberechnung (2)'!$F20%/1000),\"\")","v":""},{"$f":"IFERROR(IF('Futterberechnung (2)'!J53=\" \",\"\",'Futterberechnung (2)'!J53/'Futterberechnung (2)'!$F20%/1000),\"\")","v":""},{"$f":"IFERROR(IF('Futterberechnung (2)'!K53=\" \",\"\",'Futterberechnung (2)'!K53/'Futterberechnung (2)'!$F20%/1000),\"\")","v":""},{"$f":"IFERROR(IF('Futterberechnung (2)'!M20=\" \",\"\",'Futterberechnung (2)'!M20/'Futterberechnung (2)'!$F20%/100),\"\")","v":""},{"$f":"IFERROR(IF('Futterberechnung (2)'!N20=\" \",\"\",'Futterberechnung (2)'!N20/'Futterberechnung (2)'!$F20%/100),\"\")","v":""},{"$f":"IFERROR(IF('Futterberechnung (2)'!AC53=\" \",\"\",'Futterberechnung (2)'!AC53/'Futterberechnung (2)'!$F20%/100),\"\")","v":""},{"$f":"IFERROR(IF('Futterberechnung (2)'!AD53=\" \",\"\",'Futterberechnung (2)'!AD53/'Futterberechnung (2)'!$F20%/100),\"\")","v":""}]
[null,{"$f":"IF('Futterberechnung (2)'!C21=\"\",\"\",'Futterberechnung (2)'!C21)","v":""},{"$f":"IF(B21=\"\",\"\",'Futterberechnung (2)'!F21)","v":""},{"$f":"IFERROR(IF('Futterberechnung (2)'!I21=\" \",\"\",'Futterberechnung (2)'!I21/'Futterberechnung (2)'!F21%/1000),\"\")","v":""},{"$f":"IFERROR(IF('Futterberechnung (2)'!L54=\" \",\"\",'Futterberechnung (2)'!L54/'Futterberechnung (2)'!F21%/1000),\"\")","v":""},{"$f":"IFERROR(IF('Futterberechnung (2)'!J21=\" \",\"\",'Futterberechnung (2)'!J21/'Futterberechnung (2)'!$F21%/1000),\"\")","v":""},{"$f":"IFERROR(IF('Futterberechnung (2)'!L21=\" \",\"\",'Futterberechnung (2)'!L21/'Futterberechnung (2)'!$F21%/1000),\"\")","v":""},{"$f":"IFERROR(IF('Futterberechnung (2)'!I54=\" \",\"\",'Futterberechnung (2)'!I54/'Futterberechnung (2)'!$F21%/1000),\"\")","v":""},{"$f":"IFERROR(IF('Futterberechnung (2)'!J54=\" \",\"\",'Futterberechnung (2)'!J54/'Futterberechnung (2)'!$F21%/1000),\"\")","v":""},{"$f":"IFERROR(IF('Futterberechnung (2)'!K54=\" \",\"\",'Futterberechnung (2)'!K54/'Futterberechnung (2)'!$F21%/1000),\"\")","v":""},{"$f":"IFERROR(IF('Futterberechnung (2)'!M21=\" \",\"\",'Futterberechnung (2)'!M21/'Futterberechnung (2)'!$F21%/100),\"\")","v":""},{"$f":"IFERROR(IF('Futterberechnung (2)'!N21=\" \",\"\",'Futterberechnung (2)'!N21/'Futterberechnung (2)'!$F21%/100),\"\")","v":""},{"$f":"IFERROR(IF('Futterberechnung (2)'!AC54=\" \",\"\",'Futterberechnung (2)'!AC54/'Futterberechnung (2)'!$F21%/100),\"\")","v":""},{"$f":"IFERROR(IF('Futterberechnung (2)'!AD54=\" \",\"\",'Futterberechnung (2)'!AD54/'Futterberechnung (2)'!$F21%/100),\"\")","v":""}]
[null,{"$f":"IF('Futterberechnung (2)'!C22=\"\",\"\",'Futterberechnung (2)'!C22)","v":""},{"$f":"IF(B22=\"\",\"\",'Futterberechnung (2)'!F22)","v":""},{"$f":"IFERROR(IF('Futterberechnung (2)'!I22=\" \",\"\",'Futterberechnung (2)'!I22/'Futterberechnung (2)'!F22%/1000),\"\")","v":""},{"$f":"IFERROR(IF('Futterberechnung (2)'!L55=\" \",\"\",'Futterberechnung (2)'!L55/'Futterberechnung (2)'!F22%/1000),\"\")","v":""},{"$f":"IFERROR(IF('Futterberechnung (2)'!J22=\" \",\"\",'Futterberechnung (2)'!J22/'Futterberechnung (2)'!$F22%/1000),\"\")","v":""},{"$f":"IFERROR(IF('Futterberechnung (2)'!L22=\" \",\"\",'Futterberechnung (2)'!L22/'Futterberechnung (2)'!$F22%/1000),\"\")","v":""},{"$f":"IFERROR(IF('Futterberechnung (2)'!I55=\" \",\"\",'Futterberechnung (2)'!I55/'Futterberechnung (2)'!$F22%/1000),\"\")","v":""},{"$f":"IFERROR(IF('Futterberechnung (2)'!J55=\" \",\"\",'Futterberechnung (2)'!J55/'Futterberechnung (2)'!$F22%/1000),\"\")","v":""},{"$f":"IFERROR(IF('Futterberechnung (2)'!K55=\" \",\"\",'Futterberechnung (2)'!K55/'Futterberechnung (2)'!$F22%/1000),\"\")","v":""},{"$f":"IFERROR(IF('Futterberechnung (2)'!M22=\" \",\"\",'Futterberechnung (2)'!M22/'Futterberechnung (2)'!$F22%/100),\"\")","v":""},{"$f":"IFERROR(IF('Futterberechnung (2)'!N22=\" \",\"\",'Futterberechnung (2)'!N22/'Futterberechnung (2)'!$F22%/100),\"\")","v":""},{"$f":"IFERROR(IF('Futterberechnung (2)'!AC55=\" \",\"\",'Futterberechnung (2)'!AC55/'Futterberechnung (2)'!$F22%/100),\"\")","v":""},{"$f":"IFERROR(IF('Futterberechnung (2)'!AD55=\" \",\"\",'Futterberechnung (2)'!AD55/'Futterberechnung (2)'!$F22%/100),\"\")","v":""}]
[null,{"$f":"IF('Futterberechnung (2)'!C23=\"\",\"\",'Futterberechnung (2)'!C23)","v":""},{"$f":"IF(B23=\"\",\"\",'Futterberechnung (2)'!F23)","v":""},{"$f":"IFERROR(IF('Futterberechnung (2)'!I23=\" \",\"\",'Futterberechnung (2)'!I23/'Futterberechnung (2)'!F23%/1000),\"\")","v":""},{"$f":"IFERROR(IF('Futterberechnung (2)'!L56=\" \",\"\",'Futterberechnung (2)'!L56/'Futterberechnung (2)'!F23%/1000),\"\")","v":""},{"$f":"IFERROR(IF('Futterberechnung (2)'!J23=\" \",\"\",'Futterberechnung (2)'!J23/'Futterberechnung (2)'!$F23%/1000),\"\")","v":""},{"$f":"IFERROR(IF('Futterberechnung (2)'!L23=\" \",\"\",'Futterberechnung (2)'!L23/'Futterberechnung (2)'!$F23%/1000),\"\")","v":""},{"$f":"IFERROR(IF('Futterberechnung (2)'!I56=\" \",\"\",'Futterberechnung (2)'!I56/'Futterberechnung (2)'!$F23%/1000),\"\")","v":""},{"$f":"IFERROR(IF('Futterberechnung (2)'!J56=\" \",\"\",'Futterberechnung (2)'!J56/'Futterberechnung (2)'!$F23%/1000),\"\")","v":""},{"$f":"IFERROR(IF('Futterberechnung (2)'!K56=\" \",\"\",'Futterberechnung (2)'!K56/'Futterberechnung (2)'!$F23%/1000),\"\")","v":""},{"$f":"IFERROR(IF('Futterberechnung (2)'!M23=\" \",\"\",'Futterberechnung (2)'!M23/'Futterberechnung (2)'!$F23%/100),\"\")","v":""},{"$f":"IFERROR(IF('Futterberechnung (2)'!N23=\" \",\"\",'Futterberechnung (2)'!N23/'Futterberechnung (2)'!$F23%/100),\"\")","v":""},{"$f":"IFERROR(IF('Futterberechnung (2)'!AC56=\" \",\"\",'Futterberechnung (2)'!AC56/'Futterberechnung (2)'!$F23%/100),\"\")","v":""},{"$f":"IFERROR(IF('Futterberechnung (2)'!AD56=\" \",\"\",'Futterberechnung (2)'!AD56/'Futterberechnung (2)'!$F23%/100),\"\")","v":""}]
[null,"Ergänzungsfutter"]
[null,{"$f":"IF('Futterberechnung (2)'!C25=\"\",\"\",'Futterberechnung (2)'!C25)","v":""},{"$f":"IF(B25=\"\",\"\",'Futterberechnung (2)'!F25)","v":""},{"$f":"IFERROR(IF('Futterberechnung (2)'!I25=\" \",\"\",'Futterberechnung (2)'!I25/'Futterberechnung (2)'!F25%/1000),\"\")","v":""},{"$f":"IFERROR(IF('Futterberechnung (2)'!L58=\" \",\"\",'Futterberechnung (2)'!L58/'Futterberechnung (2)'!F25%/1000),\"\")","v":""},{"$f":"IFERROR(IF('Futterberechnung (2)'!J25=\" \",\"\",'Futterberechnung (2)'!J25/'Futterberechnung (2)'!$F25%/1000),\"\")","v":""},{"$f":"IFERROR(IF('Futterberechnung (2)'!L25=\" \",\"\",'Futterberechnung (2)'!L25/'Futterberechnung (2)'!$F25%/1000),\"\")","v":""},{"$f":"IFERROR(IF('Futterberechnung (2)'!I58=\" \",\"\",'Futterberechnung (2)'!I58/'Futterberechnung (2)'!$F25%/1000),\"\")","v":""},{"$f":"IFERROR(IF('Futterberechnung (2)'!J58=\" \",\"\",'Futterberechnung (2)'!J58/'Futterberechnung (2)'!$F25%/1000),\"\")","v":""},{"$f":"IFERROR(IF('Futterberechnung (2)'!K58=\" \",\"\",'Futterberechnung (2)'!K58/'Futterberechnung (2)'!$F25%/1000),\"\")","v":""},{"$f":"IFERROR(IF('Futterberechnung (2)'!M25=\" \",\"\",'Futterberechnung (2)'!M25/'Futterberechnung (2)'!$F25%/100),\"\")","v":""},{"$f":"IFERROR(IF('Futterberechnung (2)'!N25=\" \",\"\",'Futterberechnung (2)'!N25/'Futterberechnung (2)'!$F25%/100),\"\")","v":""},{"$f":"IFERROR(IF('Futterberechnung (2)'!AC58=\" \",\"\",'Futterberechnung (2)'!AC58/'Futterberechnung (2)'!$F25%/100),\"\")","v":""},{"$f":"IFERROR(IF('Futterberechnung (2)'!AD58=\" \",\"\",'Futterberechnung (2)'!AD58/'Futterberechnung (2)'!$F25%/100),\"\")","v":""}]
[null,{"$f":"IF('Futterberechnung (2)'!C26=\"\",\"\",'Futterberechnung (2)'!C26)","v":""},{"$f":"IF(B26=\"\",\"\",'Futterberechnung (2)'!F26)","v":""},{"$f":"IFERROR(IF('Futterberechnung (2)'!I26=\" \",\"\",'Futterberechnung (2)'!I26/'Futterberechnung (2)'!F26%/1000),\"\")","v":""},{"$f":"IFERROR(IF('Futterberechnung (2)'!L59=\" \",\"\",'Futterberechnung (2)'!L59/'Futterberechnung (2)'!F26%/1000),\"\")","v":""},{"$f":"IFERROR(IF('Futterberechnung (2)'!J26=\" \",\"\",'Futterberechnung (2)'!J26/'Futterberechnung (2)'!$F26%/1000),\"\")","v":""},{"$f":"IFERROR(IF('Futterberechnung (2)'!L26=\" \",\"\",'Futterberechnung (2)'!L26/'Futterberechnung (2)'!$F26%/1000),\"\")","v":""},{"$f":"IFERROR(IF('Futterberechnung (2)'!I59=\" \",\"\",'Futterberechnung (2)'!I59/'Futterberechnung (2)'!$F26%/1000),\"\")","v":""},{"$f":"IFERROR(IF('Futterberechnung (2)'!J59=\" \",\"\",'Futterberechnung (2)'!J59/'Futterberechnung (2)'!$F26%/1000),\"\")","v":""},{"$f":"IFERROR(IF('Futterberechnung (2)'!K59=\" \",\"\",'Futterberechnung (2)'!K59/'Futterberechnung (2)'!$F26%/1000),\"\")","v":""},{"$f":"IFERROR(IF('Futterberechnung (2)'!M26=\" \",\"\",'Futterberechnung (2)'!M26/'Futterberechnung (2)'!$F26%/100),\"\")","v":""},{"$f":"IFERROR(IF('Futterberechnung (2)'!N26=\" \",\"\",'Futterberechnung (2)'!N26/'Futterberechnung (2)'!$F26%/100),\"\")","v":""},{"$f":"IFERROR(IF('Futterberechnung (2)'!AC59=\" \",\"\",'Futterberechnung (2)'!AC59/'Futterberechnung (2)'!$F26%/100),\"\")","v":""},{"$f":"IFERROR(IF('Futterberechnung (2)'!AD59=\" \",\"\",'Futterberechnung (2)'!AD59/'Futterberechnung (2)'!$F26%/100),\"\")","v":""}]
[null,"In der berechneten und gegebenfalls analysierten Ration",null,{"$f":"IF('Futterberechnung (2)'!I30=\" \",\"\",'Futterberechnung (2)'!I30/'Futterberechnung (2)'!F30%/1000)","v":88.540900000000008},{"$f":"IF('Futterberechnung (2)'!L63=\" \",\"\",'Futterberechnung (2)'!L63/10)","v":4.9086400000000001},{"$f":"IF('Futterberechnung (2)'!J30=\" \",\"\",'Futterberechnung (2)'!J30/10)","v":14.783963042291044},{"$f":"IF('Futterberechnung (2)'!L30=\" \",\"\",'Futterberechnung (2)'!L30/10)","v":3.7663960000000003},{"$f":"IF('Futterberechnung (2)'!I63=\" \",\"\",'Futterberechnung (2)'!I63/10)","v":2.9924660000000003},{"$f":"IF('Futterberechnung (2)'!J63=\" \",\"\",'Futterberechnung (2)'!J63/10)","v":46.846819999999994},{"$f":"IF('Futterberechnung (2)'!K63=\" \",\"\",'Futterberechnung (2)'!K63/10)","v":3.3332000000000002},{"$f":"IF('Futterberechnung (2)'!M30=\" \",\"\",'Futterberechnung (2)'!M30)","v":13.225935413150511},{"$f":"IF('Futterberechnung (2)'!N30=\" \",\"\",'Futterberechnung (2)'!N30)","v":13.189244263163843},{"$f":"IF('Futterberechnung (2)'!AC63=\" \",\"\",'Futterberechnung (2)'!AC63)","v":0},{"$f":"IF('Futterberechnung (2)'!AD63=\" \",\"\",'Futterberechnung (2)'!AD63)","v":0}]
[null,"In der Ration auf 88% TM",null,{"$f":"IF('Futterberechnung (2)'!I31=\" \",\"\",'Futterberechnung (2)'!I31/'Futterberechnung (2)'!$F$31%/1000)","v":88},{"$f":"IF('Futterberechnung (2)'!L64=\" \",\"\",'Futterberechnung (2)'!L64/10)","v":4.9000000000000004},{"$f":"IF('Futterberechnung (2)'!J31=\" \",\"\",'Futterberechnung (2)'!J31/10)","v":14.7},{"$f":"IF('Futterberechnung (2)'!L31=\" \",\"\",'Futterberechnung (2)'!L31/10)","v":3.7},{"$f":"IF('Futterberechnung (2)'!I64=\" \",\"\",'Futterberechnung (2)'!I64/10)","v":3},{"$f":"IF('Futterberechnung (2)'!J64=\" \",\"\",'Futterberechnung (2)'!J64/10)","v":46.6},{"$f":"IF('Futterberechnung (2)'!K64=\" \",\"\",'Futterberechnung (2)'!K64/10)","v":3.3},{"$f":"IF('Futterberechnung (2)'!M31=\" \",\"\",'Futterberechnung (2)'!M31)","v":13.15},{"$f":"IF('Futterberechnung (2)'!N31=\" \",\"\",'Futterberechnung (2)'!N31)","v":13.11},{"$f":"IF('Futterberechnung (2)'!AC64=\" \",\"\",'Futterberechnung (2)'!AC64)","v":0},{"$f":"IF('Futterberechnung (2)'!AD64=\" \",\"\",'Futterberechnung (2)'!AD64)","v":0}]
[null,"In der Ration nach Futteranalyse auf FM-Basis",null,86.8,5.0999999999999996,16,3.6,2.8,45,null,"-",13]
[null,"In der Ration nach Futteranalyse auf 88% TM",null,{"$f":"IF(D29=\"\",\"\",D29/D29*88)","v":88},{"$f":"IF(E29=\"\",\"\",E29/$D$29*88)","v":5.1705069124423959},16.221198156682028,3.6497695852534564,2.838709677419355,45.622119815668206,"","-",13.179723502304149,{"$f":"IF(M29=\"\",\"\",M29/$D$29*88)","v":""},""]
[null,"Differenz analysiert zu berechnet auf 88% TM",null,{"$f":"IFERROR((D30-D28),\"\")","v":0},0.27050691244239555,1.5211981566820292,-5.0230414746543772E-2,-0.16129032258064502,-0.97788018433179502,"","-",{"$f":"IFERROR((L30-L28),\"\")","v":6.9723502304150031E-2},{"$f":"IFERROR((M30-M28),\"\")","v":""},""]
[]
[]
[null,{"$f":"IF(Futterberechnung!C68=\"\",\"\",Futterberechnung!C68)","v":""}]

{"sheet":"Ausdruck NIRS-Analysen (3)","index":27,"n_rows":34,"n_cols":14,"rows_kept":34,"cut":false,"hidden":false,"merged":[[10,12,10,13],[5,1,5,13],[7,2,7,4],[7,7,7,11],[10,3,10,9],[10,10,10,11]]}
[]
[]
[]
[]
[null,null,null,null,null,null,null,null,null,null,null,null,"Datum:","2018-08-01"]
[null,"Ausdruck Vergleich Ration zu NIRS Futteranalyse Futterberechnung 3"]
[]
[null,null,{"$f":"IF('Futterberechnung (3)'!C33=\"\",\"\",'Futterberechnung (3)'!C33)","v":"Mittelmast ab 60 Kg LM für 850 g TZ*"},null,null,null,"Betrieb:",{"$f":"IF('Futterberechnung (3)'!H5=\"\",\"\",'Futterberechnung (3)'!H5)","v":"Mustermann"}]
[]
[null,{"$f":"IF(Futterberechnung!C12=\"\",\"\",Futterberechnung!C12)","v":"Futtermittel + % RP in der FM"},"Anteil in FM","TM","Rohasche XA","Rohprotein XP","Rohfaser XF","Rohfett XL","Stärke S","Zucker Z","Energie EFF","Energie MFF","DON","ZEA"]
[null,null,"%","in Prozent/kg",null,null,null,null,null,null,"in MJ ME",null,"in mg/kg"]
[]
[null,{"$f":"IF('Futterberechnung (3)'!C13=\"\",\"\",'Futterberechnung (3)'!C13)","v":"eigener Weizen 10% RP Ø 2018"},{"$f":"IF(B13=\"\",\"\",'Futterberechnung (3)'!F13)","v":0.45},{"$f":"IFERROR(IF('Futterberechnung (3)'!I13=\" \",\"\",'Futterberechnung (3)'!I13/'Futterberechnung (3)'!F13%/1000),\"\")","v":87.999999999999986},{"$f":"IFERROR(IF('Futterberechnung (3)'!L46=\" \",\"\",'Futterberechnung (3)'!L46/'Futterberechnung (3)'!F13%/1000),\"\")","v":1.66},{"$f":"IFERROR(IF('Futterberechnung (3)'!J13=\" \",\"\",'Futterberechnung (3)'!J13/'Futterberechnung (3)'!$F13%/1000),\"\")","v":9.9039999999999999},{"$f":"IFERROR(IF('Futterberechnung (3)'!L13=\" \",\"\",'Futterberechnung (3)'!L13/'Futterberechnung (3)'!$F13%/1000),\"\")","v":2.6369999999999996},{"$f":"IFERROR(IF('Futterberechnung (3)'!I46=\" \",\"\",'Futterberechnung (3)'!I46/'Futterberechnung (3)'!$F13%/1000),\"\")","v":1.7659999999999998},{"$f":"IFERROR(IF('Futterberechnung (3)'!J46=\" \",\"\",'Futterberechnung (3)'!J46/'Futterberechnung (3)'!$F13%/1000),\"\")","v":59.859999999999992},{"$f":"IFERROR(IF('Futterberechnung (3)'!K46=\" \",\"\",'Futterberechnung (3)'!K46/'Futterberechnung (3)'!$F13%/1000),\"\")","v":2.7999999999999994},{"$f":"IFERROR(IF('Futterberechnung (3)'!M13=\" \",\"\",'Futterberechnung (3)'!M13/'Futterberechnung (3)'!$F13%/100),\"\")","v":13.627244000000001},{"$f":"IFERROR(IF('Futterberechnung (3)'!N13=\" \",\"\",'Futterberechnung (3)'!N13/'Futterberechnung (3)'!$F13%/100),\"\")","v":13.700031999999998},{"$f":"IFERROR(IF('Futterberechnung (3)'!AC46=\" \",\"\",'Futterberechnung (3)'!AC46/'Futterberechnung (3)'!$F13%/100),\"\")","v":0},{"$f":"IFERROR(IF('Futterberechnung (3)'!AD46=\" \",\"\",'Futterberechnung (3)'!AD46/'Futterberechnung (3)'!$F13%/100),\"\")","v":0}]
[null,{"$f":"IF('Futterberechnung (3)'!C14=\"\",\"\",'Futterberechnung (3)'!C14)","v":"eigene Gerste 10% RP Ø 2018"},{"$f":"IF(B14=\"\",\"\",'Futterberechnung (3)'!F14)","v":0.40500000000000003},{"$f":"IFERROR(IF('Futterberechnung (3)'!I14=\" \",\"\",'Futterberechnung (3)'!I14/'Futterberechnung (3)'!F14%/1000),\"\")","v":88},{"$f":"IFERROR(IF('Futterberechnung (3)'!L47=\" \",\"\",'Futterberechnung (3)'!L47/'Futterberechnung (3)'!F14%/1000),\"\")","v":2.36},{"$f":"IFERROR(IF('Futterberechnung (3)'!J14=\" \",\"\",'Futterberechnung (3)'!J14/'Futterberechnung (3)'!$F14%/1000),\"\")","v":9.7129999999999992},{"$f":"IFERROR(IF('Futterberechnung (3)'!L14=\" \",\"\",'Futterberechnung (3)'!L14/'Futterberechnung (3)'!$F14%/1000),\"\")","v":5.5589999999999993},{"$f":"IFERROR(IF('Futterberechnung (3)'!I47=\" \",\"\",'Futterberechnung (3)'!I47/'Futterberechnung (3)'!$F14%/1000),\"\")","v":2.3789999999999996},{"$f":"IFERROR(IF('Futterberechnung (3)'!J47=\" \",\"\",'Futterberechnung (3)'!J47/'Futterberechnung (3)'!$F14%/1000),\"\")","v":50.23},{"$f":"IFERROR(IF('Futterberechnung (3)'!K47=\" \",\"\",'Futterberechnung (3)'!K47/'Futterberechnung (3)'!$F14%/1000),\"\")","v":2.2999999999999998},{"$f":"IFERROR(IF('Futterberechnung (3)'!M14=\" \",\"\",'Futterberechnung (3)'!M14/'Futterberechnung (3)'!$F14%/100),\"\")","v":12.512543189999997},{"$f":"IFERROR(IF('Futterberechnung (3)'!N14=\" \",\"\",'Futterberechnung (3)'!N14/'Futterberechnung (3)'!$F14%/100),\"\")","v":12.493114419999999},{"$f":"IFERROR(IF('Futterberechnung (3)'!AC47=\" \",\"\",'Futterberechnung (3)'!AC47/'Futterberechnung (3)'!$F14%/100),\"\")","v":0},{"$f":"IFERROR(IF('Futterberechnung (3)'!AD47=\" \",\"\",'Futterberechnung (3)'!AD47/'Futterberechnung (3)'!$F14%/100),\"\")","v":0}]
[null,{"$f":"IF('Futterberechnung (3)'!C15=\"\",\"\",'Futterberechnung (3)'!C15)","v":"Sojaschrot HP 47% RP "},{"$f":"IF(B15=\"\",\"\",'Futterberechnung (3)'!F15)","v":0.11},{"$f":"IFERROR(IF('Futterberechnung (3)'!I15=\" \",\"\",'Futterberechnung (3)'!I15/'Futterberechnung (3)'!F15%/1000),\"\")","v":89},{"$f":"IFERROR(IF('Futterberechnung (3)'!L48=\" \",\"\",'Futterberechnung (3)'!L48/'Futterberechnung (3)'!F15%/1000),\"\")","v":6.7},{"$f":"IFERROR(IF('Futterberechnung (3)'!J15=\" \",\"\",'Futterberechnung (3)'!J15/'Futterberechnung (3)'!$F15%/1000),\"\")","v":47},{"$f":"IFERROR(IF('Futterberechnung (3)'!L15=\" \",\"\",'Futterberechnung (3)'!L15/'Futterberechnung (3)'!$F15%/1000),\"\")","v":5.1999999999999993},{"$f":"IFERROR(IF('Futterberechnung (3)'!I48=\" \",\"\",'Futterberechnung (3)'!I48/'Futterberechnung (3)'!$F15%/1000),\"\")","v":1.8999999999999997},{"$f":"IFERROR(IF('Futterberechnung (3)'!J48=\" \",\"\",'Futterberechnung (3)'!J48/'Futterberechnung (3)'!$F15%/1000),\"\")","v":4.2},{"$f":"IFERROR(IF('Futterberechnung (3)'!K48=\" \",\"\",'Futterberechnung (3)'!K48/'Futterberechnung (3)'!$F15%/1000),\"\")","v":9.1},{"$f":"IFERROR(IF('Futterberechnung (3)'!M15=\" \",\"\",'Futterberechnung (3)'!M15/'Futterberechnung (3)'!$F15%/100),\"\")","v":13.857122999999996},{"$f":"IFERROR(IF('Futterberechnung (3)'!N15=\" \",\"\",'Futterberechnung (3)'!N15/'Futterberechnung (3)'!$F15%/100),\"\")","v":13.841379},{"$f":"IFERROR(IF('Futterberechnung (3)'!AC48=\" \",\"\",'Futterberechnung (3)'!AC48/'Futterberechnung (3)'!$F15%/100),\"\")","v":0},{"$f":"IFERROR(IF('Futterberechnung (3)'!AD48=\" \",\"\",'Futterberechnung (3)'!AD48/'Futterberechnung (3)'!$F15%/100),\"\")","v":0}]
[null,{"$f":"IF('Futterberechnung (3)'!C16=\"\",\"\",'Futterberechnung (3)'!C16)","v":"Rapsöl / Pflanzenöl DLG 2014"},{"$f":"IF(B16=\"\",\"\",'Futterberechnung (3)'!F16)","v":5.0000000000000001E-3},{"$f":"IFERROR(IF('Futterberechnung (3)'!I16=\" \",\"\",'Futterberechnung (3)'!I16/'Futterberechnung (3)'!F16%/1000),\"\")","v":99.9},{"$f":"IFERROR(IF('Futterberechnung (3)'!L49=\" \",\"\",'Futterberechnung (3)'!L49/'Futterberechnung (3)'!F16%/1000),\"\")","v":0},{"$f":"IFERROR(IF('Futterberechnung (3)'!J16=\" \",\"\",'Futterberechnung (3)'!J16/'Futterberechnung (3)'!$F16%/1000),\"\")","v":0},{"$f":"IFERROR(IF('Futterberechnung (3)'!L16=\" \",\"\",'Futterberechnung (3)'!L16/'Futterberechnung (3)'!$F16%/1000),\"\")","v":0},{"$f":"IFERROR(IF('Futterberechnung (3)'!I49=\" \",\"\",'Futterberechnung (3)'!I49/'Futterberechnung (3)'!$F16%/1000),\"\")","v":99.8},{"$f":"IFERROR(IF('Futterberechnung (3)'!J49=\" \",\"\",'Futterberechnung (3)'!J49/'Futterberechnung (3)'!$F16%/1000),\"\")","v":0},{"$f":"IFERROR(IF('Futterberechnung (3)'!K49=\" \",\"\",'Futterberechnung (3)'!K49/'Futterberechnung (3)'!$F16%/1000),\"\")","v":0},{"$f":"IFERROR(IF('Futterberechnung (3)'!M16=\" \",\"\",'Futterberechnung (3)'!M16/'Futterberechnung (3)'!$F16%/100),\"\")","v":38.925992000000001},{"$f":"IFERROR(IF('Futterberechnung (3)'!N16=\" \",\"\",'Futterberechnung (3)'!N16/'Futterberechnung (3)'!$F16%/100),\"\")","v":32.432006000000001},{"$f":"IFERROR(IF('Futterberechnung (3)'!AC49=\" \",\"\",'Futterberechnung (3)'!AC49/'Futterberechnung (3)'!$F16%/100),\"\")","v":0},{"$f":"IFERROR(IF('Futterberechnung (3)'!AD49=\" \",\"\",'Futterberechnung (3)'!AD49/'Futterberechnung (3)'!$F16%/100),\"\")","v":0}]
[null,{"$f":"IF('Futterberechnung (3)'!C17=\"\",\"\",'Futterberechnung (3)'!C17)","v":""},{"$f":"IF(B17=\"\",\"\",'Futterberechnung (3)'!F17)","v":""},{"$f":"IFERROR(IF('Futterberechnung (3)'!I17=\" \",\"\",'Futterberechnung (3)'!I17/'Futterberechnung (3)'!F17%/1000),\"\")","v":""},{"$f":"IFERROR(IF('Futterberechnung (3)'!L50=\" \",\"\",'Futterberechnung (3)'!L50/'Futterberechnung (3)'!F17%/1000),\"\")","v":""},{"$f":"IFERROR(IF('Futterberechnung (3)'!J17=\" \",\"\",'Futterberechnung (3)'!J17/'Futterberechnung (3)'!$F17%/1000),\"\")","v":""},{"$f":"IFERROR(IF('Futterberechnung (3)'!L17=\" \",\"\",'Futterberechnung (3)'!L17/'Futterberechnung (3)'!$F17%/1000),\"\")","v":""},{"$f":"IFERROR(IF('Futterberechnung (3)'!I50=\" \",\"\",'Futterberechnung (3)'!I50/'Futterberechnung (3)'!$F17%/1000),\"\")","v":""},{"$f":"IFERROR(IF('Futterberechnung (3)'!J50=\" \",\"\",'Futterberechnung (3)'!J50/'Futterberechnung (3)'!$F17%/1000),\"\")","v":""},{"$f":"IFERROR(IF('Futterberechnung (3)'!K50=\" \",\"\",'Futterberechnung (3)'!K50/'Futterberechnung (3)'!$F17%/1000),\"\")","v":""},{"$f":"IFERROR(IF('Futterberechnung (3)'!M17=\" \",\"\",'Futterberechnung (3)'!M17/'Futterberechnung (3)'!$F17%/100),\"\")","v":""},{"$f":"IFERROR(IF('Futterberechnung (3)'!N17=\" \",\"\",'Futterberechnung (3)'!N17/'Futterberechnung (3)'!$F17%/100),\"\")","v":""},{"$f":"IFERROR(IF('Futterberechnung (3)'!AC50=\" \",\"\",'Futterberechnung (3)'!AC50/'Futterberechnung (3)'!$F17%/100),\"\")","v":""},{"$f":"IFERROR(IF('Futterberechnung (3)'!AD50=\" \",\"\",'Futterberechnung (3)'!AD50/'Futterberechnung (3)'!$F17%/100),\"\")","v":""}]
[null,{"$f":"IF('Futterberechnung (3)'!C18=\"\",\"\",'Futterberechnung (3)'!C18)","v":""},{"$f":"IF(B18=\"\",\"\",'Futterberechnung (3)'!F18)","v":""},{"$f":"IFERROR(IF('Futterberechnung (3)'!I18=\" \",\"\",'Futterberechnung (3)'!I18/'Futterberechnung (3)'!F18%/1000),\"\")","v":""},{"$f":"IFERROR(IF('Futterberechnung (3)'!L51=\" \",\"\",'Futterberechnung (3)'!L51/'Futterberechnung (3)'!F18%/1000),\"\")","v":""},{"$f":"IFERROR(IF('Futterberechnung (3)'!J18=\" \",\"\",'Futterberechnung (3)'!J18/'Futterberechnung (3)'!$F18%/1000),\"\")","v":""},{"$f":"IFERROR(IF('Futterberechnung (3)'!L18=\" \",\"\",'Futterberechnung (3)'!L18/'Futterberechnung (3)'!$F18%/1000),\"\")","v":""},{"$f":"IFERROR(IF('Futterberechnung (3)'!I51=\" \",\"\",'Futterberechnung (3)'!I51/'Futterberechnung (3)'!$F18%/1000),\"\")","v":""},{"$f":"IFERROR(IF('Futterberechnung (3)'!J51=\" \",\"\",'Futterberechnung (3)'!J51/'Futterberechnung (3)'!$F18%/1000),\"\")","v":""},{"$f":"IFERROR(IF('Futterberechnung (3)'!K51=\" \",\"\",'Futterberechnung (3)'!K51/'Futterberechnung (3)'!$F18%/1000),\"\")","v":""},{"$f":"IFERROR(IF('Futterberechnung (3)'!M18=\" \",\"\",'Futterberechnung (3)'!M18/'Futterberechnung (3)'!$F18%/100),\"\")","v":""},{"$f":"IFERROR(IF('Futterberechnung (3)'!N18=\" \",\"\",'Futterberechnung (3)'!N18/'Futterberechnung (3)'!$F18%/100),\"\")","v":""},{"$f":"IFERROR(IF('Futterberechnung (3)'!AC51=\" \",\"\",'Futterberechnung (3)'!AC51/'Futterberechnung (3)'!$F18%/100),\"\")","v":""},{"$f":"IFERROR(IF('Futterberechnung (3)'!AD51=\" \",\"\",'Futterberechnung (3)'!AD51/'Futterberechnung (3)'!$F18%/100),\"\")","v":""}]
[null,{"$f":"IF('Futterberechnung (3)'!C19=\"\",\"\",'Futterberechnung (3)'!C19)","v":""},{"$f":"IF(B19=\"\",\"\",'Futterberechnung (3)'!F19)","v":""},{"$f":"IFERROR(IF('Futterberechnung (3)'!I19=\" \",\"\",'Futterberechnung (3)'!I19/'Futterberechnung (3)'!F19%/1000),\"\")","v":""},{"$f":"IFERROR(IF('Futterberechnung (3)'!L52=\" \",\"\",'Futterberechnung (3)'!L52/'Futterberechnung (3)'!F19%/1000),\"\")","v":""},{"$f":"IFERROR(IF('Futterberechnung (3)'!J19=\" \",\"\",'Futterberechnung (3)'!J19/'Futterberechnung (3)'!$F19%/1000),\"\")","v":""},{"$f":"IFERROR(IF('Futterberechnung (3)'!L19=\" \",\"\",'Futterberechnung (3)'!L19/'Futterberechnung (3)'!$F19%/1000),\"\")","v":""},{"$f":"IFERROR(IF('Futterberechnung (3)'!I52=\" \",\"\",'Futterberechnung (3)'!I52/'Futterberechnung (3)'!$F19%/1000),\"\")","v":""},{"$f":"IFERROR(IF('Futterberechnung (3)'!J52=\" \",\"\",'Futterberechnung (3)'!J52/'Futterberechnung (3)'!$F19%/1000),\"\")","v":""},{"$f":"IFERROR(IF('Futterberechnung (3)'!K52=\" \",\"\",'Futterberechnung (3)'!K52/'Futterberechnung (3)'!$F19%/1000),\"\")","v":""},{"$f":"IFERROR(IF('Futterberechnung (3)'!M19=\" \",\"\",'Futterberechnung (3)'!M19/'Futterberechnung (3)'!$F19%/100),\"\")","v":""},{"$f":"IFERROR(IF('Futterberechnung (3)'!N19=\" \",\"\",'Futterberechnung (3)'!N19/'Futterberechnung (3)'!$F19%/100),\"\")","v":""},{"$f":"IFERROR(IF('Futterberechnung (3)'!AC52=\" \",\"\",'Futterberechnung (3)'!AC52/'Futterberechnung (3)'!$F19%/100),\"\")","v":""},{"$f":"IFERROR(IF('Futterberechnung (3)'!AD52=\" \",\"\",'Futterberechnung (3)'!AD52/'Futterberechnung (3)'!$F19%/100),\"\")","v":""}]
[null,{"$f":"IF('Futterberechnung (3)'!C20=\"\",\"\",'Futterberechnung (3)'!C20)","v":""},{"$f":"IF(B20=\"\",\"\",'Futterberechnung (3)'!F20)","v":""},{"$f":"IFERROR(IF('Futterberechnung (3)'!I20=\" \",\"\",'Futterberechnung (3)'!I20/'Futterberechnung (3)'!F20%/1000),\"\")","v":""},{"$f":"IFERROR(IF('Futterberechnung (3)'!L53=\" \",\"\",'Futterberechnung (3)'!L53/'Futterberechnung (3)'!F20%/1000),\"\")","v":""},{"$f":"IFERROR(IF('Futterberechnung (3)'!J20=\" \",\"\",'Futterberechnung (3)'!J20/'Futterberechnung (3)'!$F20%/1000),\"\")","v":""},{"$f":"IFERROR(IF('Futterberechnung (3)'!L20=\" \",\"\",'Futterberechnung (3)'!L20/'Futterberechnung (3)'!$F20%/1000),\"\")","v":""},{"$f":"IFERROR(IF('Futterberechnung (3)'!I53=\" \",\"\",'Futterberechnung (3)'!I53/'Futterberechnung (3)'!$F20%/1000),\"\")","v":""},{"$f":"IFERROR(IF('Futterberechnung (3)'!J53=\" \",\"\",'Futterberechnung (3)'!J53/'Futterberechnung (3)'!$F20%/1000),\"\")","v":""},{"$f":"IFERROR(IF('Futterberechnung (3)'!K53=\" \",\"\",'Futterberechnung (3)'!K53/'Futterberechnung (3)'!$F20%/1000),\"\")","v":""},{"$f":"IFERROR(IF('Futterberechnung (3)'!M20=\" \",\"\",'Futterberechnung (3)'!M20/'Futterberechnung (3)'!$F20%/100),\"\")","v":""},{"$f":"IFERROR(IF('Futterberechnung (3)'!N20=\" \",\"\",'Futterberechnung (3)'!N20/'Futterberechnung (3)'!$F20%/100),\"\")","v":""},{"$f":"IFERROR(IF('Futterberechnung (3)'!AC53=\" \",\"\",'Futterberechnung (3)'!AC53/'Futterberechnung (3)'!$F20%/100),\"\")","v":""},{"$f":"IFERROR(IF('Futterberechnung (3)'!AD53=\" \",\"\",'Futterberechnung (3)'!AD53/'Futterberechnung (3)'!$F20%/100),\"\")","v":""}]
[null,{"$f":"IF('Futterberechnung (3)'!C21=\"\",\"\",'Futterberechnung (3)'!C21)","v":""},{"$f":"IF(B21=\"\",\"\",'Futterberechnung (3)'!F21)","v":""},{"$f":"IFERROR(IF('Futterberechnung (3)'!I21=\" \",\"\",'Futterberechnung (3)'!I21/'Futterberechnung (3)'!F21%/1000),\"\")","v":""},{"$f":"IFERROR(IF('Futterberechnung (3)'!L54=\" \",\"\",'Futterberechnung (3)'!L54/'Futterberechnung (3)'!F21%/1000),\"\")","v":""},{"$f":"IFERROR(IF('Futterberechnung (3)'!J21=\" \",\"\",'Futterberechnung (3)'!J21/'Futterberechnung (3)'!$F21%/1000),\"\")","v":""},{"$f":"IFERROR(IF('Futterberechnung (3)'!L21=\" \",\"\",'Futterberechnung (3)'!L21/'Futterberechnung (3)'!$F21%/1000),\"\")","v":""},{"$f":"IFERROR(IF('Futterberechnung (3)'!I54=\" \",\"\",'Futterberechnung (3)'!I54/'Futterberechnung (3)'!$F21%/1000),\"\")","v":""},{"$f":"IFERROR(IF('Futterberechnung (3)'!J54=\" \",\"\",'Futterberechnung (3)'!J54/'Futterberechnung (3)'!$F21%/1000),\"\")","v":""},{"$f":"IFERROR(IF('Futterberechnung (3)'!K54=\" \",\"\",'Futterberechnung (3)'!K54/'Futterberechnung (3)'!$F21%/1000),\"\")","v":""},{"$f":"IFERROR(IF('Futterberechnung (3)'!M21=\" \",\"\",'Futterberechnung (3)'!M21/'Futterberechnung (3)'!$F21%/100),\"\")","v":""},{"$f":"IFERROR(IF('Futterberechnung (3)'!N21=\" \",\"\",'Futterberechnung (3)'!N21/'Futterberechnung (3)'!$F21%/100),\"\")","v":""},{"$f":"IFERROR(IF('Futterberechnung (3)'!AC54=\" \",\"\",'Futterberechnung (3)'!AC54/'Futterberechnung (3)'!$F21%/100),\"\")","v":""},{"$f":"IFERROR(IF('Futterberechnung (3)'!AD54=\" \",\"\",'Futterberechnung (3)'!AD54/'Futterberechnung (3)'!$F21%/100),\"\")","v":""}]
[null,{"$f":"IF('Futterberechnung (3)'!C22=\"\",\"\",'Futterberechnung (3)'!C22)","v":""},{"$f":"IF(B22=\"\",\"\",'Futterberechnung (3)'!F22)","v":""},{"$f":"IFERROR(IF('Futterberechnung (3)'!I22=\" \",\"\",'Futterberechnung (3)'!I22/'Futterberechnung (3)'!F22%/1000),\"\")","v":""},{"$f":"IFERROR(IF('Futterberechnung (3)'!L55=\" \",\"\",'Futterberechnung (3)'!L55/'Futterberechnung (3)'!F22%/1000),\"\")","v":""},{"$f":"IFERROR(IF('Futterberechnung (3)'!J22=\" \",\"\",'Futterberechnung (3)'!J22/'Futterberechnung (3)'!$F22%/1000),\"\")","v":""},{"$f":"IFERROR(IF('Futterberechnung (3)'!L22=\" \",\"\",'Futterberechnung (3)'!L22/'Futterberechnung (3)'!$F22%/1000),\"\")","v":""},{"$f":"IFERROR(IF('Futterberechnung (3)'!I55=\" \",\"\",'Futterberechnung (3)'!I55/'Futterberechnung (3)'!$F22%/1000),\"\")","v":""},{"$f":"IFERROR(IF('Futterberechnung (3)'!J55=\" \",\"\",'Futterberechnung (3)'!J55/'Futterberechnung (3)'!$F22%/1000),\"\")","v":""},{"$f":"IFERROR(IF('Futterberechnung (3)'!K55=\" \",\"\",'Futterberechnung (3)'!K55/'Futterberechnung (3)'!$F22%/1000),\"\")","v":""},{"$f":"IFERROR(IF('Futterberechnung (3)'!M22=\" \",\"\",'Futterberechnung (3)'!M22/'Futterberechnung (3)'!$F22%/100),\"\")","v":""},{"$f":"IFERROR(IF('Futterberechnung (3)'!N22=\" \",\"\",'Futterberechnung (3)'!N22/'Futterberechnung (3)'!$F22%/100),\"\")","v":""},{"$f":"IFERROR(IF('Futterberechnung (3)'!AC55=\" \",\"\",'Futterberechnung (3)'!AC55/'Futterberechnung (3)'!$F22%/100),\"\")","v":""},{"$f":"IFERROR(IF('Futterberechnung (3)'!AD55=\" \",\"\",'Futterberechnung (3)'!AD55/'Futterberechnung (3)'!$F22%/100),\"\")","v":""}]
[null,{"$f":"IF('Futterberechnung (3)'!C23=\"\",\"\",'Futterberechnung (3)'!C23)","v":""},{"$f":"IF(B23=\"\",\"\",'Futterberechnung (3)'!F23)","v":""},{"$f":"IFERROR(IF('Futterberechnung (3)'!I23=\" \",\"\",'Futterberechnung (3)'!I23/'Futterberechnung (3)'!F23%/1000),\"\")","v":""},{"$f":"IFERROR(IF('Futterberechnung (3)'!L56=\" \",\"\",'Futterberechnung (3)'!L56/'Futterberechnung (3)'!F23%/1000),\"\")","v":""},{"$f":"IFERROR(IF('Futterberechnung (3)'!J23=\" \",\"\",'Futterberechnung (3)'!J23/'Futterberechnung (3)'!$F23%/1000),\"\")","v":""},{"$f":"IFERROR(IF('Futterberechnung (3)'!L23=\" \",\"\",'Futterberechnung (3)'!L23/'Futterberechnung (3)'!$F23%/1000),\"\")","v":""},{"$f":"IFERROR(IF('Futterberechnung (3)'!I56=\" \",\"\",'Futterberechnung (3)'!I56/'Futterberechnung (3)'!$F23%/1000),\"\")","v":""},{"$f":"IFERROR(IF('Futterberechnung (3)'!J56=\" \",\"\",'Futterberechnung (3)'!J56/'Futterberechnung (3)'!$F23%/1000),\"\")","v":""},{"$f":"IFERROR(IF('Futterberechnung (3)'!K56=\" \",\"\",'Futterberechnung (3)'!K56/'Futterberechnung (3)'!$F23%/1000),\"\")","v":""},{"$f":"IFERROR(IF('Futterberechnung (3)'!M23=\" \",\"\",'Futterberechnung (3)'!M23/'Futterberechnung (3)'!$F23%/100),\"\")","v":""},{"$f":"IFERROR(IF('Futterberechnung (3)'!N23=\" \",\"\",'Futterberechnung (3)'!N23/'Futterberechnung (3)'!$F23%/100),\"\")","v":""},{"$f":"IFERROR(IF('Futterberechnung (3)'!AC56=\" \",\"\",'Futterberechnung (3)'!AC56/'Futterberechnung (3)'!$F23%/100),\"\")","v":""},{"$f":"IFERROR(IF('Futterberechnung (3)'!AD56=\" \",\"\",'Futterberechnung (3)'!AD56/'Futterberechnung (3)'!$F23%/100),\"\")","v":""}]
[null,"Ergänzungsfutter"]
[null,{"$f":"IF('Futterberechnung (3)'!C25=\"\",\"\",'Futterberechnung (3)'!C25)","v":""},{"$f":"IF(B25=\"\",\"\",'Futterberechnung (3)'!F25)","v":""},{"$f":"IFERROR(IF('Futterberechnung (3)'!I25=\" \",\"\",'Futterberechnung (3)'!I25/'Futterberechnung (3)'!F25%/1000),\"\")","v":""},{"$f":"IFERROR(IF('Futterberechnung (3)'!L58=\" \",\"\",'Futterberechnung (3)'!L58/'Futterberechnung (3)'!F25%/1000),\"\")","v":""},{"$f":"IFERROR(IF('Futterberechnung (3)'!J25=\" \",\"\",'Futterberechnung (3)'!J25/'Futterberechnung (3)'!$F25%/1000),\"\")","v":""},{"$f":"IFERROR(IF('Futterberechnung (3)'!L25=\" \",\"\",'Futterberechnung (3)'!L25/'Futterberechnung (3)'!$F25%/1000),\"\")","v":""},{"$f":"IFERROR(IF('Futterberechnung (3)'!I58=\" \",\"\",'Futterberechnung (3)'!I58/'Futterberechnung (3)'!$F25%/1000),\"\")","v":""},{"$f":"IFERROR(IF('Futterberechnung (3)'!J58=\" \",\"\",'Futterberechnung (3)'!J58/'Futterberechnung (3)'!$F25%/1000),\"\")","v":""},{"$f":"IFERROR(IF('Futterberechnung (3)'!K58=\" \",\"\",'Futterberechnung (3)'!K58/'Futterberechnung (3)'!$F25%/1000),\"\")","v":""},{"$f":"IFERROR(IF('Futterberechnung (3)'!M25=\" \",\"\",'Futterberechnung (3)'!M25/'Futterberechnung (3)'!$F25%/100),\"\")","v":""},{"$f":"IFERROR(IF('Futterberechnung (3)'!N25=\" \",\"\",'Futterberechnung (3)'!N25/'Futterberechnung (3)'!$F25%/100),\"\")","v":""},{"$f":"IFERROR(IF('Futterberechnung (3)'!AC58=\" \",\"\",'Futterberechnung (3)'!AC58/'Futterberechnung (3)'!$F25%/100),\"\")","v":""},{"$f":"IFERROR(IF('Futterberechnung (3)'!AD58=\" \",\"\",'Futterberechnung (3)'!AD58/'Futterberechnung (3)'!$F25%/100),\"\")","v":""}]
[null,{"$f":"IF('Futterberechnung (3)'!C26=\"\",\"\",'Futterberechnung (3)'!C26)","v":""},{"$f":"IF(B26=\"\",\"\",'Futterberechnung (3)'!F26)","v":""},{"$f":"IFERROR(IF('Futterberechnung (3)'!I26=\" \",\"\",'Futterberechnung (3)'!I26/'Futterberechnung (3)'!F26%/1000),\"\")","v":""},{"$f":"IFERROR(IF('Futterberechnung (3)'!L59=\" \",\"\",'Futterberechnung (3)'!L59/'Futterberechnung (3)'!F26%/1000),\"\")","v":""},{"$f":"IFERROR(IF('Futterberechnung (3)'!J26=\" \",\"\",'Futterberechnung (3)'!J26/'Futterberechnung (3)'!$F26%/1000),\"\")","v":""},{"$f":"IFERROR(IF('Futterberechnung (3)'!L26=\" \",\"\",'Futterberechnung (3)'!L26/'Futterberechnung (3)'!$F26%/1000),\"\")","v":""},{"$f":"IFERROR(IF('Futterberechnung (3)'!I59=\" \",\"\",'Futterberechnung (3)'!I59/'Futterberechnung (3)'!$F26%/1000),\"\")","v":""},{"$f":"IFERROR(IF('Futterberechnung (3)'!J59=\" \",\"\",'Futterberechnung (3)'!J59/'Futterberechnung (3)'!$F26%/1000),\"\")","v":""},{"$f":"IFERROR(IF('Futterberechnung (3)'!K59=\" \",\"\",'Futterberechnung (3)'!K59/'Futterberechnung (3)'!$F26%/1000),\"\")","v":""},{"$f":"IFERROR(IF('Futterberechnung (3)'!M26=\" \",\"\",'Futterberechnung (3)'!M26/'Futterberechnung (3)'!$F26%/100),\"\")","v":""},{"$f":"IFERROR(IF('Futterberechnung (3)'!N26=\" \",\"\",'Futterberechnung (3)'!N26/'Futterberechnung (3)'!$F26%/100),\"\")","v":""},{"$f":"IFERROR(IF('Futterberechnung (3)'!AC59=\" \",\"\",'Futterberechnung (3)'!AC59/'Futterberechnung (3)'!$F26%/100),\"\")","v":""},{"$f":"IFERROR(IF('Futterberechnung (3)'!AD59=\" \",\"\",'Futterberechnung (3)'!AD59/'Futterberechnung (3)'!$F26%/100),\"\")","v":""}]
[null,"In der berechneten und gegebenfalls analysierten Ration",null,{"$f":"IF('Futterberechnung (3)'!I30=\" \",\"\",'Futterberechnung (3)'!I30/'Futterberechnung (3)'!F30%/1000)","v":88.409499999999994},{"$f":"IF('Futterberechnung (3)'!L63=\" \",\"\",'Futterberechnung (3)'!L63/10)","v":4.6148000000000007},{"$f":"IF('Futterberechnung (3)'!J30=\" \",\"\",'Futterberechnung (3)'!J30/10)","v":13.963787432329578},{"$f":"IF('Futterberechnung (3)'!L30=\" \",\"\",'Futterberechnung (3)'!L30/10)","v":4.0100449999999999},{"$f":"IF('Futterberechnung (3)'!I63=\" \",\"\",'Futterberechnung (3)'!I63/10)","v":2.4661949999999999},{"$f":"IF('Futterberechnung (3)'!J63=\" \",\"\",'Futterberechnung (3)'!J63/10)","v":47.742150000000002},{"$f":"IF('Futterberechnung (3)'!K63=\" \",\"\",'Futterberechnung (3)'!K63/10)","v":3.1924999999999999},{"$f":"IF('Futterberechnung (3)'!M30=\" \",\"\",'Futterberechnung (3)'!M30)","v":13.001425920026211},{"$f":"IF('Futterberechnung (3)'!N30=\" \",\"\",'Futterberechnung (3)'!N30)","v":12.996182480173831},{"$f":"IF('Futterberechnung (3)'!AC63=\" \",\"\",'Futterberechnung (3)'!AC63)","v":0},{"$f":"IF('Futterberechnung (3)'!AD63=\" \",\"\",'Futterberechnung (3)'!AD63)","v":0}]
[null,"In der Ration auf 88% TM",null,{"$f":"IF('Futterberechnung (3)'!I31=\" \",\"\",'Futterberechnung (3)'!I31/'Futterberechnung (3)'!$F$31%/1000)","v":88},{"$f":"IF('Futterberechnung (3)'!L64=\" \",\"\",'Futterberechnung (3)'!L64/10)","v":4.5999999999999996},{"$f":"IF('Futterberechnung (3)'!J31=\" \",\"\",'Futterberechnung (3)'!J31/10)","v":13.9},{"$f":"IF('Futterberechnung (3)'!L31=\" \",\"\",'Futterberechnung (3)'!L31/10)","v":4},{"$f":"IF('Futterberechnung (3)'!I64=\" \",\"\",'Futterberechnung (3)'!I64/10)","v":2.5},{"$f":"IF('Futterberechnung (3)'!J64=\" \",\"\",'Futterberechnung (3)'!J64/10)","v":47.5},{"$f":"IF('Futterberechnung (3)'!K64=\" \",\"\",'Futterberechnung (3)'!K64/10)","v":3.2},{"$f":"IF('Futterberechnung (3)'!M31=\" \",\"\",'Futterberechnung (3)'!M31)","v":12.94},{"$f":"IF('Futterberechnung (3)'!N31=\" \",\"\",'Futterberechnung (3)'!N31)","v":12.94},{"$f":"IF('Futterberechnung (3)'!AC64=\" \",\"\",'Futterberechnung (3)'!AC64)","v":0},{"$f":"IF('Futterberechnung (3)'!AD64=\" \",\"\",'Futterberechnung (3)'!AD64)","v":0}]
[null,"In der Ration nach Futteranalyse auf FM-Basis",null,86.8,4.8,14.8,3.7,2.8,47,null,"-",12.8]
[null,"In der Ration nach Futteranalyse auf 88% TM",null,{"$f":"IF(D29=\"\",\"\",D29/D29*88)","v":88},{"$f":"IF(E29=\"\",\"\",E29/$D$29*88)","v":4.8663594470046077},15.004608294930877,3.7511520737327193,2.838709677419355,47.649769585253459,"","-",12.976958525345623,{"$f":"IF(M29=\"\",\"\",M29/$D$29*88)","v":""},""]
[null,"Differenz analysiert zu berechnet auf 88% TM",null,{"$f":"IFERROR((D30-D28),\"\")","v":0},0.26635944700460801,1.1046082949308769,-0.24884792626728069,0.33870967741935498,0.14976958525345907,"","-",{"$f":"IFERROR((L30-L28),\"\")","v":3.6958525345623272E-2},{"$f":"IFERROR((M30-M28),\"\")","v":""},""]
[]
[]
[null,{"$f":"IF(Futterberechnung!C68=\"\",\"\",Futterberechnung!C68)","v":""}]

{"sheet":"Ausdruck NIRS-Analysen (4)","index":28,"n_rows":34,"n_cols":14,"rows_kept":34,"cut":false,"hidden":false,"merged":[[10,12,10,13],[5,1,5,13],[7,2,7,4],[7,7,7,11],[10,3,10,9],[10,10,10,11]]}
[]
[]
[]
[]
[null,null,null,null,null,null,null,null,null,null,null,null,"Datum:","2018-08-01"]
[null,"Ausdruck Vergleich Ration zu NIRS Futteranalyse Futterberechnung 3"]
[]
[null,null,{"$f":"IF('Futterberechnung (4)'!C33=\"\",\"\",'Futterberechnung (4)'!C33)","v":"Endmast ab 90 Kg LM für 850 g TZ*"},null,null,null,"Betrieb:",{"$f":"IF('Futterberechnung (4)'!H5=\"\",\"\",'Futterberechnung (4)'!H5)","v":"Mustermann"}]
[]
[null,{"$f":"IF(Futterberechnung!C12=\"\",\"\",Futterberechnung!C12)","v":"Futtermittel + % RP in der FM"},"Anteil in FM","TM","Rohasche XA","Rohprotein XP","Rohfaser XF","Rohfett XL","Stärke S","Zucker Z","Energie EFF","Energie MFF","DON","ZEA"]
[null,null,"%","in Prozent/kg",null,null,null,null,null,null,"in MJ ME",null,"in mg/kg"]
[]
[null,{"$f":"IF('Futterberechnung (4)'!C13=\"\",\"\",'Futterberechnung (4)'!C13)","v":"eigener Weizen 10% RP Ø 2018"},{"$f":"IF(B13=\"\",\"\",'Futterberechnung (4)'!F13)","v":0.49},{"$f":"IFERROR(IF('Futterberechnung (4)'!I13=\" \",\"\",'Futterberechnung (4)'!I13/'Futterberechnung (4)'!F13%/1000),\"\")","v":88},{"$f":"IFERROR(IF('Futterberechnung (4)'!L46=\" \",\"\",'Futterberechnung (4)'!L46/'Futterberechnung (4)'!F13%/1000),\"\")","v":1.6600000000000001},{"$f":"IFERROR(IF('Futterberechnung (4)'!J13=\" \",\"\",'Futterberechnung (4)'!J13/'Futterberechnung (4)'!$F13%/1000),\"\")","v":9.9039999999999999},{"$f":"IFERROR(IF('Futterberechnung (4)'!L13=\" \",\"\",'Futterberechnung (4)'!L13/'Futterberechnung (4)'!$F13%/1000),\"\")","v":2.637},{"$f":"IFERROR(IF('Futterberechnung (4)'!I46=\" \",\"\",'Futterberechnung (4)'!I46/'Futterberechnung (4)'!$F13%/1000),\"\")","v":1.766},{"$f":"IFERROR(IF('Futterberechnung (4)'!J46=\" \",\"\",'Futterberechnung (4)'!J46/'Futterberechnung (4)'!$F13%/1000),\"\")","v":59.860000000000007},{"$f":"IFERROR(IF('Futterberechnung (4)'!K46=\" \",\"\",'Futterberechnung (4)'!K46/'Futterberechnung (4)'!$F13%/1000),\"\")","v":2.8},{"$f":"IFERROR(IF('Futterberechnung (4)'!M13=\" \",\"\",'Futterberechnung (4)'!M13/'Futterberechnung (4)'!$F13%/100),\"\")","v":13.627244000000001},{"$f":"IFERROR(IF('Futterberechnung (4)'!N13=\" \",\"\",'Futterberechnung (4)'!N13/'Futterberechnung (4)'!$F13%/100),\"\")","v":13.700032},{"$f":"IFERROR(IF('Futterberechnung (4)'!AC46=\" \",\"\",'Futterberechnung (4)'!AC46/'Futterberechnung (4)'!$F13%/1000),\"\")","v":0},{"$f":"IFERROR(IF('Futterberechnung (4)'!AD46=\" \",\"\",'Futterberechnung (4)'!AD46/'Futterberechnung (4)'!$F13%/1000),\"\")","v":0}]
[null,{"$f":"IF('Futterberechnung (4)'!C14=\"\",\"\",'Futterberechnung (4)'!C14)","v":"eigene Gerste 10% RP Ø 2018"},{"$f":"IF(B14=\"\",\"\",'Futterberechnung (4)'!F14)","v":0.42399999999999999},{"$f":"IFERROR(IF('Futterberechnung (4)'!I14=\" \",\"\",'Futterberechnung (4)'!I14/'Futterberechnung (4)'!F14%/1000),\"\")","v":88},{"$f":"IFERROR(IF('Futterberechnung (4)'!L47=\" \",\"\",'Futterberechnung (4)'!L47/'Futterberechnung (4)'!F14%/1000),\"\")","v":2.3600000000000003},{"$f":"IFERROR(IF('Futterberechnung (4)'!J14=\" \",\"\",'Futterberechnung (4)'!J14/'Futterberechnung (4)'!$F14%/1000),\"\")","v":9.7129999999999992},{"$f":"IFERROR(IF('Futterberechnung (4)'!L14=\" \",\"\",'Futterberechnung (4)'!L14/'Futterberechnung (4)'!$F14%/1000),\"\")","v":5.5590000000000011},{"$f":"IFERROR(IF('Futterberechnung (4)'!I47=\" \",\"\",'Futterberechnung (4)'!I47/'Futterberechnung (4)'!$F14%/1000),\"\")","v":2.379},{"$f":"IFERROR(IF('Futterberechnung (4)'!J47=\" \",\"\",'Futterberechnung (4)'!J47/'Futterberechnung (4)'!$F14%/1000),\"\")","v":50.23},{"$f":"IFERROR(IF('Futterberechnung (4)'!K47=\" \",\"\",'Futterberechnung (4)'!K47/'Futterberechnung (4)'!$F14%/1000),\"\")","v":2.2999999999999998},{"$f":"IFERROR(IF('Futterberechnung (4)'!M14=\" \",\"\",'Futterberechnung (4)'!M14/'Futterberechnung (4)'!$F14%/100),\"\")","v":12.512543189999999},{"$f":"IFERROR(IF('Futterberechnung (4)'!N14=\" \",\"\",'Futterberechnung (4)'!N14/'Futterberechnung (4)'!$F14%/100),\"\")","v":12.493114420000001},{"$f":"IFERROR(IF('Futterberechnung (4)'!AC47=\" \",\"\",'Futterberechnung (4)'!AC47/'Futterberechnung (4)'!$F14%/1000),\"\")","v":0},{"$f":"IFERROR(IF('Futterberechnung (4)'!AD47=\" \",\"\",'Futterberechnung (4)'!AD47/'Futterberechnung (4)'!$F14%/1000),\"\")","v":0}]
[null,{"$f":"IF('Futterberechnung (4)'!C15=\"\",\"\",'Futterberechnung (4)'!C15)","v":"Sojaschrot HP 47% RP "},{"$f":"IF(B15=\"\",\"\",'Futterberechnung (4)'!F15)","v":5.0999999999999997E-2},{"$f":"IFERROR(IF('Futterberechnung (4)'!I15=\" \",\"\",'Futterberechnung (4)'!I15/'Futterberechnung (4)'!F15%/1000),\"\")","v":89.000000000000014},{"$f":"IFERROR(IF('Futterberechnung (4)'!L48=\" \",\"\",'Futterberechnung (4)'!L48/'Futterberechnung (4)'!F15%/1000),\"\")","v":6.7000000000000011},{"$f":"IFERROR(IF('Futterberechnung (4)'!J15=\" \",\"\",'Futterberechnung (4)'!J15/'Futterberechnung (4)'!$F15%/1000),\"\")","v":47.000000000000007},{"$f":"IFERROR(IF('Futterberechnung (4)'!L15=\" \",\"\",'Futterberechnung (4)'!L15/'Futterberechnung (4)'!$F15%/1000),\"\")","v":5.2},{"$f":"IFERROR(IF('Futterberechnung (4)'!I48=\" \",\"\",'Futterberechnung (4)'!I48/'Futterberechnung (4)'!$F15%/1000),\"\")","v":1.9000000000000001},{"$f":"IFERROR(IF('Futterberechnung (4)'!J48=\" \",\"\",'Futterberechnung (4)'!J48/'Futterberechnung (4)'!$F15%/1000),\"\")","v":4.2},{"$f":"IFERROR(IF('Futterberechnung (4)'!K48=\" \",\"\",'Futterberechnung (4)'!K48/'Futterberechnung (4)'!$F15%/1000),\"\")","v":9.1000000000000014},{"$f":"IFERROR(IF('Futterberechnung (4)'!M15=\" \",\"\",'Futterberechnung (4)'!M15/'Futterberechnung (4)'!$F15%/100),\"\")","v":13.857123},{"$f":"IFERROR(IF('Futterberechnung (4)'!N15=\" \",\"\",'Futterberechnung (4)'!N15/'Futterberechnung (4)'!$F15%/100),\"\")","v":13.841379000000002},{"$f":"IFERROR(IF('Futterberechnung (4)'!AC48=\" \",\"\",'Futterberechnung (4)'!AC48/'Futterberechnung (4)'!$F15%/1000),\"\")","v":0},{"$f":"IFERROR(IF('Futterberechnung (4)'!AD48=\" \",\"\",'Futterberechnung (4)'!AD48/'Futterberechnung (4)'!$F15%/1000),\"\")","v":0}]
[null,{"$f":"IF('Futterberechnung (4)'!C16=\"\",\"\",'Futterberechnung (4)'!C16)","v":"Rapsöl / Pflanzenöl DLG 2014"},{"$f":"IF(B16=\"\",\"\",'Futterberechnung (4)'!F16)","v":5.0000000000000001E-3},{"$f":"IFERROR(IF('Futterberechnung (4)'!I16=\" \",\"\",'Futterberechnung (4)'!I16/'Futterberechnung (4)'!F16%/1000),\"\")","v":99.9},{"$f":"IFERROR(IF('Futterberechnung (4)'!L49=\" \",\"\",'Futterberechnung (4)'!L49/'Futterberechnung (4)'!F16%/1000),\"\")","v":0},{"$f":"IFERROR(IF('Futterberechnung (4)'!J16=\" \",\"\",'Futterberechnung (4)'!J16/'Futterberechnung (4)'!$F16%/1000),\"\")","v":0},{"$f":"IFERROR(IF('Futterberechnung (4)'!L16=\" \",\"\",'Futterberechnung (4)'!L16/'Futterberechnung (4)'!$F16%/1000),\"\")","v":0},{"$f":"IFERROR(IF('Futterberechnung (4)'!I49=\" \",\"\",'Futterberechnung (4)'!I49/'Futterberechnung (4)'!$F16%/1000),\"\")","v":99.8},{"$f":"IFERROR(IF('Futterberechnung (4)'!J49=\" \",\"\",'Futterberechnung (4)'!J49/'Futterberechnung (4)'!$F16%/1000),\"\")","v":0},{"$f":"IFERROR(IF('Futterberechnung (4)'!K49=\" \",\"\",'Futterberechnung (4)'!K49/'Futterberechnung (4)'!$F16%/1000),\"\")","v":0},{"$f":"IFERROR(IF('Futterberechnung (4)'!M16=\" \",\"\",'Futterberechnung (4)'!M16/'Futterberechnung (4)'!$F16%/100),\"\")","v":38.925992000000001},{"$f":"IFERROR(IF('Futterberechnung (4)'!N16=\" \",\"\",'Futterberechnung (4)'!N16/'Futterberechnung (4)'!$F16%/100),\"\")","v":32.432006000000001},{"$f":"IFERROR(IF('Futterberechnung (4)'!AC49=\" \",\"\",'Futterberechnung (4)'!AC49/'Futterberechnung (4)'!$F16%/1000),\"\")","v":0},{"$f":"IFERROR(IF('Futterberechnung (4)'!AD49=\" \",\"\",'Futterberechnung (4)'!AD49/'Futterberechnung (4)'!$F16%/1000),\"\")","v":0}]
[null,{"$f":"IF('Futterberechnung (4)'!C17=\"\",\"\",'Futterberechnung (4)'!C17)","v":""},{"$f":"IF(B17=\"\",\"\",'Futterberechnung (4)'!F17)","v":""},{"$f":"IFERROR(IF('Futterberechnung (4)'!I17=\" \",\"\",'Futterberechnung (4)'!I17/'Futterberechnung (4)'!F17%/1000),\"\")","v":""},{"$f":"IFERROR(IF('Futterberechnung (4)'!L50=\" \",\"\",'Futterberechnung (4)'!L50/'Futterberechnung (4)'!F17%/1000),\"\")","v":""},{"$f":"IFERROR(IF('Futterberechnung (4)'!J17=\" \",\"\",'Futterberechnung (4)'!J17/'Futterberechnung (4)'!$F17%/1000),\"\")","v":""},{"$f":"IFERROR(IF('Futterberechnung (4)'!L17=\" \",\"\",'Futterberechnung (4)'!L17/'Futterberechnung (4)'!$F17%/1000),\"\")","v":""},{"$f":"IFERROR(IF('Futterberechnung (4)'!I50=\" \",\"\",'Futterberechnung (4)'!I50/'Futterberechnung (4)'!$F17%/1000),\"\")","v":""},{"$f":"IFERROR(IF('Futterberechnung (4)'!J50=\" \",\"\",'Futterberechnung (4)'!J50/'Futterberechnung (4)'!$F17%/1000),\"\")","v":""},{"$f":"IFERROR(IF('Futterberechnung (4)'!K50=\" \",\"\",'Futterberechnung (4)'!K50/'Futterberechnung (4)'!$F17%/1000),\"\")","v":""},{"$f":"IFERROR(IF('Futterberechnung (4)'!M17=\" \",\"\",'Futterberechnung (4)'!M17/'Futterberechnung (4)'!$F17%/100),\"\")","v":""},{"$f":"IFERROR(IF('Futterberechnung (4)'!N17=\" \",\"\",'Futterberechnung (4)'!N17/'Futterberechnung (4)'!$F17%/100),\"\")","v":""},{"$f":"IFERROR(IF('Futterberechnung (4)'!AC50=\" \",\"\",'Futterberechnung (4)'!AC50/'Futterberechnung (4)'!$F17%/1000),\"\")","v":""},{"$f":"IFERROR(IF('Futterberechnung (4)'!AD50=\" \",\"\",'Futterberechnung (4)'!AD50/'Futterberechnung (4)'!$F17%/1000),\"\")","v":""}]
[null,{"$f":"IF('Futterberechnung (4)'!C18=\"\",\"\",'Futterberechnung (4)'!C18)","v":""},{"$f":"IF(B18=\"\",\"\",'Futterberechnung (4)'!F18)","v":""},{"$f":"IFERROR(IF('Futterberechnung (4)'!I18=\" \",\"\",'Futterberechnung (4)'!I18/'Futterberechnung (4)'!F18%/1000),\"\")","v":""},{"$f":"IFERROR(IF('Futterberechnung (4)'!L51=\" \",\"\",'Futterberechnung (4)'!L51/'Futterberechnung (4)'!F18%/1000),\"\")","v":""},{"$f":"IFERROR(IF('Futterberechnung (4)'!J18=\" \",\"\",'Futterberechnung (4)'!J18/'Futterberechnung (4)'!$F18%/1000),\"\")","v":""},{"$f":"IFERROR(IF('Futterberechnung (4)'!L18=\" \",\"\",'Futterberechnung (4)'!L18/'Futterberechnung (4)'!$F18%/1000),\"\")","v":""},{"$f":"IFERROR(IF('Futterberechnung (4)'!I51=\" \",\"\",'Futterberechnung (4)'!I51/'Futterberechnung (4)'!$F18%/1000),\"\")","v":""},{"$f":"IFERROR(IF('Futterberechnung (4)'!J51=\" \",\"\",'Futterberechnung (4)'!J51/'Futterberechnung (4)'!$F18%/1000),\"\")","v":""},{"$f":"IFERROR(IF('Futterberechnung (4)'!K51=\" \",\"\",'Futterberechnung (4)'!K51/'Futterberechnung (4)'!$F18%/1000),\"\")","v":""},{"$f":"IFERROR(IF('Futterberechnung (4)'!M18=\" \",\"\",'Futterberechnung (4)'!M18/'Futterberechnung (4)'!$F18%/100),\"\")","v":""},{"$f":"IFERROR(IF('Futterberechnung (4)'!N18=\" \",\"\",'Futterberechnung (4)'!N18/'Futterberechnung (4)'!$F18%/100),\"\")","v":""},{"$f":"IFERROR(IF('Futterberechnung (4)'!AC51=\" \",\"\",'Futterberechnung (4)'!AC51/'Futterberechnung (4)'!$F18%/1000),\"\")","v":""},{"$f":"IFERROR(IF('Futterberechnung (4)'!AD51=\" \",\"\",'Futterberechnung (4)'!AD51/'Futterberechnung (4)'!$F18%/1000),\"\")","v":""}]
[null,{"$f":"IF('Futterberechnung (4)'!C19=\"\",\"\",'Futterberechnung (4)'!C19)","v":""},{"$f":"IF(B19=\"\",\"\",'Futterberechnung (4)'!F19)","v":""},{"$f":"IFERROR(IF('Futterberechnung (4)'!I19=\" \",\"\",'Futterberechnung (4)'!I19/'Futterberechnung (4)'!F19%/1000),\"\")","v":""},{"$f":"IFERROR(IF('Futterberechnung (4)'!L52=\" \",\"\",'Futterberechnung (4)'!L52/'Futterberechnung (4)'!F19%/1000),\"\")","v":""},{"$f":"IFERROR(IF('Futterberechnung (4)'!J19=\" \",\"\",'Futterberechnung (4)'!J19/'Futterberechnung (4)'!$F19%/1000),\"\")","v":""},{"$f":"IFERROR(IF('Futterberechnung (4)'!L19=\" \",\"\",'Futterberechnung (4)'!L19/'Futterberechnung (4)'!$F19%/1000),\"\")","v":""},{"$f":"IFERROR(IF('Futterberechnung (4)'!I52=\" \",\"\",'Futterberechnung (4)'!I52/'Futterberechnung (4)'!$F19%/1000),\"\")","v":""},{"$f":"IFERROR(IF('Futterberechnung (4)'!J52=\" \",\"\",'Futterberechnung (4)'!J52/'Futterberechnung (4)'!$F19%/1000),\"\")","v":""},{"$f":"IFERROR(IF('Futterberechnung (4)'!K52=\" \",\"\",'Futterberechnung (4)'!K52/'Futterberechnung (4)'!$F19%/1000),\"\")","v":""},{"$f":"IFERROR(IF('Futterberechnung (4)'!M19=\" \",\"\",'Futterberechnung (4)'!M19/'Futterberechnung (4)'!$F19%/100),\"\")","v":""},{"$f":"IFERROR(IF('Futterberechnung (4)'!N19=\" \",\"\",'Futterberechnung (4)'!N19/'Futterberechnung (4)'!$F19%/100),\"\")","v":""},{"$f":"IFERROR(IF('Futterberechnung (4)'!AC52=\" \",\"\",'Futterberechnung (4)'!AC52/'Futterberechnung (4)'!$F19%/1000),\"\")","v":""},{"$f":"IFERROR(IF('Futterberechnung (4)'!AD52=\" \",\"\",'Futterberechnung (4)'!AD52/'Futterberechnung (4)'!$F19%/1000),\"\")","v":""}]
[null,{"$f":"IF('Futterberechnung (4)'!C20=\"\",\"\",'Futterberechnung (4)'!C20)","v":""},{"$f":"IF(B20=\"\",\"\",'Futterberechnung (4)'!F20)","v":""},{"$f":"IFERROR(IF('Futterberechnung (4)'!I20=\" \",\"\",'Futterberechnung (4)'!I20/'Futterberechnung (4)'!F20%/1000),\"\")","v":""},{"$f":"IFERROR(IF('Futterberechnung (4)'!L53=\" \",\"\",'Futterberechnung (4)'!L53/'Futterberechnung (4)'!F20%/1000),\"\")","v":""},{"$f":"IFERROR(IF('Futterberechnung (4)'!J20=\" \",\"\",'Futterberechnung (4)'!J20/'Futterberechnung (4)'!$F20%/1000),\"\")","v":""},{"$f":"IFERROR(IF('Futterberechnung (4)'!L20=\" \",\"\",'Futterberechnung (4)'!L20/'Futterberechnung (4)'!$F20%/1000),\"\")","v":""},{"$f":"IFERROR(IF('Futterberechnung (4)'!I53=\" \",\"\",'Futterberechnung (4)'!I53/'Futterberechnung (4)'!$F20%/1000),\"\")","v":""},{"$f":"IFERROR(IF('Futterberechnung (4)'!J53=\" \",\"\",'Futterberechnung (4)'!J53/'Futterberechnung (4)'!$F20%/1000),\"\")","v":""},{"$f":"IFERROR(IF('Futterberechnung (4)'!K53=\" \",\"\",'Futterberechnung (4)'!K53/'Futterberechnung (4)'!$F20%/1000),\"\")","v":""},{"$f":"IFERROR(IF('Futterberechnung (4)'!M20=\" \",\"\",'Futterberechnung (4)'!M20/'Futterberechnung (4)'!$F20%/100),\"\")","v":""},{"$f":"IFERROR(IF('Futterberechnung (4)'!N20=\" \",\"\",'Futterberechnung (4)'!N20/'Futterberechnung (4)'!$F20%/100),\"\")","v":""},{"$f":"IFERROR(IF('Futterberechnung (4)'!AC53=\" \",\"\",'Futterberechnung (4)'!AC53/'Futterberechnung (4)'!$F20%/1000),\"\")","v":""},{"$f":"IFERROR(IF('Futterberechnung (4)'!AD53=\" \",\"\",'Futterberechnung (4)'!AD53/'Futterberechnung (4)'!$F20%/1000),\"\")","v":""}]
[null,{"$f":"IF('Futterberechnung (4)'!C21=\"\",\"\",'Futterberechnung (4)'!C21)","v":""},{"$f":"IF(B21=\"\",\"\",'Futterberechnung (4)'!F21)","v":""},{"$f":"IFERROR(IF('Futterberechnung (4)'!I21=\" \",\"\",'Futterberechnung (4)'!I21/'Futterberechnung (4)'!F21%/1000),\"\")","v":""},{"$f":"IFERROR(IF('Futterberechnung (4)'!L54=\" \",\"\",'Futterberechnung (4)'!L54/'Futterberechnung (4)'!F21%/1000),\"\")","v":""},{"$f":"IFERROR(IF('Futterberechnung (4)'!J21=\" \",\"\",'Futterberechnung (4)'!J21/'Futterberechnung (4)'!$F21%/1000),\"\")","v":""},{"$f":"IFERROR(IF('Futterberechnung (4)'!L21=\" \",\"\",'Futterberechnung (4)'!L21/'Futterberechnung (4)'!$F21%/1000),\"\")","v":""},{"$f":"IFERROR(IF('Futterberechnung (4)'!I54=\" \",\"\",'Futterberechnung (4)'!I54/'Futterberechnung (4)'!$F21%/1000),\"\")","v":""},{"$f":"IFERROR(IF('Futterberechnung (4)'!J54=\" \",\"\",'Futterberechnung (4)'!J54/'Futterberechnung (4)'!$F21%/1000),\"\")","v":""},{"$f":"IFERROR(IF('Futterberechnung (4)'!K54=\" \",\"\",'Futterberechnung (4)'!K54/'Futterberechnung (4)'!$F21%/1000),\"\")","v":""},{"$f":"IFERROR(IF('Futterberechnung (4)'!M21=\" \",\"\",'Futterberechnung (4)'!M21/'Futterberechnung (4)'!$F21%/100),\"\")","v":""},{"$f":"IFERROR(IF('Futterberechnung (4)'!N21=\" \",\"\",'Futterberechnung (4)'!N21/'Futterberechnung (4)'!$F21%/100),\"\")","v":""},{"$f":"IFERROR(IF('Futterberechnung (4)'!AC54=\" \",\"\",'Futterberechnung (4)'!AC54/'Futterberechnung (4)'!$F21%/1000),\"\")","v":""},{"$f":"IFERROR(IF('Futterberechnung (4)'!AD54=\" \",\"\",'Futterberechnung (4)'!AD54/'Futterberechnung (4)'!$F21%/1000),\"\")","v":""}]
[null,{"$f":"IF('Futterberechnung (4)'!C22=\"\",\"\",'Futterberechnung (4)'!C22)","v":""},{"$f":"IF(B22=\"\",\"\",'Futterberechnung (4)'!F22)","v":""},{"$f":"IFERROR(IF('Futterberechnung (4)'!I22=\" \",\"\",'Futterberechnung (4)'!I22/'Futterberechnung (4)'!F22%/1000),\"\")","v":""},{"$f":"IFERROR(IF('Futterberechnung (4)'!L55=\" \",\"\",'Futterberechnung (4)'!L55/'Futterberechnung (4)'!F22%/1000),\"\")","v":""},{"$f":"IFERROR(IF('Futterberechnung (4)'!J22=\" \",\"\",'Futterberechnung (4)'!J22/'Futterberechnung (4)'!$F22%/1000),\"\")","v":""},{"$f":"IFERROR(IF('Futterberechnung (4)'!L22=\" \",\"\",'Futterberechnung (4)'!L22/'Futterberechnung (4)'!$F22%/1000),\"\")","v":""},{"$f":"IFERROR(IF('Futterberechnung (4)'!I55=\" \",\"\",'Futterberechnung (4)'!I55/'Futterberechnung (4)'!$F22%/1000),\"\")","v":""},{"$f":"IFERROR(IF('Futterberechnung (4)'!J55=\" \",\"\",'Futterberechnung (4)'!J55/'Futterberechnung (4)'!$F22%/1000),\"\")","v":""},{"$f":"IFERROR(IF('Futterberechnung (4)'!K55=\" \",\"\",'Futterberechnung (4)'!K55/'Futterberechnung (4)'!$F22%/1000),\"\")","v":""},{"$f":"IFERROR(IF('Futterberechnung (4)'!M22=\" \",\"\",'Futterberechnung (4)'!M22/'Futterberechnung (4)'!$F22%/100),\"\")","v":""},{"$f":"IFERROR(IF('Futterberechnung (4)'!N22=\" \",\"\",'Futterberechnung (4)'!N22/'Futterberechnung (4)'!$F22%/100),\"\")","v":""},{"$f":"IFERROR(IF('Futterberechnung (4)'!AC55=\" \",\"\",'Futterberechnung (4)'!AC55/'Futterberechnung (4)'!$F22%/1000),\"\")","v":""},{"$f":"IFERROR(IF('Futterberechnung (4)'!AD55=\" \",\"\",'Futterberechnung (4)'!AD55/'Futterberechnung (4)'!$F22%/1000),\"\")","v":""}]
[null,{"$f":"IF('Futterberechnung (4)'!C23=\"\",\"\",'Futterberechnung (4)'!C23)","v":""},{"$f":"IF(B23=\"\",\"\",'Futterberechnung (4)'!F23)","v":""},{"$f":"IFERROR(IF('Futterberechnung (4)'!I23=\" \",\"\",'Futterberechnung (4)'!I23/'Futterberechnung (4)'!F23%/1000),\"\")","v":""},{"$f":"IFERROR(IF('Futterberechnung (4)'!L56=\" \",\"\",'Futterberechnung (4)'!L56/'Futterberechnung (4)'!F23%/1000),\"\")","v":""},{"$f":"IFERROR(IF('Futterberechnung (4)'!J23=\" \",\"\",'Futterberechnung (4)'!J23/'Futterberechnung (4)'!$F23%/1000),\"\")","v":""},{"$f":"IFERROR(IF('Futterberechnung (4)'!L23=\" \",\"\",'Futterberechnung (4)'!L23/'Futterberechnung (4)'!$F23%/1000),\"\")","v":""},{"$f":"IFERROR(IF('Futterberechnung (4)'!I56=\" \",\"\",'Futterberechnung (4)'!I56/'Futterberechnung (4)'!$F23%/1000),\"\")","v":""},{"$f":"IFERROR(IF('Futterberechnung (4)'!J56=\" \",\"\",'Futterberechnung (4)'!J56/'Futterberechnung (4)'!$F23%/1000),\"\")","v":""},{"$f":"IFERROR(IF('Futterberechnung (4)'!K56=\" \",\"\",'Futterberechnung (4)'!K56/'Futterberechnung (4)'!$F23%/1000),\"\")","v":""},{"$f":"IFERROR(IF('Futterberechnung (4)'!M23=\" \",\"\",'Futterberechnung (4)'!M23/'Futterberechnung (4)'!$F23%/100),\"\")","v":""},{"$f":"IFERROR(IF('Futterberechnung (4)'!N23=\" \",\"\",'Futterberechnung (4)'!N23/'Futterberechnung (4)'!$F23%/100),\"\")","v":""},{"$f":"IFERROR(IF('Futterberechnung (4)'!AC56=\" \",\"\",'Futterberechnung (4)'!AC56/'Futterberechnung (4)'!$F23%/1000),\"\")","v":""},{"$f":"IFERROR(IF('Futterberechnung (4)'!AD56=\" \",\"\",'Futterberechnung (4)'!AD56/'Futterberechnung (4)'!$F23%/1000),\"\")","v":""}]
[null,"Ergänzungsfutter"]
[null,{"$f":"IF('Futterberechnung (4)'!C25=\"\",\"\",'Futterberechnung (4)'!C25)","v":""},{"$f":"IF(B25=\"\",\"\",'Futterberechnung (4)'!F25)","v":""},{"$f":"IFERROR(IF('Futterberechnung (4)'!I25=\" \",\"\",'Futterberechnung (4)'!I25/'Futterberechnung (4)'!F25%/1000),\"\")","v":""},{"$f":"IFERROR(IF('Futterberechnung (4)'!L58=\" \",\"\",'Futterberechnung (4)'!L58/'Futterberechnung (4)'!F25%/1000),\"\")","v":""},{"$f":"IFERROR(IF('Futterberechnung (4)'!J25=\" \",\"\",'Futterberechnung (4)'!J25/'Futterberechnung (4)'!$F25%/1000),\"\")","v":""},{"$f":"IFERROR(IF('Futterberechnung (4)'!L25=\" \",\"\",'Futterberechnung (4)'!L25/'Futterberechnung (4)'!$F25%/1000),\"\")","v":""},{"$f":"IFERROR(IF('Futterberechnung (4)'!I58=\" \",\"\",'Futterberechnung (4)'!I58/'Futterberechnung (4)'!$F25%/1000),\"\")","v":""},{"$f":"IFERROR(IF('Futterberechnung (4)'!J58=\" \",\"\",'Futterberechnung (4)'!J58/'Futterberechnung (4)'!$F25%/1000),\"\")","v":""},{"$f":"IFERROR(IF('Futterberechnung (4)'!K58=\" \",\"\",'Futterberechnung (4)'!K58/'Futterberechnung (4)'!$F25%/1000),\"\")","v":""},{"$f":"IFERROR(IF('Futterberechnung (4)'!M25=\" \",\"\",'Futterberechnung (4)'!M25/'Futterberechnung (4)'!$F25%/100),\"\")","v":""},{"$f":"IFERROR(IF('Futterberechnung (4)'!N25=\" \",\"\",'Futterberechnung (4)'!N25/'Futterberechnung (4)'!$F25%/100),\"\")","v":""},{"$f":"IFERROR(IF('Futterberechnung (4)'!AC58=\" \",\"\",'Futterberechnung (4)'!AC58/'Futterberechnung (4)'!$F25%/1000),\"\")","v":""},{"$f":"IFERROR(IF('Futterberechnung (4)'!AD58=\" \",\"\",'Futterberechnung (4)'!AD58/'Futterberechnung (4)'!$F25%/1000),\"\")","v":""}]
[null,{"$f":"IF('Futterberechnung (4)'!C26=\"\",\"\",'Futterberechnung (4)'!C26)","v":""},{"$f":"IF(B26=\"\",\"\",'Futterberechnung (4)'!F26)","v":""},{"$f":"IFERROR(IF('Futterberechnung (4)'!I26=\" \",\"\",'Futterberechnung (4)'!I26/'Futterberechnung (4)'!F26%/1000),\"\")","v":""},{"$f":"IFERROR(IF('Futterberechnung (4)'!L59=\" \",\"\",'Futterberechnung (4)'!L59/'Futterberechnung (4)'!F26%/1000),\"\")","v":""},{"$f":"IFERROR(IF('Futterberechnung (4)'!J26=\" \",\"\",'Futterberechnung (4)'!J26/'Futterberechnung (4)'!$F26%/1000),\"\")","v":""},{"$f":"IFERROR(IF('Futterberechnung (4)'!L26=\" \",\"\",'Futterberechnung (4)'!L26/'Futterberechnung (4)'!$F26%/1000),\"\")","v":""},{"$f":"IFERROR(IF('Futterberechnung (4)'!I59=\" \",\"\",'Futterberechnung (4)'!I59/'Futterberechnung (4)'!$F26%/1000),\"\")","v":""},{"$f":"IFERROR(IF('Futterberechnung (4)'!J59=\" \",\"\",'Futterberechnung (4)'!J59/'Futterberechnung (4)'!$F26%/1000),\"\")","v":""},{"$f":"IFERROR(IF('Futterberechnung (4)'!K59=\" \",\"\",'Futterberechnung (4)'!K59/'Futterberechnung (4)'!$F26%/1000),\"\")","v":""},{"$f":"IFERROR(IF('Futterberechnung (4)'!M26=\" \",\"\",'Futterberechnung (4)'!M26/'Futterberechnung (4)'!$F26%/100),\"\")","v":""},{"$f":"IFERROR(IF('Futterberechnung (4)'!N26=\" \",\"\",'Futterberechnung (4)'!N26/'Futterberechnung (4)'!$F26%/100),\"\")","v":""},{"$f":"IFERROR(IF('Futterberechnung (4)'!AC59=\" \",\"\",'Futterberechnung (4)'!AC59/'Futterberechnung (4)'!$F26%/1000),\"\")","v":""},{"$f":"IFERROR(IF('Futterberechnung (4)'!AD59=\" \",\"\",'Futterberechnung (4)'!AD59/'Futterberechnung (4)'!$F26%/1000),\"\")","v":""}]
[null,"In der berechneten und gegebenfalls analysierten Ration",null,{"$f":"IF('Futterberechnung (4)'!I30=\" \",\"\",'Futterberechnung (4)'!I30/'Futterberechnung (4)'!F30%/1000)","v":88.350499999999982},{"$f":"IF('Futterberechnung (4)'!L63=\" \",\"\",'Futterberechnung (4)'!L63/10)","v":4.2557400000000003},{"$f":"IF('Futterberechnung (4)'!J30=\" \",\"\",'Futterberechnung (4)'!J30/10)","v":11.887293859093287},{"$f":"IF('Futterberechnung (4)'!L30=\" \",\"\",'Futterberechnung (4)'!L30/10)","v":3.9173460000000007},{"$f":"IF('Futterberechnung (4)'!I63=\" \",\"\",'Futterberechnung (4)'!I63/10)","v":2.4699359999999997},{"$f":"IF('Futterberechnung (4)'!J63=\" \",\"\",'Futterberechnung (4)'!J63/10)","v":50.843120000000006},{"$f":"IF('Futterberechnung (4)'!K63=\" \",\"\",'Futterberechnung (4)'!K63/10)","v":2.8113000000000001},{"$f":"IF('Futterberechnung (4)'!M30=\" \",\"\",'Futterberechnung (4)'!M30)","v":12.990426697111307},{"$f":"IF('Futterberechnung (4)'!N30=\" \",\"\",'Futterberechnung (4)'!N30)","v":12.989178866900831},{"$f":"IF('Futterberechnung (4)'!AC63=\" \",\"\",'Futterberechnung (4)'!AC63)","v":0},{"$f":"IF('Futterberechnung (4)'!AD63=\" \",\"\",'Futterberechnung (4)'!AD63)","v":0}]
[null,"In der Ration auf 88% TM",null,{"$f":"IF('Futterberechnung (4)'!I31=\" \",\"\",'Futterberechnung (4)'!I31/'Futterberechnung (4)'!$F$31%/1000)","v":88},{"$f":"IF('Futterberechnung (4)'!L64=\" \",\"\",'Futterberechnung (4)'!L64/10)","v":4.2},{"$f":"IF('Futterberechnung (4)'!J31=\" \",\"\",'Futterberechnung (4)'!J31/10)","v":11.8},{"$f":"IF('Futterberechnung (4)'!L31=\" \",\"\",'Futterberechnung (4)'!L31/10)","v":3.9},{"$f":"IF('Futterberechnung (4)'!I64=\" \",\"\",'Futterberechnung (4)'!I64/10)","v":2.5},{"$f":"IF('Futterberechnung (4)'!J64=\" \",\"\",'Futterberechnung (4)'!J64/10)","v":50.6},{"$f":"IF('Futterberechnung (4)'!K64=\" \",\"\",'Futterberechnung (4)'!K64/10)","v":2.8},{"$f":"IF('Futterberechnung (4)'!M31=\" \",\"\",'Futterberechnung (4)'!M31)","v":12.94},{"$f":"IF('Futterberechnung (4)'!N31=\" \",\"\",'Futterberechnung (4)'!N31)","v":12.94},{"$f":"IF('Futterberechnung (4)'!AC64=\" \",\"\",'Futterberechnung (4)'!AC64)","v":0},{"$f":"IF('Futterberechnung (4)'!AD64=\" \",\"\",'Futterberechnung (4)'!AD64)","v":0}]
[null,"In der Ration nach Futteranalyse auf FM-Basis",null,86.8,4.4000000000000004,14.5,3.8,2.8,46.5,null,"-",13]
[null,"In der Ration nach Futteranalyse auf 88% TM",null,{"$f":"IF(D29=\"\",\"\",D29/D29*88)","v":88},{"$f":"IF(E29=\"\",\"\",E29/$D$29*88)","v":4.4608294930875578},14.700460829493087,3.8525345622119813,2.838709677419355,47.142857142857139,"","-",13.179723502304149,{"$f":"IF(M29=\"\",\"\",M29/$D$29*88)","v":""},""]
[null,"Differenz analysiert zu berechnet auf 88% TM",null,{"$f":"IFERROR((D30-D28),\"\")","v":0},0.26082949308755765,2.9004608294930865,-4.7465437788018594E-2,0.33870967741935498,-3.4571428571428626,"","-",{"$f":"IFERROR((L30-L28),\"\")","v":0.23972350230414996},{"$f":"IFERROR((M30-M28),\"\")","v":""},""]
[]
[]
[null,{"$f":"IF(Futterberechnung!C68=\"\",\"\",Futterberechnung!C68)","v":""}]

{"sheet":"D","index":29,"n_rows":148,"n_cols":10,"rows_kept":148,"cut":false,"hidden":false,"merged":[]}
["Tag","MJ ME 1. Trächtigkeit","kg Futter Jungsau","MJ ME 2. Trächtigkeit","kg Futter 2. Trächtigkeit","MJ ME 3. Trächtigkeit","kg Futter Altsau","MJ ME 4. Trächtigkeit","kg Futter 4. Trächtigkeit",{"$f":"'Futterkurve Sauen'!K5/2.5","v":4}]
[1,{"$f":"IF('Futterkurve Sauen'!$E$6>19,29,29+(19-'Futterkurve Sauen'!$E$6)*0.6)","v":29},{"$f":"B2/'Futterkurve Sauen'!$C$7","v":2.4166666666666665},{"$f":"IF('Futterkurve Sauen'!$E$6>19,32,32+(19-'Futterkurve Sauen'!$E$6)*0.05*12)","v":32},{"$f":"D2/'Futterkurve Sauen'!$C$7","v":2.6666666666666665},{"$f":"IF('Futterkurve Sauen'!$E$6>19,33,33+(19-'Futterkurve Sauen'!$E$6)*0.6)","v":33},{"$f":"F2/'Futterkurve Sauen'!$C$7","v":2.75},{"$f":"IF('Futterkurve Sauen'!$G$6>19,31,31+(19-'Futterkurve Sauen'!$E$6)*0.6)","v":31},{"$f":"H2/'Futterkurve Sauen'!$C$7","v":2.5833333333333335},{"$f":"'Futterkurve Sauen'!K8/2.5","v":6}]
[2,{"$f":"IF('Futterkurve Sauen'!$E$6>19,29,29+(19-'Futterkurve Sauen'!$E$6)*0.6)","v":29},{"$f":"B3/'Futterkurve Sauen'!$C$7","v":2.4166666666666665},{"$f":"IF('Futterkurve Sauen'!$E$6>19,32,32+(19-'Futterkurve Sauen'!$E$6)*0.05*12)","v":32},{"$f":"D3/'Futterkurve Sauen'!$C$7","v":2.6666666666666665},{"$f":"IF('Futterkurve Sauen'!$E$6>19,33,33+(19-'Futterkurve Sauen'!$E$6)*0.6)","v":33},{"$f":"F3/'Futterkurve Sauen'!$C$7","v":2.75},{"$f":"IF('Futterkurve Sauen'!$G$6>19,31,31+(19-'Futterkurve Sauen'!$E$6)*0.6)","v":31},{"$f":"H3/'Futterkurve Sauen'!$C$7","v":2.5833333333333335}]
[3,{"$f":"IF('Futterkurve Sauen'!$E$6>19,29,29+(19-'Futterkurve Sauen'!$E$6)*0.6)","v":29},{"$f":"B4/'Futterkurve Sauen'!$C$7","v":2.4166666666666665},{"$f":"IF('Futterkurve Sauen'!$E$6>19,32,32+(19-'Futterkurve Sauen'!$E$6)*0.05*12)","v":32},{"$f":"D4/'Futterkurve Sauen'!$C$7","v":2.6666666666666665},{"$f":"IF('Futterkurve Sauen'!$E$6>19,33,33+(19-'Futterkurve Sauen'!$E$6)*0.6)","v":33},{"$f":"F4/'Futterkurve Sauen'!$C$7","v":2.75},{"$f":"IF('Futterkurve Sauen'!$G$6>19,31,31+(19-'Futterkurve Sauen'!$E$6)*0.6)","v":31},{"$f":"H4/'Futterkurve Sauen'!$C$7","v":2.5833333333333335}]
[4,{"$f":"IF('Futterkurve Sauen'!$E$6>19,29,29+(19-'Futterkurve Sauen'!$E$6)*0.6)","v":29},{"$f":"B5/'Futterkurve Sauen'!$C$7","v":2.4166666666666665},{"$f":"IF('Futterkurve Sauen'!$E$6>19,32,32+(19-'Futterkurve Sauen'!$E$6)*0.05*12)","v":32},{"$f":"D5/'Futterkurve Sauen'!$C$7","v":2.6666666666666665},{"$f":"IF('Futterkurve Sauen'!$E$6>19,33,33+(19-'Futterkurve Sauen'!$E$6)*0.6)","v":33},{"$f":"F5/'Futterkurve Sauen'!$C$7","v":2.75},{"$f":"IF('Futterkurve Sauen'!$G$6>19,31,31+(19-'Futterkurve Sauen'!$E$6)*0.6)","v":31},{"$f":"H5/'Futterkurve Sauen'!$C$7","v":2.5833333333333335}]
[5,{"$f":"IF('Futterkurve Sauen'!$E$6>19,29,29+(19-'Futterkurve Sauen'!$E$6)*0.6)","v":29},{"$f":"B6/'Futterkurve Sauen'!$C$7","v":2.4166666666666665},{"$f":"IF('Futterkurve Sauen'!$E$6>19,32,32+(19-'Futterkurve Sauen'!$E$6)*0.05*12)","v":32},{"$f":"D6/'Futterkurve Sauen'!$C$7","v":2.6666666666666665},{"$f":"IF('Futterkurve Sauen'!$E$6>19,33,33+(19-'Futterkurve Sauen'!$E$6)*0.6)","v":33},{"$f":"F6/'Futterkurve Sauen'!$C$7","v":2.75},{"$f":"IF('Futterkurve Sauen'!$G$6>19,31,31+(19-'Futterkurve Sauen'!$E$6)*0.6)","v":31},{"$f":"H6/'Futterkurve Sauen'!$C$7","v":2.5833333333333335}]
[6,{"$f":"IF('Futterkurve Sauen'!$E$6>19,29,29+(19-'Futterkurve Sauen'!$E$6)*0.6)","v":29},{"$f":"B7/'Futterkurve Sauen'!$C$7","v":2.4166666666666665},{"$f":"IF('Futterkurve Sauen'!$E$6>19,32,32+(19-'Futterkurve Sauen'!$E$6)*0.05*12)","v":32},{"$f":"D7/'Futterkurve Sauen'!$C$7","v":2.6666666666666665},{"$f":"IF('Futterkurve Sauen'!$E$6>19,33,33+(19-'Futterkurve Sauen'!$E$6)*0.6)","v":33},{"$f":"F7/'Futterkurve Sauen'!$C$7","v":2.75},{"$f":"IF('Futterkurve Sauen'!$G$6>19,31,31+(19-'Futterkurve Sauen'!$E$6)*0.6)","v":31},{"$f":"H7/'Futterkurve Sauen'!$C$7","v":2.5833333333333335}]
[7,{"$f":"IF('Futterkurve Sauen'!$E$6>19,29,29+(19-'Futterkurve Sauen'!$E$6)*0.6)","v":29},{"$f":"B8/'Futterkurve Sauen'!$C$7","v":2.4166666666666665},{"$f":"IF('Futterkurve Sauen'!$E$6>19,32,32+(19-'Futterkurve Sauen'!$E$6)*0.05*12)","v":32},{"$f":"D8/'Futterkurve Sauen'!$C$7","v":2.6666666666666665},{"$f":"IF('Futterkurve Sauen'!$E$6>19,33,33+(19-'Futterkurve Sauen'!$E$6)*0.6)","v":33},{"$f":"F8/'Futterkurve Sauen'!$C$7","v":2.75},{"$f":"IF('Futterkurve Sauen'!$G$6>19,31,31+(19-'Futterkurve Sauen'!$E$6)*0.6)","v":31},{"$f":"H8/'Futterkurve Sauen'!$C$7","v":2.5833333333333335}]
[8,{"$f":"IF('Futterkurve Sauen'!$E$6>19,29,29+(19-'Futterkurve Sauen'!$E$6)*0.6)","v":29},{"$f":"B9/'Futterkurve Sauen'!$C$7","v":2.4166666666666665},{"$f":"IF('Futterkurve Sauen'!$E$6>19,32,32+(19-'Futterkurve Sauen'!$E$6)*0.05*12)","v":32},{"$f":"D9/'Futterkurve Sauen'!$C$7","v":2.6666666666666665},{"$f":"IF('Futterkurve Sauen'!$E$6>19,33,33+(19-'Futterkurve Sauen'!$E$6)*0.6)","v":33},{"$f":"F9/'Futterkurve Sauen'!$C$7","v":2.75},{"$f":"IF('Futterkurve Sauen'!$G$6>19,31,31+(19-'Futterkurve Sauen'!$E$6)*0.6)","v":31},{"$f":"H9/'Futterkurve Sauen'!$C$7","v":2.5833333333333335}]
[9,{"$f":"IF('Futterkurve Sauen'!$E$6>19,29,29+(19-'Futterkurve Sauen'!$E$6)*0.6)","v":29},{"$f":"B10/'Futterkurve Sauen'!$C$7","v":2.4166666666666665},{"$f":"IF('Futterkurve Sauen'!$E$6>19,32,32+(19-'Futterkurve Sauen'!$E$6)*0.05*12)","v":32},{"$f":"D10/'Futterkurve Sauen'!$C$7","v":2.6666666666666665},{"$f":"IF('Futterkurve Sauen'!$E$6>19,33,33+(19-'Futterkurve Sauen'!$E$6)*0.6)","v":33},{"$f":"F10/'Futterkurve Sauen'!$C$7","v":2.75},{"$f":"IF('Futterkurve Sauen'!$G$6>19,31,31+(19-'Futterkurve Sauen'!$E$6)*0.6)","v":31},{"$f":"H10/'Futterkurve Sauen'!$C$7","v":2.5833333333333335}]
[10,{"$f":"IF('Futterkurve Sauen'!$E$6>19,29,29+(19-'Futterkurve Sauen'!$E$6)*0.6)","v":29},{"$f":"B11/'Futterkurve Sauen'!$C$7","v":2.4166666666666665},{"$f":"IF('Futterkurve Sauen'!$E$6>19,32,32+(19-'Futterkurve Sauen'!$E$6)*0.05*12)","v":32},{"$f":"D11/'Futterkurve Sauen'!$C$7","v":2.6666666666666665},{"$f":"IF('Futterkurve Sauen'!$E$6>19,33,33+(19-'Futterkurve Sauen'!$E$6)*0.6)","v":33},{"$f":"F11/'Futterkurve Sauen'!$C$7","v":2.75},{"$f":"IF('Futterkurve Sauen'!$G$6>19,31,31+(19-'Futterkurve Sauen'!$E$6)*0.6)","v":31},{"$f":"H11/'Futterkurve Sauen'!$C$7","v":2.5833333333333335}]
[11,{"$f":"IF('Futterkurve Sauen'!$E$6>19,29,29+(19-'Futterkurve Sauen'!$E$6)*0.6)","v":29},{"$f":"B12/'Futterkurve Sauen'!$C$7","v":2.4166666666666665},{"$f":"IF('Futterkurve Sauen'!$E$6>19,32,32+(19-'Futterkurve Sauen'!$E$6)*0.05*12)","v":32},{"$f":"D12/'Futterkurve Sauen'!$C$7","v":2.6666666666666665},{"$f":"IF('Futterkurve Sauen'!$E$6>19,33,33+(19-'Futterkurve Sauen'!$E$6)*0.6)","v":33},{"$f":"F12/'Futterkurve Sauen'!$C$7","v":2.75},{"$f":"IF('Futterkurve Sauen'!$G$6>19,31,31+(19-'Futterkurve Sauen'!$E$6)*0.6)","v":31},{"$f":"H12/'Futterkurve Sauen'!$C$7","v":2.5833333333333335}]
[12,{"$f":"IF('Futterkurve Sauen'!$E$6>19,29,29+(19-'Futterkurve Sauen'!$E$6)*0.6)","v":29},{"$f":"B13/'Futterkurve Sauen'!$C$7","v":2.4166666666666665},{"$f":"IF('Futterkurve Sauen'!$E$6>19,32,32+(19-'Futterkurve Sauen'!$E$6)*0.05*12)","v":32},{"$f":"D13/'Futterkurve Sauen'!$C$7","v":2.6666666666666665},{"$f":"IF('Futterkurve Sauen'!$E$6>19,33,33+(19-'Futterkurve Sauen'!$E$6)*0.6)","v":33},{"$f":"F13/'Futterkurve Sauen'!$C$7","v":2.75},{"$f":"IF('Futterkurve Sauen'!$G$6>19,31,31+(19-'Futterkurve Sauen'!$E$6)*0.6)","v":31},{"$f":"H13/'Futterkurve Sauen'!$C$7","v":2.5833333333333335}]
[13,{"$f":"IF('Futterkurve Sauen'!$E$6>19,29,29+(19-'Futterkurve Sauen'!$E$6)*0.6)","v":29},{"$f":"B14/'Futterkurve Sauen'!$C$7","v":2.4166666666666665},{"$f":"IF('Futterkurve Sauen'!$E$6>19,32,32+(19-'Futterkurve Sauen'!$E$6)*0.05*12)","v":32},{"$f":"D14/'Futterkurve Sauen'!$C$7","v":2.6666666666666665},{"$f":"IF('Futterkurve Sauen'!$E$6>19,33,33+(19-'Futterkurve Sauen'!$E$6)*0.6)","v":33},{"$f":"F14/'Futterkurve Sauen'!$C$7","v":2.75},{"$f":"IF('Futterkurve Sauen'!$G$6>19,31,31+(19-'Futterkurve Sauen'!$E$6)*0.6)","v":31},{"$f":"H14/'Futterkurve Sauen'!$C$7","v":2.5833333333333335}]
[14,{"$f":"IF('Futterkurve Sauen'!$E$6>19,29,29+(19-'Futterkurve Sauen'!$E$6)*0.6)","v":29},{"$f":"B15/'Futterkurve Sauen'!$C$7","v":2.4166666666666665},{"$f":"IF('Futterkurve Sauen'!$E$6>19,32,32+(19-'Futterkurve Sauen'!$E$6)*0.05*12)","v":32},{"$f":"D15/'Futterkurve Sauen'!$C$7","v":2.6666666666666665},{"$f":"IF('Futterkurve Sauen'!$E$6>19,33,33+(19-'Futterkurve Sauen'!$E$6)*0.6)","v":33},{"$f":"F15/'Futterkurve Sauen'!$C$7","v":2.75},{"$f":"IF('Futterkurve Sauen'!$G$6>19,31,31+(19-'Futterkurve Sauen'!$E$6)*0.6)","v":31},{"$f":"H15/'Futterkurve Sauen'!$C$7","v":2.5833333333333335}]
[15,{"$f":"IF('Futterkurve Sauen'!$E$6>19,29,29+(19-'Futterkurve Sauen'!$E$6)*0.6)","v":29},{"$f":"B16/'Futterkurve Sauen'!$C$7","v":2.4166666666666665},{"$f":"IF('Futterkurve Sauen'!$E$6>19,32,32+(19-'Futterkurve Sauen'!$E$6)*0.05*12)","v":32},{"$f":"D16/'Futterkurve Sauen'!$C$7","v":2.6666666666666665},{"$f":"IF('Futterkurve Sauen'!$E$6>19,33,33+(19-'Futterkurve Sauen'!$E$6)*0.6)","v":33},{"$f":"F16/'Futterkurve Sauen'!$C$7","v":2.75},{"$f":"IF('Futterkurve Sauen'!$G$6>19,31,31+(19-'Futterkurve Sauen'!$E$6)*0.6)","v":31},{"$f":"H16/'Futterkurve Sauen'!$C$7","v":2.5833333333333335}]
[16,{"$f":"IF('Futterkurve Sauen'!$E$6>19,29,29+(19-'Futterkurve Sauen'!$E$6)*0.6)","v":29},{"$f":"B17/'Futterkurve Sauen'!$C$7","v":2.4166666666666665},{"$f":"IF('Futterkurve Sauen'!$E$6>19,32,32+(19-'Futterkurve Sauen'!$E$6)*0.05*12)","v":32},{"$f":"D17/'Futterkurve Sauen'!$C$7","v":2.6666666666666665},{"$f":"IF('Futterkurve Sauen'!$E$6>19,33,33+(19-'Futterkurve Sauen'!$E$6)*0.6)","v":33},{"$f":"F17/'Futterkurve Sauen'!$C$7","v":2.75},{"$f":"IF('Futterkurve Sauen'!$G$6>19,31,31+(19-'Futterkurve Sauen'!$E$6)*0.6)","v":31},{"$f":"H17/'Futterkurve Sauen'!$C$7","v":2.5833333333333335}]
[17,{"$f":"IF('Futterkurve Sauen'!$E$6>19,29,29+(19-'Futterkurve Sauen'!$E$6)*0.6)","v":29},{"$f":"B18/'Futterkurve Sauen'!$C$7","v":2.4166666666666665},{"$f":"IF('Futterkurve Sauen'!$E$6>19,32,32+(19-'Futterkurve Sauen'!$E$6)*0.05*12)","v":32},{"$f":"D18/'Futterkurve Sauen'!$C$7","v":2.6666666666666665},{"$f":"IF('Futterkurve Sauen'!$E$6>19,33,33+(19-'Futterkurve Sauen'!$E$6)*0.6)","v":33},{"$f":"F18/'Futterkurve Sauen'!$C$7","v":2.75},{"$f":"IF('Futterkurve Sauen'!$G$6>19,31,31+(19-'Futterkurve Sauen'!$E$6)*0.6)","v":31},{"$f":"H18/'Futterkurve Sauen'!$C$7","v":2.5833333333333335}]
[18,{"$f":"IF('Futterkurve Sauen'!$E$6>19,29,29+(19-'Futterkurve Sauen'!$E$6)*0.6)","v":29},{"$f":"B19/'Futterkurve Sauen'!$C$7","v":2.4166666666666665},{"$f":"IF('Futterkurve Sauen'!$E$6>19,32,32+(19-'Futterkurve Sauen'!$E$6)*0.05*12)","v":32},{"$f":"D19/'Futterkurve Sauen'!$C$7","v":2.6666666666666665},{"$f":"IF('Futterkurve Sauen'!$E$6>19,33,33+(19-'Futterkurve Sauen'!$E$6)*0.6)","v":33},{"$f":"F19/'Futterkurve Sauen'!$C$7","v":2.75},{"$f":"IF('Futterkurve Sauen'!$G$6>19,31,31+(19-'Futterkurve Sauen'!$E$6)*0.6)","v":31},{"$f":"H19/'Futterkurve Sauen'!$C$7","v":2.5833333333333335}]
[19,{"$f":"IF('Futterkurve Sauen'!$E$6>19,29,29+(19-'Futterkurve Sauen'!$E$6)*0.6)","v":29},{"$f":"B20/'Futterkurve Sauen'!$C$7","v":2.4166666666666665},{"$f":"IF('Futterkurve Sauen'!$E$6>19,32,32+(19-'Futterkurve Sauen'!$E$6)*0.05*12)","v":32},{"$f":"D20/'Futterkurve Sauen'!$C$7","v":2.6666666666666665},{"$f":"IF('Futterkurve Sauen'!$E$6>19,33,33+(19-'Futterkurve Sauen'!$E$6)*0.6)","v":33},{"$f":"F20/'Futterkurve Sauen'!$C$7","v":2.75},{"$f":"IF('Futterkurve Sauen'!$G$6>19,31,31+(19-'Futterkurve Sauen'!$E$6)*0.6)","v":31},{"$f":"H20/'Futterkurve Sauen'!$C$7","v":2.5833333333333335}]
[20,{"$f":"IF('Futterkurve Sauen'!$E$6>19,29,29+(19-'Futterkurve Sauen'!$E$6)*0.6)","v":29},{"$f":"B21/'Futterkurve Sauen'!$C$7","v":2.4166666666666665},{"$f":"IF('Futterkurve Sauen'!$E$6>19,32,32+(19-'Futterkurve Sauen'!$E$6)*0.05*12)","v":32},{"$f":"D21/'Futterkurve Sauen'!$C$7","v":2.6666666666666665},{"$f":"IF('Futterkurve Sauen'!$E$6>19,33,33+(19-'Futterkurve Sauen'!$E$6)*0.6)","v":33},{"$f":"F21/'Futterkurve Sauen'!$C$7","v":2.75},{"$f":"IF('Futterkurve Sauen'!$G$6>19,31,31+(19-'Futterkurve Sauen'!$E$6)*0.6)","v":31},{"$f":"H21/'Futterkurve Sauen'!$C$7","v":2.5833333333333335}]
[21,{"$f":"IF('Futterkurve Sauen'!$E$6>19,29,29+(19-'Futterkurve Sauen'!$E$6)*0.6)","v":29},{"$f":"B22/'Futterkurve Sauen'!$C$7","v":2.4166666666666665},{"$f":"IF('Futterkurve Sauen'!$E$6>19,32,32+(19-'Futterkurve Sauen'!$E$6)*0.05*12)","v":32},{"$f":"D22/'Futterkurve Sauen'!$C$7","v":2.6666666666666665},{"$f":"IF('Futterkurve Sauen'!$E$6>19,33,33+(19-'Futterkurve Sauen'!$E$6)*0.6)","v":33},{"$f":"F22/'Futterkurve Sauen'!$C$7","v":2.75},{"$f":"IF('Futterkurve Sauen'!$G$6>19,31,31+(19-'Futterkurve Sauen'!$E$6)*0.6)","v":31},{"$f":"H22/'Futterkurve Sauen'!$C$7","v":2.5833333333333335}]
[22,{"$f":"IF('Futterkurve Sauen'!$E$6>19,29,29+(19-'Futterkurve Sauen'!$E$6)*0.6)","v":29},{"$f":"B23/'Futterkurve Sauen'!$C$7","v":2.4166666666666665},{"$f":"IF('Futterkurve Sauen'!$E$6>19,32,32+(19-'Futterkurve Sauen'!$E$6)*0.05*12)","v":32},{"$f":"D23/'Futterkurve Sauen'!$C$7","v":2.6666666666666665},{"$f":"IF('Futterkurve Sauen'!$E$6>19,33,33+(19-'Futterkurve Sauen'!$E$6)*0.6)","v":33},{"$f":"F23/'Futterkurve Sauen'!$C$7","v":2.75},{"$f":"IF('Futterkurve Sauen'!$G$6>19,31,31+(19-'Futterkurve Sauen'!$E$6)*0.6)","v":31},{"$f":"H23/'Futterkurve Sauen'!$C$7","v":2.5833333333333335}]
[23,{"$f":"IF('Futterkurve Sauen'!$E$6>19,29,29+(19-'Futterkurve Sauen'!$E$6)*0.6)","v":29},{"$f":"B24/'Futterkurve Sauen'!$C$7","v":2.4166666666666665},{"$f":"IF('Futterkurve Sauen'!$E$6>19,32,32+(19-'Futterkurve Sauen'!$E$6)*0.05*12)","v":32},{"$f":"D24/'Futterkurve Sauen'!$C$7","v":2.6666666666666665},{"$f":"IF('Futterkurve Sauen'!$E$6>19,33,33+(19-'Futterkurve Sauen'!$E$6)*0.6)","v":33},{"$f":"F24/'Futterkurve Sauen'!$C$7","v":2.75},{"$f":"IF('Futterkurve Sauen'!$G$6>19,31,31+(19-'Futterkurve Sauen'!$E$6)*0.6)","v":31},{"$f":"H24/'Futterkurve Sauen'!$C$7","v":2.5833333333333335}]
[24,{"$f":"IF('Futterkurve Sauen'!$E$6>19,29,29+(19-'Futterkurve Sauen'!$E$6)*0.6)","v":29},{"$f":"B25/'Futterkurve Sauen'!$C$7","v":2.4166666666666665},{"$f":"IF('Futterkurve Sauen'!$E$6>19,32,32+(19-'Futterkurve Sauen'!$E$6)*0.05*12)","v":32},{"$f":"D25/'Futterkurve Sauen'!$C$7","v":2.6666666666666665},{"$f":"IF('Futterkurve Sauen'!$E$6>19,33,33+(19-'Futterkurve Sauen'!$E$6)*0.6)","v":33},{"$f":"F25/'Futterkurve Sauen'!$C$7","v":2.75},{"$f":"IF('Futterkurve Sauen'!$G$6>19,31,31+(19-'Futterkurve Sauen'!$E$6)*0.6)","v":31},{"$f":"H25/'Futterkurve Sauen'!$C$7","v":2.5833333333333335}]
[25,{"$f":"IF('Futterkurve Sauen'!$E$6>19,29,29+(19-'Futterkurve Sauen'!$E$6)*0.6)","v":29},{"$f":"B26/'Futterkurve Sauen'!$C$7","v":2.4166666666666665},{"$f":"IF('Futterkurve Sauen'!$E$6>19,32,32+(19-'Futterkurve Sauen'!$E$6)*0.05*12)","v":32},{"$f":"D26/'Futterkurve Sauen'!$C$7","v":2.6666666666666665},{"$f":"IF('Futterkurve Sauen'!$E$6>19,33,33+(19-'Futterkurve Sauen'!$E$6)*0.6)","v":33},{"$f":"F26/'Futterkurve Sauen'!$C$7","v":2.75},{"$f":"IF('Futterkurve Sauen'!$G$6>19,31,31+(19-'Futterkurve Sauen'!$E$6)*0.6)","v":31},{"$f":"H26/'Futterkurve Sauen'!$C$7","v":2.5833333333333335}]
[26,{"$f":"IF('Futterkurve Sauen'!$E$6>19,29,29+(19-'Futterkurve Sauen'!$E$6)*0.6)","v":29},{"$f":"B27/'Futterkurve Sauen'!$C$7","v":2.4166666666666665},{"$f":"IF('Futterkurve Sauen'!$E$6>19,32,32+(19-'Futterkurve Sauen'!$E$6)*0.05*12)","v":32},{"$f":"D27/'Futterkurve Sauen'!$C$7","v":2.6666666666666665},{"$f":"IF('Futterkurve Sauen'!$E$6>19,33,33+(19-'Futterkurve Sauen'!$E$6)*0.6)","v":33},{"$f":"F27/'Futterkurve Sauen'!$C$7","v":2.75},{"$f":"IF('Futterkurve Sauen'!$G$6>19,31,31+(19-'Futterkurve Sauen'!$E$6)*0.6)","v":31},{"$f":"H27/'Futterkurve Sauen'!$C$7","v":2.5833333333333335}]
[27,{"$f":"IF('Futterkurve Sauen'!$E$6>19,29,29+(19-'Futterkurve Sauen'!$E$6)*0.6)","v":29},{"$f":"B28/'Futterkurve Sauen'!$C$7","v":2.4166666666666665},{"$f":"IF('Futterkurve Sauen'!$E$6>19,32,32+(19-'Futterkurve Sauen'!$E$6)*0.05*12)","v":32},{"$f":"D28/'Futterkurve Sauen'!$C$7","v":2.6666666666666665},{"$f":"IF('Futterkurve Sauen'!$E$6>19,33,33+(19-'Futterkurve Sauen'!$E$6)*0.6)","v":33},{"$f":"F28/'Futterkurve Sauen'!$C$7","v":2.75},{"$f":"IF('Futterkurve Sauen'!$G$6>19,31,31+(19-'Futterkurve Sauen'!$E$6)*0.6)","v":31},{"$f":"H28/'Futterkurve Sauen'!$C$7","v":2.5833333333333335}]
[28,{"$f":"IF('Futterkurve Sauen'!$E$6>19,29,29+(19-'Futterkurve Sauen'!$E$6)*0.6)","v":29},{"$f":"B29/'Futterkurve Sauen'!$C$7","v":2.4166666666666665},{"$f":"IF('Futterkurve Sauen'!$E$6>19,32,32+(19-'Futterkurve Sauen'!$E$6)*0.05*12)","v":32},{"$f":"D29/'Futterkurve Sauen'!$C$7","v":2.6666666666666665},{"$f":"IF('Futterkurve Sauen'!$E$6>19,33,33+(19-'Futterkurve Sauen'!$E$6)*0.6)","v":33},{"$f":"F29/'Futterkurve Sauen'!$C$7","v":2.75},{"$f":"IF('Futterkurve Sauen'!$G$6>19,31,31+(19-'Futterkurve Sauen'!$E$6)*0.6)","v":31},{"$f":"H29/'Futterkurve Sauen'!$C$7","v":2.5833333333333335}]
[29,{"$f":"IF('Futterkurve Sauen'!G$6>14,29+J$1,29+(14-'Futterkurve Sauen'!$G$6)*0.3+J$1)","v":33},{"$f":"B30/'Futterkurve Sauen'!$C$7","v":2.75},{"$f":"IF('Futterkurve Sauen'!G$6>14,32+J$2,32+J$2+(14-'Futterkurve Sauen'!$G$6)*0.3)","v":38},{"$f":"D30/'Futterkurve Sauen'!$C$7","v":3.1666666666666665},{"$f":"IF('Futterkurve Sauen'!G$6>14,33+J$2,33+J$2+(14-'Futterkurve Sauen'!$G$6)*0.3)","v":39},{"$f":"F30/'Futterkurve Sauen'!$C$7","v":3.25},{"$f":"IF('Futterkurve Sauen'!G$6>14,32+J$2,31+J$2+(14-'Futterkurve Sauen'!$G$6)*0.3)","v":37},{"$f":"H30/'Futterkurve Sauen'!$C$7","v":3.0833333333333335}]
[30,{"$f":"IF('Futterkurve Sauen'!G$6>14,29+J$1,29+(14-'Futterkurve Sauen'!$G$6)*0.3+J$1)","v":33},{"$f":"B31/'Futterkurve Sauen'!$C$7","v":2.75},{"$f":"IF('Futterkurve Sauen'!G$6>14,32+J$2,32+J$2+(14-'Futterkurve Sauen'!$G$6)*0.3)","v":38},{"$f":"D31/'Futterkurve Sauen'!$C$7","v":3.1666666666666665},{"$f":"IF('Futterkurve Sauen'!G$6>14,33+J$2,33+J$2+(14-'Futterkurve Sauen'!$G$6)*0.3)","v":39},{"$f":"F31/'Futterkurve Sauen'!$C$7","v":3.25},{"$f":"IF('Futterkurve Sauen'!G$6>14,32+J$2,31+J$2+(14-'Futterkurve Sauen'!$G$6)*0.3)","v":37},{"$f":"H31/'Futterkurve Sauen'!$C$7","v":3.0833333333333335}]
[31,{"$f":"IF('Futterkurve Sauen'!G$6>14,29+J$1,29+(14-'Futterkurve Sauen'!$G$6)*0.3+J$1)","v":33},{"$f":"B32/'Futterkurve Sauen'!$C$7","v":2.75},{"$f":"IF('Futterkurve Sauen'!G$6>14,32+J$2,32+J$2+(14-'Futterkurve Sauen'!$G$6)*0.3)","v":38},{"$f":"D32/'Futterkurve Sauen'!$C$7","v":3.1666666666666665},{"$f":"IF('Futterkurve Sauen'!G$6>14,33+J$2,33+J$2+(14-'Futterkurve Sauen'!$G$6)*0.3)","v":39},{"$f":"F32/'Futterkurve Sauen'!$C$7","v":3.25},{"$f":"IF('Futterkurve Sauen'!G$6>14,32+J$2,31+J$2+(14-'Futterkurve Sauen'!$G$6)*0.3)","v":37},{"$f":"H32/'Futterkurve Sauen'!$C$7","v":3.0833333333333335}]
[32,{"$f":"IF('Futterkurve Sauen'!G$6>14,29+J$1,29+(14-'Futterkurve Sauen'!$G$6)*0.3+J$1)","v":33},{"$f":"B33/'Futterkurve Sauen'!$C$7","v":2.75},{"$f":"IF('Futterkurve Sauen'!G$6>14,32+J$2,32+J$2+(14-'Futterkurve Sauen'!$G$6)*0.3)","v":38},{"$f":"D33/'Futterkurve Sauen'!$C$7","v":3.1666666666666665},{"$f":"IF('Futterkurve Sauen'!G$6>14,33+J$2,33+J$2+(14-'Futterkurve Sauen'!$G$6)*0.3)","v":39},{"$f":"F33/'Futterkurve Sauen'!$C$7","v":3.25},{"$f":"IF('Futterkurve Sauen'!G$6>14,32+J$2,31+J$2+(14-'Futterkurve Sauen'!$G$6)*0.3)","v":37},{"$f":"H33/'Futterkurve Sauen'!$C$7","v":3.0833333333333335}]
[33,{"$f":"IF('Futterkurve Sauen'!G$6>14,29+J$1,29+(14-'Futterkurve Sauen'!$G$6)*0.3+J$1)","v":33},{"$f":"B34/'Futterkurve Sauen'!$C$7","v":2.75},{"$f":"IF('Futterkurve Sauen'!G$6>14,32+J$2,32+J$2+(14-'Futterkurve Sauen'!$G$6)*0.3)","v":38},{"$f":"D34/'Futterkurve Sauen'!$C$7","v":3.1666666666666665},{"$f":"IF('Futterkurve Sauen'!G$6>14,33+J$2,33+J$2+(14-'Futterkurve Sauen'!$G$6)*0.3)","v":39},{"$f":"F34/'Futterkurve Sauen'!$C$7","v":3.25},{"$f":"IF('Futterkurve Sauen'!G$6>14,32+J$2,31+J$2+(14-'Futterkurve Sauen'!$G$6)*0.3)","v":37},{"$f":"H34/'Futterkurve Sauen'!$C$7","v":3.0833333333333335}]
[34,{"$f":"IF('Futterkurve Sauen'!G$6>14,29+J$1,29+(14-'Futterkurve Sauen'!$G$6)*0.3+J$1)","v":33},{"$f":"B35/'Futterkurve Sauen'!$C$7","v":2.75},{"$f":"IF('Futterkurve Sauen'!G$6>14,32+J$2,32+J$2+(14-'Futterkurve Sauen'!$G$6)*0.3)","v":38},{"$f":"D35/'Futterkurve Sauen'!$C$7","v":3.1666666666666665},{"$f":"IF('Futterkurve Sauen'!G$6>14,33+J$2,33+J$2+(14-'Futterkurve Sauen'!$G$6)*0.3)","v":39},{"$f":"F35/'Futterkurve Sauen'!$C$7","v":3.25},{"$f":"IF('Futterkurve Sauen'!G$6>14,32+J$2,31+J$2+(14-'Futterkurve Sauen'!$G$6)*0.3)","v":37},{"$f":"H35/'Futterkurve Sauen'!$C$7","v":3.0833333333333335}]
[35,{"$f":"IF('Futterkurve Sauen'!G$6>14,29+J$1,29+(14-'Futterkurve Sauen'!$G$6)*0.3+J$1)","v":33},{"$f":"B36/'Futterkurve Sauen'!$C$7","v":2.75},{"$f":"IF('Futterkurve Sauen'!G$6>14,32+J$2,32+J$2+(14-'Futterkurve Sauen'!$G$6)*0.3)","v":38},{"$f":"D36/'Futterkurve Sauen'!$C$7","v":3.1666666666666665},{"$f":"IF('Futterkurve Sauen'!G$6>14,33+J$2,33+J$2+(14-'Futterkurve Sauen'!$G$6)*0.3)","v":39},{"$f":"F36/'Futterkurve Sauen'!$C$7","v":3.25},{"$f":"IF('Futterkurve Sauen'!G$6>14,32+J$2,31+J$2+(14-'Futterkurve Sauen'!$G$6)*0.3)","v":37},{"$f":"H36/'Futterkurve Sauen'!$C$7","v":3.0833333333333335}]
[36,{"$f":"IF('Futterkurve Sauen'!G$6>14,29+J$1,29+(14-'Futterkurve Sauen'!$G$6)*0.3+J$1)","v":33},{"$f":"B37/'Futterkurve Sauen'!$C$7","v":2.75},{"$f":"IF('Futterkurve Sauen'!G$6>14,32+J$2,32+J$2+(14-'Futterkurve Sauen'!$G$6)*0.3)","v":38},{"$f":"D37/'Futterkurve Sauen'!$C$7","v":3.1666666666666665},{"$f":"IF('Futterkurve Sauen'!G$6>14,33+J$2,33+J$2+(14-'Futterkurve Sauen'!$G$6)*0.3)","v":39},{"$f":"F37/'Futterkurve Sauen'!$C$7","v":3.25},{"$f":"IF('Futterkurve Sauen'!G$6>14,32+J$2,31+J$2+(14-'Futterkurve Sauen'!$G$6)*0.3)","v":37},{"$f":"H37/'Futterkurve Sauen'!$C$7","v":3.0833333333333335}]
[37,{"$f":"IF('Futterkurve Sauen'!G$6>14,29+J$1,29+(14-'Futterkurve Sauen'!$G$6)*0.3+J$1)","v":33},{"$f":"B38/'Futterkurve Sauen'!$C$7","v":2.75},{"$f":"IF('Futterkurve Sauen'!G$6>14,32+J$2,32+J$2+(14-'Futterkurve Sauen'!$G$6)*0.3)","v":38},{"$f":"D38/'Futterkurve Sauen'!$C$7","v":3.1666666666666665},{"$f":"IF('Futterkurve Sauen'!G$6>14,33+J$2,33+J$2+(14-'Futterkurve Sauen'!$G$6)*0.3)","v":39},{"$f":"F38/'Futterkurve Sauen'!$C$7","v":3.25},{"$f":"IF('Futterkurve Sauen'!G$6>14,32+J$2,31+J$2+(14-'Futterkurve Sauen'!$G$6)*0.3)","v":37},{"$f":"H38/'Futterkurve Sauen'!$C$7","v":3.0833333333333335}]
[38,{"$f":"IF('Futterkurve Sauen'!G$6>14,29+J$1,29+(14-'Futterkurve Sauen'!$G$6)*0.3+J$1)","v":33},{"$f":"B39/'Futterkurve Sauen'!$C$7","v":2.75},{"$f":"IF('Futterkurve Sauen'!G$6>14,32+J$2,32+J$2+(14-'Futterkurve Sauen'!$G$6)*0.3)","v":38},{"$f":"D39/'Futterkurve Sauen'!$C$7","v":3.1666666666666665},{"$f":"IF('Futterkurve Sauen'!G$6>14,33+J$2,33+J$2+(14-'Futterkurve Sauen'!$G$6)*0.3)","v":39},{"$f":"F39/'Futterkurve Sauen'!$C$7","v":3.25},{"$f":"IF('Futterkurve Sauen'!G$6>14,32+J$2,31+J$2+(14-'Futterkurve Sauen'!$G$6)*0.3)","v":37},{"$f":"H39/'Futterkurve Sauen'!$C$7","v":3.0833333333333335}]
[39,{"$f":"IF('Futterkurve Sauen'!G$6>14,29+J$1,29+(14-'Futterkurve Sauen'!$G$6)*0.3+J$1)","v":33},{"$f":"B40/'Futterkurve Sauen'!$C$7","v":2.75},{"$f":"IF('Futterkurve Sauen'!G$6>14,32+J$2,32+J$2+(14-'Futterkurve Sauen'!$G$6)*0.3)","v":38},{"$f":"D40/'Futterkurve Sauen'!$C$7","v":3.1666666666666665},{"$f":"IF('Futterkurve Sauen'!G$6>14,33+J$2,33+J$2+(14-'Futterkurve Sauen'!$G$6)*0.3)","v":39},{"$f":"F40/'Futterkurve Sauen'!$C$7","v":3.25},{"$f":"IF('Futterkurve Sauen'!G$6>14,32+J$2,31+J$2+(14-'Futterkurve Sauen'!$G$6)*0.3)","v":37},{"$f":"H40/'Futterkurve Sauen'!$C$7","v":3.0833333333333335}]
[40,{"$f":"IF('Futterkurve Sauen'!G$6>14,29+J$1,29+(14-'Futterkurve Sauen'!$G$6)*0.3+J$1)","v":33},{"$f":"B41/'Futterkurve Sauen'!$C$7","v":2.75},{"$f":"IF('Futterkurve Sauen'!G$6>14,32+J$2,32+J$2+(14-'Futterkurve Sauen'!$G$6)*0.3)","v":38},{"$f":"D41/'Futterkurve Sauen'!$C$7","v":3.1666666666666665},{"$f":"IF('Futterkurve Sauen'!G$6>14,33+J$2,33+J$2+(14-'Futterkurve Sauen'!$G$6)*0.3)","v":39},{"$f":"F41/'Futterkurve Sauen'!$C$7","v":3.25},{"$f":"IF('Futterkurve Sauen'!G$6>14,32+J$2,31+J$2+(14-'Futterkurve Sauen'!$G$6)*0.3)","v":37},{"$f":"H41/'Futterkurve Sauen'!$C$7","v":3.0833333333333335}]
[41,{"$f":"IF('Futterkurve Sauen'!G$6>14,29+J$1,29+(14-'Futterkurve Sauen'!$G$6)*0.3+J$1)","v":33},{"$f":"B42/'Futterkurve Sauen'!$C$7","v":2.75},{"$f":"IF('Futterkurve Sauen'!G$6>14,32+J$2,32+J$2+(14-'Futterkurve Sauen'!$G$6)*0.3)","v":38},{"$f":"D42/'Futterkurve Sauen'!$C$7","v":3.1666666666666665},{"$f":"IF('Futterkurve Sauen'!G$6>14,33+J$2,33+J$2+(14-'Futterkurve Sauen'!$G$6)*0.3)","v":39},{"$f":"F42/'Futterkurve Sauen'!$C$7","v":3.25},{"$f":"IF('Futterkurve Sauen'!G$6>14,32+J$2,31+J$2+(14-'Futterkurve Sauen'!$G$6)*0.3)","v":37},{"$f":"H42/'Futterkurve Sauen'!$C$7","v":3.0833333333333335}]
[42,{"$f":"IF('Futterkurve Sauen'!G$6>14,29+J$1,29+(14-'Futterkurve Sauen'!$G$6)*0.3+J$1)","v":33},{"$f":"B43/'Futterkurve Sauen'!$C$7","v":2.75},{"$f":"IF('Futterkurve Sauen'!G$6>14,32+J$2,32+J$2+(14-'Futterkurve Sauen'!$G$6)*0.3)","v":38},{"$f":"D43/'Futterkurve Sauen'!$C$7","v":3.1666666666666665},{"$f":"IF('Futterkurve Sauen'!G$6>14,33+J$2,33+J$2+(14-'Futterkurve Sauen'!$G$6)*0.3)","v":39},{"$f":"F43/'Futterkurve Sauen'!$C$7","v":3.25},{"$f":"IF('Futterkurve Sauen'!G$6>14,32+J$2,31+J$2+(14-'Futterkurve Sauen'!$G$6)*0.3)","v":37},{"$f":"H43/'Futterkurve Sauen'!$C$7","v":3.0833333333333335}]
[43,{"$f":"IF('Futterkurve Sauen'!G$6>14,29+J$1,29+(14-'Futterkurve Sauen'!$G$6)*0.3+J$1)","v":33},{"$f":"B44/'Futterkurve Sauen'!$C$7","v":2.75},{"$f":"IF('Futterkurve Sauen'!G$6>14,32+J$2,32+J$2+(14-'Futterkurve Sauen'!$G$6)*0.3)","v":38},{"$f":"D44/'Futterkurve Sauen'!$C$7","v":3.1666666666666665},{"$f":"IF('Futterkurve Sauen'!G$6>14,33+J$2,33+J$2+(14-'Futterkurve Sauen'!$G$6)*0.3)","v":39},{"$f":"F44/'Futterkurve Sauen'!$C$7","v":3.25},{"$f":"IF('Futterkurve Sauen'!G$6>14,32+J$2,31+J$2+(14-'Futterkurve Sauen'!$G$6)*0.3)","v":37},{"$f":"H44/'Futterkurve Sauen'!$C$7","v":3.0833333333333335}]
[44,{"$f":"IF('Futterkurve Sauen'!G$6>14,29+J$1,29+(14-'Futterkurve Sauen'!$G$6)*0.3+J$1)","v":33},{"$f":"B45/'Futterkurve Sauen'!$C$7","v":2.75},{"$f":"IF('Futterkurve Sauen'!G$6>14,32+J$2,32+J$2+(14-'Futterkurve Sauen'!$G$6)*0.3)","v":38},{"$f":"D45/'Futterkurve Sauen'!$C$7","v":3.1666666666666665},{"$f":"IF('Futterkurve Sauen'!G$6>14,33+J$2,33+J$2+(14-'Futterkurve Sauen'!$G$6)*0.3)","v":39},{"$f":"F45/'Futterkurve Sauen'!$C$7","v":3.25},{"$f":"IF('Futterkurve Sauen'!G$6>14,32+J$2,31+J$2+(14-'Futterkurve Sauen'!$G$6)*0.3)","v":37},{"$f":"H45/'Futterkurve Sauen'!$C$7","v":3.0833333333333335}]
[45,{"$f":"IF('Futterkurve Sauen'!G$6>14,29+J$1,29+(14-'Futterkurve Sauen'!$G$6)*0.3+J$1)","v":33},{"$f":"B46/'Futterkurve Sauen'!$C$7","v":2.75},{"$f":"IF('Futterkurve Sauen'!G$6>14,32+J$2,32+J$2+(14-'Futterkurve Sauen'!$G$6)*0.3)","v":38},{"$f":"D46/'Futterkurve Sauen'!$C$7","v":3.1666666666666665},{"$f":"IF('Futterkurve Sauen'!G$6>14,33+J$2,33+J$2+(14-'Futterkurve Sauen'!$G$6)*0.3)","v":39},{"$f":"F46/'Futterkurve Sauen'!$C$7","v":3.25},{"$f":"IF('Futterkurve Sauen'!G$6>14,32+J$2,31+J$2+(14-'Futterkurve Sauen'!$G$6)*0.3)","v":37},{"$f":"H46/'Futterkurve Sauen'!$C$7","v":3.0833333333333335}]
[46,{"$f":"IF('Futterkurve Sauen'!G$6>14,29+J$1,29+(14-'Futterkurve Sauen'!$G$6)*0.3+J$1)","v":33},{"$f":"B47/'Futterkurve Sauen'!$C$7","v":2.75},{"$f":"IF('Futterkurve Sauen'!G$6>14,32+J$2,32+J$2+(14-'Futterkurve Sauen'!$G$6)*0.3)","v":38},{"$f":"D47/'Futterkurve Sauen'!$C$7","v":3.1666666666666665},{"$f":"IF('Futterkurve Sauen'!G$6>14,33+J$2,33+J$2+(14-'Futterkurve Sauen'!$G$6)*0.3)","v":39},{"$f":"F47/'Futterkurve Sauen'!$C$7","v":3.25},{"$f":"IF('Futterkurve Sauen'!G$6>14,32+J$2,31+J$2+(14-'Futterkurve Sauen'!$G$6)*0.3)","v":37},{"$f":"H47/'Futterkurve Sauen'!$C$7","v":3.0833333333333335}]
[47,{"$f":"IF('Futterkurve Sauen'!G$6>14,29+J$1,29+(14-'Futterkurve Sauen'!$G$6)*0.3+J$1)","v":33},{"$f":"B48/'Futterkurve Sauen'!$C$7","v":2.75},{"$f":"IF('Futterkurve Sauen'!G$6>14,32+J$2,32+J$2+(14-'Futterkurve Sauen'!$G$6)*0.3)","v":38},{"$f":"D48/'Futterkurve Sauen'!$C$7","v":3.1666666666666665},{"$f":"IF('Futterkurve Sauen'!G$6>14,33+J$2,33+J$2+(14-'Futterkurve Sauen'!$G$6)*0.3)","v":39},{"$f":"F48/'Futterkurve Sauen'!$C$7","v":3.25},{"$f":"IF('Futterkurve Sauen'!G$6>14,32+J$2,31+J$2+(14-'Futterkurve Sauen'!$G$6)*0.3)","v":37},{"$f":"H48/'Futterkurve Sauen'!$C$7","v":3.0833333333333335}]
[48,{"$f":"IF('Futterkurve Sauen'!G$6>14,29+J$1,29+(14-'Futterkurve Sauen'!$G$6)*0.3+J$1)","v":33},{"$f":"B49/'Futterkurve Sauen'!$C$7","v":2.75},{"$f":"IF('Futterkurve Sauen'!G$6>14,32+J$2,32+J$2+(14-'Futterkurve Sauen'!$G$6)*0.3)","v":38},{"$f":"D49/'Futterkurve Sauen'!$C$7","v":3.1666666666666665},{"$f":"IF('Futterkurve Sauen'!G$6>14,33+J$2,33+J$2+(14-'Futterkurve Sauen'!$G$6)*0.3)","v":39},{"$f":"F49/'Futterkurve Sauen'!$C$7","v":3.25},{"$f":"IF('Futterkurve Sauen'!G$6>14,32+J$2,31+J$2+(14-'Futterkurve Sauen'!$G$6)*0.3)","v":37},{"$f":"H49/'Futterkurve Sauen'!$C$7","v":3.0833333333333335}]
[49,{"$f":"IF('Futterkurve Sauen'!G$6>14,29+J$1,29+(14-'Futterkurve Sauen'!$G$6)*0.3+J$1)","v":33},{"$f":"B50/'Futterkurve Sauen'!$C$7","v":2.75},{"$f":"IF('Futterkurve Sauen'!G$6>14,32+J$2,32+J$2+(14-'Futterkurve Sauen'!$G$6)*0.3)","v":38},{"$f":"D50/'Futterkurve Sauen'!$C$7","v":3.1666666666666665},{"$f":"IF('Futterkurve Sauen'!G$6>14,33+J$2,33+J$2+(14-'Futterkurve Sauen'!$G$6)*0.3)","v":39},{"$f":"F50/'Futterkurve Sauen'!$C$7","v":3.25},{"$f":"IF('Futterkurve Sauen'!G$6>14,32+J$2,31+J$2+(14-'Futterkurve Sauen'!$G$6)*0.3)","v":37},{"$f":"H50/'Futterkurve Sauen'!$C$7","v":3.0833333333333335}]
[50,{"$f":"IF('Futterkurve Sauen'!G$6>14,29+J$1,29+(14-'Futterkurve Sauen'!$G$6)*0.3+J$1)","v":33},{"$f":"B51/'Futterkurve Sauen'!$C$7","v":2.75},{"$f":"IF('Futterkurve Sauen'!G$6>14,32+J$2,32+J$2+(14-'Futterkurve Sauen'!$G$6)*0.3)","v":38},{"$f":"D51/'Futterkurve Sauen'!$C$7","v":3.1666666666666665},{"$f":"IF('Futterkurve Sauen'!G$6>14,33+J$2,33+J$2+(14-'Futterkurve Sauen'!$G$6)*0.3)","v":39},{"$f":"F51/'Futterkurve Sauen'!$C$7","v":3.25},{"$f":"IF('Futterkurve Sauen'!G$6>14,32+J$2,31+J$2+(14-'Futterkurve Sauen'!$G$6)*0.3)","v":37},{"$f":"H51/'Futterkurve Sauen'!$C$7","v":3.0833333333333335}]
[51,{"$f":"IF('Futterkurve Sauen'!G$6>14,29+J$1,29+(14-'Futterkurve Sauen'!$G$6)*0.3+J$1)","v":33},{"$f":"B52/'Futterkurve Sauen'!$C$7","v":2.75},{"$f":"IF('Futterkurve Sauen'!G$6>14,32+J$2,32+J$2+(14-'Futterkurve Sauen'!$G$6)*0.3)","v":38},{"$f":"D52/'Futterkurve Sauen'!$C$7","v":3.1666666666666665},{"$f":"IF('Futterkurve Sauen'!G$6>14,33+J$2,33+J$2+(14-'Futterkurve Sauen'!$G$6)*0.3)","v":39},{"$f":"F52/'Futterkurve Sauen'!$C$7","v":3.25},{"$f":"IF('Futterkurve Sauen'!G$6>14,32+J$2,31+J$2+(14-'Futterkurve Sauen'!$G$6)*0.3)","v":37},{"$f":"H52/'Futterkurve Sauen'!$C$7","v":3.0833333333333335}]
[52,{"$f":"IF('Futterkurve Sauen'!G$6>14,29+J$1,29+(14-'Futterkurve Sauen'!$G$6)*0.3+J$1)","v":33},{"$f":"B53/'Futterkurve Sauen'!$C$7","v":2.75},{"$f":"IF('Futterkurve Sauen'!G$6>14,32+J$2,32+J$2+(14-'Futterkurve Sauen'!$G$6)*0.3)","v":38},{"$f":"D53/'Futterkurve Sauen'!$C$7","v":3.1666666666666665},{"$f":"IF('Futterkurve Sauen'!G$6>14,33+J$2,33+J$2+(14-'Futterkurve Sauen'!$G$6)*0.3)","v":39},{"$f":"F53/'Futterkurve Sauen'!$C$7","v":3.25},{"$f":"IF('Futterkurve Sauen'!G$6>14,32+J$2,31+J$2+(14-'Futterkurve Sauen'!$G$6)*0.3)","v":37},{"$f":"H53/'Futterkurve Sauen'!$C$7","v":3.0833333333333335}]
[53,{"$f":"IF('Futterkurve Sauen'!G$6>14,29+J$1,29+(14-'Futterkurve Sauen'!$G$6)*0.3+J$1)","v":33},{"$f":"B54/'Futterkurve Sauen'!$C$7","v":2.75},{"$f":"IF('Futterkurve Sauen'!G$6>14,32+J$2,32+J$2+(14-'Futterkurve Sauen'!$G$6)*0.3)","v":38},{"$f":"D54/'Futterkurve Sauen'!$C$7","v":3.1666666666666665},{"$f":"IF('Futterkurve Sauen'!G$6>14,33+J$2,33+J$2+(14-'Futterkurve Sauen'!$G$6)*0.3)","v":39},{"$f":"F54/'Futterkurve Sauen'!$C$7","v":3.25},{"$f":"IF('Futterkurve Sauen'!G$6>14,32+J$2,31+J$2+(14-'Futterkurve Sauen'!$G$6)*0.3)","v":37},{"$f":"H54/'Futterkurve Sauen'!$C$7","v":3.0833333333333335}]
[54,{"$f":"IF('Futterkurve Sauen'!G$6>14,29+J$1,29+(14-'Futterkurve Sauen'!$G$6)*0.3+J$1)","v":33},{"$f":"B55/'Futterkurve Sauen'!$C$7","v":2.75},{"$f":"IF('Futterkurve Sauen'!G$6>14,32+J$2,32+J$2+(14-'Futterkurve Sauen'!$G$6)*0.3)","v":38},{"$f":"D55/'Futterkurve Sauen'!$C$7","v":3.1666666666666665},{"$f":"IF('Futterkurve Sauen'!G$6>14,33+J$2,33+J$2+(14-'Futterkurve Sauen'!$G$6)*0.3)","v":39},{"$f":"F55/'Futterkurve Sauen'!$C$7","v":3.25},{"$f":"IF('Futterkurve Sauen'!G$6>14,32+J$2,31+J$2+(14-'Futterkurve Sauen'!$G$6)*0.3)","v":37},{"$f":"H55/'Futterkurve Sauen'!$C$7","v":3.0833333333333335}]
[55,{"$f":"IF('Futterkurve Sauen'!G$6>14,29+J$1,29+(14-'Futterkurve Sauen'!$G$6)*0.3+J$1)","v":33},{"$f":"B56/'Futterkurve Sauen'!$C$7","v":2.75},{"$f":"IF('Futterkurve Sauen'!G$6>14,32+J$2,32+J$2+(14-'Futterkurve Sauen'!$G$6)*0.3)","v":38},{"$f":"D56/'Futterkurve Sauen'!$C$7","v":3.1666666666666665},{"$f":"IF('Futterkurve Sauen'!G$6>14,33+J$2,33+J$2+(14-'Futterkurve Sauen'!$G$6)*0.3)","v":39},{"$f":"F56/'Futterkurve Sauen'!$C$7","v":3.25},{"$f":"IF('Futterkurve Sauen'!G$6>14,32+J$2,31+J$2+(14-'Futterkurve Sauen'!$G$6)*0.3)","v":37},{"$f":"H56/'Futterkurve Sauen'!$C$7","v":3.0833333333333335}]
[56,{"$f":"IF('Futterkurve Sauen'!G$6>14,29+J$1,29+(14-'Futterkurve Sauen'!$G$6)*0.3+J$1)","v":33},{"$f":"B57/'Futterkurve Sauen'!$C$7","v":2.75},{"$f":"IF('Futterkurve Sauen'!G$6>14,32+J$2,32+J$2+(14-'Futterkurve Sauen'!$G$6)*0.3)","v":38},{"$f":"D57/'Futterkurve Sauen'!$C$7","v":3.1666666666666665},{"$f":"IF('Futterkurve Sauen'!G$6>14,33+J$2,33+J$2+(14-'Futterkurve Sauen'!$G$6)*0.3)","v":39},{"$f":"F57/'Futterkurve Sauen'!$C$7","v":3.25},{"$f":"IF('Futterkurve Sauen'!G$6>14,32+J$2,31+J$2+(14-'Futterkurve Sauen'!$G$6)*0.3)","v":37},{"$f":"H57/'Futterkurve Sauen'!$C$7","v":3.0833333333333335}]
[57,{"$f":"IF('Futterkurve Sauen'!G$6>14,29+J$1,29+(14-'Futterkurve Sauen'!$G$6)*0.3+J$1)","v":33},{"$f":"B58/'Futterkurve Sauen'!$C$7","v":2.75},{"$f":"IF('Futterkurve Sauen'!G$6>14,32+J$2,32+J$2+(14-'Futterkurve Sauen'!$G$6)*0.3)","v":38},{"$f":"D58/'Futterkurve Sauen'!$C$7","v":3.1666666666666665},{"$f":"IF('Futterkurve Sauen'!G$6>14,33+J$2,33+J$2+(14-'Futterkurve Sauen'!$G$6)*0.3)","v":39},{"$f":"F58/'Futterkurve Sauen'!$C$7","v":3.25},{"$f":"IF('Futterkurve Sauen'!G$6>14,32+J$2,31+J$2+(14-'Futterkurve Sauen'!$G$6)*0.3)","v":37},{"$f":"H58/'Futterkurve Sauen'!$C$7","v":3.0833333333333335}]
[58,{"$f":"IF('Futterkurve Sauen'!G$6>14,29+J$1,29+(14-'Futterkurve Sauen'!$G$6)*0.3+J$1)","v":33},{"$f":"B59/'Futterkurve Sauen'!$C$7","v":2.75},{"$f":"IF('Futterkurve Sauen'!G$6>14,32+J$2,32+J$2+(14-'Futterkurve Sauen'!$G$6)*0.3)","v":38},{"$f":"D59/'Futterkurve Sauen'!$C$7","v":3.1666666666666665},{"$f":"IF('Futterkurve Sauen'!G$6>14,33+J$2,33+J$2+(14-'Futterkurve Sauen'!$G$6)*0.3)","v":39},{"$f":"F59/'Futterkurve Sauen'!$C$7","v":3.25},{"$f":"IF('Futterkurve Sauen'!G$6>14,32+J$2,31+J$2+(14-'Futterkurve Sauen'!$G$6)*0.3)","v":37},{"$f":"H59/'Futterkurve Sauen'!$C$7","v":3.0833333333333335}]
[59,{"$f":"IF('Futterkurve Sauen'!G$6>14,29+J$1,29+(14-'Futterkurve Sauen'!$G$6)*0.3+J$1)","v":33},{"$f":"B60/'Futterkurve Sauen'!$C$7","v":2.75},{"$f":"IF('Futterkurve Sauen'!G$6>14,32+J$2,32+J$2+(14-'Futterkurve Sauen'!$G$6)*0.3)","v":38},{"$f":"D60/'Futterkurve Sauen'!$C$7","v":3.1666666666666665},{"$f":"IF('Futterkurve Sauen'!G$6>14,33+J$2,33+J$2+(14-'Futterkurve Sauen'!$G$6)*0.3)","v":39},{"$f":"F60/'Futterkurve Sauen'!$C$7","v":3.25},{"$f":"IF('Futterkurve Sauen'!G$6>14,32+J$2,31+J$2+(14-'Futterkurve Sauen'!$G$6)*0.3)","v":37},{"$f":"H60/'Futterkurve Sauen'!$C$7","v":3.0833333333333335}]
[60,{"$f":"IF('Futterkurve Sauen'!G$6>14,29+J$1,29+(14-'Futterkurve Sauen'!$G$6)*0.3+J$1)","v":33},{"$f":"B61/'Futterkurve Sauen'!$C$7","v":2.75},{"$f":"IF('Futterkurve Sauen'!G$6>14,32+J$2,32+J$2+(14-'Futterkurve Sauen'!$G$6)*0.3)","v":38},{"$f":"D61/'Futterkurve Sauen'!$C$7","v":3.1666666666666665},{"$f":"IF('Futterkurve Sauen'!G$6>14,33+J$2,33+J$2+(14-'Futterkurve Sauen'!$G$6)*0.3)","v":39},{"$f":"F61/'Futterkurve Sauen'!$C$7","v":3.25},{"$f":"IF('Futterkurve Sauen'!G$6>14,32+J$2,31+J$2+(14-'Futterkurve Sauen'!$G$6)*0.3)","v":37},{"$f":"H61/'Futterkurve Sauen'!$C$7","v":3.0833333333333335}]
[61,{"$f":"IF('Futterkurve Sauen'!G$6>14,29+J$1,29+(14-'Futterkurve Sauen'!$G$6)*0.3+J$1)","v":33},{"$f":"B62/'Futterkurve Sauen'!$C$7","v":2.75},{"$f":"IF('Futterkurve Sauen'!G$6>14,32+J$2,32+J$2+(14-'Futterkurve Sauen'!$G$6)*0.3)","v":38},{"$f":"D62/'Futterkurve Sauen'!$C$7","v":3.1666666666666665},{"$f":"IF('Futterkurve Sauen'!G$6>14,33+J$2,33+J$2+(14-'Futterkurve Sauen'!$G$6)*0.3)","v":39},{"$f":"F62/'Futterkurve Sauen'!$C$7","v":3.25},{"$f":"IF('Futterkurve Sauen'!G$6>14,32+J$2,31+J$2+(14-'Futterkurve Sauen'!$G$6)*0.3)","v":37},{"$f":"H62/'Futterkurve Sauen'!$C$7","v":3.0833333333333335}]
[62,{"$f":"IF('Futterkurve Sauen'!G$6>14,29+J$1,29+(14-'Futterkurve Sauen'!$G$6)*0.3+J$1)","v":33},{"$f":"B63/'Futterkurve Sauen'!$C$7","v":2.75},{"$f":"IF('Futterkurve Sauen'!G$6>14,32+J$2,32+J$2+(14-'Futterkurve Sauen'!$G$6)*0.3)","v":38},{"$f":"D63/'Futterkurve Sauen'!$C$7","v":3.1666666666666665},{"$f":"IF('Futterkurve Sauen'!G$6>14,33+J$2,33+J$2+(14-'Futterkurve Sauen'!$G$6)*0.3)","v":39},{"$f":"F63/'Futterkurve Sauen'!$C$7","v":3.25},{"$f":"IF('Futterkurve Sauen'!G$6>14,32+J$2,31+J$2+(14-'Futterkurve Sauen'!$G$6)*0.3)","v":37},{"$f":"H63/'Futterkurve Sauen'!$C$7","v":3.0833333333333335}]
[63,{"$f":"IF('Futterkurve Sauen'!G$6>14,29+J$1,29+(14-'Futterkurve Sauen'!$G$6)*0.3+J$1)","v":33},{"$f":"B64/'Futterkurve Sauen'!$C$7","v":2.75},{"$f":"IF('Futterkurve Sauen'!G$6>14,32+J$2,32+J$2+(14-'Futterkurve Sauen'!$G$6)*0.3)","v":38},{"$f":"D64/'Futterkurve Sauen'!$C$7","v":3.1666666666666665},{"$f":"IF('Futterkurve Sauen'!G$6>14,33+J$2,33+J$2+(14-'Futterkurve Sauen'!$G$6)*0.3)","v":39},{"$f":"F64/'Futterkurve Sauen'!$C$7","v":3.25},{"$f":"IF('Futterkurve Sauen'!G$6>14,32+J$2,31+J$2+(14-'Futterkurve Sauen'!$G$6)*0.3)","v":37},{"$f":"H64/'Futterkurve Sauen'!$C$7","v":3.0833333333333335}]
[64,{"$f":"IF('Futterkurve Sauen'!G$6>14,29+J$1,29+(14-'Futterkurve Sauen'!$G$6)*0.3+J$1)","v":33},{"$f":"B65/'Futterkurve Sauen'!$C$7","v":2.75},{"$f":"IF('Futterkurve Sauen'!G$6>14,32+J$2,32+J$2+(14-'Futterkurve Sauen'!$G$6)*0.3)","v":38},{"$f":"D65/'Futterkurve Sauen'!$C$7","v":3.1666666666666665},{"$f":"IF('Futterkurve Sauen'!G$6>14,33+J$2,33+J$2+(14-'Futterkurve Sauen'!$G$6)*0.3)","v":39},{"$f":"F65/'Futterkurve Sauen'!$C$7","v":3.25},{"$f":"IF('Futterkurve Sauen'!G$6>14,32+J$2,31+J$2+(14-'Futterkurve Sauen'!$G$6)*0.3)","v":37},{"$f":"H65/'Futterkurve Sauen'!$C$7","v":3.0833333333333335}]
[65,{"$f":"IF('Futterkurve Sauen'!G$6>14,29+J$1,29+(14-'Futterkurve Sauen'!$G$6)*0.3+J$1)","v":33},{"$f":"B66/'Futterkurve Sauen'!$C$7","v":2.75},{"$f":"IF('Futterkurve Sauen'!G$6>14,32+J$2,32+J$2+(14-'Futterkurve Sauen'!$G$6)*0.3)","v":38},{"$f":"D66/'Futterkurve Sauen'!$C$7","v":3.1666666666666665},{"$f":"IF('Futterkurve Sauen'!G$6>14,33+J$2,33+J$2+(14-'Futterkurve Sauen'!$G$6)*0.3)","v":39},{"$f":"F66/'Futterkurve Sauen'!$C$7","v":3.25},{"$f":"IF('Futterkurve Sauen'!G$6>14,32+J$2,31+J$2+(14-'Futterkurve Sauen'!$G$6)*0.3)","v":37},{"$f":"H66/'Futterkurve Sauen'!$C$7","v":3.0833333333333335}]
[66,{"$f":"IF('Futterkurve Sauen'!G$6>14,29+J$1,29+(14-'Futterkurve Sauen'!$G$6)*0.3+J$1)","v":33},{"$f":"B67/'Futterkurve Sauen'!$C$7","v":2.75},{"$f":"IF('Futterkurve Sauen'!G$6>14,32+J$2,32+J$2+(14-'Futterkurve Sauen'!$G$6)*0.3)","v":38},{"$f":"D67/'Futterkurve Sauen'!$C$7","v":3.1666666666666665},{"$f":"IF('Futterkurve Sauen'!G$6>14,33+J$2,33+J$2+(14-'Futterkurve Sauen'!$G$6)*0.3)","v":39},{"$f":"F67/'Futterkurve Sauen'!$C$7","v":3.25},{"$f":"IF('Futterkurve Sauen'!G$6>14,32+J$2,31+J$2+(14-'Futterkurve Sauen'!$G$6)*0.3)","v":37},{"$f":"H67/'Futterkurve Sauen'!$C$7","v":3.0833333333333335}]
[67,{"$f":"IF('Futterkurve Sauen'!G$6>14,29+J$1,29+(14-'Futterkurve Sauen'!$G$6)*0.3+J$1)","v":33},{"$f":"B68/'Futterkurve Sauen'!$C$7","v":2.75},{"$f":"IF('Futterkurve Sauen'!G$6>14,32+J$2,32+J$2+(14-'Futterkurve Sauen'!$G$6)*0.3)","v":38},{"$f":"D68/'Futterkurve Sauen'!$C$7","v":3.1666666666666665},{"$f":"IF('Futterkurve Sauen'!G$6>14,33+J$2,33+J$2+(14-'Futterkurve Sauen'!$G$6)*0.3)","v":39},{"$f":"F68/'Futterkurve Sauen'!$C$7","v":3.25},{"$f":"IF('Futterkurve Sauen'!G$6>14,32+J$2,31+J$2+(14-'Futterkurve Sauen'!$G$6)*0.3)","v":37},{"$f":"H68/'Futterkurve Sauen'!$C$7","v":3.0833333333333335}]
[68,{"$f":"IF('Futterkurve Sauen'!G$6>14,29+J$1,29+(14-'Futterkurve Sauen'!$G$6)*0.3+J$1)","v":33},{"$f":"B69/'Futterkurve Sauen'!$C$7","v":2.75},{"$f":"IF('Futterkurve Sauen'!G$6>14,32+J$2,32+J$2+(14-'Futterkurve Sauen'!$G$6)*0.3)","v":38},{"$f":"D69/'Futterkurve Sauen'!$C$7","v":3.1666666666666665},{"$f":"IF('Futterkurve Sauen'!G$6>14,33+J$2,33+J$2+(14-'Futterkurve Sauen'!$G$6)*0.3)","v":39},{"$f":"F69/'Futterkurve Sauen'!$C$7","v":3.25},{"$f":"IF('Futterkurve Sauen'!G$6>14,32+J$2,31+J$2+(14-'Futterkurve Sauen'!$G$6)*0.3)","v":37},{"$f":"H69/'Futterkurve Sauen'!$C$7","v":3.0833333333333335}]
[69,{"$f":"IF('Futterkurve Sauen'!G$6>14,29+J$1,29+(14-'Futterkurve Sauen'!$G$6)*0.3+J$1)","v":33},{"$f":"B70/'Futterkurve Sauen'!$C$7","v":2.75},{"$f":"IF('Futterkurve Sauen'!G$6>14,32+J$2,32+J$2+(14-'Futterkurve Sauen'!$G$6)*0.3)","v":38},{"$f":"D70/'Futterkurve Sauen'!$C$7","v":3.1666666666666665},{"$f":"IF('Futterkurve Sauen'!G$6>14,33+J$2,33+J$2+(14-'Futterkurve Sauen'!$G$6)*0.3)","v":39},{"$f":"F70/'Futterkurve Sauen'!$C$7","v":3.25},{"$f":"IF('Futterkurve Sauen'!G$6>14,32+J$2,31+J$2+(14-'Futterkurve Sauen'!$G$6)*0.3)","v":37},{"$f":"H70/'Futterkurve Sauen'!$C$7","v":3.0833333333333335}]
[70,{"$f":"IF('Futterkurve Sauen'!G$6>14,29+J$1,29+(14-'Futterkurve Sauen'!$G$6)*0.3+J$1)","v":33},{"$f":"B71/'Futterkurve Sauen'!$C$7","v":2.75},{"$f":"IF('Futterkurve Sauen'!G$6>14,32+J$2,32+J$2+(14-'Futterkurve Sauen'!$G$6)*0.3)","v":38},{"$f":"D71/'Futterkurve Sauen'!$C$7","v":3.1666666666666665},{"$f":"IF('Futterkurve Sauen'!G$6>14,33+J$2,33+J$2+(14-'Futterkurve Sauen'!$G$6)*0.3)","v":39},{"$f":"F71/'Futterkurve Sauen'!$C$7","v":3.25},{"$f":"IF('Futterkurve Sauen'!G$6>14,32+J$2,31+J$2+(14-'Futterkurve Sauen'!$G$6)*0.3)","v":37},{"$f":"H71/'Futterkurve Sauen'!$C$7","v":3.0833333333333335}]
[71,{"$f":"IF('Futterkurve Sauen'!G$6>14,33,33+(14-'Futterkurve Sauen'!$G$6)*0.3+J$1)","v":37},{"$f":"B72/'Futterkurve Sauen'!$C$7","v":3.0833333333333335},{"$f":"IF('Futterkurve Sauen'!G$6>14,36+J$2,36+J$2+(14-'Futterkurve Sauen'!$G$6)*0.3)","v":42},{"$f":"D72/'Futterkurve Sauen'!$C$7","v":3.5},{"$f":"IF('Futterkurve Sauen'!G$6>14,37+J$2,37+J$2+(14-'Futterkurve Sauen'!$G$6)*0.3)","v":43},{"$f":"F72/'Futterkurve Sauen'!$C$7","v":3.5833333333333335},{"$f":"IF('Futterkurve Sauen'!G$6>14,34+J$2,34+J$2+(14-'Futterkurve Sauen'!$G$6)*0.3)","v":40},{"$f":"H72/'Futterkurve Sauen'!$C$7","v":3.3333333333333335}]
[72,{"$f":"IF('Futterkurve Sauen'!G$6>14,33,33+(14-'Futterkurve Sauen'!$G$6)*0.3+J$1)","v":37},{"$f":"B73/'Futterkurve Sauen'!$C$7","v":3.0833333333333335},{"$f":"IF('Futterkurve Sauen'!G$6>14,36+J$2,36+J$2+(14-'Futterkurve Sauen'!$G$6)*0.3)","v":42},{"$f":"D73/'Futterkurve Sauen'!$C$7","v":3.5},{"$f":"IF('Futterkurve Sauen'!G$6>14,37+J$2,37+J$2+(14-'Futterkurve Sauen'!$G$6)*0.3)","v":43},{"$f":"F73/'Futterkurve Sauen'!$C$7","v":3.5833333333333335},{"$f":"IF('Futterkurve Sauen'!G$6>14,34+J$2,34+J$2+(14-'Futterkurve Sauen'!$G$6)*0.3)","v":40},{"$f":"H73/'Futterkurve Sauen'!$C$7","v":3.3333333333333335}]
[73,{"$f":"IF('Futterkurve Sauen'!G$6>14,33,33+(14-'Futterkurve Sauen'!$G$6)*0.3+J$1)","v":37},{"$f":"B74/'Futterkurve Sauen'!$C$7","v":3.0833333333333335},{"$f":"IF('Futterkurve Sauen'!G$6>14,36+J$2,36+J$2+(14-'Futterkurve Sauen'!$G$6)*0.3)","v":42},{"$f":"D74/'Futterkurve Sauen'!$C$7","v":3.5},{"$f":"IF('Futterkurve Sauen'!G$6>14,37+J$2,37+J$2+(14-'Futterkurve Sauen'!$G$6)*0.3)","v":43},{"$f":"F74/'Futterkurve Sauen'!$C$7","v":3.5833333333333335},{"$f":"IF('Futterkurve Sauen'!G$6>14,34+J$2,34+J$2+(14-'Futterkurve Sauen'!$G$6)*0.3)","v":40},{"$f":"H74/'Futterkurve Sauen'!$C$7","v":3.3333333333333335}]
[74,{"$f":"IF('Futterkurve Sauen'!G$6>14,33,33+(14-'Futterkurve Sauen'!$G$6)*0.3+J$1)","v":37},{"$f":"B75/'Futterkurve Sauen'!$C$7","v":3.0833333333333335},{"$f":"IF('Futterkurve Sauen'!G$6>14,36+J$2,36+J$2+(14-'Futterkurve Sauen'!$G$6)*0.3)","v":42},{"$f":"D75/'Futterkurve Sauen'!$C$7","v":3.5},{"$f":"IF('Futterkurve Sauen'!G$6>14,37+J$2,37+J$2+(14-'Futterkurve Sauen'!$G$6)*0.3)","v":43},{"$f":"F75/'Futterkurve Sauen'!$C$7","v":3.5833333333333335},{"$f":"IF('Futterkurve Sauen'!G$6>14,34+J$2,34+J$2+(14-'Futterkurve Sauen'!$G$6)*0.3)","v":40},{"$f":"H75/'Futterkurve Sauen'!$C$7","v":3.3333333333333335}]
[75,{"$f":"IF('Futterkurve Sauen'!G$6>14,33,33+(14-'Futterkurve Sauen'!$G$6)*0.3+J$1)","v":37},{"$f":"B76/'Futterkurve Sauen'!$C$7","v":3.0833333333333335},{"$f":"IF('Futterkurve Sauen'!G$6>14,36+J$2,36+J$2+(14-'Futterkurve Sauen'!$G$6)*0.3)","v":42},{"$f":"D76/'Futterkurve Sauen'!$C$7","v":3.5},{"$f":"IF('Futterkurve Sauen'!G$6>14,37+J$2,37+J$2+(14-'Futterkurve Sauen'!$G$6)*0.3)","v":43},{"$f":"F76/'Futterkurve Sauen'!$C$7","v":3.5833333333333335},{"$f":"IF('Futterkurve Sauen'!G$6>14,34+J$2,34+J$2+(14-'Futterkurve Sauen'!$G$6)*0.3)","v":40},{"$f":"H76/'Futterkurve Sauen'!$C$7","v":3.3333333333333335}]
[76,{"$f":"IF('Futterkurve Sauen'!G$6>14,33,33+(14-'Futterkurve Sauen'!$G$6)*0.3+J$1)","v":37},{"$f":"B77/'Futterkurve Sauen'!$C$7","v":3.0833333333333335},{"$f":"IF('Futterkurve Sauen'!G$6>14,36+J$2,36+J$2+(14-'Futterkurve Sauen'!$G$6)*0.3)","v":42},{"$f":"D77/'Futterkurve Sauen'!$C$7","v":3.5},{"$f":"IF('Futterkurve Sauen'!G$6>14,37+J$2,37+J$2+(14-'Futterkurve Sauen'!$G$6)*0.3)","v":43},{"$f":"F77/'Futterkurve Sauen'!$C$7","v":3.5833333333333335},{"$f":"IF('Futterkurve Sauen'!G$6>14,34+J$2,34+J$2+(14-'Futterkurve Sauen'!$G$6)*0.3)","v":40},{"$f":"H77/'Futterkurve Sauen'!$C$7","v":3.3333333333333335}]
[77,{"$f":"IF('Futterkurve Sauen'!G$6>14,33,33+(14-'Futterkurve Sauen'!$G$6)*0.3+J$1)","v":37},{"$f":"B78/'Futterkurve Sauen'!$C$7","v":3.0833333333333335},{"$f":"IF('Futterkurve Sauen'!G$6>14,36+J$2,36+J$2+(14-'Futterkurve Sauen'!$G$6)*0.3)","v":42},{"$f":"D78/'Futterkurve Sauen'!$C$7","v":3.5},{"$f":"IF('Futterkurve Sauen'!G$6>14,37+J$2,37+J$2+(14-'Futterkurve Sauen'!$G$6)*0.3)","v":43},{"$f":"F78/'Futterkurve Sauen'!$C$7","v":3.5833333333333335},{"$f":"IF('Futterkurve Sauen'!G$6>14,34+J$2,34+J$2+(14-'Futterkurve Sauen'!$G$6)*0.3)","v":40},{"$f":"H78/'Futterkurve Sauen'!$C$7","v":3.3333333333333335}]
[78,{"$f":"IF('Futterkurve Sauen'!G$6>14,33,33+(14-'Futterkurve Sauen'!$G$6)*0.3+J$1)","v":37},{"$f":"B79/'Futterkurve Sauen'!$C$7","v":3.0833333333333335},{"$f":"IF('Futterkurve Sauen'!G$6>14,36+J$2,36+J$2+(14-'Futterkurve Sauen'!$G$6)*0.3)","v":42},{"$f":"D79/'Futterkurve Sauen'!$C$7","v":3.5},{"$f":"IF('Futterkurve Sauen'!G$6>14,37+J$2,37+J$2+(14-'Futterkurve Sauen'!$G$6)*0.3)","v":43},{"$f":"F79/'Futterkurve Sauen'!$C$7","v":3.5833333333333335},{"$f":"IF('Futterkurve Sauen'!G$6>14,34+J$2,34+J$2+(14-'Futterkurve Sauen'!$G$6)*0.3)","v":40},{"$f":"H79/'Futterkurve Sauen'!$C$7","v":3.3333333333333335}]
[79,{"$f":"IF('Futterkurve Sauen'!G$6>14,33,33+(14-'Futterkurve Sauen'!$G$6)*0.3+J$1)","v":37},{"$f":"B80/'Futterkurve Sauen'!$C$7","v":3.0833333333333335},{"$f":"IF('Futterkurve Sauen'!G$6>14,36+J$2,36+J$2+(14-'Futterkurve Sauen'!$G$6)*0.3)","v":42},{"$f":"D80/'Futterkurve Sauen'!$C$7","v":3.5},{"$f":"IF('Futterkurve Sauen'!G$6>14,37+J$2,37+J$2+(14-'Futterkurve Sauen'!$G$6)*0.3)","v":43},{"$f":"F80/'Futterkurve Sauen'!$C$7","v":3.5833333333333335},{"$f":"IF('Futterkurve Sauen'!G$6>14,34+J$2,34+J$2+(14-'Futterkurve Sauen'!$G$6)*0.3)","v":40},{"$f":"H80/'Futterkurve Sauen'!$C$7","v":3.3333333333333335}]
[80,{"$f":"IF('Futterkurve Sauen'!G$6>14,33,33+(14-'Futterkurve Sauen'!$G$6)*0.3+J$1)","v":37},{"$f":"B81/'Futterkurve Sauen'!$C$7","v":3.0833333333333335},{"$f":"IF('Futterkurve Sauen'!G$6>14,36+J$2,36+J$2+(14-'Futterkurve Sauen'!$G$6)*0.3)","v":42},{"$f":"D81/'Futterkurve Sauen'!$C$7","v":3.5},{"$f":"IF('Futterkurve Sauen'!G$6>14,37+J$2,37+J$2+(14-'Futterkurve Sauen'!$G$6)*0.3)","v":43},{"$f":"F81/'Futterkurve Sauen'!$C$7","v":3.5833333333333335},{"$f":"IF('Futterkurve Sauen'!G$6>14,34+J$2,34+J$2+(14-'Futterkurve Sauen'!$G$6)*0.3)","v":40},{"$f":"H81/'Futterkurve Sauen'!$C$7","v":3.3333333333333335}]
[81,{"$f":"IF('Futterkurve Sauen'!G$6>14,33,33+(14-'Futterkurve Sauen'!$G$6)*0.3+J$1)","v":37},{"$f":"B82/'Futterkurve Sauen'!$C$7","v":3.0833333333333335},{"$f":"IF('Futterkurve Sauen'!G$6>14,36+J$2,36+J$2+(14-'Futterkurve Sauen'!$G$6)*0.3)","v":42},{"$f":"D82/'Futterkurve Sauen'!$C$7","v":3.5},{"$f":"IF('Futterkurve Sauen'!G$6>14,37+J$2,37+J$2+(14-'Futterkurve Sauen'!$G$6)*0.3)","v":43},{"$f":"F82/'Futterkurve Sauen'!$C$7","v":3.5833333333333335},{"$f":"IF('Futterkurve Sauen'!G$6>14,34+J$2,34+J$2+(14-'Futterkurve Sauen'!$G$6)*0.3)","v":40},{"$f":"H82/'Futterkurve Sauen'!$C$7","v":3.3333333333333335}]
[82,{"$f":"IF('Futterkurve Sauen'!G$6>14,33,33+(14-'Futterkurve Sauen'!$G$6)*0.3+J$1)","v":37},{"$f":"B83/'Futterkurve Sauen'!$C$7","v":3.0833333333333335},{"$f":"IF('Futterkurve Sauen'!G$6>14,36+J$2,36+J$2+(14-'Futterkurve Sauen'!$G$6)*0.3)","v":42},{"$f":"D83/'Futterkurve Sauen'!$C$7","v":3.5},{"$f":"IF('Futterkurve Sauen'!G$6>14,37+J$2,37+J$2+(14-'Futterkurve Sauen'!$G$6)*0.3)","v":43},{"$f":"F83/'Futterkurve Sauen'!$C$7","v":3.5833333333333335},{"$f":"IF('Futterkurve Sauen'!G$6>14,34+J$2,34+J$2+(14-'Futterkurve Sauen'!$G$6)*0.3)","v":40},{"$f":"H83/'Futterkurve Sauen'!$C$7","v":3.3333333333333335}]
[83,{"$f":"IF('Futterkurve Sauen'!G$6>14,33,33+(14-'Futterkurve Sauen'!$G$6)*0.3+J$1)","v":37},{"$f":"B84/'Futterkurve Sauen'!$C$7","v":3.0833333333333335},{"$f":"IF('Futterkurve Sauen'!G$6>14,36+J$2,36+J$2+(14-'Futterkurve Sauen'!$G$6)*0.3)","v":42},{"$f":"D84/'Futterkurve Sauen'!$C$7","v":3.5},{"$f":"IF('Futterkurve Sauen'!G$6>14,37+J$2,37+J$2+(14-'Futterkurve Sauen'!$G$6)*0.3)","v":43},{"$f":"F84/'Futterkurve Sauen'!$C$7","v":3.5833333333333335},{"$f":"IF('Futterkurve Sauen'!G$6>14,34+J$2,34+J$2+(14-'Futterkurve Sauen'!$G$6)*0.3)","v":40},{"$f":"H84/'Futterkurve Sauen'!$C$7","v":3.3333333333333335}]
[84,{"$f":"IF('Futterkurve Sauen'!G$6>14,33,33+(14-'Futterkurve Sauen'!$G$6)*0.3+J$1)","v":37},{"$f":"B85/'Futterkurve Sauen'!$C$7","v":3.0833333333333335},{"$f":"IF('Futterkurve Sauen'!G$6>14,36+J$2,36+J$2+(14-'Futterkurve Sauen'!$G$6)*0.3)","v":42},{"$f":"D85/'Futterkurve Sauen'!$C$7","v":3.5},{"$f":"IF('Futterkurve Sauen'!G$6>14,37+J$2,37+J$2+(14-'Futterkurve Sauen'!$G$6)*0.3)","v":43},{"$f":"F85/'Futterkurve Sauen'!$C$7","v":3.5833333333333335},{"$f":"IF('Futterkurve Sauen'!G$6>14,34+J$2,34+J$2+(14-'Futterkurve Sauen'!$G$6)*0.3)","v":40},{"$f":"H85/'Futterkurve Sauen'!$C$7","v":3.3333333333333335}]
[85,{"$f":"IF('Futterkurve Sauen'!G$6>14,33,33+(14-'Futterkurve Sauen'!$G$6)*0.3+J$1)","v":37},{"$f":"B86/'Futterkurve Sauen'!$C$7","v":3.0833333333333335},{"$f":"IF('Futterkurve Sauen'!G$6>14,36+J$2,36+J$2+(14-'Futterkurve Sauen'!$G$6)*0.3)","v":42},{"$f":"D86/'Futterkurve Sauen'!$C$7","v":3.5},{"$f":"IF('Futterkurve Sauen'!G$6>14,37+J$2,37+J$2+(14-'Futterkurve Sauen'!$G$6)*0.3)","v":43},{"$f":"F86/'Futterkurve Sauen'!$C$7","v":3.5833333333333335},{"$f":"IF('Futterkurve Sauen'!G$6>14,34+J$2,34+J$2+(14-'Futterkurve Sauen'!$G$6)*0.3)","v":40},{"$f":"H86/'Futterkurve Sauen'!$C$7","v":3.3333333333333335}]
[86,{"$f":"IF($B$86>$B$109,$B$86,IF('Futterkurve Sauen'!G$6>14,39,39+(14-'Futterkurve Sauen'!$G$6)*0.3))","v":39},{"$f":"B87/'Futterkurve Sauen'!$E$7","v":3.25},{"$f":"IF($D$86>$D$109,$D$86,IF('Futterkurve Sauen'!G$6>14,42,42+(14-'Futterkurve Sauen'!$G$6)*0.3))","v":42},{"$f":"D87/'Futterkurve Sauen'!$E$7","v":3.5},{"$f":"IF($F$86>$F$109,$F$86,IF('Futterkurve Sauen'!G$6>14,43,43+(14-'Futterkurve Sauen'!$G$6)*0.3))","v":43},{"$f":"F87/'Futterkurve Sauen'!$E$7","v":3.5833333333333335},{"$f":"IF($H$86>$H$109,$H$86,IF('Futterkurve Sauen'!G$6>14,39,39+(14-'Futterkurve Sauen'!$G$6)*0.3))","v":40},{"$f":"H87/'Futterkurve Sauen'!$E$7","v":3.3333333333333335}]
[87,{"$f":"IF($B$86>$B$109,$B$86,IF('Futterkurve Sauen'!G$6>14,39,39+(14-'Futterkurve Sauen'!$G$6)*0.3))","v":39},{"$f":"B88/'Futterkurve Sauen'!$E$7","v":3.25},{"$f":"IF($D$86>$D$109,$D$86,IF('Futterkurve Sauen'!G$6>14,42,42+(14-'Futterkurve Sauen'!$G$6)*0.3))","v":42},{"$f":"D88/'Futterkurve Sauen'!$E$7","v":3.5},{"$f":"IF($F$86>$F$109,$F$86,IF('Futterkurve Sauen'!G$6>14,43,43+(14-'Futterkurve Sauen'!$G$6)*0.3))","v":43},{"$f":"F88/'Futterkurve Sauen'!$E$7","v":3.5833333333333335},{"$f":"IF($H$86>$H$109,$H$86,IF('Futterkurve Sauen'!G$6>14,39,39+(14-'Futterkurve Sauen'!$G$6)*0.3))","v":40},{"$f":"H88/'Futterkurve Sauen'!$E$7","v":3.3333333333333335}]
[88,{"$f":"IF($B$86>$B$109,$B$86,IF('Futterkurve Sauen'!G$6>14,39,39+(14-'Futterkurve Sauen'!$G$6)*0.3))","v":39},{"$f":"B89/'Futterkurve Sauen'!$E$7","v":3.25},{"$f":"IF($D$86>$D$109,$D$86,IF('Futterkurve Sauen'!G$6>14,42,42+(14-'Futterkurve Sauen'!$G$6)*0.3))","v":42},{"$f":"D89/'Futterkurve Sauen'!$E$7","v":3.5},{"$f":"IF($F$86>$F$109,$F$86,IF('Futterkurve Sauen'!G$6>14,43,43+(14-'Futterkurve Sauen'!$G$6)*0.3))","v":43},{"$f":"F89/'Futterkurve Sauen'!$E$7","v":3.5833333333333335},{"$f":"IF($H$86>$H$109,$H$86,IF('Futterkurve Sauen'!G$6>14,39,39+(14-'Futterkurve Sauen'!$G$6)*0.3))","v":40},{"$f":"H89/'Futterkurve Sauen'!$E$7","v":3.3333333333333335}]
[89,{"$f":"IF($B$86>$B$109,$B$86,IF('Futterkurve Sauen'!G$6>14,39,39+(14-'Futterkurve Sauen'!$G$6)*0.3))","v":39},{"$f":"B90/'Futterkurve Sauen'!$E$7","v":3.25},{"$f":"IF($D$86>$D$109,$D$86,IF('Futterkurve Sauen'!G$6>14,42,42+(14-'Futterkurve Sauen'!$G$6)*0.3))","v":42},{"$f":"D90/'Futterkurve Sauen'!$E$7","v":3.5},{"$f":"IF($F$86>$F$109,$F$86,IF('Futterkurve Sauen'!G$6>14,43,43+(14-'Futterkurve Sauen'!$G$6)*0.3))","v":43},{"$f":"F90/'Futterkurve Sauen'!$E$7","v":3.5833333333333335},{"$f":"IF($H$86>$H$109,$H$86,IF('Futterkurve Sauen'!G$6>14,39,39+(14-'Futterkurve Sauen'!$G$6)*0.3))","v":40},{"$f":"H90/'Futterkurve Sauen'!$E$7","v":3.3333333333333335}]
[90,{"$f":"IF($B$86>$B$109,$B$86,IF('Futterkurve Sauen'!G$6>14,39,39+(14-'Futterkurve Sauen'!$G$6)*0.3))","v":39},{"$f":"B91/'Futterkurve Sauen'!$E$7","v":3.25},{"$f":"IF($D$86>$D$109,$D$86,IF('Futterkurve Sauen'!G$6>14,42,42+(14-'Futterkurve Sauen'!$G$6)*0.3))","v":42},{"$f":"D91/'Futterkurve Sauen'!$E$7","v":3.5},{"$f":"IF($F$86>$F$109,$F$86,IF('Futterkurve Sauen'!G$6>14,43,43+(14-'Futterkurve Sauen'!$G$6)*0.3))","v":43},{"$f":"F91/'Futterkurve Sauen'!$E$7","v":3.5833333333333335},{"$f":"IF($H$86>$H$109,$H$86,IF('Futterkurve Sauen'!G$6>14,39,39+(14-'Futterkurve Sauen'!$G$6)*0.3))","v":40},{"$f":"H91/'Futterkurve Sauen'!$E$7","v":3.3333333333333335}]
[91,{"$f":"IF($B$86>$B$109,$B$86,IF('Futterkurve Sauen'!G$6>14,39,39+(14-'Futterkurve Sauen'!$G$6)*0.3))","v":39},{"$f":"B92/'Futterkurve Sauen'!$E$7","v":3.25},{"$f":"IF($D$86>$D$109,$D$86,IF('Futterkurve Sauen'!G$6>14,42,42+(14-'Futterkurve Sauen'!$G$6)*0.3))","v":42},{"$f":"D92/'Futterkurve Sauen'!$E$7","v":3.5},{"$f":"IF($F$86>$F$109,$F$86,IF('Futterkurve Sauen'!G$6>14,43,43+(14-'Futterkurve Sauen'!$G$6)*0.3))","v":43},{"$f":"F92/'Futterkurve Sauen'!$E$7","v":3.5833333333333335},{"$f":"IF($H$86>$H$109,$H$86,IF('Futterkurve Sauen'!G$6>14,39,39+(14-'Futterkurve Sauen'!$G$6)*0.3))","v":40},{"$f":"H92/'Futterkurve Sauen'!$E$7","v":3.3333333333333335}]
[92,{"$f":"IF($B$86>$B$109,$B$86,IF('Futterkurve Sauen'!G$6>14,39,39+(14-'Futterkurve Sauen'!$G$6)*0.3))","v":39},{"$f":"B93/'Futterkurve Sauen'!$E$7","v":3.25},{"$f":"IF($D$86>$D$109,$D$86,IF('Futterkurve Sauen'!G$6>14,42,42+(14-'Futterkurve Sauen'!$G$6)*0.3))","v":42},{"$f":"D93/'Futterkurve Sauen'!$E$7","v":3.5},{"$f":"IF($F$86>$F$109,$F$86,IF('Futterkurve Sauen'!G$6>14,43,43+(14-'Futterkurve Sauen'!$G$6)*0.3))","v":43},{"$f":"F93/'Futterkurve Sauen'!$E$7","v":3.5833333333333335},{"$f":"IF($H$86>$H$109,$H$86,IF('Futterkurve Sauen'!G$6>14,39,39+(14-'Futterkurve Sauen'!$G$6)*0.3))","v":40},{"$f":"H93/'Futterkurve Sauen'!$E$7","v":3.3333333333333335}]
[93,{"$f":"IF($B$86>$B$109,$B$86,IF('Futterkurve Sauen'!G$6>14,39,39+(14-'Futterkurve Sauen'!$G$6)*0.3))","v":39},{"$f":"B94/'Futterkurve Sauen'!$E$7","v":3.25},{"$f":"IF($D$86>$D$109,$D$86,IF('Futterkurve Sauen'!G$6>14,42,42+(14-'Futterkurve Sauen'!$G$6)*0.3))","v":42},{"$f":"D94/'Futterkurve Sauen'!$E$7","v":3.5},{"$f":"IF($F$86>$F$109,$F$86,IF('Futterkurve Sauen'!G$6>14,43,43+(14-'Futterkurve Sauen'!$G$6)*0.3))","v":43},{"$f":"F94/'Futterkurve Sauen'!$E$7","v":3.5833333333333335},{"$f":"IF($H$86>$H$109,$H$86,IF('Futterkurve Sauen'!G$6>14,39,39+(14-'Futterkurve Sauen'!$G$6)*0.3))","v":40},{"$f":"H94/'Futterkurve Sauen'!$E$7","v":3.3333333333333335}]
[94,{"$f":"IF($B$86>$B$109,$B$86,IF('Futterkurve Sauen'!G$6>14,39,39+(14-'Futterkurve Sauen'!$G$6)*0.3))","v":39},{"$f":"B95/'Futterkurve Sauen'!$E$7","v":3.25},{"$f":"IF($D$86>$D$109,$D$86,IF('Futterkurve Sauen'!G$6>14,42,42+(14-'Futterkurve Sauen'!$G$6)*0.3))","v":42},{"$f":"D95/'Futterkurve Sauen'!$E$7","v":3.5},{"$f":"IF($F$86>$F$109,$F$86,IF('Futterkurve Sauen'!G$6>14,43,43+(14-'Futterkurve Sauen'!$G$6)*0.3))","v":43},{"$f":"F95/'Futterkurve Sauen'!$E$7","v":3.5833333333333335},{"$f":"IF($H$86>$H$109,$H$86,IF('Futterkurve Sauen'!G$6>14,39,39+(14-'Futterkurve Sauen'!$G$6)*0.3))","v":40},{"$f":"H95/'Futterkurve Sauen'!$E$7","v":3.3333333333333335}]
[95,{"$f":"IF($B$86>$B$109,$B$86,IF('Futterkurve Sauen'!G$6>14,39,39+(14-'Futterkurve Sauen'!$G$6)*0.3))","v":39},{"$f":"B96/'Futterkurve Sauen'!$E$7","v":3.25},{"$f":"IF($D$86>$D$109,$D$86,IF('Futterkurve Sauen'!G$6>14,42,42+(14-'Futterkurve Sauen'!$G$6)*0.3))","v":42},{"$f":"D96/'Futterkurve Sauen'!$E$7","v":3.5},{"$f":"IF($F$86>$F$109,$F$86,IF('Futterkurve Sauen'!G$6>14,43,43+(14-'Futterkurve Sauen'!$G$6)*0.3))","v":43},{"$f":"F96/'Futterkurve Sauen'!$E$7","v":3.5833333333333335},{"$f":"IF($H$86>$H$109,$H$86,IF('Futterkurve Sauen'!G$6>14,39,39+(14-'Futterkurve Sauen'!$G$6)*0.3))","v":40},{"$f":"H96/'Futterkurve Sauen'!$E$7","v":3.3333333333333335}]
[96,{"$f":"IF($B$86>$B$109,$B$86,IF('Futterkurve Sauen'!G$6>14,39,39+(14-'Futterkurve Sauen'!$G$6)*0.3))","v":39},{"$f":"B97/'Futterkurve Sauen'!$E$7","v":3.25},{"$f":"IF($D$86>$D$109,$D$86,IF('Futterkurve Sauen'!G$6>14,42,42+(14-'Futterkurve Sauen'!$G$6)*0.3))","v":42},{"$f":"D97/'Futterkurve Sauen'!$E$7","v":3.5},{"$f":"IF($F$86>$F$109,$F$86,IF('Futterkurve Sauen'!G$6>14,43,43+(14-'Futterkurve Sauen'!$G$6)*0.3))","v":43},{"$f":"F97/'Futterkurve Sauen'!$E$7","v":3.5833333333333335},{"$f":"IF($H$86>$H$109,$H$86,IF('Futterkurve Sauen'!G$6>14,39,39+(14-'Futterkurve Sauen'!$G$6)*0.3))","v":40},{"$f":"H97/'Futterkurve Sauen'!$E$7","v":3.3333333333333335}]
[97,{"$f":"IF($B$86>$B$109,$B$86,IF('Futterkurve Sauen'!G$6>14,39,39+(14-'Futterkurve Sauen'!$G$6)*0.3))","v":39},{"$f":"B98/'Futterkurve Sauen'!$E$7","v":3.25},{"$f":"IF($D$86>$D$109,$D$86,IF('Futterkurve Sauen'!G$6>14,42,42+(14-'Futterkurve Sauen'!$G$6)*0.3))","v":42},{"$f":"D98/'Futterkurve Sauen'!$E$7","v":3.5},{"$f":"IF($F$86>$F$109,$F$86,IF('Futterkurve Sauen'!G$6>14,43,43+(14-'Futterkurve Sauen'!$G$6)*0.3))","v":43},{"$f":"F98/'Futterkurve Sauen'!$E$7","v":3.5833333333333335},{"$f":"IF($H$86>$H$109,$H$86,IF('Futterkurve Sauen'!G$6>14,39,39+(14-'Futterkurve Sauen'!$G$6)*0.3))","v":40},{"$f":"H98/'Futterkurve Sauen'!$E$7","v":3.3333333333333335}]
[98,{"$f":"IF($B$86>$B$109,$B$86,IF('Futterkurve Sauen'!G$6>14,39,39+(14-'Futterkurve Sauen'!$G$6)*0.3))","v":39},{"$f":"B99/'Futterkurve Sauen'!$E$7","v":3.25},{"$f":"IF($D$86>$D$109,$D$86,IF('Futterkurve Sauen'!G$6>14,42,42+(14-'Futterkurve Sauen'!$G$6)*0.3))","v":42},{"$f":"D99/'Futterkurve Sauen'!$E$7","v":3.5},{"$f":"IF($F$86>$F$109,$F$86,IF('Futterkurve Sauen'!G$6>14,43,43+(14-'Futterkurve Sauen'!$G$6)*0.3))","v":43},{"$f":"F99/'Futterkurve Sauen'!$E$7","v":3.5833333333333335},{"$f":"IF($H$86>$H$109,$H$86,IF('Futterkurve Sauen'!G$6>14,39,39+(14-'Futterkurve Sauen'!$G$6)*0.3))","v":40},{"$f":"H99/'Futterkurve Sauen'!$E$7","v":3.3333333333333335}]
[99,{"$f":"IF($B$86>$B$109,$B$86,IF('Futterkurve Sauen'!G$6>14,39,39+(14-'Futterkurve Sauen'!$G$6)*0.3))","v":39},{"$f":"B100/'Futterkurve Sauen'!$E$7","v":3.25},{"$f":"IF($D$86>$D$109,$D$86,IF('Futterkurve Sauen'!G$6>14,42,42+(14-'Futterkurve Sauen'!$G$6)*0.3))","v":42},{"$f":"D100/'Futterkurve Sauen'!$E$7","v":3.5},{"$f":"IF($F$86>$F$109,$F$86,IF('Futterkurve Sauen'!G$6>14,43,43+(14-'Futterkurve Sauen'!$G$6)*0.3))","v":43},{"$f":"F100/'Futterkurve Sauen'!$E$7","v":3.5833333333333335},{"$f":"IF($H$86>$H$109,$H$86,IF('Futterkurve Sauen'!G$6>14,39,39+(14-'Futterkurve Sauen'!$G$6)*0.3))","v":40},{"$f":"H100/'Futterkurve Sauen'!$E$7","v":3.3333333333333335}]
[100,{"$f":"IF($B$86>$B$109,$B$86,IF('Futterkurve Sauen'!G$6>14,39,39+(14-'Futterkurve Sauen'!$G$6)*0.3))","v":39},{"$f":"B101/'Futterkurve Sauen'!$E$7","v":3.25},{"$f":"IF($D$86>$D$109,$D$86,IF('Futterkurve Sauen'!G$6>14,42,42+(14-'Futterkurve Sauen'!$G$6)*0.3))","v":42},{"$f":"D101/'Futterkurve Sauen'!$E$7","v":3.5},{"$f":"IF($F$86>$F$109,$F$86,IF('Futterkurve Sauen'!G$6>14,43,43+(14-'Futterkurve Sauen'!$G$6)*0.3))","v":43},{"$f":"F101/'Futterkurve Sauen'!$E$7","v":3.5833333333333335},{"$f":"IF($H$86>$H$109,$H$86,IF('Futterkurve Sauen'!G$6>14,39,39+(14-'Futterkurve Sauen'!$G$6)*0.3))","v":40},{"$f":"H101/'Futterkurve Sauen'!$E$7","v":3.3333333333333335}]
[101,{"$f":"IF($B$86>$B$109,$B$86,IF('Futterkurve Sauen'!G$6>14,39,39+(14-'Futterkurve Sauen'!$G$6)*0.3))","v":39},{"$f":"B102/'Futterkurve Sauen'!$E$7","v":3.25},{"$f":"IF($D$86>$D$109,$D$86,IF('Futterkurve Sauen'!G$6>14,42,42+(14-'Futterkurve Sauen'!$G$6)*0.3))","v":42},{"$f":"D102/'Futterkurve Sauen'!$E$7","v":3.5},{"$f":"IF($F$86>$F$109,$F$86,IF('Futterkurve Sauen'!G$6>14,43,43+(14-'Futterkurve Sauen'!$G$6)*0.3))","v":43},{"$f":"F102/'Futterkurve Sauen'!$E$7","v":3.5833333333333335},{"$f":"IF($H$86>$H$109,$H$86,IF('Futterkurve Sauen'!G$6>14,39,39+(14-'Futterkurve Sauen'!$G$6)*0.3))","v":40},{"$f":"H102/'Futterkurve Sauen'!$E$7","v":3.3333333333333335}]
[102,{"$f":"IF($B$86>$B$109,$B$86,IF('Futterkurve Sauen'!G$6>14,39,39+(14-'Futterkurve Sauen'!$G$6)*0.3))","v":39},{"$f":"B103/'Futterkurve Sauen'!$E$7","v":3.25},{"$f":"IF($D$86>$D$109,$D$86,IF('Futterkurve Sauen'!G$6>14,42,42+(14-'Futterkurve Sauen'!$G$6)*0.3))","v":42},{"$f":"D103/'Futterkurve Sauen'!$E$7","v":3.5},{"$f":"IF($F$86>$F$109,$F$86,IF('Futterkurve Sauen'!G$6>14,43,43+(14-'Futterkurve Sauen'!$G$6)*0.3))","v":43},{"$f":"F103/'Futterkurve Sauen'!$E$7","v":3.5833333333333335},{"$f":"IF($H$86>$H$109,$H$86,IF('Futterkurve Sauen'!G$6>14,39,39+(14-'Futterkurve Sauen'!$G$6)*0.3))","v":40},{"$f":"H103/'Futterkurve Sauen'!$E$7","v":3.3333333333333335}]
[103,{"$f":"IF($B$86>$B$109,$B$86,IF('Futterkurve Sauen'!G$6>14,39,39+(14-'Futterkurve Sauen'!$G$6)*0.3))","v":39},{"$f":"B104/'Futterkurve Sauen'!$E$7","v":3.25},{"$f":"IF($D$86>$D$109,$D$86,IF('Futterkurve Sauen'!G$6>14,42,42+(14-'Futterkurve Sauen'!$G$6)*0.3))","v":42},{"$f":"D104/'Futterkurve Sauen'!$E$7","v":3.5},{"$f":"IF($F$86>$F$109,$F$86,IF('Futterkurve Sauen'!G$6>14,43,43+(14-'Futterkurve Sauen'!$G$6)*0.3))","v":43},{"$f":"F104/'Futterkurve Sauen'!$E$7","v":3.5833333333333335},{"$f":"IF($H$86>$H$109,$H$86,IF('Futterkurve Sauen'!G$6>14,39,39+(14-'Futterkurve Sauen'!$G$6)*0.3))","v":40},{"$f":"H104/'Futterkurve Sauen'!$E$7","v":3.3333333333333335}]
[104,{"$f":"IF($B$86>$B$109,$B$86,IF('Futterkurve Sauen'!G$6>14,39,39+(14-'Futterkurve Sauen'!$G$6)*0.3))","v":39},{"$f":"B105/'Futterkurve Sauen'!$E$7","v":3.25},{"$f":"IF($D$86>$D$109,$D$86,IF('Futterkurve Sauen'!G$6>14,42,42+(14-'Futterkurve Sauen'!$G$6)*0.3))","v":42},{"$f":"D105/'Futterkurve Sauen'!$E$7","v":3.5},{"$f":"IF($F$86>$F$109,$F$86,IF('Futterkurve Sauen'!G$6>14,43,43+(14-'Futterkurve Sauen'!$G$6)*0.3))","v":43},{"$f":"F105/'Futterkurve Sauen'!$E$7","v":3.5833333333333335},{"$f":"IF($H$86>$H$109,$H$86,IF('Futterkurve Sauen'!G$6>14,39,39+(14-'Futterkurve Sauen'!$G$6)*0.3))","v":40},{"$f":"H105/'Futterkurve Sauen'!$E$7","v":3.3333333333333335}]
[105,{"$f":"IF($B$86>$B$109,$B$86,IF('Futterkurve Sauen'!G$6>14,39,39+(14-'Futterkurve Sauen'!$G$6)*0.3))","v":39},{"$f":"B106/'Futterkurve Sauen'!$E$7","v":3.25},{"$f":"IF($D$86>$D$109,$D$86,IF('Futterkurve Sauen'!G$6>14,42,42+(14-'Futterkurve Sauen'!$G$6)*0.3))","v":42},{"$f":"D106/'Futterkurve Sauen'!$E$7","v":3.5},{"$f":"IF($F$86>$F$109,$F$86,IF('Futterkurve Sauen'!G$6>14,43,43+(14-'Futterkurve Sauen'!$G$6)*0.3))","v":43},{"$f":"F106/'Futterkurve Sauen'!$E$7","v":3.5833333333333335},{"$f":"IF($H$86>$H$109,$H$86,IF('Futterkurve Sauen'!G$6>14,39,39+(14-'Futterkurve Sauen'!$G$6)*0.3))","v":40},{"$f":"H106/'Futterkurve Sauen'!$E$7","v":3.3333333333333335}]
[106,{"$f":"IF($B$86>$B$109,$B$86,IF('Futterkurve Sauen'!G$6>14,39,39+(14-'Futterkurve Sauen'!$G$6)*0.3))","v":39},{"$f":"B107/'Futterkurve Sauen'!$E$7","v":3.25},{"$f":"IF($D$86>$D$109,$D$86,IF('Futterkurve Sauen'!G$6>14,42,42+(14-'Futterkurve Sauen'!$G$6)*0.3))","v":42},{"$f":"D107/'Futterkurve Sauen'!$E$7","v":3.5},{"$f":"IF($F$86>$F$109,$F$86,IF('Futterkurve Sauen'!G$6>14,43,43+(14-'Futterkurve Sauen'!$G$6)*0.3))","v":43},{"$f":"F107/'Futterkurve Sauen'!$E$7","v":3.5833333333333335},{"$f":"IF($H$86>$H$109,$H$86,IF('Futterkurve Sauen'!G$6>14,39,39+(14-'Futterkurve Sauen'!$G$6)*0.3))","v":40},{"$f":"H107/'Futterkurve Sauen'!$E$7","v":3.3333333333333335}]
[107,{"$f":"IF($B$86>$B$109,$B$86,IF('Futterkurve Sauen'!G$6>14,39,39+(14-'Futterkurve Sauen'!$G$6)*0.3))","v":39},{"$f":"B108/'Futterkurve Sauen'!$E$7","v":3.25},{"$f":"IF($D$86>$D$109,$D$86,IF('Futterkurve Sauen'!G$6>14,42,42+(14-'Futterkurve Sauen'!$G$6)*0.3))","v":42},{"$f":"D108/'Futterkurve Sauen'!$E$7","v":3.5},{"$f":"IF($F$86>$F$109,$F$86,IF('Futterkurve Sauen'!G$6>14,43,43+(14-'Futterkurve Sauen'!$G$6)*0.3))","v":43},{"$f":"F108/'Futterkurve Sauen'!$E$7","v":3.5833333333333335},{"$f":"IF($H$86>$H$109,$H$86,IF('Futterkurve Sauen'!G$6>14,39,39+(14-'Futterkurve Sauen'!$G$6)*0.3))","v":40},{"$f":"H108/'Futterkurve Sauen'!$E$7","v":3.3333333333333335}]
[108,{"$f":"IF('Futterkurve Sauen'!$C$6>19,39,39+(19-'Futterkurve Sauen'!$C$6)*0.6)","v":39},{"$f":"B109/'Futterkurve Sauen'!$E$7","v":3.25},{"$f":"IF('Futterkurve Sauen'!$C$6>19,42,42+(19-'Futterkurve Sauen'!$C$6)*0.6)","v":42},{"$f":"D109/'Futterkurve Sauen'!$E$7","v":3.5},{"$f":"IF('Futterkurve Sauen'!$C$6>19,43,43+(19-'Futterkurve Sauen'!$C$6)*0.6)","v":43},{"$f":"F109/'Futterkurve Sauen'!$E$7","v":3.5833333333333335},{"$f":"IF('Futterkurve Sauen'!$C$6>19,39,39+(19-'Futterkurve Sauen'!$C$6)*0.6)","v":39},{"$f":"H109/'Futterkurve Sauen'!$E$7","v":3.25}]
[109,{"$f":"IF('Futterkurve Sauen'!$C$6>19,39,39+(19-'Futterkurve Sauen'!$C$6)*0.6)","v":39},{"$f":"B110/'Futterkurve Sauen'!$E$7","v":3.25},{"$f":"IF('Futterkurve Sauen'!$C$6>19,42,42+(19-'Futterkurve Sauen'!$C$6)*0.6)","v":42},{"$f":"D110/'Futterkurve Sauen'!$E$7","v":3.5},{"$f":"IF('Futterkurve Sauen'!$C$6>19,43,43+(19-'Futterkurve Sauen'!$C$6)*0.6)","v":43},{"$f":"F110/'Futterkurve Sauen'!$E$7","v":3.5833333333333335},{"$f":"IF('Futterkurve Sauen'!$C$6>19,39,39+(19-'Futterkurve Sauen'!$C$6)*0.6)","v":39},{"$f":"H110/'Futterkurve Sauen'!$E$7","v":3.25}]
[110,{"$f":"IF('Futterkurve Sauen'!$C$6>19,36,36+(19-'Futterkurve Sauen'!$C$6)*0.6)","v":36},{"$f":"B111/'Futterkurve Sauen'!$E$7","v":3},{"$f":"IF('Futterkurve Sauen'!$C$6>19,39,39+(19-'Futterkurve Sauen'!$C$6)*0.6)","v":39},{"$f":"D111/'Futterkurve Sauen'!$E$7","v":3.25},{"$f":"IF('Futterkurve Sauen'!$C$6>19,40,40+(19-'Futterkurve Sauen'!$C$6)*0.6)","v":40},{"$f":"F111/'Futterkurve Sauen'!$E$7","v":3.3333333333333335},{"$f":"IF('Futterkurve Sauen'!$C$6>19,39,39+(19-'Futterkurve Sauen'!$C$6)*0.6)","v":39},{"$f":"H111/'Futterkurve Sauen'!$E$7","v":3.25}]
[111,{"$f":"IF('Futterkurve Sauen'!$C$6>19,33,33+(19-'Futterkurve Sauen'!$C$6)*0.6)","v":33},{"$f":"B112/'Futterkurve Sauen'!$E$7","v":2.75},{"$f":"IF('Futterkurve Sauen'!$C$6>19,36,36+(19-'Futterkurve Sauen'!$C$6)*0.6)","v":36},{"$f":"D112/'Futterkurve Sauen'!$E$7","v":3},{"$f":"IF('Futterkurve Sauen'!$C$6>19,37,37+(19-'Futterkurve Sauen'!$C$6)*0.6)","v":37},{"$f":"F112/'Futterkurve Sauen'!$E$7","v":3.0833333333333335},{"$f":"IF('Futterkurve Sauen'!$C$6>19,36,36+(19-'Futterkurve Sauen'!$C$6)*0.6)","v":36},{"$f":"H112/'Futterkurve Sauen'!$E$7","v":3}]
[112,{"$f":"IF('Futterkurve Sauen'!$C$6>19,31,31+(19-'Futterkurve Sauen'!$C$6)*0.6)","v":31},{"$f":"B113/'Futterkurve Sauen'!$E$7","v":2.5833333333333335},{"$f":"IF('Futterkurve Sauen'!$C$6>19,33,33+(19-'Futterkurve Sauen'!$C$6)*0.6)","v":33},{"$f":"D113/'Futterkurve Sauen'!$E$7","v":2.75},{"$f":"IF('Futterkurve Sauen'!$C$6>19,34,34+(19-'Futterkurve Sauen'!$C$6)*0.6)","v":34},{"$f":"F113/'Futterkurve Sauen'!$E$7","v":2.8333333333333335},{"$f":"IF('Futterkurve Sauen'!$C$6>19,33,33+(19-'Futterkurve Sauen'!$C$6)*0.6)","v":33},{"$f":"H113/'Futterkurve Sauen'!$E$7","v":2.75}]
[113,{"$f":"IF('Futterkurve Sauen'!$C$6>19,29,29+(19-'Futterkurve Sauen'!$C$6)*0.6)","v":29},{"$f":"B114/'Futterkurve Sauen'!$E$7","v":2.4166666666666665},{"$f":"IF('Futterkurve Sauen'!$C$6>19,30,30+(19-'Futterkurve Sauen'!$C$6)*0.6)","v":30},{"$f":"D114/'Futterkurve Sauen'!$E$7","v":2.5},{"$f":"IF('Futterkurve Sauen'!$C$6>19,30,30+(19-'Futterkurve Sauen'!$C$6)*0.6)","v":30},{"$f":"F114/'Futterkurve Sauen'!$E$7","v":2.5},{"$f":"IF('Futterkurve Sauen'!$C$6>19,30,30+(19-'Futterkurve Sauen'!$C$6)*0.6)","v":30},{"$f":"H114/'Futterkurve Sauen'!$E$7","v":2.5}]
[114,{"$f":"IF('Futterkurve Sauen'!$C$6>19,26,26+(19-'Futterkurve Sauen'!$C$6)*0.6)","v":26},{"$f":"B115/'Futterkurve Sauen'!$E$7","v":2.1666666666666665},{"$f":"IF('Futterkurve Sauen'!$C$6>19,26,26+(19-'Futterkurve Sauen'!$C$6)*0.6)","v":26},{"$f":"D115/'Futterkurve Sauen'!$E$7","v":2.1666666666666665},{"$f":"IF('Futterkurve Sauen'!$C$6>19,26,26+(19-'Futterkurve Sauen'!$C$6)*0.6)","v":26},{"$f":"F115/'Futterkurve Sauen'!$E$7","v":2.1666666666666665},{"$f":"IF('Futterkurve Sauen'!$C$6>19,26,26+(19-'Futterkurve Sauen'!$C$6)*0.6)","v":26},{"$f":"H115/'Futterkurve Sauen'!$E$7","v":2.1666666666666665}]
[115,{"$f":"IF('Futterkurve Sauen'!$C$6>19,26,26+(19-'Futterkurve Sauen'!$C$6)*0.6)","v":26},{"$f":"B116/'Futterkurve Sauen'!$G$7","v":2},{"$f":"IF('Futterkurve Sauen'!$C$6>19,26,26+(19-'Futterkurve Sauen'!$C$6)*0.6)","v":26},{"$f":"D116/'Futterkurve Sauen'!$G$7","v":2},{"$f":"IF('Futterkurve Sauen'!$C$6>19,26,26+(19-'Futterkurve Sauen'!$C$6)*0.6)","v":26},{"$f":"F116/'Futterkurve Sauen'!$G$7","v":2},{"$f":"IF('Futterkurve Sauen'!$C$6>19,26,26+(19-'Futterkurve Sauen'!$C$6)*0.6)","v":26},{"$f":"H116/'Futterkurve Sauen'!$G$7","v":2}]
[116,{"$f":"IF(C117*'Futterkurve Sauen'!$G$7>$B$143,$B$143,C117*'Futterkurve Sauen'!$G$7)","v":31.2},{"$f":"IF(C116+0.4>$C$143,$C$143,C116+0.4)","v":2.4},{"$f":"IF(E117*'Futterkurve Sauen'!$G$7>$D$143,$D$143,E117*'Futterkurve Sauen'!$G$7)","v":32.5},{"$f":"IF(E116+0.5>E$143,E$143,E116+0.5)","v":2.5},{"$f":"IF(G117*'Futterkurve Sauen'!$G$7>$F$143,$F$143,G117*'Futterkurve Sauen'!$G$7)","v":32.5},{"$f":"IF(G116+0.5>G$143,G$143,G116+0.5)","v":2.5},{"$f":"IF(I117*'Futterkurve Sauen'!$G$7>$H$143,$H$143,I117*'Futterkurve Sauen'!$G$7)","v":32.5},{"$f":"IF(I116+0.5>I$143,I$143,I116+0.5)","v":2.5}]
[117,{"$f":"IF(C118*'Futterkurve Sauen'!$G$7>$B$143,$B$143,C118*'Futterkurve Sauen'!$G$7)","v":36.4},{"$f":"IF(C117+0.4>$C$143,$C$143,C117+0.4)","v":2.8},{"$f":"IF(E118*'Futterkurve Sauen'!$G$7>$D$143,$D$143,E118*'Futterkurve Sauen'!$G$7)","v":39},{"$f":"IF(E117+0.5>E$143,E$143,E117+0.5)","v":3},{"$f":"IF(G118*'Futterkurve Sauen'!$G$7>$F$143,$F$143,G118*'Futterkurve Sauen'!$G$7)","v":39},{"$f":"IF(G117+0.5>G$143,G$143,G117+0.5)","v":3},{"$f":"IF(I118*'Futterkurve Sauen'!$G$7>$H$143,$H$143,I118*'Futterkurve Sauen'!$G$7)","v":39},{"$f":"IF(I117+0.5>I$143,I$143,I117+0.5)","v":3}]
[118,{"$f":"IF(C119*'Futterkurve Sauen'!$G$7>$B$143,$B$143,C119*'Futterkurve Sauen'!$G$7)","v":41.599999999999994},{"$f":"IF(C118+0.4>$C$143,$C$143,C118+0.4)","v":3.1999999999999997},{"$f":"IF(E119*'Futterkurve Sauen'!$G$7>$D$143,$D$143,E119*'Futterkurve Sauen'!$G$7)","v":45.5},{"$f":"IF(E118+0.5>E$143,E$143,E118+0.5)","v":3.5},{"$f":"IF(G119*'Futterkurve Sauen'!$G$7>$F$143,$F$143,G119*'Futterkurve Sauen'!$G$7)","v":45.5},{"$f":"IF(G118+0.5>G$143,G$143,G118+0.5)","v":3.5},{"$f":"IF(I119*'Futterkurve Sauen'!$G$7>$H$143,$H$143,I119*'Futterkurve Sauen'!$G$7)","v":45.5},{"$f":"IF(I118+0.5>I$143,I$143,I118+0.5)","v":3.5}]
[119,{"$f":"IF(C120*'Futterkurve Sauen'!$G$7>$B$143,$B$143,C120*'Futterkurve Sauen'!$G$7)","v":41.599999999999994},{"$f":"IF(C119>$C$143,$C$143,C119)","v":3.1999999999999997},{"$f":"IF(E120*'Futterkurve Sauen'!$G$7>$D$143,$D$143,E120*'Futterkurve Sauen'!$G$7)","v":45.5},{"$f":"IF(E119>E$143,E$143,E119)","v":3.5},{"$f":"IF(G120*'Futterkurve Sauen'!$G$7>$F$143,$F$143,G120*'Futterkurve Sauen'!$G$7)","v":45.5},{"$f":"IF(G119>G$143,G$143,G119)","v":3.5},{"$f":"IF(I120*'Futterkurve Sauen'!$G$7>$H$143,$H$143,I120*'Futterkurve Sauen'!$G$7)","v":45.5},{"$f":"IF(I119>I$143,I$143,I119)","v":3.5}]
[120,{"$f":"IF(C121*'Futterkurve Sauen'!$G$7>$B$143,$B$143,C121*'Futterkurve Sauen'!$G$7)","v":46.8},{"$f":"IF(C120+0.4>$C$143,$C$143,C120+0.4)","v":3.5999999999999996},{"$f":"IF(E121*'Futterkurve Sauen'!$G$7>$D$143,$D$143,E121*'Futterkurve Sauen'!$G$7)","v":52},{"$f":"IF(E120+0.5>E$143,E$143,E120+0.5)","v":4},{"$f":"IF(G121*'Futterkurve Sauen'!$G$7>$F$143,$F$143,G121*'Futterkurve Sauen'!$G$7)","v":52},{"$f":"IF(G120+0.5>G$143,G$143,G120+0.5)","v":4},{"$f":"IF(I121*'Futterkurve Sauen'!$G$7>$H$143,$H$143,I121*'Futterkurve Sauen'!$G$7)","v":52},{"$f":"IF(I120+0.5>I$143,I$143,I120+0.5)","v":4}]
[121,{"$f":"IF(C122*'Futterkurve Sauen'!$G$7>$B$143,$B$143,C122*'Futterkurve Sauen'!$G$7)","v":51.999999999999993},{"$f":"IF(C121+0.4>$C$143,$C$143,C121+0.4)","v":3.9999999999999996},{"$f":"IF(E122*'Futterkurve Sauen'!$G$7>$D$143,$D$143,E122*'Futterkurve Sauen'!$G$7)","v":58.5},{"$f":"IF(E121+0.5>E$143,E$143,E121+0.5)","v":4.5},{"$f":"IF(G122*'Futterkurve Sauen'!$G$7>$F$143,$F$143,G122*'Futterkurve Sauen'!$G$7)","v":58.5},{"$f":"IF(G121+0.5>G$143,G$143,G121+0.5)","v":4.5},{"$f":"IF(I122*'Futterkurve Sauen'!$G$7>$H$143,$H$143,I122*'Futterkurve Sauen'!$G$7)","v":58.5},{"$f":"IF(I121+0.5>I$143,I$143,I121+0.5)","v":4.5}]
[122,{"$f":"IF(C123*'Futterkurve Sauen'!$G$7>$B$143,$B$143,C123*'Futterkurve Sauen'!$G$7)","v":57.199999999999996},{"$f":"IF(C122+0.4>$C$143,$C$143,C122+0.4)","v":4.3999999999999995},{"$f":"IF(E123*'Futterkurve Sauen'!$G$7>$D$143,$D$143,E123*'Futterkurve Sauen'!$G$7)","v":65},{"$f":"IF(E122+0.5>E$143,E$143,E122+0.5)","v":5},{"$f":"IF(G123*'Futterkurve Sauen'!$G$7>$F$143,$F$143,G123*'Futterkurve Sauen'!$G$7)","v":65},{"$f":"IF(G122+0.5>G$143,G$143,G122+0.5)","v":5},{"$f":"IF(I123*'Futterkurve Sauen'!$G$7>$H$143,$H$143,I123*'Futterkurve Sauen'!$G$7)","v":65},{"$f":"IF(I122+0.5>I$143,I$143,I122+0.5)","v":5}]
[123,{"$f":"IF(C124*'Futterkurve Sauen'!$G$7>$B$143,$B$143,C124*'Futterkurve Sauen'!$G$7)","v":57.199999999999996},{"$f":"IF(C123>$C$143,$C$143,C123)","v":4.3999999999999995},{"$f":"IF(E124*'Futterkurve Sauen'!$G$7>$D$143,$D$143,E124*'Futterkurve Sauen'!$G$7)","v":65},{"$f":"IF(E123>E$143,E$143,E123)","v":5},{"$f":"IF(G124*'Futterkurve Sauen'!$G$7>$F$143,$F$143,G124*'Futterkurve Sauen'!$G$7)","v":65},{"$f":"IF(G123>G$143,G$143,G123)","v":5},{"$f":"IF(I124*'Futterkurve Sauen'!$G$7>$H$143,$H$143,I124*'Futterkurve Sauen'!$G$7)","v":65},{"$f":"IF(I123>I$143,I$143,I123)","v":5}]
[124,{"$f":"IF(C125*'Futterkurve Sauen'!$G$7>$B$143,$B$143,C125*'Futterkurve Sauen'!$G$7)","v":62.4},{"$f":"IF(C124+0.4>$C$143,$C$143,C124+0.4)","v":4.8},{"$f":"IF(E125*'Futterkurve Sauen'!$G$7>$D$143,$D$143,E125*'Futterkurve Sauen'!$G$7)","v":71.5},{"$f":"IF(E124+0.5>E$143,E$143,E124+0.5)","v":5.5},{"$f":"IF(G125*'Futterkurve Sauen'!$G$7>$F$143,$F$143,G125*'Futterkurve Sauen'!$G$7)","v":71.5},{"$f":"IF(G124+0.5>G$143,G$143,G124+0.5)","v":5.5},{"$f":"IF(I125*'Futterkurve Sauen'!$G$7>$H$143,$H$143,I125*'Futterkurve Sauen'!$G$7)","v":71.5},{"$f":"IF(I124+0.5>I$143,I$143,I124+0.5)","v":5.5}]
[125,{"$f":"IF(C126*'Futterkurve Sauen'!$G$7>$B$143,$B$143,C126*'Futterkurve Sauen'!$G$7)","v":67.600000000000009},{"$f":"IF(C125+0.4>$C$143,$C$143,C125+0.4)","v":5.2},{"$f":"IF(E126*'Futterkurve Sauen'!$G$7>$D$143,$D$143,E126*'Futterkurve Sauen'!$G$7)","v":78},{"$f":"IF(E125+0.5>E$143,E$143,E125+0.5)","v":6},{"$f":"IF(G126*'Futterkurve Sauen'!$G$7>$F$143,$F$143,G126*'Futterkurve Sauen'!$G$7)","v":78},{"$f":"IF(G125+0.5>G$143,G$143,G125+0.5)","v":6},{"$f":"IF(I126*'Futterkurve Sauen'!$G$7>$H$143,$H$143,I126*'Futterkurve Sauen'!$G$7)","v":78},{"$f":"IF(I125+0.5>I$143,I$143,I125+0.5)","v":6}]
[126,{"$f":"IF(C127*'Futterkurve Sauen'!$G$7>$B$143,$B$143,C127*'Futterkurve Sauen'!$G$7)","v":72.800000000000011},{"$f":"IF(C126+0.4>$C$143,$C$143,C126+0.4)","v":5.6000000000000005},{"$f":"IF(E127*'Futterkurve Sauen'!$G$7>$D$143,$D$143,E127*'Futterkurve Sauen'!$G$7)","v":82.471480868778784},{"$f":"IF(E126+0.5>E$143,E$143,E126+0.5)","v":6.3439600668291369},{"$f":"IF(G127*'Futterkurve Sauen'!$G$7>$F$143,$F$143,G127*'Futterkurve Sauen'!$G$7)","v":84.5},{"$f":"IF(G126+0.5>G$143,G$143,G126+0.5)","v":6.5},{"$f":"IF(I127*'Futterkurve Sauen'!$G$7>$H$143,$H$143,I127*'Futterkurve Sauen'!$G$7)","v":84.5},{"$f":"IF(I126+0.5>I$143,I$143,I126+0.5)","v":6.5}]
[127,{"$f":"IF(C128*'Futterkurve Sauen'!$G$7>$B$143,$B$143,C128*'Futterkurve Sauen'!$G$7)","v":72.800000000000011},{"$f":"IF(C127>$C$143,$C$143,C127)","v":5.6000000000000005},{"$f":"IF(E128*'Futterkurve Sauen'!$G$7>$D$143,$D$143,E128*'Futterkurve Sauen'!$G$7)","v":82.471480868778784},{"$f":"IF(E127>E$143,E$143,E127)","v":6.3439600668291369},{"$f":"IF(G128*'Futterkurve Sauen'!$G$7>$F$143,$F$143,G128*'Futterkurve Sauen'!$G$7)","v":84.5},{"$f":"IF(G127>G$143,G$143,G127)","v":6.5},{"$f":"IF(I128*'Futterkurve Sauen'!$G$7>$H$143,$H$143,I128*'Futterkurve Sauen'!$G$7)","v":84.5},{"$f":"IF(I127>I$143,I$143,I127)","v":6.5}]
[128,{"$f":"IF(C129*'Futterkurve Sauen'!$G$7>$B$143,$B$143,C129*'Futterkurve Sauen'!$G$7)","v":77.50806669862115},{"$f":"IF(C128+0.4>$C$143,$C$143,C128+0.4)","v":5.9621589768170118},{"$f":"IF(E129*'Futterkurve Sauen'!$G$7>$D$143,$D$143,E129*'Futterkurve Sauen'!$G$7)","v":82.471480868778784},{"$f":"IF(E128+0.5>E$143,E$143,E128+0.5)","v":6.3439600668291369},{"$f":"IF(G129*'Futterkurve Sauen'!$G$7>$F$143,$F$143,G129*'Futterkurve Sauen'!$G$7)","v":85.961690084968936},{"$f":"IF(G128+0.5>G$143,G$143,G128+0.5)","v":6.6124376988437641},{"$f":"IF(I129*'Futterkurve Sauen'!$G$7>$H$143,$H$143,I129*'Futterkurve Sauen'!$G$7)","v":88.477459651087315},{"$f":"IF(I128+0.5>I$143,I$143,I128+0.5)","v":6.8059584346990238}]
[129,{"$f":"IF(C130*'Futterkurve Sauen'!$G$7>$B$143,$B$143,C130*'Futterkurve Sauen'!$G$7)","v":77.50806669862115},{"$f":"IF(C129+0.4>$C$143,$C$143,C129+0.4)","v":5.9621589768170118},{"$f":"IF(E130*'Futterkurve Sauen'!$G$7>$D$143,$D$143,E130*'Futterkurve Sauen'!$G$7)","v":82.471480868778784},{"$f":"IF(E129+0.5>E$143,E$143,E129+0.5)","v":6.3439600668291369},{"$f":"IF(G130*'Futterkurve Sauen'!$G$7>$F$143,$F$143,G130*'Futterkurve Sauen'!$G$7)","v":85.961690084968936},{"$f":"IF(G129+0.5>G$143,G$143,G129+0.5)","v":6.6124376988437641},{"$f":"IF(I130*'Futterkurve Sauen'!$G$7>$H$143,$H$143,I130*'Futterkurve Sauen'!$G$7)","v":88.477459651087315},{"$f":"IF(I129+0.5>I$143,I$143,I129+0.5)","v":6.8059584346990238}]
[130,{"$f":"IF(C131*'Futterkurve Sauen'!$G$7>$B$143,$B$143,C131*'Futterkurve Sauen'!$G$7)","v":77.50806669862115},{"$f":"IF(C130+0.4>$C$143,$C$143,C130+0.4)","v":5.9621589768170118},{"$f":"IF(E131*'Futterkurve Sauen'!$G$7>$D$143,$D$143,E131*'Futterkurve Sauen'!$G$7)","v":82.471480868778784},{"$f":"IF(E130+0.5>E$143,E$143,E130+0.5)","v":6.3439600668291369},{"$f":"IF(G131*'Futterkurve Sauen'!$G$7>$F$143,$F$143,G131*'Futterkurve Sauen'!$G$7)","v":85.961690084968936},{"$f":"IF(G130+0.5>G$143,G$143,G130+0.5)","v":6.6124376988437641},{"$f":"IF(I131*'Futterkurve Sauen'!$G$7>$H$143,$H$143,I131*'Futterkurve Sauen'!$G$7)","v":88.477459651087315},{"$f":"IF(I130+0.5>I$143,I$143,I130+0.5)","v":6.8059584346990238}]
[131,{"$f":"IF(C132*'Futterkurve Sauen'!$G$7>$B$143,$B$143,C132*'Futterkurve Sauen'!$G$7)","v":77.50806669862115},{"$f":"IF(C131>$C$143,$C$143,C131)","v":5.9621589768170118},{"$f":"IF(E132*'Futterkurve Sauen'!$G$7>$D$143,$D$143,E132*'Futterkurve Sauen'!$G$7)","v":82.471480868778784},{"$f":"IF(E131>E$143,E$143,E131)","v":6.3439600668291369},{"$f":"IF(G132*'Futterkurve Sauen'!$G$7>$F$143,$F$143,G132*'Futterkurve Sauen'!$G$7)","v":85.961690084968936},{"$f":"IF(G131>G$143,G$143,G131)","v":6.6124376988437641},{"$f":"IF(I132*'Futterkurve Sauen'!$G$7>$H$143,$H$143,I132*'Futterkurve Sauen'!$G$7)","v":88.477459651087315},{"$f":"IF(I131>I$143,I$143,I131)","v":6.8059584346990238}]
[132,{"$f":"IF('Futterkurve Sauen'!$C$6>19,'Futterkurve Sauen'!$K$6^0.75*0.44+5.8*'Futterkurve Sauen'!$I$6-'Futterkurve Sauen'!K$5,'Futterkurve Sauen'!$K$6^0.75*0.44+5.8*'Futterkurve Sauen'!$I$6-'Futterkurve Sauen'!K$5+(19-'Futterkurve Sauen'!$C$6)*0.6)","v":77.50806669862115},{"$f":"IF(C132>$C$143,$C$143,C132)","v":5.9621589768170118},{"$f":"IF('Futterkurve Sauen'!$C$6>19,('Futterkurve Sauen'!$K$7-40)^0.75*0.44+5.8*'Futterkurve Sauen'!$I$7-'Futterkurve Sauen'!K$8,('Futterkurve Sauen'!$K$7-40)^0.75*0.44+5.8*'Futterkurve Sauen'!$I$7-'Futterkurve Sauen'!K$8+(19-'Futterkurve Sauen'!$C$6)*0.6)","v":82.471480868778784},{"$f":"IF(E132+0.5>E$143,E$143,E132+0.5)","v":6.3439600668291369},{"$f":"IF('Futterkurve Sauen'!$C$6>19,'Futterkurve Sauen'!$K$7^0.75*0.44+5.8*'Futterkurve Sauen'!$I$7-'Futterkurve Sauen'!K$8,'Futterkurve Sauen'!$K$7^0.75*0.44+5.8*'Futterkurve Sauen'!$I$7-'Futterkurve Sauen'!K$8+(19-'Futterkurve Sauen'!$C$6)*0.6)","v":85.961690084968936},{"$f":"IF(G132+0.5>G$143,G$143,G132+0.5)","v":6.6124376988437641},{"$f":"IF('Futterkurve Sauen'!$C$6>19,('Futterkurve Sauen'!$K$7+30)^0.75*0.44+5.8*'Futterkurve Sauen'!$I$7-'Futterkurve Sauen'!K$8,('Futterkurve Sauen'!$K$7+30)^0.75*0.44+5.8*'Futterkurve Sauen'!$I$7-'Futterkurve Sauen'!K$8+(19-'Futterkurve Sauen'!$C$6)*0.6)","v":88.477459651087315},{"$f":"IF(I132+0.5>I$143,I$143,I132+0.5)","v":6.8059584346990238}]
[133,{"$f":"IF('Futterkurve Sauen'!$C$6>19,'Futterkurve Sauen'!$K$6^0.75*0.44+5.8*'Futterkurve Sauen'!$I$6-'Futterkurve Sauen'!K$5,'Futterkurve Sauen'!$K$6^0.75*0.44+5.8*'Futterkurve Sauen'!$I$6-'Futterkurve Sauen'!K$5+(19-'Futterkurve Sauen'!$C$6)*0.6)","v":77.50806669862115},{"$f":"IF(C133+0.4>$C$143,$C$143,C133+0.4)","v":5.9621589768170118},{"$f":"IF('Futterkurve Sauen'!$C$6>19,('Futterkurve Sauen'!$K$7-40)^0.75*0.44+5.8*'Futterkurve Sauen'!$I$7-'Futterkurve Sauen'!K$8,('Futterkurve Sauen'!$K$7-40)^0.75*0.44+5.8*'Futterkurve Sauen'!$I$7-'Futterkurve Sauen'!K$8+(19-'Futterkurve Sauen'!$C$6)*0.6)","v":82.471480868778784},6.3439600668291369,{"$f":"IF('Futterkurve Sauen'!$C$6>19,'Futterkurve Sauen'!$K$7^0.75*0.44+5.8*'Futterkurve Sauen'!$I$7-'Futterkurve Sauen'!K$8,'Futterkurve Sauen'!$K$7^0.75*0.44+5.8*'Futterkurve Sauen'!$I$7-'Futterkurve Sauen'!K$8+(19-'Futterkurve Sauen'!$C$6)*0.6)","v":85.961690084968936},6.6124376988437641,{"$f":"IF('Futterkurve Sauen'!$C$6>19,('Futterkurve Sauen'!$K$7+30)^0.75*0.44+5.8*'Futterkurve Sauen'!$I$7-'Futterkurve Sauen'!K$8,('Futterkurve Sauen'!$K$7+30)^0.75*0.44+5.8*'Futterkurve Sauen'!$I$7-'Futterkurve Sauen'!K$8+(19-'Futterkurve Sauen'!$C$6)*0.6)","v":88.477459651087315},6.8059584346990238]
[134,{"$f":"IF('Futterkurve Sauen'!$C$6>19,'Futterkurve Sauen'!$K$6^0.75*0.44+5.8*'Futterkurve Sauen'!$I$6-'Futterkurve Sauen'!K$5,'Futterkurve Sauen'!$K$6^0.75*0.44+5.8*'Futterkurve Sauen'!$I$6-'Futterkurve Sauen'!K$5+(19-'Futterkurve Sauen'!$C$6)*0.6)","v":77.50806669862115},{"$f":"IF(C134+0.4>$C$143,$C$143,C134+0.4)","v":5.9621589768170118},{"$f":"IF('Futterkurve Sauen'!$C$6>19,('Futterkurve Sauen'!$K$7-40)^0.75*0.44+5.8*'Futterkurve Sauen'!$I$7-'Futterkurve Sauen'!K$8,('Futterkurve Sauen'!$K$7-40)^0.75*0.44+5.8*'Futterkurve Sauen'!$I$7-'Futterkurve Sauen'!K$8+(19-'Futterkurve Sauen'!$C$6)*0.6)","v":82.471480868778784},6.3439600668291369,{"$f":"IF('Futterkurve Sauen'!$C$6>19,'Futterkurve Sauen'!$K$7^0.75*0.44+5.8*'Futterkurve Sauen'!$I$7-'Futterkurve Sauen'!K$8,'Futterkurve Sauen'!$K$7^0.75*0.44+5.8*'Futterkurve Sauen'!$I$7-'Futterkurve Sauen'!K$8+(19-'Futterkurve Sauen'!$C$6)*0.6)","v":85.961690084968936},6.6124376988437641,{"$f":"IF('Futterkurve Sauen'!$C$6>19,('Futterkurve Sauen'!$K$7+30)^0.75*0.44+5.8*'Futterkurve Sauen'!$I$7-'Futterkurve Sauen'!K$8,('Futterkurve Sauen'!$K$7+30)^0.75*0.44+5.8*'Futterkurve Sauen'!$I$7-'Futterkurve Sauen'!K$8+(19-'Futterkurve Sauen'!$C$6)*0.6)","v":88.477459651087315},6.8059584346990238]
[135,{"$f":"IF('Futterkurve Sauen'!$C$6>19,'Futterkurve Sauen'!$K$6^0.75*0.44+5.8*'Futterkurve Sauen'!$I$6-'Futterkurve Sauen'!K$5,'Futterkurve Sauen'!$K$6^0.75*0.44+5.8*'Futterkurve Sauen'!$I$6-'Futterkurve Sauen'!K$5+(19-'Futterkurve Sauen'!$C$6)*0.6)","v":77.50806669862115},{"$f":"IF(C135+0.4>$C$143,$C$143,C135+0.4)","v":5.9621589768170118},{"$f":"IF('Futterkurve Sauen'!$C$6>19,('Futterkurve Sauen'!$K$7-40)^0.75*0.44+5.8*'Futterkurve Sauen'!$I$7-'Futterkurve Sauen'!K$8,('Futterkurve Sauen'!$K$7-40)^0.75*0.44+5.8*'Futterkurve Sauen'!$I$7-'Futterkurve Sauen'!K$8+(19-'Futterkurve Sauen'!$C$6)*0.6)","v":82.471480868778784},6.3439600668291369,{"$f":"IF('Futterkurve Sauen'!$C$6>19,'Futterkurve Sauen'!$K$7^0.75*0.44+5.8*'Futterkurve Sauen'!$I$7-'Futterkurve Sauen'!K$8,'Futterkurve Sauen'!$K$7^0.75*0.44+5.8*'Futterkurve Sauen'!$I$7-'Futterkurve Sauen'!K$8+(19-'Futterkurve Sauen'!$C$6)*0.6)","v":85.961690084968936},6.6124376988437641,{"$f":"IF('Futterkurve Sauen'!$C$6>19,('Futterkurve Sauen'!$K$7+30)^0.75*0.44+5.8*'Futterkurve Sauen'!$I$7-'Futterkurve Sauen'!K$8,('Futterkurve Sauen'!$K$7+30)^0.75*0.44+5.8*'Futterkurve Sauen'!$I$7-'Futterkurve Sauen'!K$8+(19-'Futterkurve Sauen'!$C$6)*0.6)","v":88.477459651087315},6.8059584346990238]
[136,{"$f":"IF('Futterkurve Sauen'!$C$6>19,'Futterkurve Sauen'!$K$6^0.75*0.44+5.8*'Futterkurve Sauen'!$I$6-'Futterkurve Sauen'!K$5,'Futterkurve Sauen'!$K$6^0.75*0.44+5.8*'Futterkurve Sauen'!$I$6-'Futterkurve Sauen'!K$5+(19-'Futterkurve Sauen'!$C$6)*0.6)","v":77.50806669862115},{"$f":"IF(C136+0.4>$C$143,$C$143,C136+0.4)","v":5.9621589768170118},{"$f":"IF('Futterkurve Sauen'!$C$6>19,('Futterkurve Sauen'!$K$7-40)^0.75*0.44+5.8*'Futterkurve Sauen'!$I$7-'Futterkurve Sauen'!K$8,('Futterkurve Sauen'!$K$7-40)^0.75*0.44+5.8*'Futterkurve Sauen'!$I$7-'Futterkurve Sauen'!K$8+(19-'Futterkurve Sauen'!$C$6)*0.6)","v":82.471480868778784},6.3439600668291369,{"$f":"IF('Futterkurve Sauen'!$C$6>19,'Futterkurve Sauen'!$K$7^0.75*0.44+5.8*'Futterkurve Sauen'!$I$7-'Futterkurve Sauen'!K$8,'Futterkurve Sauen'!$K$7^0.75*0.44+5.8*'Futterkurve Sauen'!$I$7-'Futterkurve Sauen'!K$8+(19-'Futterkurve Sauen'!$C$6)*0.6)","v":85.961690084968936},6.6124376988437641,{"$f":"IF('Futterkurve Sauen'!$C$6>19,('Futterkurve Sauen'!$K$7+30)^0.75*0.44+5.8*'Futterkurve Sauen'!$I$7-'Futterkurve Sauen'!K$8,('Futterkurve Sauen'!$K$7+30)^0.75*0.44+5.8*'Futterkurve Sauen'!$I$7-'Futterkurve Sauen'!K$8+(19-'Futterkurve Sauen'!$C$6)*0.6)","v":88.477459651087315},6.8059584346990238]
[137,{"$f":"IF('Futterkurve Sauen'!$C$6>19,'Futterkurve Sauen'!$K$6^0.75*0.44+5.8*'Futterkurve Sauen'!$I$6-'Futterkurve Sauen'!K$5,'Futterkurve Sauen'!$K$6^0.75*0.44+5.8*'Futterkurve Sauen'!$I$6-'Futterkurve Sauen'!K$5+(19-'Futterkurve Sauen'!$C$6)*0.6)","v":77.50806669862115},{"$f":"IF(C137+0.4>$C$143,$C$143,C137+0.4)","v":5.9621589768170118},{"$f":"IF('Futterkurve Sauen'!$C$6>19,('Futterkurve Sauen'!$K$7-40)^0.75*0.44+5.8*'Futterkurve Sauen'!$I$7-'Futterkurve Sauen'!K$8,('Futterkurve Sauen'!$K$7-40)^0.75*0.44+5.8*'Futterkurve Sauen'!$I$7-'Futterkurve Sauen'!K$8+(19-'Futterkurve Sauen'!$C$6)*0.6)","v":82.471480868778784},6.3439600668291369,{"$f":"IF('Futterkurve Sauen'!$C$6>19,'Futterkurve Sauen'!$K$7^0.75*0.44+5.8*'Futterkurve Sauen'!$I$7-'Futterkurve Sauen'!K$8,'Futterkurve Sauen'!$K$7^0.75*0.44+5.8*'Futterkurve Sauen'!$I$7-'Futterkurve Sauen'!K$8+(19-'Futterkurve Sauen'!$C$6)*0.6)","v":85.961690084968936},6.6124376988437641,{"$f":"IF('Futterkurve Sauen'!$C$6>19,('Futterkurve Sauen'!$K$7+30)^0.75*0.44+5.8*'Futterkurve Sauen'!$I$7-'Futterkurve Sauen'!K$8,('Futterkurve Sauen'!$K$7+30)^0.75*0.44+5.8*'Futterkurve Sauen'!$I$7-'Futterkurve Sauen'!K$8+(19-'Futterkurve Sauen'!$C$6)*0.6)","v":88.477459651087315},6.8059584346990238]
[138,{"$f":"IF('Futterkurve Sauen'!$C$6>19,'Futterkurve Sauen'!$K$6^0.75*0.44+5.8*'Futterkurve Sauen'!$I$6-'Futterkurve Sauen'!K$5,'Futterkurve Sauen'!$K$6^0.75*0.44+5.8*'Futterkurve Sauen'!$I$6-'Futterkurve Sauen'!K$5+(19-'Futterkurve Sauen'!$C$6)*0.6)","v":77.50806669862115},{"$f":"IF(C135+0.4>$C$143,$C$143,C135+0.4)","v":5.9621589768170118},{"$f":"IF('Futterkurve Sauen'!$C$6>19,('Futterkurve Sauen'!$K$7-40)^0.75*0.44+5.8*'Futterkurve Sauen'!$I$7-'Futterkurve Sauen'!K$8,('Futterkurve Sauen'!$K$7-40)^0.75*0.44+5.8*'Futterkurve Sauen'!$I$7-'Futterkurve Sauen'!K$8+(19-'Futterkurve Sauen'!$C$6)*0.6)","v":82.471480868778784},{"$f":"IF(E135+0.5>E$143,E$143,E135+0.5)","v":6.3439600668291369},{"$f":"IF('Futterkurve Sauen'!$C$6>19,'Futterkurve Sauen'!$K$7^0.75*0.44+5.8*'Futterkurve Sauen'!$I$7-'Futterkurve Sauen'!K$8,'Futterkurve Sauen'!$K$7^0.75*0.44+5.8*'Futterkurve Sauen'!$I$7-'Futterkurve Sauen'!K$8+(19-'Futterkurve Sauen'!$C$6)*0.6)","v":85.961690084968936},{"$f":"IF(G135+0.5>G$143,G$143,G135+0.5)","v":6.6124376988437641},{"$f":"IF('Futterkurve Sauen'!$C$6>19,('Futterkurve Sauen'!$K$7+30)^0.75*0.44+5.8*'Futterkurve Sauen'!$I$7-'Futterkurve Sauen'!K$8,('Futterkurve Sauen'!$K$7+30)^0.75*0.44+5.8*'Futterkurve Sauen'!$I$7-'Futterkurve Sauen'!K$8+(19-'Futterkurve Sauen'!$C$6)*0.6)","v":88.477459651087315},{"$f":"IF(I135+0.5>I$143,I$143,I135+0.5)","v":6.8059584346990238}]
[139,{"$f":"IF('Futterkurve Sauen'!$C$6>19,'Futterkurve Sauen'!$K$6^0.75*0.44+5.8*'Futterkurve Sauen'!$I$6-'Futterkurve Sauen'!K$5,'Futterkurve Sauen'!$K$6^0.75*0.44+5.8*'Futterkurve Sauen'!$I$6-'Futterkurve Sauen'!K$5+(19-'Futterkurve Sauen'!$C$6)*0.6)","v":77.50806669862115},{"$f":"IF(C139>$C$143,$C$143,C139)","v":5.9621589768170118},{"$f":"IF('Futterkurve Sauen'!$C$6>19,('Futterkurve Sauen'!$K$7-40)^0.75*0.44+5.8*'Futterkurve Sauen'!$I$7-'Futterkurve Sauen'!K$8,('Futterkurve Sauen'!$K$7-40)^0.75*0.44+5.8*'Futterkurve Sauen'!$I$7-'Futterkurve Sauen'!K$8+(19-'Futterkurve Sauen'!$C$6)*0.6)","v":82.471480868778784},{"$f":"IF(E139>E$143,E$143,E139)","v":6.3439600668291369},{"$f":"IF('Futterkurve Sauen'!$C$6>19,'Futterkurve Sauen'!$K$7^0.75*0.44+5.8*'Futterkurve Sauen'!$I$7-'Futterkurve Sauen'!K$8,'Futterkurve Sauen'!$K$7^0.75*0.44+5.8*'Futterkurve Sauen'!$I$7-'Futterkurve Sauen'!K$8+(19-'Futterkurve Sauen'!$C$6)*0.6)","v":85.961690084968936},{"$f":"IF(G139>G$143,G$143,G139)","v":6.6124376988437641},{"$f":"IF('Futterkurve Sauen'!$C$6>19,('Futterkurve Sauen'!$K$7+30)^0.75*0.44+5.8*'Futterkurve Sauen'!$I$7-'Futterkurve Sauen'!K$8,('Futterkurve Sauen'!$K$7+30)^0.75*0.44+5.8*'Futterkurve Sauen'!$I$7-'Futterkurve Sauen'!K$8+(19-'Futterkurve Sauen'!$C$6)*0.6)","v":88.477459651087315},{"$f":"IF(I139>I$143,I$143,I139)","v":6.8059584346990238}]
[140,{"$f":"IF('Futterkurve Sauen'!$C$6>19,'Futterkurve Sauen'!$K$6^0.75*0.44+5.8*'Futterkurve Sauen'!$I$6-'Futterkurve Sauen'!K$5,'Futterkurve Sauen'!$K$6^0.75*0.44+5.8*'Futterkurve Sauen'!$I$6-'Futterkurve Sauen'!K$5+(19-'Futterkurve Sauen'!$C$6)*0.6)","v":77.50806669862115},{"$f":"IF(C140+0.4>$C$143,$C$143,C140+0.4)","v":5.9621589768170118},{"$f":"IF('Futterkurve Sauen'!$C$6>19,('Futterkurve Sauen'!$K$7-40)^0.75*0.44+5.8*'Futterkurve Sauen'!$I$7-'Futterkurve Sauen'!K$8,('Futterkurve Sauen'!$K$7-40)^0.75*0.44+5.8*'Futterkurve Sauen'!$I$7-'Futterkurve Sauen'!K$8+(19-'Futterkurve Sauen'!$C$6)*0.6)","v":82.471480868778784},{"$f":"IF(E140+0.5>E$143,E$143,E140+0.5)","v":6.3439600668291369},{"$f":"IF('Futterkurve Sauen'!$C$6>19,'Futterkurve Sauen'!$K$7^0.75*0.44+5.8*'Futterkurve Sauen'!$I$7-'Futterkurve Sauen'!K$8,'Futterkurve Sauen'!$K$7^0.75*0.44+5.8*'Futterkurve Sauen'!$I$7-'Futterkurve Sauen'!K$8+(19-'Futterkurve Sauen'!$C$6)*0.6)","v":85.961690084968936},{"$f":"IF(G140+0.5>G$143,G$143,G140+0.5)","v":6.6124376988437641},{"$f":"IF('Futterkurve Sauen'!$C$6>19,('Futterkurve Sauen'!$K$7+30)^0.75*0.44+5.8*'Futterkurve Sauen'!$I$7-'Futterkurve Sauen'!K$8,('Futterkurve Sauen'!$K$7+30)^0.75*0.44+5.8*'Futterkurve Sauen'!$I$7-'Futterkurve Sauen'!K$8+(19-'Futterkurve Sauen'!$C$6)*0.6)","v":88.477459651087315},{"$f":"IF(I140+0.5>I$143,I$143,I140+0.5)","v":6.8059584346990238}]
[141,{"$f":"IF('Futterkurve Sauen'!$C$6>19,'Futterkurve Sauen'!$K$6^0.75*0.44+5.8*'Futterkurve Sauen'!$I$6-'Futterkurve Sauen'!K$5,'Futterkurve Sauen'!$K$6^0.75*0.44+5.8*'Futterkurve Sauen'!$I$6-'Futterkurve Sauen'!K$5+(19-'Futterkurve Sauen'!$C$6)*0.6)","v":77.50806669862115},{"$f":"IF(C141+0.4>$C$143,$C$143,C141+0.4)","v":5.9621589768170118},{"$f":"IF('Futterkurve Sauen'!$C$6>19,('Futterkurve Sauen'!$K$7-40)^0.75*0.44+5.8*'Futterkurve Sauen'!$I$7-'Futterkurve Sauen'!K$8,('Futterkurve Sauen'!$K$7-40)^0.75*0.44+5.8*'Futterkurve Sauen'!$I$7-'Futterkurve Sauen'!K$8+(19-'Futterkurve Sauen'!$C$6)*0.6)","v":82.471480868778784},{"$f":"IF(E141+0.5>E$143,E$143,E141+0.5)","v":6.3439600668291369},{"$f":"IF('Futterkurve Sauen'!$C$6>19,'Futterkurve Sauen'!$K$7^0.75*0.44+5.8*'Futterkurve Sauen'!$I$7-'Futterkurve Sauen'!K$8,'Futterkurve Sauen'!$K$7^0.75*0.44+5.8*'Futterkurve Sauen'!$I$7-'Futterkurve Sauen'!K$8+(19-'Futterkurve Sauen'!$C$6)*0.6)","v":85.961690084968936},{"$f":"IF(G141+0.5>G$143,G$143,G141+0.5)","v":6.6124376988437641},{"$f":"IF('Futterkurve Sauen'!$C$6>19,('Futterkurve Sauen'!$K$7+30)^0.75*0.44+5.8*'Futterkurve Sauen'!$I$7-'Futterkurve Sauen'!K$8,('Futterkurve Sauen'!$K$7+30)^0.75*0.44+5.8*'Futterkurve Sauen'!$I$7-'Futterkurve Sauen'!K$8+(19-'Futterkurve Sauen'!$C$6)*0.6)","v":88.477459651087315},{"$f":"IF(I141+0.5>I$143,I$143,I141+0.5)","v":6.8059584346990238}]
[142,{"$f":"IF('Futterkurve Sauen'!$C$6>19,'Futterkurve Sauen'!$K$6^0.75*0.44+5.8*'Futterkurve Sauen'!$I$6-'Futterkurve Sauen'!K$5,'Futterkurve Sauen'!$K$6^0.75*0.44+5.8*'Futterkurve Sauen'!$I$6-'Futterkurve Sauen'!K$5+(19-'Futterkurve Sauen'!$C$6)*0.6)","v":77.50806669862115},{"$f":"B143/'Futterkurve Sauen'!$G$7","v":5.9621589768170118},{"$f":"IF('Futterkurve Sauen'!$C$6>19,('Futterkurve Sauen'!$K$7-40)^0.75*0.44+5.8*'Futterkurve Sauen'!$I$7-'Futterkurve Sauen'!K$8,('Futterkurve Sauen'!$K$7-40)^0.75*0.44+5.8*'Futterkurve Sauen'!$I$7-'Futterkurve Sauen'!K$8+(19-'Futterkurve Sauen'!$C$6)*0.6)","v":82.471480868778784},{"$f":"D143/'Futterkurve Sauen'!$G$7","v":6.3439600668291369},{"$f":"IF('Futterkurve Sauen'!$C$6>19,'Futterkurve Sauen'!$K$7^0.75*0.44+5.8*'Futterkurve Sauen'!$I$7-'Futterkurve Sauen'!K$8,'Futterkurve Sauen'!$K$7^0.75*0.44+5.8*'Futterkurve Sauen'!$I$7-'Futterkurve Sauen'!K$8+(19-'Futterkurve Sauen'!$C$6)*0.6)","v":85.961690084968936},{"$f":"F143/'Futterkurve Sauen'!$G$7","v":6.6124376988437641},{"$f":"IF('Futterkurve Sauen'!$C$6>19,('Futterkurve Sauen'!$K$7+30)^0.75*0.44+5.8*'Futterkurve Sauen'!$I$7-'Futterkurve Sauen'!K$8,('Futterkurve Sauen'!$K$7+30)^0.75*0.44+5.8*'Futterkurve Sauen'!$I$7-'Futterkurve Sauen'!K$8+(19-'Futterkurve Sauen'!$C$6)*0.6)","v":88.477459651087315},{"$f":"H143/'Futterkurve Sauen'!$G$7","v":6.8059584346990238}]
[143,{"$f":"IF('Futterkurve Sauen'!E$6>19,33,33+(19-'Futterkurve Sauen'!$E$6)*0.6+J$1)","v":37},{"$f":"B144/'Futterkurve Sauen'!$C$7","v":3.0833333333333335},{"$f":"IF('Futterkurve Sauen'!E$6>19,36,36+(19-'Futterkurve Sauen'!$E$6)*0.6+J$2)","v":42},{"$f":"D144/'Futterkurve Sauen'!$C$7","v":3.5},{"$f":"IF('Futterkurve Sauen'!E$6>19,37,37+(19-'Futterkurve Sauen'!$E$6)*0.6+J$2)","v":43},{"$f":"F144/'Futterkurve Sauen'!$C$7","v":3.5833333333333335},{"$f":"IF('Futterkurve Sauen'!E$6>19,34,34+(19-'Futterkurve Sauen'!$E$6)*0.6+J$2)","v":40},{"$f":"H144/'Futterkurve Sauen'!$C$7","v":3.3333333333333335}]
[144,{"$f":"IF('Futterkurve Sauen'!E$6>19,33,33+(19-'Futterkurve Sauen'!$E$6)*0.6+J$1)","v":37},{"$f":"B145/'Futterkurve Sauen'!$C$7","v":3.0833333333333335},{"$f":"IF('Futterkurve Sauen'!E$6>19,36,36+(19-'Futterkurve Sauen'!$E$6)*0.6+J$2)","v":42},{"$f":"D145/'Futterkurve Sauen'!$C$7","v":3.5},{"$f":"IF('Futterkurve Sauen'!E$6>19,37,37+(19-'Futterkurve Sauen'!$E$6)*0.6+J$2)","v":43},{"$f":"F145/'Futterkurve Sauen'!$C$7","v":3.5833333333333335},{"$f":"IF('Futterkurve Sauen'!E$6>19,34,34+(19-'Futterkurve Sauen'!$E$6)*0.6+J$2)","v":40},{"$f":"H145/'Futterkurve Sauen'!$C$7","v":3.3333333333333335}]
[145,{"$f":"IF('Futterkurve Sauen'!E$6>19,33,33+(19-'Futterkurve Sauen'!$E$6)*0.6+J$1)","v":37},{"$f":"B146/'Futterkurve Sauen'!$C$7","v":3.0833333333333335},{"$f":"IF('Futterkurve Sauen'!E$6>19,36,36+(19-'Futterkurve Sauen'!$E$6)*0.6+J$2)","v":42},{"$f":"D146/'Futterkurve Sauen'!$C$7","v":3.5},{"$f":"IF('Futterkurve Sauen'!E$6>19,37,37+(19-'Futterkurve Sauen'!$E$6)*0.6+J$2)","v":43},{"$f":"F146/'Futterkurve Sauen'!$C$7","v":3.5833333333333335},{"$f":"IF('Futterkurve Sauen'!E$6>19,34,34+(19-'Futterkurve Sauen'!$E$6)*0.6+J$2)","v":40},{"$f":"H146/'Futterkurve Sauen'!$C$7","v":3.3333333333333335}]
[146,{"$f":"IF('Futterkurve Sauen'!E$6>19,33,33+(19-'Futterkurve Sauen'!$E$6)*0.6+J$1)","v":37},{"$f":"B147/'Futterkurve Sauen'!$C$7","v":3.0833333333333335},{"$f":"IF('Futterkurve Sauen'!E$6>19,36,36+(19-'Futterkurve Sauen'!$E$6)*0.6+J$2)","v":42},{"$f":"D147/'Futterkurve Sauen'!$C$7","v":3.5},{"$f":"IF('Futterkurve Sauen'!E$6>19,37,37+(19-'Futterkurve Sauen'!$E$6)*0.6+J$2)","v":43},{"$f":"F147/'Futterkurve Sauen'!$C$7","v":3.5833333333333335},{"$f":"IF('Futterkurve Sauen'!E$6>19,34,34+(19-'Futterkurve Sauen'!$E$6)*0.6+J$2)","v":40},{"$f":"H147/'Futterkurve Sauen'!$C$7","v":3.3333333333333335}]
[147,{"$f":"IF('Futterkurve Sauen'!E$6>19,33,33+(19-'Futterkurve Sauen'!$E$6)*0.6+J$1)","v":37},{"$f":"B148/'Futterkurve Sauen'!$C$7","v":3.0833333333333335},{"$f":"IF('Futterkurve Sauen'!E$6>19,36,36+(19-'Futterkurve Sauen'!$E$6)*0.6+J$2)","v":42},{"$f":"D148/'Futterkurve Sauen'!$C$7","v":3.5},{"$f":"IF('Futterkurve Sauen'!E$6>19,37,37+(19-'Futterkurve Sauen'!$E$6)*0.6+J$2)","v":43},{"$f":"F148/'Futterkurve Sauen'!$C$7","v":3.5833333333333335},{"$f":"IF('Futterkurve Sauen'!E$6>19,34,34+(19-'Futterkurve Sauen'!$E$6)*0.6+J$2)","v":40},{"$f":"H148/'Futterkurve Sauen'!$C$7","v":3.3333333333333335}]