BEGIN:VCALENDAR
VERSION:2.0
PRODID:-//Viehvermarktung-Online - ECPv5.14.1//NONSGML v1.0//EN
CALSCALE:GREGORIAN
METHOD:PUBLISH
X-WR-CALNAME:Viehvermarktung-Online
X-ORIGINAL-URL:https://viehvermarktung-online.de
X-WR-CALDESC:Veranstaltungen für Viehvermarktung-Online
BEGIN:VTIMEZONE
TZID:Europe/Berlin
BEGIN:DAYLIGHT
TZOFFSETFROM:+0100
TZOFFSETTO:+0200
TZNAME:CEST
DTSTART:20190331T010000
END:DAYLIGHT
BEGIN:STANDARD
TZOFFSETFROM:+0200
TZOFFSETTO:+0100
TZNAME:CET
DTSTART:20191027T010000
END:STANDARD
END:VTIMEZONE
BEGIN:VEVENT
DTSTART;VALUE=DATE:20191126
DTEND;VALUE=DATE:20191127
DTSTAMP:20260424T174315
CREATED:20191108T133053Z
LAST-MODIFIED:20191108T133205Z
UID:6288-1574726400-1574812799@viehvermarktung-online.de
SUMMARY:Bauerdemo: Sternfahrt nach Berlin
DESCRIPTION:Land schafft Verbindung – Bauern planen nächste Traktordemo \nNeben kleineren Aktionen\, ruft die Initiative “Land schafft Verbindung” am 26. November zu einer Sternfahrt nach Berlin auf\, berichtet die Neue Osnabrücker Zeitung. \nDie Veranstalter erwarten zu ihrem Protest rund 5.000 Teilnehmer aus ganz Deutschland und 2.000 Traktoren\, wie Sprecherin Johanna Mandelkow am Donnerstag erklärte. Laut Polizei wollen die Landwirte auf vier Routen in die Stadt fahren. Sie fordern einen ernsthaften Dialog mit der Bundesregierung.
URL:https://viehvermarktung-online.de/event/bauerdemo-sternfahrt-nach-berlin/
LOCATION:Berlin
ATTACH;FMTTYPE=image/jpeg:https://viehvermarktung-online.de/vvo/wp-content/uploads/2019/11/39224509-33852393.jpg
END:VEVENT
END:VCALENDAR