BEGIN:VCALENDAR
VERSION:2.0
PRODID:-//Viehvermarktung-Online - ECPv5.14.1//NONSGML v1.0//EN
CALSCALE:GREGORIAN
METHOD:PUBLISH
X-WR-CALNAME:Viehvermarktung-Online
X-ORIGINAL-URL:https://viehvermarktung-online.de
X-WR-CALDESC:Veranstaltungen für Viehvermarktung-Online
BEGIN:VTIMEZONE
TZID:Europe/Berlin
BEGIN:DAYLIGHT
TZOFFSETFROM:+0100
TZOFFSETTO:+0200
TZNAME:CEST
DTSTART:20190331T010000
END:DAYLIGHT
BEGIN:STANDARD
TZOFFSETFROM:+0200
TZOFFSETTO:+0100
TZNAME:CET
DTSTART:20191027T010000
END:STANDARD
END:VTIMEZONE
BEGIN:VEVENT
DTSTART;VALUE=DATE:20191114
DTEND;VALUE=DATE:20191115
DTSTAMP:20260424T174615
CREATED:20191108T132503Z
LAST-MODIFIED:20191108T133341Z
UID:6282-1573689600-1573775999@viehvermarktung-online.de
SUMMARY:Bauerndemo in der Hamburger Innenstadt
DESCRIPTION:Anlässlich der Umweltministerkonferenz am 14.11.2019 in Hamburg wollen und werden wir Präsenz zeigen.
URL:https://viehvermarktung-online.de/event/bauerndemo-zur-umweltministerkonferenz-in-der-hamburger-innenstadt/
LOCATION:Hamburg
ATTACH;FMTTYPE=image/png:https://viehvermarktung-online.de/vvo/wp-content/uploads/2019/10/banner.png
END:VEVENT
END:VCALENDAR