BEGIN:VCALENDAR
VERSION:2.0
PRODID:-//Viehvermarktung-Online - ECPv5.14.1//NONSGML v1.0//EN
CALSCALE:GREGORIAN
METHOD:PUBLISH
X-WR-CALNAME:Viehvermarktung-Online
X-ORIGINAL-URL:https://viehvermarktung-online.de
X-WR-CALDESC:Veranstaltungen für Viehvermarktung-Online
BEGIN:VTIMEZONE
TZID:Europe/Berlin
BEGIN:DAYLIGHT
TZOFFSETFROM:+0100
TZOFFSETTO:+0200
TZNAME:CEST
DTSTART:20200329T010000
END:DAYLIGHT
BEGIN:STANDARD
TZOFFSETFROM:+0200
TZOFFSETTO:+0100
TZNAME:CET
DTSTART:20201025T010000
END:STANDARD
END:VTIMEZONE
BEGIN:VEVENT
DTSTART;VALUE=DATE:20200218
DTEND;VALUE=DATE:20200220
DTSTAMP:20260424T160906
CREATED:20200123T120543Z
LAST-MODIFIED:20200123T120636Z
UID:6374-1581984000-1582156799@viehvermarktung-online.de
SUMMARY:DLG-Wintertagung 2020
DESCRIPTION:Agrarstandort Deutschland\nWeltmarkt\, Premiummarkt\, Marktausstieg?
URL:https://viehvermarktung-online.de/event/dlg-wintertagung-2020/
LOCATION:Congress Centrum Halle Münsterland\, Albersloher Weg 32\, Münster\, 48155\, Deutschland
ATTACH;FMTTYPE=image/jpeg:https://viehvermarktung-online.de/vvo/wp-content/uploads/2020/01/WT_2020_HP_Ausschnitt-e1579781188433.jpg
END:VEVENT
END:VCALENDAR