BEGIN:VCALENDAR
VERSION:2.0
PRODID:-//Viehvermarktung-Online - ECPv5.14.1//NONSGML v1.0//EN
CALSCALE:GREGORIAN
METHOD:PUBLISH
X-WR-CALNAME:Viehvermarktung-Online
X-ORIGINAL-URL:https://viehvermarktung-online.de
X-WR-CALDESC:Veranstaltungen für Viehvermarktung-Online
BEGIN:VTIMEZONE
TZID:Europe/Berlin
BEGIN:DAYLIGHT
TZOFFSETFROM:+0100
TZOFFSETTO:+0200
TZNAME:CEST
DTSTART:20190331T010000
END:DAYLIGHT
BEGIN:STANDARD
TZOFFSETFROM:+0200
TZOFFSETTO:+0100
TZNAME:CET
DTSTART:20191027T010000
END:STANDARD
END:VTIMEZONE
BEGIN:VEVENT
DTSTART;TZID=Europe/Berlin:20191128T100000
DTEND;TZID=Europe/Berlin:20191128T163000
DTSTAMP:20260424T173844
CREATED:20191127T114946Z
LAST-MODIFIED:20191127T120037Z
UID:6315-1574935200-1574958600@viehvermarktung-online.de
SUMMARY:Fachgespräch: Tierernährung und Veredelungswirtschaft
DESCRIPTION:Flyer zur Veranstaltung:
URL:https://viehvermarktung-online.de/event/fachgespraech-tierernaehrung-und-veredelungswirtschaft/
LOCATION:Gaststätte “Zum Schwarzen Ross”\, Holdorferstr. 3\, Neuenkirchen-Vörden\, 49434\, Deutschland
ATTACH;FMTTYPE=image/png:https://viehvermarktung-online.de/vvo/wp-content/uploads/2019/11/VilofossLogo.png
END:VEVENT
END:VCALENDAR