BEGIN:VCALENDAR
VERSION:2.0
PRODID:-//Viehvermarktung-Online - ECPv5.14.1//NONSGML v1.0//EN
CALSCALE:GREGORIAN
METHOD:PUBLISH
X-WR-CALNAME:Viehvermarktung-Online
X-ORIGINAL-URL:https://viehvermarktung-online.de
X-WR-CALDESC:Veranstaltungen für Viehvermarktung-Online
BEGIN:VTIMEZONE
TZID:Europe/Berlin
BEGIN:DAYLIGHT
TZOFFSETFROM:+0100
TZOFFSETTO:+0200
TZNAME:CEST
DTSTART:20200329T010000
END:DAYLIGHT
BEGIN:STANDARD
TZOFFSETFROM:+0200
TZOFFSETTO:+0100
TZNAME:CET
DTSTART:20201025T010000
END:STANDARD
END:VTIMEZONE
BEGIN:VEVENT
DTSTART;TZID=Europe/Berlin:20200130T100000
DTEND;TZID=Europe/Berlin:20200130T153000
DTSTAMP:20260424T174407
CREATED:20200124T094719Z
LAST-MODIFIED:20200124T094851Z
UID:6386-1580378400-1580398200@viehvermarktung-online.de
SUMMARY:Heinsberger Rindertag
DESCRIPTION:Rinderhaltung und Milchwirtschaft \nÖffentlichkeitsarbeit und langlebige Kühe \n\n\n\nFlyer mit Programm:\n\n\n\n\n 
URL:https://viehvermarktung-online.de/event/heinsberger-rindertag/
LOCATION:Haus Sodekamp-Dohmen\, Breite Straße 3\, Hückelhoven/Hilfarth\, NRW\, 41836\, Deutschland
ATTACH;FMTTYPE=image/png:https://viehvermarktung-online.de/vvo/wp-content/uploads/2020/01/hrt_logo-e1579859285473.png
END:VEVENT
END:VCALENDAR