BEGIN:VCALENDAR
VERSION:2.0
PRODID:-//Viehvermarktung-Online - ECPv5.14.1//NONSGML v1.0//EN
CALSCALE:GREGORIAN
METHOD:PUBLISH
X-WR-CALNAME:Viehvermarktung-Online
X-ORIGINAL-URL:https://viehvermarktung-online.de
X-WR-CALDESC:Veranstaltungen für Viehvermarktung-Online
BEGIN:VTIMEZONE
TZID:Europe/Berlin
BEGIN:DAYLIGHT
TZOFFSETFROM:+0100
TZOFFSETTO:+0200
TZNAME:CEST
DTSTART:20220327T010000
END:DAYLIGHT
BEGIN:STANDARD
TZOFFSETFROM:+0200
TZOFFSETTO:+0100
TZNAME:CET
DTSTART:20221030T010000
END:STANDARD
END:VTIMEZONE
BEGIN:VEVENT
DTSTART;TZID=Europe/Berlin:20220621T193000
DTEND;TZID=Europe/Berlin:20220621T220000
DTSTAMP:20260424T133005
CREATED:20200210T124606Z
LAST-MODIFIED:20220608T124050Z
UID:6460-1655839800-1655848800@viehvermarktung-online.de
SUMMARY:Mitgliederversammlung SVR
DESCRIPTION:Sehr geehrte Mitglieder\, \nzu der satzungsgemäßen Mitgliederversammlung der Schweinevermarktung Rheinland w.V. laden wir Sie sehr herzlich ein. \nAnschließend laden wir Sie herzlich zu einem Imbiss ein und würden die Zeit für einen Gedankenaustausch mit Ihnen nutzen. \nEs sind ausschließlich aktuelle Mitglieder eingeladen.
URL:https://viehvermarktung-online.de/event/mitgliederversammlung-svr/
LOCATION:Zur Dorfschule\, 16 Rosenstraße\, Uedem\, Deutschland
ATTACH;FMTTYPE=image/png:https://viehvermarktung-online.de/vvo/wp-content/uploads/2018/05/image003-e1654692039798.png
END:VEVENT
END:VCALENDAR