BEGIN:VCALENDAR
VERSION:2.0
PRODID:-//Viehvermarktung-Online - ECPv5.14.1//NONSGML v1.0//EN
CALSCALE:GREGORIAN
METHOD:PUBLISH
X-WR-CALNAME:Viehvermarktung-Online
X-ORIGINAL-URL:https://viehvermarktung-online.de
X-WR-CALDESC:Veranstaltungen für Viehvermarktung-Online
BEGIN:VTIMEZONE
TZID:Europe/Berlin
BEGIN:DAYLIGHT
TZOFFSETFROM:+0100
TZOFFSETTO:+0200
TZNAME:CEST
DTSTART:20220327T010000
END:DAYLIGHT
BEGIN:STANDARD
TZOFFSETFROM:+0200
TZOFFSETTO:+0100
TZNAME:CET
DTSTART:20221030T010000
END:STANDARD
END:VTIMEZONE
BEGIN:VEVENT
DTSTART;TZID=Europe/Berlin:20220120T183000
DTEND;TZID=Europe/Berlin:20220120T203000
DTSTAMP:20260424T120128
CREATED:20220112T143627Z
LAST-MODIFIED:20220112T143627Z
UID:6939-1642703400-1642710600@viehvermarktung-online.de
SUMMARY:Online-Veranstaltung „Außenklimaställe – Stallsysteme der Zukunft“
DESCRIPTION:Das Programm finden Sie hier:
URL:https://viehvermarktung-online.de/event/online-veranstaltung-aussenklimastaelle-stallsysteme-der-zukunft/
ATTACH;FMTTYPE=image/jpeg:https://viehvermarktung-online.de/vvo/wp-content/uploads/2022/01/fokus-tierwohl-logo.jpg
END:VEVENT
END:VCALENDAR