BEGIN:VCALENDAR
VERSION:2.0
PRODID:-//Viehvermarktung-Online - ECPv5.14.1//NONSGML v1.0//EN
CALSCALE:GREGORIAN
METHOD:PUBLISH
X-WR-CALNAME:Viehvermarktung-Online
X-ORIGINAL-URL:https://viehvermarktung-online.de
X-WR-CALDESC:Veranstaltungen für Viehvermarktung-Online
BEGIN:VTIMEZONE
TZID:Europe/Berlin
BEGIN:DAYLIGHT
TZOFFSETFROM:+0100
TZOFFSETTO:+0200
TZNAME:CEST
DTSTART:20220327T010000
END:DAYLIGHT
BEGIN:STANDARD
TZOFFSETFROM:+0200
TZOFFSETTO:+0100
TZNAME:CET
DTSTART:20221030T010000
END:STANDARD
END:VTIMEZONE
BEGIN:VEVENT
DTSTART;TZID=Europe/Berlin:20220601T130000
DTEND;TZID=Europe/Berlin:20220601T170000
DTSTAMP:20260424T133449
CREATED:20220107T123744Z
LAST-MODIFIED:20220520T125258Z
UID:6704-1654088400-1654102800@viehvermarktung-online.de
SUMMARY:Vortragsveranstaltung - Tipps für Ferkelerzeuger und Mäster
DESCRIPTION:Vortragsveranstaltung Tipps für Ferkelerzeuger und Mäster \nVeranstalter: LWK NRW und GFS \n  \nDas Programm finden Sie hier: \n \n\n\n\n\n  \n\n 
URL:https://viehvermarktung-online.de/event/tipps-fuer-ferkelerzeuger-und-maester/
LOCATION:Zur Dorfschule\, 16 Rosenstraße\, Uedem\, Deutschland
ATTACH;FMTTYPE=image/png:https://viehvermarktung-online.de/vvo/wp-content/uploads/2021/02/Bildschirmfoto-2021-02-04-um-09.14.10-e1612426528452.png
END:VEVENT
END:VCALENDAR